Workbook

Sheet Table 1 - 3
A1: APPENDIX 5 - PRICING SCHEDULE AND TEMPLATE FOR THE CALCULATION OF ULTIMATE COST
A3: Contracting Authority: | B3: Horse Racing Ireland
A4: Competition: | B4: Single Party Framework Agreement for The Supply and Delivery of Starting Stalls to HRI Racecourses
A5: From:
A7: Table 1
A8: STARTING STALLS – SECTION 2 of TENDER DOCUMENT
A9: ITEM | C9: MAXIMUM COST FOR THE DURATION OF THE FRAMEWORK (EXC. VAT)
A11: 2.a | B11: 6 Bay Starting Stall as per Section 2 above. | C11: 0
A12: 2.b | B12: Delivery of 6 Bay Starting Stall to International Ferry Port in the Republic of Ireland | C12: 0
A13: 2.c | B13: “Optional” Hydraulic steering for 6 Bay Starting Stall. | C13: 0
A14: 2.d | B14: “Optional” Wide Axle/Narrow Axle interlocking system for 6 Bay Starting Stall. | C14: 0
A16: 3.a | B16: 7 Bay Starting Stall as per Section 2 above. | C16: 0
A17: 3.b | B17: Delivery of 7 Bay Starting Stall to International Ferry Port in the Republic of Ireland | C17: 0
A18: 3.c | B18: “Optional” Hydraulic steering for 7 Bay Starting Stall. | C18: 0
A19: 3.d | B19: “Optional” Wide Axle/Narrow Axle interlocking system for 7 Bay Starting Stall. | C19: 0
A21: 4.a | B21: 9 Bay Starting Stall as per Section 2 above. | C21: 0
A22: 4.b | B22: Delivery of 9 Bay Starting Stall to International Ferry Port in the Republic of Ireland | C22: 0
A23: 4.c | B23: “Optional” Hydraulic steering for 9 Bay Starting Stall. | C23: 0
A24: 4.d | B24: “Optional” Wide Axle/Narrow Axle interlocking system for 9 Bay Starting Stall. | C24: 0
A26: Table 2
A27: STARTING STALLS CONT. – SECTION 2 of TENDER DOCUMENT
A28: ITEM | C28: MAXIMUM COST FOR THE DURATION OF THE FRAMEWORK (EXC. VAT)
A29: 5.a | B29: 10 Bay Starting Stall as per Section 2 above. | C29: 0
A30: 5.b | B30: Delivery of 10 Bay Starting Stall to International Ferry Port in the Republic of Ireland | C30: 0
A31: 5.c | B31: “Optional” Hydraulic steering for 10 Bay Starting Stall. | C31: 0
A32: 5.d | B32: “Optional” Wide Axle/Narrow Axle interlocking system for 10 Bay Starting Stall. | C32: 0
A34: 6.a | B34: 12 Bay Starting Stall as per Section 2 above. | C34: 0
A35: 6.b | B35: Delivery of 12 Bay Starting Stall to International Ferry Port in the Republic of Ireland | C35: 0
A36: 6.c | B36: “Optional” Hydraulic steering for 12 Bay Starting Stall. | C36: 0
A37: 6.d | B37: “Optional” Wide Axle/Narrow Axle interlocking system for 12 Bay Starting Stall. | C37: 0
A39: 7.a | B39: 14 Bay Starting Stall as per Section 2 above. | C39: 0
A40: 7.b | B40: Delivery of 14 Bay Starting Stall to International Ferry Port in the Republic of Ireland | C40: 0
A41: 7.c | B41: “Optional” Hydraulic steering for 5 Bay Starting Stall. | C41: 0
A42: 7.d | B42: “Optional” Wide Axle/Narrow Axle interlocking system for 14 Bay Starting Stall. | C42: 0
... A47: 8.d | B47: “Optional” Wide Axle/Narrow Axle interlocking system for 16 Bay Starting Stall. | C47: 0
A49: Table 3
A50: STARTING STALLS – SECTION 2.5 of TENDER DOCUMENT
A51: ITEM | C51: MAXIMUM COST FOR THE DURATION OF THE FRAMEWORK (EXC. VAT)
A52: 9.a | B52: 3xNo Replacement Front Gates –Pair (Left and Right) – 22.5 inches by 51 inches (57.15cm x 129.54cm) | C52: 0
A53: 9.a.a | B53: Delivery of 9.a to a nominated address in the Republic of Ireland | C53: 0
A54: 9.b | B54: 3xNo Replacement Back Gates – Pair (Left and Right) | C54: 0
A55: 9.b.a | B55: Delivery of 9.b to a nominated address in the Republic of Ireland | C55: 0
A56: 9.c | B56: 12xNo Gate Stoppers | C56: 0
A57: 9.c.a | B57: Delivery of 9.c to a nominated address in the Republic of Ireland | C57: 0
A58: 9.d | B58: 50x No Sucker Cups | C58: 0
A59: 9.d.a | B59: Delivery of 9.d to a nominated address in the Republic of Ireland | C59: 0
A60: 9.e | B60: 12x No Front Gate Latches and Opening Rods | C60: 0
A61: 9.e.a | B61: Delivery of 9.e to a nominated address in the Republic of Ireland | C61: 0
A62: 9.f | B62: 12x No Roller catches | C62: 0
A63: 9.f.a | B63: Delivery of 9.f to a nominated address in the Republic of Ireland | C63: 0
... A81: 9.o.a | B81: Delivery of 9.o to a nominated address in the Republic of Ireland | C81: 0

Sheet Ultimate Cost Calculation
A1: CALCULATION OF ULTIMATE COST
A2: Tenderers are required to apply their pricing from Tables 1-3 into this Template for the Calculation of Ultimate Cost, Tables 4-7. The totals in Table 7 must then be applied to the Pricing Table in the Form of Tender, Appendix 1
A4: Table 4
A5: ITEM | C5: TENDERED PRICE | D5: NOTIONAL QUANTITY | E5: SUBTOTAL
A6: 2.a | B6: 6 Bay Starting Stall as per Section 2 above. | C6: ='Table 1 - 3'!C11 -> 0 | D6: 1 | E6: =C6*D6 -> 0
A7: 2.b | B7: Delivery of 6 Bay Starting Stall to International Ferry Port in the Republic of Ireland | C7: ='Table 1 - 3'!C12 -> 0 | D7: 1 | E7: =C7*D7 -> 0
A8: 2.c | B8: “Optional” Hydraulic steering for 6 Bay Starting Stall. | C8: ='Table 1 - 3'!C13 -> 0 | D8: 1 | E8: =C8*D8 -> 0
A9: 2.d | B9: “Optional” Wide Axle/Narrow Axle interlocking system for 6 Bay Starting Stall. | C9: ='Table 1 - 3'!C14 -> 0 | D9: 1 | E9: =C9*D9 -> 0
A10: 3.a | B10: 7 Bay Starting Stall as per Section 2 above. | C10: ='Table 1 - 3'!C16 -> 0 | D10: 1 | E10: =C10*D10 -> 0
A11: 3.b | B11: Delivery of 7 Bay Starting Stall to International Ferry Port in the Republic of Ireland | C11: ='Table 1 - 3'!C17 -> 0 | D11: 1 | E11: =C11*D11 -> 0
A12: 3.c | B12: “Optional” Hydraulic steering for 7 Bay Starting Stall. | C12: ='Table 1 - 3'!C18 -> 0 | D12: 1 | E12: =C12*D12 -> 0
A13: 3.d | B13: “Optional” Wide Axle/Narrow Axle interlocking system for 7 Bay Starting Stall. | C13: ='Table 1 - 3'!C19 -> 0 | D13: 1 | E13: =C13*D13 -> 0
A14: 4.a | B14: 9 Bay Starting Stall as per Section 2 above. | C14: ='Table 1 - 3'!C21 -> 0 | D14: 1 | E14: =C14*D14 -> 0
A15: 4.b | B15: Delivery of 9 Bay Starting Stall to International Ferry Port in the Republic of Ireland | C15: ='Table 1 - 3'!C22 -> 0 | D15: 1 | E15: =C15*D15 -> 0
A16: 4.c | B16: “Optional” Hydraulic steering for 9 Bay Starting Stall. | C16: ='Table 1 - 3'!C23 -> 0 | D16: 1 | E16: =C16*D16 -> 0
A17: 4.d | B17: “Optional” Wide Axle/Narrow Axle interlocking system for 9 Bay Starting Stall. | C17: ='Table 1 - 3'!C24 -> 0 | D17: 1 | E17: =C17*D17 -> 0
A18: 5.a | B18: 10 Bay Starting Stall as per Section 2 above. | C18: ='Table 1 - 3'!C29 -> 0 | D18: 4 | E18: =C18*D18 -> 0
A19: 5.b | B19: Delivery of 10 Bay Starting Stall to International Ferry Port in the Republic of Ireland | C19: ='Table 1 - 3'!C30 -> 0 | D19: 1 | E19: =C19*D19 -> 0
A20: 5.c | B20: “Optional” Hydraulic steering for 10 Bay Starting Stall. | C20: ='Table 1 - 3'!C31 -> 0 | D20: 1 | E20: =C20*D20 -> 0
A21: 5.d | B21: “Optional” Wide Axle/Narrow Axle interlocking system for 10 Bay Starting Stall. | C21: ='Table 1 - 3'!C32 -> 0 | D21: 1 | E21: =C21*D21 -> 0
A22: SUBTOTAL A | E22: =SUM(E6:E21) -> 0
A24: Table 5
A25: ITEM | C25: TENDERED PRICE | D25: NOTIONAL QUANTITY | E25: SUBTOTAL
A26: 6.a | B26: 12 Bay Starting Stall as per Section 2 above. | C26: ='Table 1 - 3'!C34 -> 0 | D26: 4 | E26: =C26*D26 -> 0
A27: 6.b | B27: Delivery of 12 Bay Starting Stall to International Ferry Port in the Republic of Ireland | C27: ='Table 1 - 3'!C35 -> 0 | D27: 1 | E27: =C27*D27 -> 0
A28: 6.c | B28: “Optional” Hydraulic steering for 12 Bay Starting Stall. | C28: ='Table 1 - 3'!C36 -> 0 | D28: 1 | E28: =C28*D28 -> 0
A29: 6.d | B29: “Optional” Wide Axle/Narrow Axle interlocking system for 12 Bay Starting Stall. | C29: ='Table 1 - 3'!C37 -> 0 | D29: 1 | E29: =C29*D29 -> 0
A30: 7.a | B30: 14 Bay Starting Stall as per Section 2 above. | C30: ='Table 1 - 3'!C39 -> 0 | D30: 4 | E30: =C30*D30 -> 0
A31: 7.b | B31: Delivery of 14 Bay Starting Stall to International Ferry Port in the Republic of Ireland | C31: ='Table 1 - 3'!C40 -> 0 | D31: 1 | E31: =C31*D31 -> 0
A32: 7.c | B32: “Optional” Hydraulic steering for 5 Bay Starting Stall. | C32: ='Table 1 - 3'!C41 -> 0 | D32: 1 | E32: =C32*D32 -> 0
A33: 7.d | B33: “Optional” Wide Axle/Narrow Axle interlocking system for 5 Bay Starting Stall. | C33: ='Table 1 - 3'!C42 -> 0 | D33: 1 | E33: =C33*D33 -> 0
A34: 8.a | B34: 16 Bay Starting Stall as per Section 2 above. | C34: ='Table 1 - 3'!C44 -> 0 | D34: 1 | E34: =C34*D34 -> 0
A35: 8.b | B35: Delivery of 16 Bay Starting Stall to International Ferry Port in the Republic of Ireland | C35: ='Table 1 - 3'!C45 -> 0 | D35: 1 | E35: =C35*D35 -> 0
A36: 8.c | B36: “Optional” Hydraulic steering for 5 Bay Starting Stall. | C36: ='Table 1 - 3'!C46 -> 0 | D36: 1 | E36: =C36*D36 -> 0
A37: 8.d | B37: “Optional” Wide Axle/Narrow Axle interlocking system for 16 Bay Starting Stall. | C37: ='Table 1 - 3'!C47 -> 0 | D37: 1 | E37: =C37*D37 -> 0
A38: SUBTOTAL B | E38: =SUM(E26:E37) -> 0
A40: Table 6
A41: ITEM | C41: TENDERED PRICE | D41: NOTIONAL QUANTITY | E41: SUBTOTAL
A42: 9.a | B42: 3xNo Replacement Front Gates –Pair (Left and Right) – 22.5 inches by 51 inches (57.15cm x 129.54cm) | C42: ='Table 1 - 3'!C52 -> 0 | D42: 1 | E42: =C42*D42 -> 0
A43: 9.a.a | B43: Delivery of 9.a to a nominated address in the Republic of Ireland | C43: ='Table 1 - 3'!C53 -> 0 | D43: 1 | E43: =C43*D43 -> 0
A44: 9.b | B44: 3xNo Replacement Back Gates – Pair (Left and Right) | C44: ='Table 1 - 3'!C54 -> 0 | D44: 1 | E44: =C44*D44 -> 0
A45: 9.b.a | B45: Delivery of 9.b to a nominated address in the Republic of Ireland | C45: ='Table 1 - 3'!C55 -> 0 | D45: 1 | E45: =C45*D45 -> 0
A46: 9.c | B46: 12xNo Gate Stoppers | C46: ='Table 1 - 3'!C56 -> 0 | D46: 1 | E46: =C46*D46 -> 0
A47: 9.c.a | B47: Delivery of 9.c to a nominated address in the Republic of Ireland | C47: ='Table 1 - 3'!C57 -> 0 | D47: 1 | E47: =C47*D47 -> 0
A48: 9.d | B48: 50x No Sucker Cups | C48: ='Table 1 - 3'!C58 -> 0 | D48: 1 | E48: =C48*D48 -> 0
A49: 9.d.a | B49: Delivery of 9.d to a nominated address in the Republic of Ireland | C49: ='Table 1 - 3'!C59 -> 0 | D49: 1 | E49: =C49*D49 -> 0
A50: 9.e | B50: 12x No Front Gate Latches and Opening Rods | C50: ='Table 1 - 3'!C60 -> 0 | D50: 1 | E50: =C50*D50 -> 0
A51: 9.e.a | B51: Delivery of 9.e to a nominated address in the Republic of Ireland | C51: ='Table 1 - 3'!C61 -> 0 | D51: 1 | E51: =C51*D51 -> 0
A52: 9.f | B52: 12x No Roller catches | C52: ='Table 1 - 3'!C62 -> 0 | D52: 1 | E52: =C52*D52 -> 0
A53: 9.f.a | B53: Delivery of 9.f to a nominated address in the Republic of Ireland | C53: ='Table 1 - 3'!C63 -> 0 | D53: 1 | E53: =C53*D53 -> 0
... A69: 9.n.a | B69: Delivery of 9.n to a nominated address in the Republic of Ireland | C69: ='Table 1 - 3'!C79 -> 0 | D69: 1 | E69: =C69*D69 -> 0
A70: SUBTOTAL C | E70: =SUM(E42:E69) -> 0
A72: Table 7
A73: TOTALS | C73: SUBTOTAL
A74: SUBTOTAL A | C74: =E22 -> 0
A75: SUBTOTAL B | C75: =E38 -> 0
A76: SUBTOTAL C | C76: =E70 -> 0
A77: OVERALL NOTIONAL ULTIMATE COST FOR EVALUATION PURPOSES | C77: =SUM(C74:C76) -> 0
