Workbook

Sheet Monthly Summary
A1: Monthly Summary | B1: Artic | D1: Rigid | F1: Boxbody
B2: Round | C2: One Way | D2: Round | E2: One Way | F2: Round | G2: One Way
A3: Cork Business and Technology Park Model Farm Road Cork | B3: ='Weekly Summary'!AA4+'Weekly Summary'!AA42+'Weekly Summary'!AA81+'Weekly Summary'!AA120+'Weekly Summary'!AA159 -> 25 | C3: ='Weekly Summary'!AB4+'Weekly Summary'!AB42+'Weekly Summary'!AB81+'Weekly Summary'!AB120+'Weekly Summary'!AB159 -> 27 | E3: ='Weekly Summary'!AD4+'Weekly Summary'!AD42+'Weekly Summary'!AD81+'Weekly Summary'!AD120+'Weekly Summary'!AD159 -> 13
A4: Blanchardstown, Connolly Hospital, Dublin 15 | B4: ='Weekly Summary'!AA5+'Weekly Summary'!AA43+'Weekly Summary'!AA82+'Weekly Summary'!AA121+'Weekly Summary'!AA160 -> 8 | D4: ='Weekly Summary'!AC5+'Weekly Summary'!AC43+'Weekly Summary'!AC82+'Weekly Summary'!AC121+'Weekly Summary'!AC160 -> 12 | E4: ='Weekly Summary'!AD5+'Weekly Summary'!AD43+'Weekly Summary'!AD82+'Weekly Summary'!AD121+'Weekly Summary'!AD160 -> 2
A5: Cherry Orchard Industrial Estate Dublin 10 | B5: ='Weekly Summary'!AA6+'Weekly Summary'!AA44+'Weekly Summary'!AA83+'Weekly Summary'!AA122+'Weekly Summary'!AA161 -> 14 | D5: ='Weekly Summary'!AC6+'Weekly Summary'!AC44+'Weekly Summary'!AC83+'Weekly Summary'!AC122+'Weekly Summary'!AC161 -> 11
A6: Galway University Hospital, Newcastle Road, Galway | B6: ='Weekly Summary'!AA7+'Weekly Summary'!AA45+'Weekly Summary'!AA84+'Weekly Summary'!AA123+'Weekly Summary'!AA162 -> 25 | C6: ='Weekly Summary'!AB7+'Weekly Summary'!AB45+'Weekly Summary'!AB84+'Weekly Summary'!AB123+'Weekly Summary'!AB162 -> 1 | D6: ='Weekly Summary'!AC7+'Weekly Summary'!AC45+'Weekly Summary'!AC84+'Weekly Summary'!AC123+'Weekly Summary'!AC162 -> 1 | E6: ='Weekly Summary'!AD7+'Weekly Summary'!AD45+'Weekly Summary'!AD84+'Weekly Summary'!AD123+'Weekly Summary'!AD162 -> 2
A7: Clash Industrial Estate, Tralee, Co Kerry | B7: ='Weekly Summary'!AA8+'Weekly Summary'!AA46+'Weekly Summary'!AA85+'Weekly Summary'!AA124+'Weekly Summary'!AA163 -> 14 | C7: ='Weekly Summary'!AB8+'Weekly Summary'!AB46+'Weekly Summary'!AB85+'Weekly Summary'!AB124+'Weekly Summary'!AB163 -> 4 | D7: ='Weekly Summary'!AC8+'Weekly Summary'!AC46+'Weekly Summary'!AC85+'Weekly Summary'!AC124+'Weekly Summary'!AC163 -> 4 | E7: ='Weekly Summary'!AD8+'Weekly Summary'!AD46+'Weekly Summary'!AD85+'Weekly Summary'!AD124+'Weekly Summary'!AD163 -> 3 | G7: ='Weekly Summary'!AF8+'Weekly Summary'!AF46+'Weekly Summary'!AF85+'Weekly Summary'!AF124+'Weekly Summary'!AF163 -> 1
A8: St Luke's Hospital, Freshford Road, Friarsynch, Kilkenny | B8: ='Weekly Summary'!AA9+'Weekly Summary'!AA47+'Weekly Summary'!AA86+'Weekly Summary'!AA125+'Weekly Summary'!AA164 -> 6 | D8: ='Weekly Summary'!AC9+'Weekly Summary'!AC47+'Weekly Summary'!AC86+'Weekly Summary'!AC125+'Weekly Summary'!AC164 -> 14
A9: Our Lady of Lourdes Hospital, Windmill Road, Drogheda Co. Louth | B9: ='Weekly Summary'!AA10+'Weekly Summary'!AA48+'Weekly Summary'!AA87+'Weekly Summary'!AA126+'Weekly Summary'!AA165 -> 12 | D9: ='Weekly Summary'!AC10+'Weekly Summary'!AC48+'Weekly Summary'!AC87+'Weekly Summary'!AC126+'Weekly Summary'!AC165 -> 13
A10: Lisnennan Industrial Estate, Letterkenny, Donegal | B10: ='Weekly Summary'!AA11+'Weekly Summary'!AA49+'Weekly Summary'!AA88+'Weekly Summary'!AA127+'Weekly Summary'!AA166 -> 13 | D10: ='Weekly Summary'!AC11+'Weekly Summary'!AC49+'Weekly Summary'!AC88+'Weekly Summary'!AC127+'Weekly Summary'!AC166 -> 12
A11: Ballycummin Avenue, Raheen Business Park, Limerick | B11: ='Weekly Summary'!AA12+'Weekly Summary'!AA50+'Weekly Summary'!AA89+'Weekly Summary'!AA128+'Weekly Summary'!AA167 -> 23 | C11: ='Weekly Summary'!AB12+'Weekly Summary'!AB50+'Weekly Summary'!AB89+'Weekly Summary'!AB128+'Weekly Summary'!AB167 -> 14 | D11: ='Weekly Summary'!AC12+'Weekly Summary'!AC50+'Weekly Summary'!AC89+'Weekly Summary'!AC128+'Weekly Summary'!AC167 -> 2 | E11: ='Weekly Summary'!AD12+'Weekly Summary'!AD50+'Weekly Summary'!AD89+'Weekly Summary'!AD128+'Weekly Summary'!AD167 -> 4 | G11: ='Weekly Summary'!AF12+'Weekly Summary'!AF50+'Weekly Summary'!AF89+'Weekly Summary'!AF128+'Weekly Summary'!AF167 -> 1
A12: Mayo University Hopital, Westport Road, Mayo | B12: ='Weekly Summary'!AA13+'Weekly Summary'!AA51+'Weekly Summary'!AA90+'Weekly Summary'!AA129+'Weekly Summary'!AA168 -> 1 | D12: ='Weekly Summary'!AC13+'Weekly Summary'!AC51+'Weekly Summary'!AC90+'Weekly Summary'!AC129+'Weekly Summary'!AC168 -> 24
A13: Finisklin Business Park, Sligo | B13: ='Weekly Summary'!AA14+'Weekly Summary'!AA52+'Weekly Summary'!AA91+'Weekly Summary'!AA130+'Weekly Summary'!AA169 -> 14 | C13: ='Weekly Summary'!AB14+'Weekly Summary'!AB52+'Weekly Summary'!AB91+'Weekly Summary'!AB130+'Weekly Summary'!AB169 -> 1 | D13: ='Weekly Summary'!AC14+'Weekly Summary'!AC52+'Weekly Summary'!AC91+'Weekly Summary'!AC130+'Weekly Summary'!AC169 -> 12
A14: Ardcavan Business Park, Ardcavan, Wexford | B14: ='Weekly Summary'!AA15+'Weekly Summary'!AA53+'Weekly Summary'!AA92+'Weekly Summary'!AA131+'Weekly Summary'!AA170 -> 10 | D14: ='Weekly Summary'!AC15+'Weekly Summary'!AC53+'Weekly Summary'!AC92+'Weekly Summary'!AC131+'Weekly Summary'!AC170 -> 15
A15: Portiuncula Hospital, Ballinasloe, Co Galway | B15: ='Weekly Summary'!AA16+'Weekly Summary'!AA54+'Weekly Summary'!AA93+'Weekly Summary'!AA132+'Weekly Summary'!AA171 -> 2 | D15: ='Weekly Summary'!AC16+'Weekly Summary'!AC54+'Weekly Summary'!AC93+'Weekly Summary'!AC132+'Weekly Summary'!AC171 -> 3
A16: Ballycoolin, Dublin | B16: ='Weekly Summary'!AA17+'Weekly Summary'!AA55+'Weekly Summary'!AA94+'Weekly Summary'!AA133+'Weekly Summary'!AA172 -> 3 | D16: ='Weekly Summary'!AC17+'Weekly Summary'!AC55+'Weekly Summary'!AC94+'Weekly Summary'!AC133+'Weekly Summary'!AC172 -> 4 | F16: ='Weekly Summary'!AE17+'Weekly Summary'!AE55+'Weekly Summary'!AE94+'Weekly Summary'!AE133+'Weekly Summary'!AE172 -> 3
A17: Carlow | B17: ='Weekly Summary'!AA18+'Weekly Summary'!AA56+'Weekly Summary'!AA95+'Weekly Summary'!AA134+'Weekly Summary'!AA173 -> 1 | D17: ='Weekly Summary'!AC18+'Weekly Summary'!AC56+'Weekly Summary'!AC95+'Weekly Summary'!AC134+'Weekly Summary'!AC173 -> 12 | E17: ='Weekly Summary'!AD18+'Weekly Summary'!AD56+'Weekly Summary'!AD95+'Weekly Summary'!AD134+'Weekly Summary'!AD173 -> 1 | F17: ='Weekly Summary'!AE18+'Weekly Summary'!AE56+'Weekly Summary'!AE95+'Weekly Summary'!AE134+'Weekly Summary'!AE173 -> 2
A18: Our Lady's Childrens Hospital, Crumlin, Dublin | D18: ='Weekly Summary'!AC19+'Weekly Summary'!AC57+'Weekly Summary'!AC96+'Weekly Summary'!AC135+'Weekly Summary'!AC174 -> 20 | E18: ='Weekly Summary'!AD19+'Weekly Summary'!AD57+'Weekly Summary'!AD96+'Weekly Summary'!AD135+'Weekly Summary'!AD174 -> 1 | F18: ='Weekly Summary'!AE19+'Weekly Summary'!AE57+'Weekly Summary'!AE96+'Weekly Summary'!AE135+'Weekly Summary'!AE174 -> 5
A19: St Colmcille's Hospital, Loughlinstown, Dublin 18 | D19: ='Weekly Summary'!AC20+'Weekly Summary'!AC58+'Weekly Summary'!AC97+'Weekly Summary'!AC136+'Weekly Summary'!AC175 -> 7 | F19: ='Weekly Summary'!AE20+'Weekly Summary'!AE58+'Weekly Summary'!AE97+'Weekly Summary'!AE136+'Weekly Summary'!AE175 -> 3
A20: St Ita's Hospital, Portrane, Co Dublin | D20: ='Weekly Summary'!AC21+'Weekly Summary'!AC59+'Weekly Summary'!AC98+'Weekly Summary'!AC137+'Weekly Summary'!AC176 -> 10 | E20: ='Weekly Summary'!AD21+'Weekly Summary'!AD59+'Weekly Summary'!AD98+'Weekly Summary'!AD137+'Weekly Summary'!AD176 -> 2
A21: St Lukes Hospital, Highfield Road, Rathgar, Dublin 6 | D21: ='Weekly Summary'!AC22+'Weekly Summary'!AC60+'Weekly Summary'!AC99+'Weekly Summary'!AC138+'Weekly Summary'!AC177 -> 10
A22: Briarhill Business Park, Ballybrit, Galway | B22: ='Weekly Summary'!AA23+'Weekly Summary'!AA61+'Weekly Summary'!AA100+'Weekly Summary'!AA139+'Weekly Summary'!AA178 -> 2 | D22: ='Weekly Summary'!AC23+'Weekly Summary'!AC61+'Weekly Summary'!AC100+'Weekly Summary'!AC139+'Weekly Summary'!AC178 -> 3
A23: Merlin Park University Hospital, Dublin Road, Galway | B23: ='Weekly Summary'!AA24+'Weekly Summary'!AA62+'Weekly Summary'!AA101+'Weekly Summary'!AA140+'Weekly Summary'!AA179 -> 4 | D23: ='Weekly Summary'!AC24+'Weekly Summary'!AC62+'Weekly Summary'!AC101+'Weekly Summary'!AC140+'Weekly Summary'!AC179 -> 1
A24: Mayo PCCC, St Mary's Campus, Castlebar, Mayo | D24: ='Weekly Summary'!AC25+'Weekly Summary'!AC63+'Weekly Summary'!AC102+'Weekly Summary'!AC141+'Weekly Summary'!AC180 -> 5
A25: St Davnets Hospital , Monaghan | D25: ='Weekly Summary'!AC26+'Weekly Summary'!AC64+'Weekly Summary'!AC103+'Weekly Summary'!AC142+'Weekly Summary'!AC181 -> 9 | F25: ='Weekly Summary'!AE26+'Weekly Summary'!AE64+'Weekly Summary'!AE103+'Weekly Summary'!AE142+'Weekly Summary'!AE181 -> 1
A26: Naas General Hospital, Craddockstown Rd, Naas East, Co Kildare | D26: ='Weekly Summary'!AC27+'Weekly Summary'!AC65+'Weekly Summary'!AC104+'Weekly Summary'!AC143+'Weekly Summary'!AC182 -> 15 | E26: ='Weekly Summary'!AD27+'Weekly Summary'!AD65+'Weekly Summary'!AD104+'Weekly Summary'!AD143+'Weekly Summary'!AD182 -> 4 | G26: ='Weekly Summary'!AF27+'Weekly Summary'!AF65+'Weekly Summary'!AF104+'Weekly Summary'!AF143+'Weekly Summary'!AF182 -> 1
A27: Our Ladies Hospital Navan, Moat Hill, Navan, Co Meath | B27: ='Weekly Summary'!AA28+'Weekly Summary'!AA66+'Weekly Summary'!AA105+'Weekly Summary'!AA144+'Weekly Summary'!AA183 -> 1 | D27: ='Weekly Summary'!AC28+'Weekly Summary'!AC66+'Weekly Summary'!AC105+'Weekly Summary'!AC144+'Weekly Summary'!AC183 -> 4
A28: Clonmel | D28: ='Weekly Summary'!AC29+'Weekly Summary'!AC67+'Weekly Summary'!AC106+'Weekly Summary'!AC145+'Weekly Summary'!AC184 -> 12 | E28: ='Weekly Summary'!AD29+'Weekly Summary'!AD67+'Weekly Summary'!AD106+'Weekly Summary'!AD145+'Weekly Summary'!AD184 -> 5 | F28: ='Weekly Summary'!AE29+'Weekly Summary'!AE67+'Weekly Summary'!AE106+'Weekly Summary'!AE145+'Weekly Summary'!AE184 -> 4
A29: Temple Street, CHI, Dublin | F29: ='Weekly Summary'!AE30+'Weekly Summary'!AE68+'Weekly Summary'!AE107+'Weekly Summary'!AE146+'Weekly Summary'!AE185 -> 19
A30: Total | B30: =SUM(B3:B29) -> 178 | C30: =SUM(C3:C29) -> 47 | D30: =SUM(D3:D29) -> 235 | E30: =SUM(E3:E29) -> 37 | F30: =SUM(F3:F29) -> 37 | G30: =SUM(G3:G29) -> 3

Sheet Weekly Summary
A2: Week 1 | Z2: Weekly Summary | AA2: Artic | AC2: Rigid | AE2: Boxbody
A3: Monday 31st August | F3: Tuesday 1st September | K3: Wednesday 2nd September | P3: Thursday 3rd September | U3: Friday 4th September | AA3: Round | AB3: One Way | AC3: Round | AD3: One Way | AE3: Round | AF3: One Way
A4: Location | B4: Cage Count | C4: Truck type | D4: Trip Type | F4: Location | G4: Cage Count | H4: Truck type | I4: Trip Type | K4: Location | L4: Cage Count | M4: Truck type | N4: Trip Type | P4: Location | Q4: Cage Count | R4: Truck type | S4: Trip Type | U4: Location | V4: Cage Count | W4: Truck type | X4: Trip Type | Z4: Cork Business and Technology Park Model Farm Road Cork | AA4: 5 | AB4: 5 | AD4: 3
A5: Wexford | B5: 19 | C5: Rigid | D5: Round | F5: Wexford | G5: 52 | H5: Artic | I5: Round | K5: Wexford | L5: 29 | M5: Rigid | N5: Round | P5: Wexford | Q5: 39 | R5: Artic | S5: Round | U5: Wexford | V5: 22 | W5: Rigid | X5: Round | Z5: Blanchardstown, Connolly Hospital, Dublin 15 | AA5: 1 | AC5: 3 | AD5: 1
A6: Letterkenny | B6: 25 | C6: Rigid | D6: Round | F6: Letterkenny | G6: 40 | H6: Artic | I6: Round | K6: Letterkenny | L6: 22 | M6: Rigid | N6: Round | P6: Letterkenny | Q6: 27 | R6: Rigid | S6: Round | U6: Letterkenny | V6: 28 | W6: Rigid | X6: Round | Z6: Cherry Orchard Industrial Estate Dublin 10 | AA6: 2 | AC6: 3
A7: Kerry | B7: 52 | C7: Artic | D7: Round | F7: Cork L1 | G7: 52 | H7: Artic | I7: One Way | K7: Kerry L1 | L7: 51 | M7: Artic | N7: Round | P7: Kerry | Q7: 44 | R7: Artic | S7: Round | U7: Cork L1 | V7: 52 | W7: Artic | X7: Round | Z7: Galway University Hospital, Newcastle Road, Galway | AA7: 5 | AC7: 1
A8: Cork L1 | B8: 52 | C8: Artic | D8: One Way | F8: Cork L2 | G8: 52 | H8: Artic | I8: One Way | K8: Kerry L2 | L8: 52 | M8: Artic | N8: One Way | P8: Cork L1 | Q8: 52 | R8: Artic | S8: Round | U8: Cork L2 | V8: 52 | W8: Artic | X8: One Way | Z8: Clash Industrial Estate, Tralee, Co Kerry | AA8: 5 | AC8: 1
A9: Cork L2 | B9: 32 | C9: Artic | D9: Round | F9: Cork L3 | G9: 36 | H9: Artic | I9: Round | K9: Kerry L3 | L9: 8 | M9: Rigid | N9: One Way | P9: Cork L2 | Q9: 29 | R9: Rigid | S9: One Way | U9: Cork L3 | V9: 15 | W9: Rigid | X9: One Way | Z9: St Luke's Hospital, Freshford Road, Friarsynch, Kilkenny | AA9: 2 | AC9: 2
A10: Chery Orchard | B10: 25 | C10: Artic | D10: Round | F10: Cherry Orchard | G10: 14 | H10: Rigid | I10: Round | K10: Cork L1 | L10: 51 | M10: Artic | N10: Round | P10: Cherry Orchard | Q10: 25 | R10: Rigid | S10: Round | U10: Cherry Orchard | V10: 39 | W10: Artic | X10: Round | Z10: Our Lady of Lourdes Hospital, Windmill Road, Drogheda Co. Louth | AA10: 1 | AC10: 4
A11: Sligo | B11: 36 | C11: Artic | D11: Round | F11: Sligo | G11: 30 | H11: Rigid | I11: Round | K11: Cork L2 | L11: 52 | M11: Artic | N11: One Way | P11: Sligo | Q11: 52 | R11: Artic | S11: Round | U11: Sligo | V11: 38 | W11: Artic | X11: Round | Z11: Lisnennan Industrial Estate, Letterkenny, Donegal | AA11: 1 | AC11: 4
A12: Drogheda | B12: 23 | C12: Artic | D12: Round | F12: Drogheda | G12: 21 | H12: Rigid | I12: Round | K12: Cork L3 | L12: 19 | M12: Rigid | N12: One Way | P12: Drogheda | Q12: 21 | R12: Rigid | S12: Round | U12: Drogheda | V12: 24 | W12: Rigid | X12: Round | Z12: Ballycummin Avenue, Raheen Business Park, Limerick | AA12: 3 | AB12: 3 | AC12: 1 | AD12: 1
A13: Castlebar | B13: 20 | C13: Rigid | D13: Round | F13: Castlebar | G13: 20 | H13: Rigid | I13: Round | K13: Cherry Orchard | L13: 27 | M13: Rigid | N13: Round | P13: Castlebar | Q13: 18 | R13: Rigid | S13: Round | U13: Castlebar | V13: 18 | W13: Rigid | X13: Round | Z13: Mayo University Hopital, Westport Road, Mayo | AC13: 5
A14: Connolly | B14: 24 | C14: Rigid | D14: Round | F14: Monaghan | G14: 20 | H14: Rigid | I14: Round | K14: Sligo | L14: 31 | M14: Artic | N14: Round | P14: Kilkenny | Q14: 30 | R14: Artic | S14: Round | U14: Kilkenny | V14: 18 | W14: Artic | X14: Round | Z14: Finisklin Business Park, Sligo | AA14: 4 | AC14: 1
A15: Ballycoolin | B15: 5 | C15: Rigid | D15: Round | F15: Kilkenny | G15: 22 | H15: Rigid | I15: Round | K15: Drogheda | L15: 19 | M15: Rigid | N15: Round | P15: Galway | Q15: 51 | R15: Artic | S15: Round | U15: Galway | V15: 42 | W15: Artic | X15: Round | Z15: Ardcavan Business Park, Ardcavan, Wexford | AA15: 2 | AC15: 3
A16: Galway | B16: 41 | C16: Artic | D16: Round | F16: Galway | G16: 37 | H16: Artic | I16: Round | K16: Kilkenny | L16: 23 | M16: Rigid | N16: Round | P16: Crumlin | Q16: 26 | R16: Rigid | S16: Round | U16: Briar Hill | V16: 24 | W16: Rigid | X16: Round | Z16: Portiuncula Hospital, Ballinasloe, Co Galway | AC16: 1
A17: Navan | B17: 24 | C17: Rigid | D17: Round | F17: Crumlin | G17: 8 | H17: Box Body | I17: Round | K17: Galway L1 | L17: 52 | M17: Artic | N17: Round | P17: Monaghan | Q17: 19 | R17: Rigid | S17: Round | U17: Naas | V17: 11 | W17: Rigid | X17: Round | Z17: Ballycoolin, Dublin | AC17: 1 | AE17: 1
A18: Limerick L1 | B18: 51 | C18: Artic | D18: One Way | F18: Connolly | G18: 27 | H18: Artic | I18: Round | K18: Galway L2 | L18: 13 | M18: Rigid | N18: One Way | P18: Limerick L1 | Q18: 50 | R18: Artic | S18: Round | U18: St. Luke's | V18: 15 | W18: Rigid | X18: Round | Z18: Carlow | AC18: 3
A19: Limerick L2 | B19: 20 | C19: Rigid | D19: Round | F19: St. Luke's | G19: 10 | H19: Rigid | I19: Round | K19: Crumlin | L19: 13 | M19: Box Body | N19: Round | P19: Limerick L2 | Q19: 29 | R19: Rigid | S19: One Way | U19: Crumlin | V19: 23 | W19: Rigid | X19: Round | Z19: Our Lady's Childrens Hospital, Crumlin, Dublin | AC19: 2 | AE19: 3
A20: Crumlin | B20: 11 | C20: Box Body | D20: Round | F20: St. Columcille's | G20: 18 | H20: Rigid | I20: Round | K20: Naas | L20: 28 | M20: Rigid | N20: Round | P20: St Columcille's | Q20: 6 | R20: Box Body | S20: Round | U20: Connolly | V20: 21 | W20: Rigid | X20: Round | Z20: St Colmcille's Hospital, Loughlinstown, Dublin 18 | AC20: 1 | AE20: 1
A21: Temple St. | B21: 8 | C21: Box Body | D21: Round | F21: Temple St. | G21: 7 | H21: Box Body | I21: Round | K21: Limerick L1 | L21: 51 | M21: Artic | N21: One Way | P21: Clonmel | Q21: 22 | R21: Rigid | S21: Round | U21: Limerick L1 | V21: 52 | W21: Artic | X21: Round | Z21: St Ita's Hospital, Portrane, Co Dublin | AC21: 2 | AD21: 1
A22: Carlow | B22: 22 | C22: Rigid | D22: Round | F22: Limerick L1 | G22: 51 | H22: Artic | I22: One Way | K22: Limerick L2 | L22: 50 | M22: Artic | N22: Round | P22: Ballycoolin | Q22: 2 | R22: Box Body | S22: Round | U22: Temple St. | V22: 9 | W22: Box Body | X22: Round | Z22: St Lukes Hospital, Highfield Road, Rathgar, Dublin 6 | AC22: 2
A23: St. Ita's L1 | B23: 19 | C23: Rigid | D23: One Way | F23: Limerick L2 | G23: 29 | H23: Rigid | I23: Round | K23: Connolly L1 | L23: 32 | M23: Rigid | N23: One Way | P23: Mayo PCCC | Q23: 4 | R23: Rigid | S23: Round | U23: Clonmel | V23: 11 | W23: Box Body | X23: Round | Z23: Briarhill Business Park, Ballybrit, Galway | AC23: 1
A24: St. Ita's L2 | B24: 14 | C24: Rigid | D24: Round | F24: Carlow | G24: 11 | H24: Rigid | I24: Round | K24: Connolly L2 | L24: 2 | M24: Rigid | N24: Round | P24: Carlow | Q24: 8 | R24: Rigid | S24: Round | U24: Total Journeys 19 | V24: 514 | Z24: Merlin Park University Hospital, Dublin Road, Galway | AC24: 1
A25: Total Journeys 20 | B25: 523 | F25: Ballinasloe | G25: 21 | H25: Rigid | I25: Round | K25: St. Ita's | L25: 10 | M25: Rigid | N25: Round | P25: Total Journeys 20 | Q25: 554 | Z25: Mayo PCCC, St Mary's Campus, Castlebar, Mayo | AC25: 1
F26: Naas | G26: 29 | H26: Rigid | I26: Round | K26: Clonmel L1 | L26: 29 | M26: Rigid | N26: One Way | Z26: St Davnets Hospital , Monaghan | AC26: 2
F27: Total Journeys 22 | G27: 607 | K27: Clonmel L2 | L27: 29 | M27: Rigid | N27: Round | Z27: Naas General Hospital, Craddockstown Rd, Naas East, Co Kildare | AC27: 3
K28: Temple St. | L28: 7 | M28: Box Body | N28: Round | Z28: Our Ladies Hospital Navan, Moat Hill, Navan, Co Meath | AC28: 1
K29: Castlebar | L29: 14 | M29: Rigid | N29: Round | Z29: Clonmel | AC29: 2 | AD29: 1 | AE29: 1
K30: Merlin Park | L30: 44 | M30: Artic | N30: Round | Z30: Temple Street, CHI, Dublin | AE30: 4
K31: Total Journeys 26 | L31: 758 | Z31: Total | AA31: =SUM(AA4:AA30) -> 31 | AB31: =SUM(AB4:AB30) -> 8 | AC31: =SUM(AC4:AC30) -> 51 | AD31: =SUM(AD4:AD30) -> 7 | AE31: =SUM(AE4:AE30) -> 10 | AF31: =SUM(AF4:AF30) -> 0
B33: Round Trip | C33: One Way Trip | G33: Round Trip | H33: One Way Trip | L33: Round Trip | M33: One Way Trip | Q33: Round Trip | R33: One Way Trip | V33: Round Trip | W33: One Way Trip
A34: Rigid | B34: 9 | C34: 1 | F34: Rigid | G34: 12 | H34: 0 | K34: Rigid | L34: 10 | M34: 5 | P34: Rigid | Q34: 9 | R34: 2 | U34: Rigid | V34: 9 | W34: 1
A35: Artic | B35: 6 | C35: 2 | F35: Artic | G35: 5 | H35: 3 | K35: Artic | L35: 6 | M35: 3 | P35: Artic | Q35: 7 | R35: 0 | U35: Artic | V35: 6 | W35: 1
A36: Box Body | B36: 2 | C36: 0 | F36: Box Body | G36: 2 | H36: 0 | K36: Box Body | L36: 2 | M36: 0 | P36: Box Body | Q36: 2 | R36: 0 | U36: Box Body | V36: 2 | W36: 0
A37: Total | B37: 17 | C37: 3 | F37: Total | G37: 19 | H37: 3 | K37: Total | L37: 18 | M37: 8 | P37: Total | Q37: 18 | R37: 2 | U37: Total | V37: 17 | W37: 2
A40: Week 2 | Z40: Weekly Summary | AA40: Artic | AC40: Rigid | AE40: Boxbody
A41: Monday 7th September | F41: Tuesday 8th September | K41: Wednesday 9th September | P41: Thursday 10th September | U41: Friday 11th September | AA41: Round | AB41: One Way | AC41: Round | AD41: One Way | AE41: Round | AF41: One Way
A42: Location | B42: Cage Count | C42: Truck type | D42: Trip Type | F42: Location | G42: Cage Count | H42: Truck type | I42: Trip Type | K42: Location | L42: Cage Count | M42: Truck type | N42: Trip Type | P42: Location | Q42: Cage Count | R42: Truck type | S42: Trip Type | U42: Location | V42: Cage Count | W42: Truck type | X42: Trip Type | Z42: Cork Business and Technology Park Model Farm Road Cork | AA42: 5 | AB42: 5 | AD42: 3
A43: Wexford | B43: 16 | C43: Artic | D43: Round | F43: Wexford | G43: 26 | H43: Rigid | I43: Round | K43: Wexford | L43: 29 | M43: Rigid | N43: Round | P43: Wexford | Q43: 33 | R43: Artic | S43: Round | U43: Wexford | V43: 26 | W43: Artic | X43: Round | Z43: Blanchardstown, Connolly Hospital, Dublin 15 | AA43: 2 | AC43: 2
A44: Letterkenny | B44: 42 | C44: Artic | D44: Round | F44: Letterkenny | G44: 46 | H44: Artic | I44: Round | K44: Letterkenny | L44: 26 | M44: Rigid | N44: Round | P44: Letterkenny | Q44: 38 | R44: Artic | S44: Round | U44: Letterkenny | V44: 38 | W44: Artic | X44: Round | Z44: Cherry Orchard Industrial Estate Dublin 10 | AA44: 3 | AC44: 2
...
