Workbook

Sheet Monthly Summary
A1: Monthly Summary | B1: Artic | D1: Rigid | F1: Boxbody
B2: Round | C2: One Way | D2: Round | E2: One Way | F2: Round | G2: One Way
A3: Cork Business and Technology Park Model Farm Road Cork | B3: ='Weekly Summary'!AA4+'Weekly Summary'!AA42+'Weekly Summary'!AA81+'Weekly Summary'!AA120+'Weekly Summary'!AA159 -> 25 | C3: ='Weekly Summary'!AB4+'Weekly Summary'!AB42+'Weekly Summary'!AB81+'Weekly Summary'!AB120+'Weekly Summary'!AB159 -> 27 | E3: ='Weekly Summary'!AD4+'Weekly Summary'!AD42+'Weekly Summary'!AD81+'Weekly Summary'!AD120+'Weekly Summary'!AD159 -> 13
A4: Blanchardstown, Connolly Hospital, Dublin 15 | B4: ='Weekly Summary'!AA5+'Weekly Summary'!AA43+'Weekly Summary'!AA82+'Weekly Summary'!AA121+'Weekly Summary'!AA160 -> 8 | D4: ='Weekly Summary'!AC5+'Weekly Summary'!AC43+'Weekly Summary'!AC82+'Weekly Summary'!AC121+'Weekly Summary'!AC160 -> 12 | E4: ='Weekly Summary'!AD5+'Weekly Summary'!AD43+'Weekly Summary'!AD82+'Weekly Summary'!AD121+'Weekly Summary'!AD160 -> 2
A5: Cherry Orchard Industrial Estate Dublin 10 | B5: ='Weekly Summary'!AA6+'Weekly Summary'!AA44+'Weekly Summary'!AA83+'Weekly Summary'!AA122+'Weekly Summary'!AA161 -> 14 | D5: ='Weekly Summary'!AC6+'Weekly Summary'!AC44+'Weekly Summary'!AC83+'Weekly Summary'!AC122+'Weekly Summary'!AC161 -> 11
A6: Galway University Hospital, Newcastle Road, Galway | B6: ='Weekly Summary'!AA7+'Weekly Summary'!AA45+'Weekly Summary'!AA84+'Weekly Summary'!AA123+'Weekly Summary'!AA162 -> 25 | C6: ='Weekly Summary'!AB7+'Weekly Summary'!AB45+'Weekly Summary'!AB84+'Weekly Summary'!AB123+'Weekly Summary'!AB162 -> 1 | D6: ='Weekly Summary'!AC7+'Weekly Summary'!AC45+'Weekly Summary'!AC84+'Weekly Summary'!AC123+'Weekly Summary'!AC162 -> 1 | E6: ='Weekly Summary'!AD7+'Weekly Summary'!AD45+'Weekly Summary'!AD84+'Weekly Summary'!AD123+'Weekly Summary'!AD162 -> 2
A7: Clash Industrial Estate, Tralee, Co Kerry | B7: ='Weekly Summary'!AA8+'Weekly Summary'!AA46+'Weekly Summary'!AA85+'Weekly Summary'!AA124+'Weekly Summary'!AA163 -> 14 | C7: ='Weekly Summary'!AB8+'Weekly Summary'!AB46+'Weekly Summary'!AB85+'Weekly Summary'!AB124+'Weekly Summary'!AB163 -> 4 | D7: ='Weekly Summary'!AC8+'Weekly Summary'!AC46+'Weekly Summary'!AC85+'Weekly Summary'!AC124+'Weekly Summary'!AC163 -> 4 | E7: ='Weekly Summary'!AD8+'Weekly Summary'!AD46+'Weekly Summary'!AD85+'Weekly Summary'!AD124+'Weekly Summary'!AD163 -> 3 | G7: ='Weekly Summary'!AF8+'Weekly Summary'!AF46+'Weekly Summary'!AF85+'Weekly Summary'!AF124+'Weekly Summary'!AF163 -> 1
A8: St Luke's Hospital, Freshford Road, Friarsynch, Kilkenny | B8: ='Weekly Summary'!AA9+'Weekly Summary'!AA47+'Weekly Summary'!AA86+'Weekly Summary'!AA125+'Weekly Summary'!AA164 -> 6 | D8: ='Weekly Summary'!AC9+'Weekly Summary'!AC47+'Weekly Summary'!AC86+'Weekly Summary'!AC125+'Weekly Summary'!AC164 -> 14
A9: Our Lady of Lourdes Hospital, Windmill Road, Drogheda Co. Louth | B9: ='Weekly Summary'!AA10+'Weekly Summary'!AA48+'Weekly Summary'!AA87+'Weekly Summary'!AA126+'Weekly Summary'!AA165 -> 12 | D9: ='Weekly Summary'!AC10+'Weekly Summary'!AC48+'Weekly Summary'!AC87+'Weekly Summary'!AC126+'Weekly Summary'!AC165 -> 13
A10: Lisnennan Industrial Estate, Letterkenny, Donegal | B10: ='Weekly Summary'!AA11+'Weekly Summary'!AA49+'Weekly Summary'!AA88+'Weekly Summary'!AA127+'Weekly Summary'!AA166 -> 13 | D10: ='Weekly Summary'!AC11+'Weekly Summary'!AC49+'Weekly Summary'!AC88+'Weekly Summary'!AC127+'Weekly Summary'!AC166 -> 12
A11: Ballycummin Avenue, Raheen Business Park, Limerick | B11: ='Weekly Summary'!AA12+'Weekly Summary'!AA50+'Weekly Summary'!AA89+'Weekly Summary'!AA128+'Weekly Summary'!AA167 -> 23 | C11: ='Weekly Summary'!AB12+'Weekly Summary'!AB50+'Weekly Summary'!AB89+'Weekly Summary'!AB128+'Weekly Summary'!AB167 -> 14 | D11: ='Weekly Summary'!AC12+'Weekly Summary'!AC50+'Weekly Summary'!AC89+'Weekly Summary'!AC128+'Weekly Summary'!AC167 -> 2 | E11: ='Weekly Summary'!AD12+'Weekly Summary'!AD50+'Weekly Summary'!AD89+'Weekly Summary'!AD128+'Weekly Summary'!AD167 -> 4 | G11: ='Weekly Summary'!AF12+'Weekly Summary'!AF50+'Weekly Summary'!AF89+'Weekly Summary'!AF128+'Weekly Summary'!AF167 -> 1
A12: Mayo University Hopital, Westport Road, Mayo | B12: ='Weekly Summary'!AA13+'Weekly Summary'!AA51+'Weekly Summary'!AA90+'Weekly Summary'!AA129+'Weekly Summary'!AA168 -> 1 | D12: ='Weekly Summary'!AC13+'Weekly Summary'!AC51+'Weekly Summary'!AC90+'Weekly Summary'!AC129+'Weekly Summary'!AC168 -> 24
A13: Finisklin Business Park, Sligo | B13: ='Weekly Summary'!AA14+'Weekly Summary'!AA52+'Weekly Summary'!AA91+'Weekly Summary'!AA130+'Weekly Summary'!AA169 -> 14 | C13: ='Weekly Summary'!AB14+'Weekly Summary'!AB52+'Weekly Summary'!AB91+'Weekly Summary'!AB130+'Weekly Summary'!AB169 -> 1 | D13: ='Weekly Summary'!AC14+'Weekly Summary'!AC52+'Weekly Summary'!AC91+'Weekly Summary'!AC130+'Weekly Summary'!AC169 -> 12
A14: Ardcavan Business Park, Ardcavan, Wexford | B14: ='Weekly Summary'!AA15+'Weekly Summary'!AA53+'Weekly Summary'!AA92+'Weekly Summary'!AA131+'Weekly Summary'!AA170 -> 10 | D14: ='Weekly Summary'!AC15+'Weekly Summary'!AC53+'Weekly Summary'!AC92+'Weekly Summary'!AC131+'Weekly Summary'!AC170 -> 15
A15: Portiuncula Hospital, Ballinasloe, Co Galway | B15: ='Weekly Summary'!AA16+'Weekly Summary'!AA54+'Weekly Summary'!AA93+'Weekly Summary'!AA132+'Weekly Summary'!AA171 -> 2 | D15: ='Weekly Summary'!AC16+'Weekly Summary'!AC54+'Weekly Summary'!AC93+'Weekly Summary'!AC132+'Weekly Summary'!AC171 -> 3
A16: Ballycoolin, Dublin | B16: ='Weekly Summary'!AA17+'Weekly Summary'!AA55+'Weekly Summary'!AA94+'Weekly Summary'!AA133+'Weekly Summary'!AA172 -> 3 | D16: ='Weekly Summary'!AC17+'Weekly Summary'!AC55+'Weekly Summary'!AC94+'Weekly Summary'!AC133+'Weekly Summary'!AC172 -> 4 | F16: ='Weekly Summary'!AE17+'Weekly Summary'!AE55+'Weekly Summary'!AE94+'Weekly Summary'!AE133+'Weekly Summary'!AE172 -> 3
A17: Carlow | B17: ='Weekly Summary'!AA18+'Weekly Summary'!AA56+'Weekly Summary'!AA95+'Weekly Summary'!AA134+'Weekly Summary'!AA173 -> 1 | D17: ='Weekly Summary'!AC18+'Weekly Summary'!AC56+'Weekly Summary'!AC95+'Weekly Summary'!AC134+'Weekly Summary'!AC173 -> 12 | E17: ='Weekly Summary'!AD18+'Weekly Summary'!AD56+'Weekly Summary'!AD95+'Weekly Summary'!AD134+'Weekly Summary'!AD173 -> 1 | F17: ='Weekly Summary'!AE18+'Weekly Summary'!AE56+'Weekly Summary'!AE95+'Weekly Summary'!AE134+'Weekly Summary'!AE173 -> 2
A18: Our Lady's Childrens Hospital, Crumlin, Dublin | D18: ='Weekly Summary'!AC19+'Weekly Summary'!AC57+'Weekly Summary'!AC96+'Weekly Summary'!AC135+'Weekly Summary'!AC174 -> 20 | E18: ='Weekly Summary'!AD19+'Weekly Summary'!AD57+'Weekly Summary'!AD96+'Weekly Summary'!AD135+'Weekly Summary'!AD174 -> 1 | F18: ='Weekly Summary'!AE19+'Weekly Summary'!AE57+'Weekly Summary'!AE96+'Weekly Summary'!AE135+'Weekly Summary'!AE174 -> 5
A19: St Colmcille's Hospital, Loughlinstown, Dublin 18 | D19: ='Weekly Summary'!AC20+'Weekly Summary'!AC58+'Weekly Summary'!AC97+'Weekly Summary'!AC136+'Weekly Summary'!AC175 -> 7 | F19: ='Weekly Summary'!AE20+'Weekly Summary'!AE58+'Weekly Summary'!AE97+'Weekly Summary'!AE136+'Weekly Summary'!AE175 -> 3
A20: St Ita's Hospital, Portrane, Co Dublin | D20: ='Weekly Summary'!AC21+'Weekly Summary'!AC59+'Weekly Summary'!AC98+'Weekly Summary'!AC137+'Weekly Summary'!AC176 -> 10 | E20: ='Weekly Summary'!AD21+'Weekly Summary'!AD59+'Weekly Summary'!AD98+'Weekly Summary'!AD137+'Weekly Summary'!AD176 -> 2
A21: St Lukes Hospital, Highfield Road, Rathgar, Dublin 6 | D21: ='Weekly Summary'!AC22+'Weekly Summary'!AC60+'Weekly Summary'!AC99+'Weekly Summary'!AC138+'Weekly Summary'!AC177 -> 10
A22: Briarhill Business Park, Ballybrit, Galway | B22: ='Weekly Summary'!AA23+'Weekly Summary'!AA61+'Weekly Summary'!AA100+'Weekly Summary'!AA139+'Weekly Summary'!AA178 -> 2 | D22: ='Weekly Summary'!AC23+'Weekly Summary'!AC61+'Weekly Summary'!AC100+'Weekly Summary'!AC139+'Weekly Summary'!AC178 -> 3
A23: Merlin Park University Hospital, Dublin Road, Galway | B23: ='Weekly Summary'!AA24+'Weekly Summary'!AA62+'Weekly Summary'!AA101+'Weekly Summary'!AA140+'Weekly Summary'!AA179 -> 4 | D23: ='Weekly Summary'!AC24+'Weekly Summary'!AC62+'Weekly Summary'!AC101+'Weekly Summary'!AC140+'Weekly Summary'!AC179 -> 1
A24: Mayo PCCC, St Mary's Campus, Castlebar, Mayo | D24: ='Weekly Summary'!AC25+'Weekly Summary'!AC63+'Weekly Summary'!AC102+'Weekly Summary'!AC141+'Weekly Summary'!AC180 -> 5
A25: St Davnets Hospital , Monaghan | D25: ='Weekly Summary'!AC26+'Weekly Summary'!AC64+'Weekly Summary'!AC103+'Weekly Summary'!AC142+'Weekly Summary'!AC181 -> 9 | F25: ='Weekly Summary'!AE26+'Weekly Summary'!AE64+'Weekly Summary'!AE103+'Weekly Summary'!AE142+'Weekly Summary'!AE181 -> 1
A26: Naas General Hospital, Craddockstown Rd, Naas East, Co Kildare | D26: ='Weekly Summary'!AC27+'Weekly Summary'!AC65+'Weekly Summary'!AC104+'Weekly Summary'!AC143+'Weekly Summary'!AC182 -> 15 | E26: ='Weekly Summary'!AD27+'Weekly Summary'!AD65+'Weekly Summary'!AD104+'Weekly Summary'!AD143+'Weekly Summary'!AD182 -> 4 | G26: ='Weekly Summary'!AF27+'Weekly Summary'!AF65+'Weekly Summary'!AF104+'Weekly Summary'!AF143+'Weekly Summary'!AF182 -> 1
A27: Our Ladies Hospital Navan, Moat Hill, Navan, Co Meath | B27: ='Weekly Summary'!AA28+'Weekly Summary'!AA66+'Weekly Summary'!AA105+'Weekly Summary'!AA144+'Weekly Summary'!AA183 -> 1 | D27: ='Weekly Summary'!AC28+'Weekly Summary'!AC66+'Weekly Summary'!AC105+'Weekly Summary'!AC144+'Weekly Summary'!AC183 -> 4
A28: Clonmel | D28: ='Weekly Summary'!AC29+'Weekly Summary'!AC67+'Weekly Summary'!AC106+'Weekly Summary'!AC145+'Weekly Summary'!AC184 -> 12 | E28: ='Weekly Summary'!AD29+'Weekly Summary'!AD67+'Weekly Summary'!AD106+'Weekly Summary'!AD145+'Weekly Summary'!AD184 -> 5 | F28: ='Weekly Summary'!AE29+'Weekly Summary'!AE67+'Weekly Summary'!AE106+'Weekly Summary'!AE145+'Weekly Summary'!AE184 -> 4
A29: Temple Street, CHI, Dublin | F29: ='Weekly Summary'!AE30+'Weekly Summary'!AE68+'Weekly Summary'!AE107+'Weekly Summary'!AE146+'Weekly Summary'!AE185 -> 19
A30: Total | B30: =SUM(B3:B29) -> 178 | C30: =SUM(C3:C29) -> 47 | D30: =SUM(D3:D29) -> 235 | E30: =SUM(E3:E29) -> 37 | F30: =SUM(F3:F29) -> 37 | G30: =SUM(G3:G29) -> 3

Sheet Weekly Summary
A2: Week 1 | Z2: Weekly Summary | AA2: Artic | AC2: Rigid | AE2: Boxbody
A3: Monday 31st August | F3: Tuesday 1st September | K3: Wednesday 2nd September | P3: Thursday 3rd September | U3: Friday 4th September | AA3: Round | AB3: One Way | AC3: Round | AD3: One Way | AE3: Round | AF3: One Way
A4: Location | B4: Cage Count | C4: Truck type | D4: Trip Type | F4: Location | G4: Cage Count | H4: Truck type | I4: Trip Type | K4: Location | L4: Cage Count | M4: Truck type | N4: Trip Type | P4: Location | Q4: Cage Count | R4: Truck type | S4: Trip Type | U4: Location | V4: Cage Count | W4: Truck type | X4: Trip Type | Z4: Cork Business and Technology Park Model Farm Road Cork | AA4: 5 | AB4: 5 | AD4: 3
A5: Wexford | B5: 19 | C5: Rigid | D5: Round | F5: Wexford | G5: 52 | H5: Artic | I5: Round | K5: Wexford | L5: 29 | M5: Rigid | N5: Round | P5: Wexford | Q5: 39 | R5: Artic | S5: Round | U5: Wexford | V5: 22 | W5: Rigid | X5: Round | Z5: Blanchardstown, Connolly Hospital, Dublin 15 | AA5: 1 | AC5: 3 | AD5: 1
A6: Letterkenny | B6: 25 | C6: Rigid | D6: Round | F6: Letterkenny | G6: 40 | H6: Artic | I6: Round | K6: Letterkenny | L6: 22 | M6: Rigid | N6: Round | P6: Letterkenny | Q6: 27 | R6: Rigid | S6: Round | U6: Letterkenny | V6: 28 | W6: Rigid | X6: Round | Z6: Cherry Orchard Industrial Estate Dublin 10 | AA6: 2 | AC6: 3
A7: Kerry | B7: 52 | C7: Artic | D7: Round | F7: Cork L1 | G7: 52 | H7: Artic | I7: One Way | K7: Kerry L1 | L7: 51 | M7: Artic | N7: Round | P7: Kerry | Q7: 44 | R7: Artic | S7: Round | U7: Cork L1 | V7: 52 | W7: Artic | X7: Round | Z7: Galway University Hospital, Newcastle Road, Galway | AA7: 5 | AC7: 1
A8: Cork L1 | B8: 52 | C8: Artic | D8: One Way | F8: Cork L2 | G8: 52 | H8: Artic | I8: One Way | K8: Kerry L2 | L8: 52 | M8: Artic | N8: One Way | P8: Cork L1 | Q8: 52 | R8: Artic | S8: Round | U8: Cork L2 | V8: 52 | W8: Artic | X8: One Way | Z8: Clash Industrial Estate, Tralee, Co Kerry | AA8: 5 | AC8: 1
A9: Cork L2 | B9: 32 | C9: Artic | D9: Round | F9: Cork L3 | G9: 36 | H9: Artic | I9: Round | K9: Kerry L3 | L9: 8 | M9: Rigid | N9: One Way | P9: Cork L2 | Q9: 29 | R9: Rigid | S9: One Way | U9: Cork L3 | V9: 15 | W9: Rigid | X9: One Way | Z9: St Luke's Hospital, Freshford Road, Friarsynch, Kilkenny | AA9: 2 | AC9: 2
A10: Chery Orchard | B10: 25 | C10: Artic | D10: Round | F10: Cherry Orchard | G10: 14 | H10: Rigid | I10: Round | K10: Cork L1 | L10: 51 | M10: Artic | N10: Round | P10: Cherry Orchard | Q10: 25 | R10: Rigid | S10: Round | U10: Cherry Orchard | V10: 39 | W10: Artic | X10: Round | Z10: Our Lady of Lourdes Hospital, Windmill Road, Drogheda Co. Louth | AA10: 1 | AC10: 4
A11: Sligo | B11: 36 | C11: Artic | D11: Round | F11: Sligo | G11: 30 | H11: Rigid | I11: Round | K11: Cork L2 | L11: 52 | M11: Artic | N11: One Way | P11: Sligo | Q11: 52 | R11: Artic | S11: Round | U11: Sligo | V11: 38 | W11: Artic | X11: Round | Z11: Lisnennan Industrial Estate, Letterkenny, Donegal | AA11: 1 | AC11: 4
A12: Drogheda | B12: 23 | C12: Artic | D12: Round | F12: Drogheda | G12: 21 | H12: Rigid | I12: Round | K12: Cork L3 | L12: 19 | M12: Rigid | N12: One Way | P12: Drogheda | Q12: 21 | R12: Rigid | S12: Round | U12: Drogheda | V12: 24 | W12: Rigid | X12: Round | Z12: Ballycummin Avenue, Raheen Business Park, Limerick | AA12: 3 | AB12: 3 | AC12: 1 | AD12: 1
A13: Castlebar | B13: 20 | C13: Rigid | D13: Round | F13: Castlebar | G13: 20 | H13: Rigid | I13: Round | K13: Cherry Orchard | L13: 27 | M13: Rigid | N13: Round | P13: Castlebar | Q13: 18 | R13: Rigid | S13: Round | U13: Castlebar | V13: 18 | W13: Rigid | X13: Round | Z13: Mayo University Hopital, Westport Road, Mayo | AC13: 5
A14: Connolly | B14: 24 | C14: Rigid | D14: Round | F14: Monaghan | G14: 20 | H14: Rigid | I14: Round | K14: Sligo | L14: 31 | M14: Artic | N14: Round | P14: Kilkenny | Q14: 30 | R14: Artic | S14: Round | U14: Kilkenny | V14: 18 | W14: Artic | X14: Round | Z14: Finisklin Business Park, Sligo | AA14: 4 | AC14: 1
A15: Ballycoolin | B15: 5 | C15: Rigid | D15: Round | F15: Kilkenny | G15: 22 | H15: Rigid | I15: Round | K15: Drogheda | L15: 19 | M15: Rigid | N15: Round | P15: Galway | Q15: 51 | R15: Artic | S15: Round | U15: Galway | V15: 42 | W15: Artic | X15: Round | Z15: Ardcavan Business Park, Ardcavan, Wexford | AA15: 2 | AC15: 3
A16: Galway | B16: 41 | C16: Artic | D16: Round | F16: Galway | G16: 37 | H16: Artic | I16: Round | K16: Kilkenny | L16: 23 | M16: Rigid | N16: Round | P16: Crumlin | Q16: 26 | R16: Rigid | S16: Round | U16: Briar Hill | V16: 24 | W16: Rigid | X16: Round | Z16: Portiuncula Hospital, Ballinasloe, Co Galway | AC16: 1
A17: Navan | B17: 24 | C17: Rigid | D17: Round | F17: Crumlin | G17: 8 | H17: Box Body | I17: Round | K17: Galway L1 | L17: 52 | M17: Artic | N17: Round | P17: Monaghan | Q17: 19 | R17: Rigid | S17: Round | U17: Naas | V17: 11 | W17: Rigid | X17: Round | Z17: Ballycoolin, Dublin | AC17: 1 | AE17: 1
A18: Limerick L1 | B18: 51 | C18: Artic | D18: One Way | F18: Connolly | G18: 27 | H18: Artic | I18: Round | K18: Galway L2 | L18: 13 | M18: Rigid | N18: One Way | P18: Limerick L1 | Q18: 50 | R18: Artic | S18: Round | U18: St. Luke's | V18: 15 | W18: Rigid | X18: Round | Z18: Carlow | AC18: 3
A19: Limerick L2 | B19: 20 | C19: Rigid | D19: Round | F19: St. Luke's | G19: 10 | H19: Rigid | I19: Round | K19: Crumlin | L19: 13 | M19: Box Body | N19: Round | P19: Limerick L2 | Q19: 29 | R19: Rigid | S19: One Way | U19: Crumlin | V19: 23 | W19: Rigid | X19: Round | Z19: Our Lady's Childrens Hospital, Crumlin, Dublin | AC19: 2 | AE19: 3
A20: Crumlin | B20: 11 | C20: Box Body | D20: Round | F20: St. Columcille's | G20: 18 | H20: Rigid | I20: Round | K20: Naas | L20: 28 | M20: Rigid | N20: Round | P20: St Columcille's | Q20: 6 | R20: Box Body | S20: Round | U20: Connolly | V20: 21 | W20: Rigid | X20: Round | Z20: St Colmcille's Hospital, Loughlinstown, Dublin 18 | AC20: 1 | AE20: 1
A21: Temple St. | B21: 8 | C21: Box Body | D21: Round | F21: Temple St. | G21: 7 | H21: Box Body | I21: Round | K21: Limerick L1 | L21: 51 | M21: Artic | N21: One Way | P21: Clonmel | Q21: 22 | R21: Rigid | S21: Round | U21: Limerick L1 | V21: 52 | W21: Artic | X21: Round | Z21: St Ita's Hospital, Portrane, Co Dublin | AC21: 2 | AD21: 1
A22: Carlow | B22: 22 | C22: Rigid | D22: Round | F22: Limerick L1 | G22: 51 | H22: Artic | I22: One Way | K22: Limerick L2 | L22: 50 | M22: Artic | N22: Round | P22: Ballycoolin | Q22: 2 | R22: Box Body | S22: Round | U22: Temple St. | V22: 9 | W22: Box Body | X22: Round | Z22: St Lukes Hospital, Highfield Road, Rathgar, Dublin 6 | AC22: 2
A23: St. Ita's L1 | B23: 19 | C23: Rigid | D23: One Way | F23: Limerick L2 | G23: 29 | H23: Rigid | I23: Round | K23: Connolly L1 | L23: 32 | M23: Rigid | N23: One Way | P23: Mayo PCCC | Q23: 4 | R23: Rigid | S23: Round | U23: Clonmel | V23: 11 | W23: Box Body | X23: Round | Z23: Briarhill Business Park, Ballybrit, Galway | AC23: 1
A24: St. Ita's L2 | B24: 14 | C24: Rigid | D24: Round | F24: Carlow | G24: 11 | H24: Rigid | I24: Round | K24: Connolly L2 | L24: 2 | M24: Rigid | N24: Round | P24: Carlow | Q24: 8 | R24: Rigid | S24: Round | U24: Total Journeys 19 | V24: 514 | Z24: Merlin Park University Hospital, Dublin Road, Galway | AC24: 1
A25: Total Journeys 20 | B25: 523 | F25: Ballinasloe | G25: 21 | H25: Rigid | I25: Round | K25: St. Ita's | L25: 10 | M25: Rigid | N25: Round | P25: Total Journeys 20 | Q25: 554 | Z25: Mayo PCCC, St Mary's Campus, Castlebar, Mayo | AC25: 1
F26: Naas | G26: 29 | H26: Rigid | I26: Round | K26: Clonmel L1 | L26: 29 | M26: Rigid | N26: One Way | Z26: St Davnets Hospital , Monaghan | AC26: 2
F27: Total Journeys 22 | G27: 607 | K27: Clonmel L2 | L27: 29 | M27: Rigid | N27: Round | Z27: Naas General Hospital, Craddockstown Rd, Naas East, Co Kildare | AC27: 3
K28: Temple St. | L28: 7 | M28: Box Body | N28: Round | Z28: Our Ladies Hospital Navan, Moat Hill, Navan, Co Meath | AC28: 1
K29: Castlebar | L29: 14 | M29: Rigid | N29: Round | Z29: Clonmel | AC29: 2 | AD29: 1 | AE29: 1
K30: Merlin Park | L30: 44 | M30: Artic | N30: Round | Z30: Temple Street, CHI, Dublin | AE30: 4
K31: Total Journeys 26 | L31: 758 | Z31: Total | AA31: =SUM(AA4:AA30) -> 31 | AB31: =SUM(AB4:AB30) -> 8 | AC31: =SUM(AC4:AC30) -> 51 | AD31: =SUM(AD4:AD30) -> 7 | AE31: =SUM(AE4:AE30) -> 10 | AF31: =SUM(AF4:AF30) -> 0
B33: Round Trip | C33: One Way Trip | G33: Round Trip | H33: One Way Trip | L33: Round Trip | M33: One Way Trip | Q33: Round Trip | R33: One Way Trip | V33: Round Trip | W33: One Way Trip
A34: Rigid | B34: 9 | C34: 1 | F34: Rigid | G34: 12 | H34: 0 | K34: Rigid | L34: 10 | M34: 5 | P34: Rigid | Q34: 9 | R34: 2 | U34: Rigid | V34: 9 | W34: 1
A35: Artic | B35: 6 | C35: 2 | F35: Artic | G35: 5 | H35: 3 | K35: Artic | L35: 6 | M35: 3 | P35: Artic | Q35: 7 | R35: 0 | U35: Artic | V35: 6 | W35: 1
A36: Box Body | B36: 2 | C36: 0 | F36: Box Body | G36: 2 | H36: 0 | K36: Box Body | L36: 2 | M36: 0 | P36: Box Body | Q36: 2 | R36: 0 | U36: Box Body | V36: 2 | W36: 0
A37: Total | B37: 17 | C37: 3 | F37: Total | G37: 19 | H37: 3 | K37: Total | L37: 18 | M37: 8 | P37: Total | Q37: 18 | R37: 2 | U37: Total | V37: 17 | W37: 2
A40: Week 2 | Z40: Weekly Summary | AA40: Artic | AC40: Rigid | AE40: Boxbody
A41: Monday 7th September | F41: Tuesday 8th September | K41: Wednesday 9th September | P41: Thursday 10th September | U41: Friday 11th September | AA41: Round | AB41: One Way | AC41: Round | AD41: One Way | AE41: Round | AF41: One Way
A42: Location | B42: Cage Count | C42: Truck type | D42: Trip Type | F42: Location | G42: Cage Count | H42: Truck type | I42: Trip Type | K42: Location | L42: Cage Count | M42: Truck type | N42: Trip Type | P42: Location | Q42: Cage Count | R42: Truck type | S42: Trip Type | U42: Location | V42: Cage Count | W42: Truck type | X42: Trip Type | Z42: Cork Business and Technology Park Model Farm Road Cork | AA42: 5 | AB42: 5 | AD42: 3
A43: Wexford | B43: 16 | C43: Artic | D43: Round | F43: Wexford | G43: 26 | H43: Rigid | I43: Round | K43: Wexford | L43: 29 | M43: Rigid | N43: Round | P43: Wexford | Q43: 33 | R43: Artic | S43: Round | U43: Wexford | V43: 26 | W43: Artic | X43: Round | Z43: Blanchardstown, Connolly Hospital, Dublin 15 | AA43: 2 | AC43: 2
A44: Letterkenny | B44: 42 | C44: Artic | D44: Round | F44: Letterkenny | G44: 46 | H44: Artic | I44: Round | K44: Letterkenny | L44: 26 | M44: Rigid | N44: Round | P44: Letterkenny | Q44: 38 | R44: Artic | S44: Round | U44: Letterkenny | V44: 38 | W44: Artic | X44: Round | Z44: Cherry Orchard Industrial Estate Dublin 10 | AA44: 3 | AC44: 2
A45: Kerry L1 | B45: 50 | C45: Artic | D45: Round | F45: Cork L1 | G45: 52 | H45: Artic | I45: Round | K45: Kerry L1 | L45: 50 | M45: Artic | N45: Round | P45: Kerry | Q45: 27 | R45: Rigid | S45: Round | U45: Cork L1 | V45: 52 | W45: Artic | X45: Round | Z45: Galway University Hospital, Newcastle Road, Galway | AA45: 5 | AD45: 1
A46: Kerry L2 | B46: 15 | C46: Rigid | D46: One Way | F46: Cork L2 | G46: 52 | H46: Artic | I46: One Way | K46: Kerry L2 | L46: 23 | M46: Artic | N46: One Way | P46: Cork L1 | Q46: 52 | R46: Artic | S46: Round | U46: Cork L2 | V46: 52 | W46: Artic | X46: One Way | Z46: Clash Industrial Estate, Tralee, Co Kerry | AA46: 2 | AB46: 1 | AC46: 1 | AD46: 1
A47: Cork L1 | B47: 52 | C47: Artic | D47: Round | F47: Cork L3 | G47: 23 | H47: Rigid | I47: One Way | K47: Kerry L3 | L47: N/A | M47: N/A | N47: N/A | P47: Cork L2 | Q47: 20 | R47: Artic | S47: One Way | U47: Cork L3 | V47: 21 | W47: Rigid | X47: One Way | Z47: St Luke's Hospital, Freshford Road, Friarsynch, Kilkenny | AA47: 2 | AC47: 2
A48: Cork L2 | B48: 37 | C48: Artic | D48: One Way | F48: Cherry Orchard | G48: 24 | H48: Artic | I48: Round | K48: Cork L1 | L48: 52 | M48: Artic | N48: Round | P48: Cherry Orchard | Q48: 46 | R48: Artic | S48: Round | U48: Cherry Orchard | V48: 41 | W48: Artic | X48: Round | Z48: Our Lady of Lourdes Hospital, Windmill Road, Drogheda Co. Louth | AA48: 3 | AC48: 2
A49: Chery Orchard | B49: 24 | C49: Rigid | D49: Round | F49: Sligo | G49: 24 | H49: Rigid | I49: Round | K49: Cork L2 | L49: 52 | M49: Artic | N49: One Way | P49: Sligo | Q49: 52 | R49: Artic | S49: Round | U49: Sligo | V49: 31 | W49: Rigid | X49: Round | Z49: Lisnennan Industrial Estate, Letterkenny, Donegal | AA49: 4 | AC49: 1
A50: Sligo | B50: 21 | C50: Rigid | D50: Round | F50: Drogheda | G50: 22 | H50: Rigid | I50: Round | K50: Cork L3 | L50: 20 | M50: Rigid | N50: One Way | P50: Drogheda | Q50: 19 | R50: Rigid | S50: Round | U50: Drogheda | V50: 37 | W50: Artic | X50: Round | Z50: Ballycummin Avenue, Raheen Business Park, Limerick | AA50: 5 | AB50: 3 | AD50: 1
A51: Drogheda | B51: 42 | C51: Artic | D51: Round | F51: Castlebar | G51: 14 | H51: Rigid | I51: Round | K51: Cherry Orchard | L51: 29 | M51: Rigid | N51: Round | P51: Castlebar | Q51: 20 | R51: Artic | S51: Round | U51: Castlebar | V51: 14 | W51: Rigid | X51: Round | Z51: Mayo University Hopital, Westport Road, Mayo | AA51: 1 | AC51: 4
A52: Castlebar | B52: 24 | C52: Rigid | D52: Round | F52: Monaghan | G52: 16 | H52: Rigid | I52: Round | K52: Sligo | L52: 29 | M52: Rigid | N52: Round | P52: Kilkenny | Q52: 29 | R52: Artic | S52: Round | U52: Kilkenny | V52: 20 | W52: Artic | X52: Round | Z52: Finisklin Business Park, Sligo | AA52: 1 | AC52: 4
A53: Connolly | B53: 18 | C53: Rigid | D53: Round | F53: Kilkenny | G53: 21 | H53: Rigid | I53: Round | K53: Drogheda | L53: 14 | M53: Artic | N53: Round | P53: Galway | Q53: 46 | R53: Artic | S53: Round | U53: Galway | V53: 46 | W53: Artic | X53: Round | Z53: Ardcavan Business Park, Ardcavan, Wexford | AA53: 3 | AC53: 2
A54: Ballycoolin | B54: 4 | C54: Rigid | D54: Round | F54: Galway | G54: 39 | H54: Artic | I54: Round | K54: Kilkenny | L54: 29 | M54: Rigid | N54: Round | P54: Crumlin | Q54: 26 | R54: Rigid | S54: Round | U54: Briar Hill | V54: 24 | W54: Rigid | X54: Round | Z54: Portiuncula Hospital, Ballinasloe, Co Galway | AA54: 1
A55: Galway | B55: 49 | C55: Artic | D55: Round | F55: Crumlin | G55: 14 | H55: Rigid | I55: Round | K55: Galway L1 | L55: 52 | M55: Artic | N55: Round | P55: Monaghan | Q55: 7 | R55: Rigid | S55: Round | U55: Naas | V55: 17 | W55: Rigid | X55: Round | Z55: Ballycoolin, Dublin | AC55: 1 | AE55: 1
A56: Navan | B56: 30 | C56: Rigid | D56: Round | F56: Connolly | G56: 26 | H56: Artic | I56: Round | K56: Galway L2 | L56: 10 | M56: Rigid | N56: One Way | P56: Limerick L1 | Q56: 51 | R56: Artic | S56: Round | U56: St. Luke's | V56: 19 | W56: Rigid | X56: Round | Z56: Carlow | AC56: 2 | AE56: 1
A57: Limerick L1 | B57: 50 | C57: Artic | D57: Round | F57: St. Luke's | G57: 12 | H57: Rigid | I57: Round | K57: Crumlin | L57: 10 | M57: Rigid | N57: Round | P57: Limerick L2 | Q57: 17 | R57: Rigid | S57: One Way | U57: Crumlin | V57: 24 | W57: Rigid | X57: Round | Z57: Our Lady's Childrens Hospital, Crumlin, Dublin | AC57: 5
A58: Limerick L2 | B58: 29 | C58: Artic | D58: One Way | F58: St. Columcille's | G58: 15 | H58: Rigid | I58: Round | K58: Naas L1 | L58: 27 | M58: Rigid | N58: Round | P58: St Columcille's | Q58: 6 | R58: Box Body | S58: Round | U58: Connolly | V58: 11 | W58: Rigid | X58: Round | Z58: St Colmcille's Hospital, Loughlinstown, Dublin 18 | AC58: 1 | AE58: 1
A59: Crumlin | B59: 20 | C59: Rigid | D59: Round | F59: Temple St. | G59: 7 | H59: Box Body | I59: Round | K59: Naas L2 | L59: 11 | M59: Rigid | N59: One Way | P59: Clonmel | Q59: 29 | R59: Rigid | S59: Round | U59: Limerick L1 | V59: 43 | W59: Artic | X59: Round | Z59: St Ita's Hospital, Portrane, Co Dublin | AC59: 2
A60: Temple St. | B60: 6 | C60: Box Body | D60: Round | F60: Limerick L1 | G60: 51 | H60: Artic | I60: Round | K60: Limerick L1 | L60: 51 | M60: Artic | N60: Round | P60: Ballycoolin | Q60: 3 | R60: Box Body | S60: Round | U60: Temple St. | V60: 11 | W60: Box Body | X60: Round | Z60: St Lukes Hospital, Highfield Road, Rathgar, Dublin 6 | AC60: 2
A61: Carlow | B61: 13 | C61: Box Body | D61: Round | F61: Limerick L2 | G61: 46 | H61: Artic | I61: One Way | K61: Limerick L2 | L61: 22 | M61: Artic | N61: One Way | P61: Mayo PCCC | Q61: 18 | R61: Rigid | S61: Round | U61: Clonmel | V61: 11 | W61: Rigid | X61: Round | Z61: Briarhill Business Park, Ballybrit, Galway | AC61: 1
A62: St. Ita's | B62: 26 | C62: Rigid | D62: Round | F62: Carlow | G62: 19 | H62: Rigid | I62: Round | K62: Connolly L1 | L62: 35 | M62: Artic | N62: Round | P62: Carlow | Q62: 7 | R62: Rigid | S62: Round | U62: Total Journeys 19 | V62: 538 | Z62: Merlin Park University Hospital, Dublin Road, Galway | AA62: 1
A63: Total Journeys 20 | B63: 568 | F63: Ballinasloe | G63: 17 | H63: Artic | I63: Round | K63: Connolly L2 | L63: N/A | M63: N/A | N63: N/A | P63: Total Journeys 20 | Q63: 546 | Z63: Mayo PCCC, St Mary's Campus, Castlebar, Mayo | AC63: 1
F64: Naas L1 | G64: 32 | H64: Rigid | I64: Round | K64: St. Ita's | L64: 8 | M64: Rigid | N64: Round | Z64: St Davnets Hospital , Monaghan | AC64: 2
F65: Naas L2 | G65: 5 | H65: Box Body | I65: One Way | K65: Clonmel L1 | L65: 32 | M65: Rigid | N65: Round | Z65: Naas General Hospital, Craddockstown Rd, Naas East, Co Kildare | AC65: 3 | AD65: 1 | AF65: 1
F66: Total Journeys 23 | G66: 603 | K66: Clonmel L2 | L66: 25 | M66: Rigid | N66: One Way | Z66: Our Ladies Hospital Navan, Moat Hill, Navan, Co Meath | AC66: 1
K67: Temple St. | L67: 12 | M67: Box Body | N67: Round | Z67: Clonmel | AC67: 3 | AD67: 1
K68: Castlebar | L68: 18 | M68: Rigid | N68: Round | Z68: Temple Street, CHI, Dublin | AC68: 0 | AE68: 4
K69: Merlin Park | L69: 45 | M69: Artic | N69: Round | Z69: Total | AA69: =SUM(AA42:AA68) -> 38 | AB69: =SUM(AB42:AB68) -> 9 | AC69: =SUM(AC42:AC68) -> 44 | AD69: =SUM(AD42:AD68) -> 8 | AE69: =SUM(AE42:AE68) -> 7 | AF69: =SUM(AF42:AF68) -> 1
K70: Total Journeys 25 | L70: 711
B72: Round Trip | C72: One Way Trip | G72: Round Trip | H72: One Way Trip | L72: Round Trip | M72: One Way Trip | Q72: Round Trip | R72: One Way Trip | V72: Round Trip | W72: One Way Trip
A73: Rigid | B73: 8 | C73: 1 | F73: Rigid | G73: 11 | H73: 1 | K73: Rigid | L73: 10 | M73: 4 | P73: Rigid | Q73: 7 | R73: 1 | U73: Rigid | V73: 8 | W73: 1
A74: Artic | B74: 7 | C74: 2 | F74: Artic | G74: 7 | H74: 2 | K74: Artic | L74: 7 | M74: 3 | P74: Artic | Q74: 9 | R74: 1 | U74: Artic | V74: 8 | W74: 1
A75: Box Body | B75: 2 | C75: 0 | F75: Box Body | G75: 2 | H75: 0 | K75: Box Body | L75: 1 | M75: 0 | P75: Box Body | Q75: 2 | R75: 0 | U75: Box Body | V75: 1 | W75: 0
A76: Total | B76: 18 | C76: 3 | F76: Total | G76: 20 | H76: 3 | K76: Total | L76: 18 | M76: 7 | P76: Total | Q76: 18 | R76: 2 | U76: Total | V76: 17 | W76: 2
A79: Week 3 | Z79: Weekly Summary | AA79: Artic | AC79: Rigid | AE79: Boxbody
A80: Monday 14th September | F80: Tuesday 15th September | K80: Wednesday 16th September | P80: Thursday 17th September | U80: Friday 18th September | AA80: Round | AB80: One Way | AC80: Round | AD80: One Way | AE80: Round | AF80: One Way
A81: Location | B81: Cage Count | C81: Truck type | D81: Trip Type | F81: Location | G81: Cage Count | H81: Truck type | I81: Trip Type | K81: Location | L81: Cage Count | M81: Truck type | N81: Trip Type | P81: Location | Q81: Cage Count | R81: Truck type | S81: Trip Type | U81: Location | V81: Cage Count | W81: Truck type | X81: Trip Type | Z81: Cork Business and Technology Park Model Farm Road Cork | AA81: 5 | AB81: 4 | AD81: 4
A82: Wexford | B82: 20 | C82: Rigid | D82: Round | F82: Wexford | G82: 44 | H82: Artic | I82: Round | K82: Wexford | L82: 30 | M82: Artic | N82: Round | P82: Wexford | Q82: 27 | R82: Rigid | S82: Round | U82: Wexford | V82: 22 | W82: Rigid | X82: Round | Z82: Blanchardstown, Connolly Hospital, Dublin 15 | AA82: 2 | AC82: 2
A83: Letterkenny | B83: 37 | C83: Artic | D83: Round | F83: Letterkenny | G83: 37 | H83: Artic | I83: Round | K83: Letterkenny | L83: 30 | M83: Rigid | N83: Round | P83: Letterkenny | Q83: 18 | R83: Rigid | S83: Round | U83: Letterkenny | V83: 39 | W83: Artic | X83: Round | Z83: Cherry Orchard Industrial Estate Dublin 10 | AA83: 4 | AC83: 1
A84: Kerry L1 | B84: 44 | C84: Artic | D84: Round | F84: Cork L1 | G84: 52 | H84: Artic | I84: Round | K84: Kerry L1 | L84: 52 | M84: Artic | N84: Round | P84: Kerry | Q84: 32 | R84: Artic | S84: Round | U84: Cork L1 | V84: 52 | W84: Artic | X84: Round | Z84: Galway University Hospital, Newcastle Road, Galway | AA84: 5 | AB84: 1
A85: Kerry L2 | B85: 20 | C85: Rigid | D85: One Way | F85: Cork L2 | G85: 52 | H85: Artic | I85: One Way | K85: Kerry L2 | L85: 37 | M85: Artic | N85: One Way | P85: Cork L1 | Q85: 52 | R85: Artic | S85: Round | U85: Cork L2 | V85: 52 | W85: Artic | X85: One Way | Z85: Clash Industrial Estate, Tralee, Co Kerry | AA85: 3 | AB85: 1 | AD85: 1
A86: Cork L1 | B86: 52 | C86: Artic | D86: Round | F86: Cork L3 | G86: 32 | H86: Rigid | I86: One Way | K86: Kerry L3 | L86: N/A | M86: N/A | N86: N/A | P86: Cork L2 | Q86: 22 | R86: Artic | S86: One Way | U86: Cork L3 | V86: 16 | W86: Rigid | X86: One Way | Z86: St Luke's Hospital, Freshford Road, Friarsynch, Kilkenny | AA86: 1 | AC86: 3
A87: Cork L2 | B87: 29 | C87: Rigid | D87: One Way | F87: Cherry Orchard | G87: 23 | H87: Artic | I87: Round | K87: Cork L1 | L87: 52 | M87: Artic | N87: Round | P87: Cherry Orchard | Q87: 25 | R87: Artic | S87: Round | U87: Cherry Orchard | V87: 49 | W87: Artic | X87: Round | Z87: Our Lady of Lourdes Hospital, Windmill Road, Drogheda Co. Louth | AA87: 4 | AC87: 1
A88: Chery Orchard | B88: 42 | C88: Artic | D88: Round | F88: Sligo | G88: 28 | H88: Rigid | I88: Round | K88: Cork L2 | L88: 52 | M88: Artic | N88: One Way | P88: Sligo | Q88: 49 | R88: Artic | S88: Round | U88: Sligo | V88: 25 | W88: Rigid | X88: Round | Z88: Lisnennan Industrial Estate, Letterkenny, Donegal | AA88: 3 | AC88: 2
A89: Sligo | B89: 38 | C89: Artic | D89: Round | F89: Drogheda | G89: 23 | H89: Artic | I89: Round | K89: Cork L3 | L89: 5 | M89: Rigid | N89: One Way | P89: Drogheda | Q89: 31 | R89: Artic | S89: Round | U89: Drogheda | V89: 27 | W89: Artic | X89: Round | Z89: Ballycummin Avenue, Raheen Business Park, Limerick | AA89: 5 | AB89: 1 | AC89: 1 | AD89: 2
A90: Drogheda | B90: 37 | C90: Artic | D90: Round | F90: Castlebar | G90: 29 | H90: Rigid | I90: Round | K90: Cherry Orchard | L90: 23 | M90: Rigid | N90: Round | P90: Castlebar | Q90: 16 | R90: Rigid | S90: Round | U90: Castlebar | V90: 17 | W90: Rigid | X90: Round | Z90: Mayo University Hopital, Westport Road, Mayo | AC90: 5
A91: Castlebar | B91: 27 | C91: Rigid | D91: Round | F91: Monaghan | G91: 24 | H91: Rigid | I91: Round | K91: Sligo | L91: 27 | M91: Rigid | N91: Round | P91: Kilkenny | Q91: 29 | R91: Rigid | S91: Round | U91: Kilkenny | V91: 23 | W91: Rigid | X91: Round | Z91: Finisklin Business Park, Sligo | AA91: 2 | AC91: 3
A92: Connolly | B92: 17 | C92: Artic | D92: Round | F92: Kilkenny | G92: 20 | H92: Rigid | I92: Round | K92: Drogheda | L92: 5 | M92: Rigid | N92: Round | P92: Galway | Q92: 51 | R92: Artic | S92: Round | U92: Galway L1 | V92: 41 | W92: Artic | X92: Round | Z92: Ardcavan Business Park, Ardcavan, Wexford | AA92: 2 | AC92: 3
A93: Ballycoolin | B93: 4 | C93: Artic | D93: Round | F93: Galway | G93: 34 | H93: Artic | I93: Round | K93: Kilkenny | L93: 22 | M93: Artic | N93: Round | P93: Crumlin | Q93: 14 | R93: Rigid | S93: Round | U93: Galway L2 | V93: 20 | W93: Artic | X93: One Way | Z93: Portiuncula Hospital, Ballinasloe, Co Galway | AA93: 1
A94: Galway | B94: 44 | C94: Artic | D94: Round | F94: Crumlin | G94: 13 | H94: Rigid | I94: Round | K94: Galway L1 | L94: 52 | M94: Artic | N94: Round | P94: Monaghan | Q94: 13 | R94: Box Body | S94: Round | U94: Briar Hill | V94: 26 | W94: Artic | X94: Round | Z94: Ballycoolin, Dublin | AA94: 2
A95: Navan | B95: 32 | C95: Rigid | D95: Round | F95: Connolly | G95: 22 | H95: Rigid | I95: Round | K95: Galway L2 | L95: N/A | M95: N/A | N95: N/A | P95: Limerick L1 | Q95: 41 | R95: Artic | S95: Round | U95: Naas | V95: 13 | W95: Rigid | X95: Round | Z95: Carlow | AC95: 3
A96: Limerick L1 | B96: 51 | C96: Artic | D96: Round | F96: St. Luke's | G96: 10 | H96: Rigid | I96: Round | K96: Crumlin | L96: 11 | M96: Rigid | N96: Round | P96: Limerick L2 | Q96: 26 | R96: Rigid | S96: One Way | U96: St. Luke's | V96: 14 | W96: Rigid | X96: Round | Z96: Our Lady's Childrens Hospital, Crumlin, Dublin | AC96: 5
A97: Limerick L2 | B97: 24 | C97: Rigid | D97: One Way | F97: St. Columcille's | G97: 20 | H97: Rigid | I97: Round | K97: Naas L1 | L97: 21 | M97: Rigid | N97: Round | P97: St Columcille's | Q97: 20 | R97: Rigid | S97: Round | U97: Crumlin | V97: 31 | W97: Rigid | X97: Round | Z97: St Colmcille's Hospital, Loughlinstown, Dublin 18 | AC97: 2
A98: Crumlin | B98: 14 | C98: Rigid | D98: Round | F98: Temple St. | G98: 7 | H98: Box Body | I98: Round | K98: Naas L2 | L98: 10 | M98: Rigid | N98: One Way | P98: Clonmel L1 | Q98: 20 | R98: Rigid | S98: Round | U98: Connolly | V98: 18 | W98: Artic | X98: Round | Z98: St Ita's Hospital, Portrane, Co Dublin | AC98: 2 | AD98: 1
A99: Temple St. | B99: 4 | C99: Box Body | D99: Round | F99: Limerick L1 | G99: 49 | H99: Artic | I99: Round | K99: Limerick L1 | L99: 51 | M99: Artic | N99: Round | P99: Clonmel L2 | Q99: 17 | R99: Rigid | S99: One Way | U99: Limerick L1 | V99: 52 | W99: Artic | X99: Round | Z99: St Lukes Hospital, Highfield Road, Rathgar, Dublin 6 | AC99: 2
A100: Carlow | B100: 24 | C100: Rigid | D100: Round | F100: Limerick L2 | G100: 20 | H100: Rigid | I100: One Way | K100: Limerick L2 | L100: 37 | M100: Artic | N100: One Way | P100: Ballycoolin | Q100: 3 | R100: Artic | S100: Round | U100: Temple St. | V100: 11 | W100: Box Body | X100: Round | Z100: Briarhill Business Park, Ballybrit, Galway | AA100: 1
A101: St. Ita's L1 | B101: 25 | C101: Rigid | D101: Round | F101: Carlow | G101: 7 | H101: Rigid | I101: Round | K101: Connolly L1 | L101: 29 | M101: Rigid | N101: Round | P101: Mayo PCCC | Q101: 20 | R101: Rigid | S101: Round | U101: Clonmel | V101: 9 | W101: Box Body | X101: Round | Z101: Merlin Park University Hospital, Dublin Road, Galway | AA101: 1
A102: St. Ita's L2 | B102: 21 | C102: Rigid | D102: One Way | F102: Ballinasloe | G102: 19 | H102: Artic | I102: Round | K102: Connolly L2 | L102: N/A | M102: N/A | N102: N/A | P102: Carlow | Q102: 5 | R102: Rigid | S102: Round | U102: Total Journeys 20 | V102: 557 | Z102: Mayo PCCC, St Mary's Campus, Castlebar, Mayo | AC102: 1
A103: Total Journeys 21 | B103: 606 | F103: Naas L1 | G103: 32 | H103: Rigid | I103: Round | K103: St. Ita's | L103: 8 | M103: Rigid | N103: Round | P103: Total Journeys 21 | Q103: 531 | Z103: St Davnets Hospital , Monaghan | AC103: 1 | AE103: 1
F104: Naas L2 | G104: N/A | H104: N/A | I104: N/A | K104: Clonmel L1 | L104: 32 | M104: Rigid | N104: Round | Z104: Naas General Hospital, Craddockstown Rd, Naas East, Co Kildare | AC104: 3 | AD104: 1
F105: Total Journeys 22 | G105: 597 | K105: Clonmel L2 | L105: 29 | M105: Rigid | N105: One Way | Z105: Our Ladies Hospital Navan, Moat Hill, Navan, Co Meath | AA105: 1
K106: Temple St. | L106: 10 | M106: Box Body | N106: Round | Z106: Clonmel | AC106: 3 | AD106: 1 | AE106: 1
K107: Castlebar | L107: 19 | M107: Rigid | N107: Round | Z107: Temple Street, CHI, Dublin | AE107: 4
...
