Workbook

Sheet Lot 1 PE Lab
A1: De La Salle College, Waterford 64950O
A3: Tendering Company's Name:
A4: Date:
A5: Department of Education Skills Code | B5: Description of the Item | C5: Tenderers Reference for Alternative | D5: Manufacturer | E5: No. of Years of Warranty | F5: Required Quantity | G5: Unit Cost € Exc. VAT | H5: Total Cost € Exc. VAT | I5: Total Cost € Incl. VAT
A6: PE LAB
A7: PE/LAB/101 | B7: Adjustable weight benches. Incline/ Decline Bench has ten possible angles from -10° to + 85°, with an auto adjusting seat and handles and wheels for portability. Height 460mm, Length 1520mm, Depth 695mm. Weight 40kg. | F7: 3 | G7: 0 | H7: =G7*F7 -> 0 | I7: =H7+H7*0.23 -> 0
A8: PE/LAB/102 | B8: Horizontal rubber dumbbell set (in 2.5kg increments from 2.5kg-25kg with Rubber cover, Chrome handles) with a storage rack (space for 10 pairs of dumbbells with individual cradles. Offset angle prevents strain when removing and replacing dumbbells. Dimensions: 244 x 66 x 73cm) | F8: 1 | G8: 0 | H8: =G8*F8 -> 0 | I8: =H8+H8*0.23 -> 0
A9: PE/LAB/103 | B9: Indoor spin bikes (EN957-10 European Standard for accuracy and safety. Integrated Technology and ability to transmit to multiple Bluetooth® devices at once; transmitting activity data to a device and the ability to send the information to the class projection system and any other Bluetooth® device required). | F9: 3 | G9: 0 | H9: =G9*F9 -> 0 | I9: =H9+H9*0.23 -> 0
A10: PE/LAB/104 | B10: Linear Concept 2 rowing machines (Nickel-plated steel chain Chain/Cord Housing, Partially enclosed Monitor PM5, Takes two D cell batteries. The monitor draws power from the spinning flywheel to extend battery life. Tested at 500 lb (227 kg). Testing Standard EN 20957-7. Aluminium front legs, steel rear legs. Monitor Arm is ABS plastic. Pivots for storage and to adjust monitor height. Monitor angle can also be adjusted, Bluetooth connectivity). | F10: 3 | G10: 0 | H10: =G10*F10 -> 0 | I10: =H10+H10*0.23 -> 0
A11: PE/LAB/105 | B11: Olympic weight tree and a full set of Olympic weights. | F11: 1 | G11: 0 | H11: =G11*F11 -> 0 | I11: =H11+H11*0.23 -> 0
A12: PE/LAB/106 | B12: Semi recumbent bike (magnetic resistance technology, smooth, quiet, stair climbing motion from a comfortable recumbent position, a fully adjustable seat that swivels and a very low (3”/76mm) step through height between the seat and pedals, a foot plate to supports the angular position of the foot through the full pedalling stroke, an upper body resistance system for a low impact full body workout and to include foot and leg stabilizers and wrist straps). | F12: 1 | G12: 0 | H12: =G12*F12 -> 0 | I12: =H12+H12*0.23 -> 0
A13: PE/LAB/107 | B13: Treadmills (console display, Bluetooth/wifi connectivity, Activity Zone Control featuring quick keys for Cool Down, Start, Stop and Fan Speed plus Fingertip controls for speed and incline, Speed Range from 0.8-25Km/h (0.5 – 15 mph), Incline Range from 0-15%, impact absorption system provides the ultimate cushioned running feel for all users, a wide running surface of 22ʺ and a low profile step height of 8.5ʺ, operation noise as low as 73db, a rust-resistant undercoat and a reversible deck. This allows for a greater life span and a PVC anti-slip side stripe also provides further safety and security. The maximum user weight is 180kg). | F13: 3 | G13: 0 | H13: =G13*F13 -> 0 | I13: =H13+H13*0.23 -> 0
A14: PE/LAB/108 | B14: Upright Medicine Ball Rack (10 Ball Rack measures: Height: 1600mm x Length 560mm x Depth 480mm). Black powder coated. | F14: 1 | G14: 0 | H14: =G14*F14 -> 0 | I14: =H14+H14*0.23 -> 0
A15: PE/LAB/109 1 set = 1kg x 2, 2kg x 2, 3kg x 2, 4kg x2, 5kg x2 | B15: 10 medicine balls, (1kg x 2, 2kg x 2, 3kg x 2, 4kg x2, 5kg x2). | F15: 1 | G15: 0 | H15: =G15*F15 -> 0 | I15: =H15+H15*0.23 -> 0
A16: PE/LAB/111 | B16: One large robust, wall mounted rig with four Olympic weight lifting stations and associated Olympic weight lifting platforms. | F16: 1 | G16: 0 | H16: =G16*F16 -> 0 | I16: =H16+H16*0.23 -> 0
A17: PE/LAB/112 | B17: Two wall mounted mat racks. | F17: 2 | G17: 0 | H17: =G17*F17 -> 0 | I17: =H17+H17*0.23 -> 0
A18: PE/LAB/113 | B18: Show-me boards, A3 size, gridded, with dry-wipe pens and eraser. | F18: 30 | G18: 0 | H18: =G18*F18 -> 0 | I18: =H18+H18*0.23 -> 0
... A38: PE/LAB/133 | B38: Heart rate monitors (polar FT1 Heart Rate Watch with Chest Strap, Shows heart rate on large and easy-to-read display, manual heart rate target zone, displays a summary of your latest workout, one-button start and coded heart rate transmission, Shows heart rate on large and easy-to-read display and includes watch features. | F38: 15 | G38: 0 | H38: =G38*F38 -> 0 | I38: =H38+H38*0.23 -> 0
A39: TOTAL OVERALL COST = | H39: =SUM(H7:H38) -> 0 | I39: =SUM(I7:I38) -> 0

Sheet Lot 2 PE Hall
A1: De La Salle College, Waterford 64950O
A3: Tendering Company's Name:
A4: Date:
A5: Department of Education Skills Code | B5: Description of the Item | C5: Tenderers Reference for Alternative | D5: Manufacturer | E5: No. of Years of Warranty | F5: Required Quantity | G5: Unit Cost € Exc. VAT | H5: Total Cost € Exc. VAT | I5: Total Cost € Incl. VAT
A6: PE HALL
A7: PE/HALL/201 | B7: Light weight Flame Retardant Gymnastic Mats.1830 mm x 1220 mm x 32 mm to comply with standard, specification & flame retardant to EU standards. Crosslink foam, or polyethylene foam, is required. Must have an Anti-slip base. Compliant with European Standard NF-EN 12503. With hook and loop attachment strips around the outside. Designed for vertical or horizontal storage. | F7: 30 | G7: 0 | H7: =F7*G7 -> 0 | I7: =H7+H7*0.23 -> 0
A8: PE/HALL/202 | B8: Horizontal Mat Trolley. For Lightweight Flame Retardant Gymnastic Mat. Tubular steel construction c/w side frames and pulling handle. Accepts 15 lightweight mats (PE/HALL/201). Four Non-marking 100 mm x 25 mm ball rack mounted swivel castors. Brakes on castors on 2 diagonally opposite corners. Framework finished with epoxy powder coated paint. | F8: 2 | G8: 0 | H8: =F8*G8 -> 0 | I8: =H8+H8*0.23 -> 0
A9: PE/HALL/211 | B9: Table Tennis Tables, with bats and balls. Regulation size. Top of 22 mm high density chipboard. Additional hardwood edge frame 50 mm x 22 mm. To comply with I.S. EN 14468-1: 2005 and I.S. EN 14468-2: 2005 Type B School and Club Sports. Folding and wheel away design. | F9: 4 | G9: 0 | H9: =F9*G9 -> 0 | I9: =H9+H9*0.23 -> 0
A10: PE/HALL/242 | B10: Vertical Jump Scale Tip-2-Tip (e.g. Eveque). | F10: 2 | G10: 0 | H10: =F10*G10 -> 0 | I10: =H10+H10*0.23 -> 0
A11: PE/HALL/243 | B11: Standing Long Jump Testing mat (e.g. Eveque Intermediate Metromat). | F11: 1 | G11: 0 | H11: =F11*G11 -> 0 | I11: =H11+H11*0.23 -> 0
A12: PE/HALL/244 | B12: Mapping and Survey work: OCAD Orienteering Map Software. | F12: 1 | G12: 0 | H12: =F12*G12 -> 0 | I12: =H12+H12*0.23 -> 0
A13: PE/HALL/245 | B13: Orienteering Compasses: Silva and Moscow. | F13: 30 | G13: 0 | H13: =F13*G13 -> 0 | I13: =H13+H13*0.23 -> 0
A14: PE/HALL/246 | B14: Control Flags. | F14: 60 | G14: 0 | H14: =F14*G14 -> 0 | I14: =H14+H14*0.23 -> 0
A15: PE/HALL/247 6 packs | B15: Coded Punches. | F15: 6 | G15: 0 | H15: =F15*G15 -> 0 | I15: =H15+H15*0.23 -> 0
A16: PE/HALL/248 | B16: Control cards. | F16: 6 | G16: 0 | H16: =F16*G16 -> 0 | I16: =H16+H16*0.23 -> 0
A17: PE/HALL/262 2 sets (4 backboards across the PE hall) | B17: Standard: IBBA and I.S. EN 1270: 2005 Set 1200 mm x 900 mm x 19 mm Plywood Backboards to specification complete with solid steel rings and nets, mounted on 600 mm extension brackets. Units to comply with IBBA and I.S. EN 1270:2005 Standard. Markings on the board shall be as for the main basketball board in relation to the size of the inner rectangle, the width of the lines and the distance from this inner rectangle to the bottom of the board. Sideways folding as standard. | F17: 2 | G17: 0 | H17: =F17*G17 -> 0 | I17: =H17+H17*0.23 -> 0
A18: PE/HALL/265 1 set = 2 posts, 30 balls | B18: Club/School Volleyball Posts and volleyballs. System to comply with I.S. EN 1271:2004. Type 2, Class C. Extruded section Aluminium posts with slide system to suit all regulation heights; 2.10 m, 2.24 m, 2.35 m and 2.43 m. Posts fit into T-bases with castors for easy transport. System anchored to ground using 12 mm J- bolt with steel hand knob for tightening into ground anchor or in accordance with manufacturers’ instructions (or equal approved by the Department of Education and Skills). Anchor 60 mm o.d. 160 mm deep into slab (or equal approved by the Department of Education and Skills) and manufactured from stainless steel and with integral dust cover. Net: 9.75 m x 915 mm with Steel headline and bound at top. | F18: 1 | G18: 0 | H18: =F18*G18 -> 0 | I18: =H18+H18*0.23 -> 0
... A25: PE/HALL/279 | B25: Tennis racquet rack. | F25: 1 | G25: 0 | H25: =F25*G25 -> 0 | I25: =H25+H25*0.23 -> 0
A26: TOTAL OVERALL COST = | H26: =SUM(H7:H25) -> 0 | I26: =SUM(I7:I25) -> 0

Sheet Lot 3 Digital Tech
A1: De La Salle College, Waterford 64950O
A3: Tendering Company's Name:
A4: Date:
A5: Department of Education Skills Code | B5: Description of the Item | C5: Tenderers Reference for Alternative | D5: Manufacturer | E5: No. of Years of Warranty | F5: Required Quantity | G5: Unit Cost € Exc. VAT | H5: Total Cost € Exc. VAT | I5: Total Cost € Incl. VAT
A6: DIGITAL TECH
A7: PE/TECH/403 | B7: Mobile touch screen TV, minimum 65” anti-glare screen, HDMI and USB connection, suitable for education purposes, to come with mobile fixed height trolley. | F7: 1 | G7: 0 | H7: =F7*G7 -> 0 | I7: =H7+H7*0.23 -> 0
A8: PE/TECH/404 | B8: Whiteboard, tactic boards, A2. Provided with hooks to display in the PE hall or the PE lab. Magnetic. | F8: 6 | G8: 0 | H8: =F8*G8 -> 0 | I8: =H8+H8*0.23 -> 0
A9: TOTAL OVERALL COST = | H9: =SUM(H7:H8) -> 0 | I9: =SUM(I7:I8) -> 0

Sheet Subtotals & Overall Cost
A1: De La Salle College, Waterford 64950O
A3: Tendering Company's Name:
A4: Date:
A5: Physical Education Equipment
A6: Section | B6: Total Cost € Exc. VAT | C6: Total Cost € Incl. VAT
A7: Lot 1 PE Lab | B7: ='Lot 1 PE Lab'!H39 -> 0 | C7: ='Lot 1 PE Lab'!I39 -> 0
A8: Lot 2 PE Hall | B8: ='Lot 2 PE Hall'!H26 -> 0 | C8: ='Lot 2 PE Hall'!I26 -> 0
A9: Lot 3 Digital Tech | B9: ='Lot 3 Digital Tech'!H9 -> 0 | C9: ='Lot 3 Digital Tech'!I9 -> 0
A10: Overall Cost | B10: =SUM(B7:B9) -> 0 | C10: =SUM(C7:C9) -> 0
A12: Add for VAT (€) for information only
A13: Total amount (€) for information only
A15: Yrly Maintenance Fee for information only | B15: €
A16: Or
A17: Hourly Maintenance Rate & the number of maintance hours required | B17: €
A20: Tendering Company's Signature:
