Workbook

Sheet elemental BOQ
A1: Item | B1: Item Description | C1: Quantity | D1: Unit | E1: Rate | F1: Amount
A2: No.
A4: Trade :
B5: 1
B6: PRELIMINARY PARTICULARS
B8: PROJECT, PARTIES AND CONSULTANTS
B10: Name, nature and location of the Project
A12: 1 | B12: The Works comprise completion and refurbishment of the existing stone cottage and former shed/bedroom annex, construction of the approved rear extension, and associated services, drainage and external works at Tearmon Beg, Castlerea, Co. Roscommon. The completed accommodation is one short-term tourist unit, comprising three first-floor bedrooms, one ground-floor bedroom, upstairs bathroom, accessible ground-floor shower/WC, kitchen/dining/living area, separate living room, utility and circulation. Planning reference PD/24/60524; maximum six guests. | D12: Note
B14: Names and addresses of the Employer and Consultants
A16: 2 | B16: The Employer shall mean John Larkin, Tearmon Beg, Castlerea, Co. Roscommon. | D16: Note
B18: Employers Representatives
A20: 3 | B20: Employer to confirm appointed consultant and contact particulars before tender issue. | D20: noid
A22: 4 | B22: Consultant particulars: to be completed by Employer. | D22: noid
A24: 5 | B24: Consultant particulars: to be completed by Employer. | D24: noid
A26: 6 | B26: Consultant particulars: to be completed by Employer. | D26: noid
B28: Quantity Surveyors
A30: 7 | B30: Employer to confirm appointed consultant and contact particulars before tender issue. | D30: noid
A32: 8 | B32: Consultant particulars: to be completed by Employer. | D32: noid
A34: 9 | B34: Consultant particulars: to be completed by Employer. | D34: noid
B36: Consultants Generally
A38: 10 | B38: The Employer's Consultants and any other Consultants appointed from time to time by the Employer will be authorised to visit the site and to supervise all or any of the work. The Contractor shall observe their instructions and directions with regard to sa | C38: 1 | D38: Item
B40: DESCRIPTION OF THE SITE
B42: Location of and Access to Site
A44: 11 | B44: The site is accessible through the existing entrance lane, as noted on site drawing; Access will remain open to contractors at all standard times. Access must remain unobstructed for the duration of the works. No materials, plant or other can be temporari | C44: 1 | D44: Item
B46: Protection of Existing Building and Adjoining Properties
A48: 12 | B48: The Contractor should note the proximity of existing buildings, roadways and allow for any additional costs associated for restrictions/difficulties as a consequence of working adjacent to same. Allow for all costs associated with this. | C48: 1 | D48: Item
A50: 13 | B50: The Contractor shall be held solely responsible for the safety of the existing and adjoining properties and the safety of all temporary work that may be necessary for the protection, safety and stability of the existing properties while carrying out the w | C50: 1 | D50: Item
A52: 14 | B52: Particular attention will be required to abutments with existing buildings, paths, roads, adjoining walls, fences etc during the course of the work. | C52: 1 | D52: Item
B54: Existing Services
A56: 15 | B56: The information in the Contract as to the existence and whereabouts of existing services and mains is believed to be correct but the Contractor shall not be relieved of his obligations under the Contract. The Contractor shall include in his rates and pric | C56: 1 | D56: Item
A58: 16 | B58: The Contractor shall allow in his rates and prices for taking measures to deal with overhead power cables, and the like | C58: 1 | D58: Item
A60: 17 | B60: The Contractor shall allow in his rates and prices for taking measures to deal with the existing flow of water, sewerage, and the like. | C60: 1 | D60: Item
A62: 18 | B62: The Contractor shall do everything necessary to avoid damage to any services and structures below, on or above the ground, which are manifestly put at risk by the execution of the works. | C62: 1 | D62: Item
A64: 19 | B64: The Contractor shall fully satisfy himself as to the exact location of all existing services. The Contractor should contact the Electricity Supply Board, Bord Gais, Eir, Irish Water and Local Authorities in relation to power cables, gas pipes, telephone c | C64: 1 | D64: Item
A66: 20 | B66: The contingency plan must be approved in advance by the Employer | C66: 1 | D66: Item
B68: Convenience of Others
A70: 21 | B70: The Contractor shall consult all persons who may be affected by the work, about suitable times for making deliveries and all other matters affecting them. Any damage caused to adjacent lands during the contract will be reinstated to the Employer's Represe | C70: 1 | D70: Item
B72: Preliminary Investigation
A74: 22 | B74: Contractors shall be deemed to have visited the site before submitting their tender and to have satisfied themselves as to the means of communication, access, extent of the work, nature of the site and the existing services and buildings and all condition | C74: 1 | D74: Item
B76: CONTRACTORS LIABILITY
...

Sheet Item summary
A1: Tearmon Beg — Tender item summary
A2: Items are grouped by build section. Enter rates and amounts in the elemental BOQ sheet; this summary displays those entries automatically. Read abridged descriptions with the full item descriptions in the detailed bill.
A4: Build section | B4: Item | C4: Work item (abridged — see detailed bill) | D4: Quantity | E4: Unit | F4: Rate | G4: Amount | H4: Detailed bill
A5: 1. Preliminaries and site management
A6: Preliminaries and site management | B6: 10 | C6: The Employer's Consultants and any other Consultants appointed from time to time by the Employer will be authorised to visit the site and to supervise all or any of the work. The Contractor shall observe their instructions and directions… | D6: 1 | E6: Item | F6: =IF('elemental BOQ'!E38="","",'elemental BOQ'!E38) | G6: =IF('elemental BOQ'!F38="","",'elemental BOQ'!F38) | H6: BOQ row 38
A7: Preliminaries and site management | B7: 11 | C7: The site is accessible through the existing entrance lane, as noted on site drawing; Access will remain open to contractors at all standard times. Access must remain unobstructed for the duration of the works. No materials, plant or othe… | D7: 1 | E7: Item | F7: =IF('elemental BOQ'!E44="","",'elemental BOQ'!E44) | G7: =IF('elemental BOQ'!F44="","",'elemental BOQ'!F44) | H7: BOQ row 44
A8: Preliminaries and site management | B8: 12 | C8: The Contractor should note the proximity of existing buildings, roadways and allow for any additional costs associated for restrictions/difficulties as a consequence of working adjacent to same. Allow for all costs associated with this. | D8: 1 | E8: Item | F8: =IF('elemental BOQ'!E48="","",'elemental BOQ'!E48) | G8: =IF('elemental BOQ'!F48="","",'elemental BOQ'!F48) | H8: BOQ row 48
A9: Preliminaries and site management | B9: 13 | C9: The Contractor shall be held solely responsible for the safety of the existing and adjoining properties and the safety of all temporary work that may be necessary for the protection, safety and stability of the existing properties while … | D9: 1 | E9: Item | F9: =IF('elemental BOQ'!E50="","",'elemental BOQ'!E50) | G9: =IF('elemental BOQ'!F50="","",'elemental BOQ'!F50) | H9: BOQ row 50
A10: Preliminaries and site management | B10: 14 | C10: Particular attention will be required to abutments with existing buildings, paths, roads, adjoining walls, fences etc during the course of the work. | D10: 1 | E10: Item | F10: =IF('elemental BOQ'!E52="","",'elemental BOQ'!E52) | G10: =IF('elemental BOQ'!F52="","",'elemental BOQ'!F52) | H10: BOQ row 52
A11: Preliminaries and site management | B11: 15 | C11: The information in the Contract as to the existence and whereabouts of existing services and mains is believed to be correct but the Contractor shall not be relieved of his obligations under the Contract. The Contractor shall include in … | D11: 1 | E11: Item | F11: =IF('elemental BOQ'!E56="","",'elemental BOQ'!E56) | G11: =IF('elemental BOQ'!F56="","",'elemental BOQ'!F56) | H11: BOQ row 56
A12: Preliminaries and site management | B12: 16 | C12: The Contractor shall allow in his rates and prices for taking measures to deal with overhead power cables, and the like | D12: 1 | E12: Item | F12: =IF('elemental BOQ'!E58="","",'elemental BOQ'!E58) | G12: =IF('elemental BOQ'!F58="","",'elemental BOQ'!F58) | H12: BOQ row 58
A13: Preliminaries and site management | B13: 17 | C13: The Contractor shall allow in his rates and prices for taking measures to deal with the existing flow of water, sewerage, and the like. | D13: 1 | E13: Item | F13: =IF('elemental BOQ'!E60="","",'elemental BOQ'!E60) | G13: =IF('elemental BOQ'!F60="","",'elemental BOQ'!F60) | H13: BOQ row 60
A14: Preliminaries and site management | B14: 18 | C14: The Contractor shall do everything necessary to avoid damage to any services and structures below, on or above the ground, which are manifestly put at risk by the execution of the works. | D14: 1 | E14: Item | F14: =IF('elemental BOQ'!E62="","",'elemental BOQ'!E62) | G14: =IF('elemental BOQ'!F62="","",'elemental BOQ'!F62) | H14: BOQ row 62
A15: Preliminaries and site management | B15: 19 | C15: The Contractor shall fully satisfy himself as to the exact location of all existing services. The Contractor should contact the Electricity Supply Board, Bord Gais, Eir, Irish Water and Local Authorities in relation to power cables, gas … | D15: 1 | E15: Item | F15: =IF('elemental BOQ'!E64="","",'elemental BOQ'!E64) | G15: =IF('elemental BOQ'!F64="","",'elemental BOQ'!F64) | H15: BOQ row 64
A16: Preliminaries and site management | B16: 20 | C16: The contingency plan must be approved in advance by the Employer | D16: 1 | E16: Item | F16: =IF('elemental BOQ'!E66="","",'elemental BOQ'!E66) | G16: =IF('elemental BOQ'!F66="","",'elemental BOQ'!F66) | H16: BOQ row 66
A17: Preliminaries and site management | B17: 21 | C17: The Contractor shall consult all persons who may be affected by the work, about suitable times for making deliveries and all other matters affecting them. Any damage caused to adjacent lands during the contract will be reinstated to the … | D17: 1 | E17: Item | F17: =IF('elemental BOQ'!E70="","",'elemental BOQ'!E70) | G17: =IF('elemental BOQ'!F70="","",'elemental BOQ'!F70) | H17: BOQ row 70
A18: Preliminaries and site management | B18: 22 | C18: Contractors shall be deemed to have visited the site before submitting their tender and to have satisfied themselves as to the means of communication, access, extent of the work, nature of the site and the existing services and buildings… | D18: 1 | E18: Item | F18: =IF('elemental BOQ'!E74="","",'elemental BOQ'!E74) | G18: =IF('elemental BOQ'!F74="","",'elemental BOQ'!F74) | H18: BOQ row 74
A19: Preliminaries and site management | B19: 23 | C19: Public Liability insurance for a minimum limit of indemnity 6.5 million | D19: 1 | E19: Item | F19: =IF('elemental BOQ'!E80="","",'elemental BOQ'!E80) | G19: =IF('elemental BOQ'!F80="","",'elemental BOQ'!F80) | H19: BOQ row 80
A20: Preliminaries and site management | B20: 24 | C20: Employers liability insurance for a limit of indemnity of: 13.0 million | D20: 1 | E20: Item | F20: =IF('elemental BOQ'!E82="","",'elemental BOQ'!E82) | G20: =IF('elemental BOQ'!F82="","",'elemental BOQ'!F82) | H20: BOQ row 82
A21: Preliminaries and site management | B21: 25 | C21: The Contractor shall secure prior to commencement and maintain for the duration of the Contract or up to Substantial Completion or the making good of defects at Final Completion as the case may be, all of the insurance to be provided by … | D21: 1 | E21: Item | F21: =IF('elemental BOQ'!E84="","",'elemental BOQ'!E84) | G21: =IF('elemental BOQ'!F84="","",'elemental BOQ'!F84) | H21: BOQ row 84
A22: Preliminaries and site management | B22: 26 | C22: The Contractor shall submit evidence to the Employer in accordance with the provisions of the Contract that the required Insurance are in effect prior to commencement of the works. | D22: 1 | E22: Item | F22: =IF('elemental BOQ'!E86="","",'elemental BOQ'!E86) | G22: =IF('elemental BOQ'!F86="","",'elemental BOQ'!F86) | H22: BOQ row 86
A23: Preliminaries and site management | B23: 27 | C23: The Contractor shall cover for loss due to malicious damage in the scope of the All Risks Insurance required in the Conditions of Contract | D23: 1 | E23: Item | F23: =IF('elemental BOQ'!E88="","",'elemental BOQ'!E88) | G23: =IF('elemental BOQ'!F88="","",'elemental BOQ'!F88) | H23: BOQ row 88
A24: Preliminaries and site management | B24: 28 | C24: Quantity and pricing basis: measured/reconstructed quantities are shown where available; provisional quantities and complete Item packages are expressly identified. Rates shall include labour, materials, waste, delivery, plant, fixings a… | D24: 1 | E24: Item | F24: =IF('elemental BOQ'!E92="","",'elemental BOQ'!E92) | G24: =IF('elemental BOQ'!F92="","",'elemental BOQ'!F92) | H24: BOQ row 92
A25: Preliminaries and site management | B25: 29 | C25: The Main Contractor must not assign this Contract or any share or interest therein without the written consent of the Employer, nor sub-let any portion of the Works without the approval of the Architect. This rule is to be strictly obser… | D25: 1 | E25: Item | F25: =IF('elemental BOQ'!E96="","",'elemental BOQ'!E96) | G25: =IF('elemental BOQ'!F96="","",'elemental BOQ'!F96) | H25: BOQ row 96
A26: Preliminaries and site management | B26: 30 | C26: The Architect/Engineer shall have power to order during progress of the Works: the removal from the site of any materials which in his opinion are not in accordance with the Contract | D26: 1 | E26: Item | F26: =IF('elemental BOQ'!E100="","",'elemental BOQ'!E100) | G26: =IF('elemental BOQ'!F100="","",'elemental BOQ'!F100) | H26: BOQ row 100
A27: Preliminaries and site management | B27: 31 | C27: Substitution of proper materials | D27: 1 | E27: Item | F27: =IF('elemental BOQ'!E102="","",'elemental BOQ'!E102) | G27: =IF('elemental BOQ'!F102="","",'elemental BOQ'!F102) | H27: BOQ row 102
A28: Preliminaries and site management | B28: 32 | C28: Removal and proper re execution (notwithstanding any previous test thereof or interim payment therefor) of any work which respect of materials or work people is not in accordance with the Contract | D28: 1 | E28: Item | F28: =IF('elemental BOQ'!E104="","",'elemental BOQ'!E104) | G28: =IF('elemental BOQ'!F104="","",'elemental BOQ'!F104) | H28: BOQ row 104
A29: Preliminaries and site management | B29: 33 | C29: The Contractor shall save harmless and indemnify the Employer for and against all claims and proceedings for or on account of infringement of any patent rights, design, trademark or name or other protected rights in respect of any constr… | D29: 1 | E29: Item | F29: =IF('elemental BOQ'!E108="","",'elemental BOQ'!E108) | G29: =IF('elemental BOQ'!F108="","",'elemental BOQ'!F108) | H29: BOQ row 108
A30: Preliminaries and site management | B30: 34 | C30: The Contractor will be held responsible for any damage caused through his want of proper care to any of the fittings, equipment or machinery installed by the ESB Networks, Gas Networks Ireland, Eir, Irish Water and Local Authorities or t… | D30: 1 | E30: Item | F30: =IF('elemental BOQ'!E112="","",'elemental BOQ'!E112) | G30: =IF('elemental BOQ'!F112="","",'elemental BOQ'!F112) | H30: BOQ row 112
A31: Preliminaries and site management | B31: 35 | C31: The Contractor is to include for all costs associated with all Consents required to complete the works | D31: 1 | E31: Item | F31: =IF('elemental BOQ'!E116="","",'elemental BOQ'!E116) | G31: =IF('elemental BOQ'!F116="","",'elemental BOQ'!F116) | H31: BOQ row 116
A32: Preliminaries and site management | B32: 36 | C32: The contractor is to provide all necessary traffic management systems in accordance with the Engineers specifications and in line with Chapter 8 of the Department of Transport Temporary Traffic Measures and Signs for Roadworks while work… | D32: 1 | E32: Item | F32: =IF('elemental BOQ'!E118="","",'elemental BOQ'!E118) | G32: =IF('elemental BOQ'!F118="","",'elemental BOQ'!F118) | H32: BOQ row 118
A33: Preliminaries and site management | B33: 38 | C33: The Contractor must confine his operation within the immediate area covered by the works as shown on drawing Site Layout Plan and will make good at his own expense any damage to buildings, boundary walls, grounds, roads, or shrubbery occ… | D33: 1 | E33: Item | F33: =IF('elemental BOQ'!E128="","",'elemental BOQ'!E128) | G33: =IF('elemental BOQ'!F128="","",'elemental BOQ'!F128) | H33: BOQ row 128
A34: Preliminaries and site management | B34: 39 | C34: The contractor must ensure that adequate safety precautions are taken when working in the vicinity of overhead lines. These may include the provision of goal-post type barriers on each side of the overhead line and the non-use of scaffol… | D34: 1 | E34: Item | F34: =IF('elemental BOQ'!E130="","",'elemental BOQ'!E130) | G34: =IF('elemental BOQ'!F130="","",'elemental BOQ'!F130) | H34: BOQ row 130
A35: Preliminaries and site management | B35: 40 | C35: The Contractor shall be responsible for the maintenance and upkeep of the entrance road | D35: 1 | E35: Item | F35: =IF('elemental BOQ'!E132="","",'elemental BOQ'!E132) | G35: =IF('elemental BOQ'!F132="","",'elemental BOQ'!F132) | H35: BOQ row 132
A36: Preliminaries and site management | B36: 41 | C36: The contractor is advised that the planning authority may have made specific provisions with regard to the design of regulatory sight lines from the entrance/exit of the site. The contractor is required to implement these changes, for th… | D36: 1 | E36: Item | F36: =IF('elemental BOQ'!E134="","",'elemental BOQ'!E134) | G36: =IF('elemental BOQ'!F134="","",'elemental BOQ'!F134) | H36: BOQ row 134
A37: Preliminaries and site management | B37: 42 | C37: In order to comply with the adjoining residents rights to quiet enjoyment of their building and to keep any disruption to a minimum, advanced notice must be given where the noise levels will cause disruption | D37: 1 | E37: Item | F37: =IF('elemental BOQ'!E136="","",'elemental BOQ'!E136) | G37: =IF('elemental BOQ'!F136="","",'elemental BOQ'!F136) | H37: BOQ row 136
A38: Preliminaries and site management | B38: 43 | C38: The works shall be carried out in such a way as to cause the minimum of inconvenience to the general public and the neighbouring residents. | D38: 1 | E38: Item | F38: =IF('elemental BOQ'!E138="","",'elemental BOQ'!E138) | G38: =IF('elemental BOQ'!F138="","",'elemental BOQ'!F138) | H38: BOQ row 138
A39: Preliminaries and site management | B39: 44 | C39: Carry out noisy work only within hours and noise limits agreed with the Employer and applicable local authority requirements. Obtain written authorisation for any out-of-hours work; protect neighbouring amenity. | D39: 1 | E39: Item | F39: =IF('elemental BOQ'!E140="","",'elemental BOQ'!E140) | G39: =IF('elemental BOQ'!F140="","",'elemental BOQ'!F140) | H39: BOQ row 140
A40: Preliminaries and site management | B40: 45 | C40: The tenderer is allow for all works to in line with Best Practice Guidelines in relation to waste management; allow for the Preparation of Waste Management Plan for Construction and Demolition Works that are required | D40: 1 | E40: Item | F40: =IF('elemental BOQ'!E142="","",'elemental BOQ'!E142) | G40: =IF('elemental BOQ'!F142="","",'elemental BOQ'!F142) | H40: BOQ row 142
A41: Preliminaries and site management | B41: 46 | C41: Claims for specific overtime will only be entertained when authorised in writing by the Employer | D41: 1 | E41: Item | F41: =IF('elemental BOQ'!E146="","",'elemental BOQ'!E146) | G41: =IF('elemental BOQ'!F146="","",'elemental BOQ'!F146) | H41: BOQ row 146
...
