Workbook

Sheet Cover
A1: #VALUE!
A2: National Barrier Mitigation Programme
A4: PRICING DOCUMENT
A5: Engineering & Environmental Consultancy Services Lot 6 - Integrated Consultancy Services
B7: Tenderer Name
B8: Killeen & Feenune Bridge Barrier Mitigation Project
B10: Signature of person authorised to sign Tenders on behalf of the Tenderer
B13: Date:
A16: Document Verification Sheet
A17: Project Title: | C17: Killeen & Feenune Bridge Barrier Mitigation Project
A18: Document Title: | C18: Pricing Document
A19: File Reference: | C19: NBMP_0842008.01.01.005
A20: Date: | C20: 46301 | D20: Issue No.: | E20: I02
A22: Revision | B22: Date | C22: Description | D22: For Tender
A23: I01 | B23: 46294 | C23: Prepared by | D23: Checked by | E23: Approved by
C24: P Glynn | D24: J McHale | E24: J McHale
A25: Revision | B25: Date | C25: Description | D25: For Tender
A26: I02 | B26: 46301 | C26: Prepared by | D26: Checked by | E26: Approved by
C27: P Glynn | D27: J McHale | E27: J McHale
A28: Revision | B28: Date | C28: Description
C29: Prepared by | D29: Checked by | E29: Approved by
A31: Revision | B31: Date | C31: Description
C32: Prepared by | D32: Checked by | E32: Approved by
A34: Revision | B34: Date | C34: Description
C35: Prepared by | D35: Checked by | E35: Approved by
A37: Revision | B37: Date | C37: Description
C38: Prepared by | D38: Checked by | E38: Approved by
A40: Revision | B40: Date | C40: Description
C41: Prepared by | D41: Checked by | E41: Approved by

Sheet Rates Lot 6
A1: Note: Rates used in Pricing Document must be in accordance with Framework Rates. Any tender containing rates higher than those outlined at the time of the Framework Agreement or agreed with the Contracting Authority following any subsequent Review Date maybe excluded from consideration for the Services Contract; Lower rates may be used. | E1: Tender Cost Summary
A3: Role Lot | B3: Rates Lot 6 | C3: Name of Person Lot 6 | E3: Phase | G3: Total
A4: Project Director | B4: 0 | C4: Insert Name 1 | E4: Phase 1 Feasibility Study & Option Selection | G4: ='Killeen Br'!AF23+'Feenune Br'!AF23 -> 0
A5: Project Manager | B5: 0 | C5: Insert Name 2 | E5: Phase 2 Preliminary Design | G5: ='Killeen Br'!AF55+'Feenune Br'!AF55 -> 0
A6: Project Supervisor Design Process | B6: 0 | C6: Insert Name 3 | E6: Phase 3 Statutory Process | G6: ='Killeen Br'!AF72+'Feenune Br'!AF72 -> 0
A7: Civil Design Team Lead/Senior Engineer | B7: 0 | C7: Insert Name 4
A8: Structures Design Team Lead/Senior Engineer | B8: 0 | C8: Insert Name 5
A9: Hydraulics/Hydrology Team Lead/Senior Hydraulic Engineer/Hydrologist | B9: 0 | C9: Insert Name 6
A10: Senior Ecologist/Senior Environmental Consultant | B10: 0 | C10: Insert Name 7
A11: Ecologist/ Environmental Consultant | B11: 0 | C11: Insert Name 8 | E11: Tender Total | G11: =SUM(G4:G6) -> 0
A12: Project Engineer | B12: 0 | C12: Insert Name 9 | E12: VAT at | F12: 0.23 | G12: =G11*F12 -> 0
A13: Graduate Engineer | B13: 0 | C13: Insert Name 10 | E13: Grand Total | G13: =G11+G12 -> 0
A14: Senior Technician | B14: 0 | C14: Insert Name 11
A15: Junior Technician | B15: 0 | C15: Insert Name 12
A16: Resident Engineer | B16: 0 | C16: Insert Name 13
A17: Employer's Representative | B17: 0 | C17: Insert Name 14
A19: Note: Tenderers are to Complete the Rates and Names in the cells highlighted orange in the table above. The rates and names should automatically transfer to the Time sheet. Tenderer are required to insert the hours associated with each team member for each activity. Totals should automatically total for each activity, team member, phase and Tender total. If a Tender identifies any errors they shall immediately notify the contracting authority.

Sheet Killeen Br
A1: Project Role | C1: Project Director | E1: Project Manager | G1: Project Supervisor Design Process | I1: Civil Design Team Lead/Senior Engineer | K1: Structures Design Team Lead/Senior Engineer | M1: Hydraulics/Hydrology Team Lead/Senior Hydraulic Engineer/Hydrologist | O1: Senior Ecologist/Senior Environmental Consultant | Q1: Ecologist/ Environmental Consultant | S1: Project Engineer | U1: Graduate Engineer | W1: Senior Technician | Y1: Junior Technician | AA1: Resident Engineer | AC1: Employer's Representative | AE1: Total Hours | AF1: Item Total
A2: Note: Rates used in Pricing Document must be in accordance with Framework Rates. Any tender containing rates higher than those outlined at the time of the Framework Agreement or agreed with the Contracting Authority following any subsequent Review Date maybe excluded from consideration for the Services Contract; Lower rates may be used. | C2: ='Rates Lot 6'!C4 -> Insert Name 1 | E2: ='Rates Lot 6'!C5 -> Insert Name 2 | G2: ='Rates Lot 6'!C6 -> Insert Name 3 | I2: ='Rates Lot 6'!C7 -> Insert Name 4 | K2: ='Rates Lot 6'!C8 -> Insert Name 5 | M2: ='Rates Lot 6'!C9 -> Insert Name 6 | O2: ='Rates Lot 6'!C10 -> Insert Name 7 | Q2: ='Rates Lot 6'!C11 -> Insert Name 8 | S2: ='Rates Lot 6'!C12 -> Insert Name 9 | U2: ='Rates Lot 6'!C13 -> Insert Name 10 | W2: ='Rates Lot 6'!C14 -> Insert Name 11 | Y2: ='Rates Lot 6'!C15 -> Insert Name 12 | AA2: ='Rates Lot 6'!C16 -> Insert Name 13 | AC2: ='Rates Lot 6'!C17 -> Insert Name 14
C3: No. Hours | D3: ='Rates Lot 6'!B4 -> 0 | E3: No. Hours | F3: ='Rates Lot 6'!B5 -> 0 | G3: No. Hours | H3: ='Rates Lot 6'!B6 -> 0 | I3: No. Hours | J3: ='Rates Lot 6'!B7 -> 0 | K3: No. Hours | L3: ='Rates Lot 6'!B8 -> 0 | M3: No. Hours | N3: ='Rates Lot 6'!B9 -> 0 | O3: No. Hours | P3: ='Rates Lot 6'!B10 -> 0 | Q3: No. Hours | R3: ='Rates Lot 6'!B11 -> 0 | S3: No. Hours | T3: ='Rates Lot 6'!B12 -> 0 | U3: No. Hours | V3: ='Rates Lot 6'!B13 -> 0 | W3: No. Hours | X3: ='Rates Lot 6'!B14 -> 0 | Y3: No. Hours | Z3: ='Rates Lot 6'!B15 -> 0 | AA3: No. Hours | AB3: ='Rates Lot 6'!B16 -> 0 | AC3: No. Hours | AD3: ='Rates Lot 6'!B17 -> 0
A4: Phase 1 | B4: Feasibility Study & Option Selection
A5: A | B5: General Service Requirements
B6: Project Management | C6: 0 | D6: =(C6*D$3) -> 0 | E6: 0 | F6: =(E6*F$3) -> 0 | G6: 0 | H6: =(G6*H$3) -> 0 | I6: 0 | J6: =(I6*J$3) -> 0 | K6: 0 | L6: =(K6*L$3) -> 0 | M6: 0 | N6: =(M6*N$3) -> 0 | O6: 0 | P6: =(O6*P$3) -> 0 | Q6: 0 | R6: =(Q6*R$3) -> 0 | S6: 0 | T6: =(S6*T$3) -> 0 | U6: 0 | V6: =(U6*V$3) -> 0 | W6: 0 | X6: =(W6*X$3) -> 0 | Y6: 0 | Z6: =(Y6*Z$3) -> 0 | AA6: 0 | AB6: =(AA6*AB$3) -> 0 | AC6: 0 | AD6: =(AC6*AD$3) -> 0 | AE6: =SUM(C6,E6,G6,I6,K6,M6,O6,Q6,S6,U6,W6,Y6,AA6,AC6) -> 0 | AF6: =SUM(D6,F6,H6,J6,L6,N6,P6,R6,T6,V6,X6,Z6,AB6,AD6) -> 0
B7: Project Meetings | C7: 0 | D7: =(C7*D$3) -> 0 | E7: 0 | F7: =(E7*F$3) -> 0 | G7: 0 | H7: =(G7*H$3) -> 0 | I7: 0 | J7: =(I7*J$3) -> 0 | K7: 0 | L7: =(K7*L$3) -> 0 | M7: 0 | N7: =(M7*N$3) -> 0 | O7: 0 | P7: =(O7*P$3) -> 0 | Q7: 0 | R7: =(Q7*R$3) -> 0 | S7: 0 | T7: =(S7*T$3) -> 0 | U7: 0 | V7: =(U7*V$3) -> 0 | W7: 0 | X7: =(W7*X$3) -> 0 | Y7: 0 | Z7: =(Y7*Z$3) -> 0 | AA7: 0 | AB7: =(AA7*AB$3) -> 0 | AC7: 0 | AD7: =(AC7*AD$3) -> 0 | AE7: =SUM(C7,E7,G7,I7,K7,M7,O7,Q7,S7,U7,W7,Y7,AA7,AC7) -> 0 | AF7: =SUM(D7,F7,H7,J7,L7,N7,P7,R7,T7,V7,X7,Z7,AB7,AD7) -> 0
B8: Progress Reports | C8: 0 | D8: =(C8*D$3) -> 0 | E8: 0 | F8: =(E8*F$3) -> 0 | G8: 0 | H8: =(G8*H$3) -> 0 | I8: 0 | J8: =(I8*J$3) -> 0 | K8: 0 | L8: =(K8*L$3) -> 0 | M8: 0 | N8: =(M8*N$3) -> 0 | O8: 0 | P8: =(O8*P$3) -> 0 | Q8: 0 | R8: =(Q8*R$3) -> 0 | S8: 0 | T8: =(S8*T$3) -> 0 | U8: 0 | V8: =(U8*V$3) -> 0 | W8: 0 | X8: =(W8*X$3) -> 0 | Y8: 0 | Z8: =(Y8*Z$3) -> 0 | AA8: 0 | AB8: =(AA8*AB$3) -> 0 | AC8: 0 | AD8: =(AC8*AD$3) -> 0 | AE8: =SUM(C8,E8,G8,I8,K8,M8,O8,Q8,S8,U8,W8,Y8,AA8,AC8) -> 0 | AF8: =SUM(D8,F8,H8,J8,L8,N8,P8,R8,T8,V8,X8,Z8,AB8,AD8) -> 0
B9: Cost & Risk Management Plan | C9: 0 | D9: =(C9*D$3) -> 0 | E9: 0 | F9: =(E9*F$3) -> 0 | G9: 0 | H9: =(G9*H$3) -> 0 | I9: 0 | J9: =(I9*J$3) -> 0 | K9: 0 | L9: =(K9*L$3) -> 0 | M9: 0 | N9: =(M9*N$3) -> 0 | O9: 0 | P9: =(O9*P$3) -> 0 | Q9: 0 | R9: =(Q9*R$3) -> 0 | S9: 0 | T9: =(S9*T$3) -> 0 | U9: 0 | V9: =(U9*V$3) -> 0 | W9: 0 | X9: =(W9*X$3) -> 0 | Y9: 0 | Z9: =(Y9*Z$3) -> 0 | AA9: 0 | AB9: =(AA9*AB$3) -> 0 | AC9: 0 | AD9: =(AC9*AD$3) -> 0 | AE9: =SUM(C9,E9,G9,I9,K9,M9,O9,Q9,S9,U9,W9,Y9,AA9,AC9) -> 0 | AF9: =SUM(D9,F9,H9,J9,L9,N9,P9,R9,T9,V9,X9,Z9,AB9,AD9) -> 0
B10: Stakeholder Consultation | C10: 0 | D10: =(C10*D$3) -> 0 | E10: 0 | F10: =(E10*F$3) -> 0 | G10: 0 | H10: =(G10*H$3) -> 0 | I10: 0 | J10: =(I10*J$3) -> 0 | K10: 0 | L10: =(K10*L$3) -> 0 | M10: 0 | N10: =(M10*N$3) -> 0 | O10: 0 | P10: =(O10*P$3) -> 0 | Q10: 0 | R10: =(Q10*R$3) -> 0 | S10: 0 | T10: =(S10*T$3) -> 0 | U10: 0 | V10: =(U10*V$3) -> 0 | W10: 0 | X10: =(W10*X$3) -> 0 | Y10: 0 | Z10: =(Y10*Z$3) -> 0 | AA10: 0 | AB10: =(AA10*AB$3) -> 0 | AC10: 0 | AD10: =(AC10*AD$3) -> 0 | AE10: =SUM(C10,E10,G10,I10,K10,M10,O10,Q10,S10,U10,W10,Y10,AA10,AC10) -> 0 | AF10: =SUM(D10,F10,H10,J10,L10,N10,P10,R10,T10,V10,X10,Z10,AB10,AD10) -> 0
B11: Preliminary Business Case | C11: 0 | D11: =(C11*D$3) -> 0 | E11: 0 | F11: =(E11*F$3) -> 0 | G11: 0 | H11: =(G11*H$3) -> 0 | I11: 0 | J11: =(I11*J$3) -> 0 | K11: 0 | L11: =(K11*L$3) -> 0 | M11: 0 | N11: =(M11*N$3) -> 0 | O11: 0 | P11: =(O11*P$3) -> 0 | Q11: 0 | R11: =(Q11*R$3) -> 0 | S11: 0 | T11: =(S11*T$3) -> 0 | U11: 0 | V11: =(U11*V$3) -> 0 | W11: 0 | X11: =(W11*X$3) -> 0 | Y11: 0 | Z11: =(Y11*Z$3) -> 0 | AA11: 0 | AB11: =(AA11*AB$3) -> 0 | AC11: 0 | AD11: =(AC11*AD$3) -> 0 | AE11: =SUM(C11,E11,G11,I11,K11,M11,O11,Q11,S11,U11,W11,Y11,AA11,AC11) -> 0 | AF11: =SUM(D11,F11,H11,J11,L11,N11,P11,R11,T11,V11,X11,Z11,AB11,AD11) -> 0
A12: B | B12: Health & Safety
B13: Safety & Health Duties (General) | C13: 0 | D13: =(C13*D$3) -> 0 | E13: 0 | F13: =(E13*F$3) -> 0 | G13: 0 | H13: =(G13*H$3) -> 0 | I13: 0 | J13: =(I13*J$3) -> 0 | K13: 0 | L13: =(K13*L$3) -> 0 | M13: 0 | N13: =(M13*N$3) -> 0 | O13: 0 | P13: =(O13*P$3) -> 0 | Q13: 0 | R13: =(Q13*R$3) -> 0 | S13: 0 | T13: =(S13*T$3) -> 0 | U13: 0 | V13: =(U13*V$3) -> 0 | W13: 0 | X13: =(W13*X$3) -> 0 | Y13: 0 | Z13: =(Y13*Z$3) -> 0 | AA13: 0 | AB13: =(AA13*AB$3) -> 0 | AC13: 0 | AD13: =(AC13*AD$3) -> 0 | AE13: =SUM(C13,E13,G13,I13,K13,M13,O13,Q13,S13,U13,W13,Y13,AA13,AC13) -> 0 | AF13: =SUM(D13,F13,H13,J13,L13,N13,P13,R13,T13,V13,X13,Z13,AB13,AD13) -> 0
B14: PSDP (All Duties & Reports) | C14: 0 | D14: =(C14*D$3) -> 0 | E14: 0 | F14: =(E14*F$3) -> 0 | G14: 0 | H14: =(G14*H$3) -> 0 | I14: 0 | J14: =(I14*J$3) -> 0 | K14: 0 | L14: =(K14*L$3) -> 0 | M14: 0 | N14: =(M14*N$3) -> 0 | O14: 0 | P14: =(O14*P$3) -> 0 | Q14: 0 | R14: =(Q14*R$3) -> 0 | S14: 0 | T14: =(S14*T$3) -> 0 | U14: 0 | V14: =(U14*V$3) -> 0 | W14: 0 | X14: =(W14*X$3) -> 0 | Y14: 0 | Z14: =(Y14*Z$3) -> 0 | AA14: 0 | AB14: =(AA14*AB$3) -> 0 | AC14: 0 | AD14: =(AC14*AD$3) -> 0 | AE14: =SUM(C14,E14,G14,I14,K14,M14,O14,Q14,S14,U14,W14,Y14,AA14,AC14) -> 0 | AF14: =SUM(D14,F14,H14,J14,L14,N14,P14,R14,T14,V14,X14,Z14,AB14,AD14) -> 0
A15: C | B15: Fesability - Options
B16: Feasibility Study and Option Selection Public Information Event | C16: 0 | D16: =(C16*D$3) -> 0 | E16: 0 | F16: =(E16*F$3) -> 0 | G16: 0 | H16: =(G16*H$3) -> 0 | I16: 0 | J16: =(I16*J$3) -> 0 | K16: 0 | L16: =(K16*L$3) -> 0 | M16: 0 | N16: =(M16*N$3) -> 0 | O16: 0 | P16: =(O16*P$3) -> 0 | Q16: 0 | R16: =(Q16*R$3) -> 0 | S16: 0 | T16: =(S16*T$3) -> 0 | U16: 0 | V16: =(U16*V$3) -> 0 | W16: 0 | X16: =(W16*X$3) -> 0 | Y16: 0 | Z16: =(Y16*Z$3) -> 0 | AA16: 0 | AB16: =(AA16*AB$3) -> 0 | AC16: 0 | AD16: =(AC16*AD$3) -> 0 | AE16: =SUM(C16,E16,G16,I16,K16,M16,O16,Q16,S16,U16,W16,Y16,AA16,AC16) -> 0 | AF16: =SUM(D16,F16,H16,J16,L16,N16,P16,R16,T16,V16,X16,Z16,AB16,AD16) -> 0
B17: Feasibility Study and Option Selection Report | C17: 0 | D17: =(C17*D$3) -> 0 | E17: 0 | F17: =(E17*F$3) -> 0 | G17: 0 | H17: =(G17*H$3) -> 0 | I17: 0 | J17: =(I17*J$3) -> 0 | K17: 0 | L17: =(K17*L$3) -> 0 | M17: 0 | N17: =(M17*N$3) -> 0 | O17: 0 | P17: =(O17*P$3) -> 0 | Q17: 0 | R17: =(Q17*R$3) -> 0 | S17: 0 | T17: =(S17*T$3) -> 0 | U17: 0 | V17: =(U17*V$3) -> 0 | W17: 0 | X17: =(W17*X$3) -> 0 | Y17: 0 | Z17: =(Y17*Z$3) -> 0 | AA17: 0 | AB17: =(AA17*AB$3) -> 0 | AC17: 0 | AD17: =(AC17*AD$3) -> 0 | AE17: =SUM(C17,E17,G17,I17,K17,M17,O17,Q17,S17,U17,W17,Y17,AA17,AC17) -> 0 | AF17: =SUM(D17,F17,H17,J17,L17,N17,P17,R17,T17,V17,X17,Z17,AB17,AD17) -> 0
A18: D | B18: Surveys & Studies
B19: Preliminary Ecological Assessment Report (PEAR) | C19: 0 | D19: =(C19*D$3) -> 0 | E19: 0 | F19: =(E19*F$3) -> 0 | G19: 0 | H19: =(G19*H$3) -> 0 | I19: 0 | J19: =(I19*J$3) -> 0 | K19: 0 | L19: =(K19*L$3) -> 0 | M19: 0 | N19: =(M19*N$3) -> 0 | O19: 0 | P19: =(O19*P$3) -> 0 | Q19: 0 | R19: =(Q19*R$3) -> 0 | S19: 0 | T19: =(S19*T$3) -> 0 | U19: 0 | V19: =(U19*V$3) -> 0 | W19: 0 | X19: =(W19*X$3) -> 0 | Y19: 0 | Z19: =(Y19*Z$3) -> 0 | AA19: 0 | AB19: =(AA19*AB$3) -> 0 | AC19: 0 | AD19: =(AC19*AD$3) -> 0 | AE19: =SUM(C19,E19,G19,I19,K19,M19,O19,Q19,S19,U19,W19,Y19,AA19,AC19) -> 0 | AF19: =SUM(D19,F19,H19,J19,L19,N19,P19,R19,T19,V19,X19,Z19,AB19,AD19) -> 0
B20: Preliminary Archaeological Assessment | C20: 0 | D20: =(C20*D$3) -> 0 | E20: 0 | F20: =(E20*F$3) -> 0 | G20: 0 | H20: =(G20*H$3) -> 0 | I20: 0 | J20: =(I20*J$3) -> 0 | K20: 0 | L20: =(K20*L$3) -> 0 | M20: 0 | N20: =(M20*N$3) -> 0 | O20: 0 | P20: =(O20*P$3) -> 0 | Q20: 0 | R20: =(Q20*R$3) -> 0 | S20: 0 | T20: =(S20*T$3) -> 0 | U20: 0 | V20: =(U20*V$3) -> 0 | W20: 0 | X20: =(W20*X$3) -> 0 | Y20: 0 | Z20: =(Y20*Z$3) -> 0 | AA20: 0 | AB20: =(AA20*AB$3) -> 0 | AC20: 0 | AD20: =(AC20*AD$3) -> 0 | AE20: =SUM(C20,E20,G20,I20,K20,M20,O20,Q20,S20,U20,W20,Y20,AA20,AC20) -> 0 | AF20: =SUM(D20,F20,H20,J20,L20,N20,P20,R20,T20,V20,X20,Z20,AB20,AD20) -> 0
B21: Preliminary Architectural and Cultural Heritage Assessment | C21: 0 | D21: =(C21*D$3) -> 0 | E21: 0 | F21: =(E21*F$3) -> 0 | G21: 0 | H21: =(G21*H$3) -> 0 | I21: 0 | J21: =(I21*J$3) -> 0 | K21: 0 | L21: =(K21*L$3) -> 0 | M21: 0 | N21: =(M21*N$3) -> 0 | O21: 0 | P21: =(O21*P$3) -> 0 | Q21: 0 | R21: =(Q21*R$3) -> 0 | S21: 0 | T21: =(S21*T$3) -> 0 | U21: 0 | V21: =(U21*V$3) -> 0 | W21: 0 | X21: =(W21*X$3) -> 0 | Y21: 0 | Z21: =(Y21*Z$3) -> 0 | AA21: 0 | AB21: =(AA21*AB$3) -> 0 | AC21: 0 | AD21: =(AC21*AD$3) -> 0 | AE21: =SUM(C21,E21,G21,I21,K21,M21,O21,Q21,S21,U21,W21,Y21,AA21,AC21) -> 0 | AF21: =SUM(D21,F21,H21,J21,L21,N21,P21,R21,T21,V21,X21,Z21,AB21,AD21) -> 0
B22: Preliminary Hydromorphology/Geomorphology Report | C22: 0 | D22: =(C22*D$3) -> 0 | E22: 0 | F22: =(E22*F$3) -> 0 | G22: 0 | H22: =(G22*H$3) -> 0 | I22: 0 | J22: =(I22*J$3) -> 0 | K22: 0 | L22: =(K22*L$3) -> 0 | M22: 0 | N22: =(M22*N$3) -> 0 | O22: 0 | P22: =(O22*P$3) -> 0 | Q22: 0 | R22: =(Q22*R$3) -> 0 | S22: 0 | T22: =(S22*T$3) -> 0 | U22: 0 | V22: =(U22*V$3) -> 0 | W22: 0 | X22: =(W22*X$3) -> 0 | Y22: 0 | Z22: =(Y22*Z$3) -> 0 | AA22: 0 | AB22: =(AA22*AB$3) -> 0 | AC22: 0 | AD22: =(AC22*AD$3) -> 0 | AE22: =SUM(C22,E22,G22,I22,K22,M22,O22,Q22,S22,U22,W22,Y22,AA22,AC22) -> 0 | AF22: =SUM(D22,F22,H22,J22,L22,N22,P22,R22,T22,V22,X22,Z22,AB22,AD22) -> 0
A23: Phase 1 Total | C23: =SUM(C6:C11,C13:C14,C16:C17,C19:C22) -> 0 | D23: =SUM(D6:D11,D13:D14,D16:D17,D19:D22) -> 0 | E23: =SUM(E6:E11,E13:E14,E16:E17,E19:E22) -> 0 | F23: =SUM(F6:F11,F13:F14,F16:F17,F19:F22) -> 0 | G23: =SUM(G6:G11,G13:G14,G16:G17,G19:G22) -> 0 | H23: =SUM(H6:H11,H13:H14,H16:H17,H19:H22) -> 0 | I23: =SUM(I6:I11,I13:I14,I16:I17,I19:I22) -> 0 | J23: =SUM(J6:J11,J13:J14,J16:J17,J19:J22) -> 0 | ... AF23: =SUM(AF6:AF11,AF13:AF14,AF16:AF17,AF19:AF22) -> 0
A25: Phase 2 | B25: Preliminary Design
A26: A | B26: General Service Requirements
B27: Project Management | C27: 0 | D27: =(C27*D$3) -> 0 | E27: 0 | F27: =(E27*F$3) -> 0 | G27: 0 | H27: =(G27*H$3) -> 0 | I27: 0 | J27: =(I27*J$3) -> 0 | K27: 0 | L27: =(K27*L$3) -> 0 | M27: 0 | N27: =(M27*N$3) -> 0 | O27: 0 | P27: =(O27*P$3) -> 0 | Q27: 0 | R27: =(Q27*R$3) -> 0 | S27: 0 | T27: =(S27*T$3) -> 0 | U27: 0 | V27: =(U27*V$3) -> 0 | W27: 0 | X27: =(W27*X$3) -> 0 | Y27: 0 | Z27: =(Y27*Z$3) -> 0 | AA27: 0 | AB27: =(AA27*AB$3) -> 0 | AC27: 0 | AD27: =(AC27*AD$3) -> 0 | AE27: =SUM(C27,E27,G27,I27,K27,M27,O27,Q27,S27,U27,W27,Y27,AA27,AC27) -> 0 | AF27: =SUM(D27,F27,H27,J27,L27,N27,P27,R27,T27,V27,X27,Z27,AB27,AD27) -> 0
B28: Project Meetings | C28: 0 | D28: =(C28*D$3) -> 0 | E28: 0 | F28: =(E28*F$3) -> 0 | G28: 0 | H28: =(G28*H$3) -> 0 | I28: 0 | J28: =(I28*J$3) -> 0 | K28: 0 | L28: =(K28*L$3) -> 0 | M28: 0 | N28: =(M28*N$3) -> 0 | O28: 0 | P28: =(O28*P$3) -> 0 | Q28: 0 | R28: =(Q28*R$3) -> 0 | S28: 0 | T28: =(S28*T$3) -> 0 | U28: 0 | V28: =(U28*V$3) -> 0 | W28: 0 | X28: =(W28*X$3) -> 0 | Y28: 0 | Z28: =(Y28*Z$3) -> 0 | AA28: 0 | AB28: =(AA28*AB$3) -> 0 | AC28: 0 | AD28: =(AC28*AD$3) -> 0 | AE28: =SUM(C28,E28,G28,I28,K28,M28,O28,Q28,S28,U28,W28,Y28,AA28,AC28) -> 0 | AF28: =SUM(D28,F28,H28,J28,L28,N28,P28,R28,T28,V28,X28,Z28,AB28,AD28) -> 0
B29: Progress Reports | C29: 0 | D29: =(C29*D$3) -> 0 | E29: 0 | F29: =(E29*F$3) -> 0 | G29: 0 | H29: =(G29*H$3) -> 0 | I29: 0 | J29: =(I29*J$3) -> 0 | K29: 0 | L29: =(K29*L$3) -> 0 | M29: 0 | N29: =(M29*N$3) -> 0 | O29: 0 | P29: =(O29*P$3) -> 0 | Q29: 0 | R29: =(Q29*R$3) -> 0 | S29: 0 | T29: =(S29*T$3) -> 0 | U29: 0 | V29: =(U29*V$3) -> 0 | W29: 0 | X29: =(W29*X$3) -> 0 | Y29: 0 | Z29: =(Y29*Z$3) -> 0 | AA29: 0 | AB29: =(AA29*AB$3) -> 0 | AC29: 0 | AD29: =(AC29*AD$3) -> 0 | AE29: =SUM(C29,E29,G29,I29,K29,M29,O29,Q29,S29,U29,W29,Y29,AA29,AC29) -> 0 | AF29: =SUM(D29,F29,H29,J29,L29,N29,P29,R29,T29,V29,X29,Z29,AB29,AD29) -> 0
B30: Cost & Risk Management Plan | C30: 0 | D30: =(C30*D$3) -> 0 | E30: 0 | F30: =(E30*F$3) -> 0 | G30: 0 | H30: =(G30*H$3) -> 0 | I30: 0 | J30: =(I30*J$3) -> 0 | K30: 0 | L30: =(K30*L$3) -> 0 | M30: 0 | N30: =(M30*N$3) -> 0 | O30: 0 | P30: =(O30*P$3) -> 0 | Q30: 0 | R30: =(Q30*R$3) -> 0 | S30: 0 | T30: =(S30*T$3) -> 0 | U30: 0 | V30: =(U30*V$3) -> 0 | W30: 0 | X30: =(W30*X$3) -> 0 | Y30: 0 | Z30: =(Y30*Z$3) -> 0 | AA30: 0 | AB30: =(AA30*AB$3) -> 0 | AC30: 0 | AD30: =(AC30*AD$3) -> 0 | AE30: =SUM(C30,E30,G30,I30,K30,M30,O30,Q30,S30,U30,W30,Y30,AA30,AC30) -> 0 | AF30: =SUM(D30,F30,H30,J30,L30,N30,P30,R30,T30,V30,X30,Z30,AB30,AD30) -> 0
B31: Stakeholder Consultation | C31: 0 | D31: =(C31*D$3) -> 0 | E31: 0 | F31: =(E31*F$3) -> 0 | G31: 0 | H31: =(G31*H$3) -> 0 | I31: 0 | J31: =(I31*J$3) -> 0 | K31: 0 | L31: =(K31*L$3) -> 0 | M31: 0 | N31: =(M31*N$3) -> 0 | O31: 0 | P31: =(O31*P$3) -> 0 | Q31: 0 | R31: =(Q31*R$3) -> 0 | S31: 0 | T31: =(S31*T$3) -> 0 | U31: 0 | V31: =(U31*V$3) -> 0 | W31: 0 | X31: =(W31*X$3) -> 0 | Y31: 0 | Z31: =(Y31*Z$3) -> 0 | AA31: 0 | AB31: =(AA31*AB$3) -> 0 | AC31: 0 | AD31: =(AC31*AD$3) -> 0 | AE31: =SUM(C31,E31,G31,I31,K31,M31,O31,Q31,S31,U31,W31,Y31,AA31,AC31) -> 0 | AF31: =SUM(D31,F31,H31,J31,L31,N31,P31,R31,T31,V31,X31,Z31,AB31,AD31) -> 0
A32: B | B32: Health & Safety
B33: Safety & Health Duties (General) | C33: 0 | D33: =(C33*D$3) -> 0 | E33: 0 | F33: =(E33*F$3) -> 0 | G33: 0 | H33: =(G33*H$3) -> 0 | I33: 0 | J33: =(I33*J$3) -> 0 | K33: 0 | L33: =(K33*L$3) -> 0 | M33: 0 | N33: =(M33*N$3) -> 0 | O33: 0 | P33: =(O33*P$3) -> 0 | Q33: 0 | R33: =(Q33*R$3) -> 0 | S33: 0 | T33: =(S33*T$3) -> 0 | U33: 0 | V33: =(U33*V$3) -> 0 | W33: 0 | X33: =(W33*X$3) -> 0 | Y33: 0 | Z33: =(Y33*Z$3) -> 0 | AA33: 0 | AB33: =(AA33*AB$3) -> 0 | AC33: 0 | AD33: =(AC33*AD$3) -> 0 | AE33: =SUM(C33,E33,G33,I33,K33,M33,O33,Q33,S33,U33,W33,Y33,AA33,AC33) -> 0 | AF33: =SUM(D33,F33,H33,J33,L33,N33,P33,R33,T33,V33,X33,Z33,AB33,AD33) -> 0
B34: PSDP (All Duties & Reports) | C34: 0 | D34: =(C34*D$3) -> 0 | E34: 0 | F34: =(E34*F$3) -> 0 | G34: 0 | H34: =(G34*H$3) -> 0 | I34: 0 | J34: =(I34*J$3) -> 0 | K34: 0 | L34: =(K34*L$3) -> 0 | M34: 0 | N34: =(M34*N$3) -> 0 | O34: 0 | P34: =(O34*P$3) -> 0 | Q34: 0 | R34: =(Q34*R$3) -> 0 | S34: 0 | T34: =(S34*T$3) -> 0 | U34: 0 | V34: =(U34*V$3) -> 0 | W34: 0 | X34: =(W34*X$3) -> 0 | Y34: 0 | Z34: =(Y34*Z$3) -> 0 | AA34: 0 | AB34: =(AA34*AB$3) -> 0 | AC34: 0 | AD34: =(AC34*AD$3) -> 0 | AE34: =SUM(C34,E34,G34,I34,K34,M34,O34,Q34,S34,U34,W34,Y34,AA34,AC34) -> 0 | AF34: =SUM(D34,F34,H34,J34,L34,N34,P34,R34,T34,V34,X34,Z34,AB34,AD34) -> 0
A35: C | B35: Preliminary Design
B36: Civil and Structural Design | C36: 0 | D36: =(C36*D$3) -> 0 | E36: 0 | F36: =(E36*F$3) -> 0 | G36: 0 | H36: =(G36*H$3) -> 0 | I36: 0 | J36: =(I36*J$3) -> 0 | K36: 0 | L36: =(K36*L$3) -> 0 | M36: 0 | N36: =(M36*N$3) -> 0 | O36: 0 | P36: =(O36*P$3) -> 0 | Q36: 0 | R36: =(Q36*R$3) -> 0 | S36: 0 | T36: =(S36*T$3) -> 0 | U36: 0 | V36: =(U36*V$3) -> 0 | W36: 0 | X36: =(W36*X$3) -> 0 | Y36: 0 | Z36: =(Y36*Z$3) -> 0 | AA36: 0 | AB36: =(AA36*AB$3) -> 0 | AC36: 0 | AD36: =(AC36*AD$3) -> 0 | AE36: =SUM(C36,E36,G36,I36,K36,M36,O36,Q36,S36,U36,W36,Y36,AA36,AC36) -> 0 | AF36: =SUM(D36,F36,H36,J36,L36,N36,P36,R36,T36,V36,X36,Z36,AB36,AD36) -> 0
B37: Hydrology and Flood Risk Assessment | C37: 0 | D37: =(C37*D$3) -> 0 | E37: 0 | F37: =(E37*F$3) -> 0 | G37: 0 | H37: =(G37*H$3) -> 0 | I37: 0 | J37: =(I37*J$3) -> 0 | K37: 0 | L37: =(K37*L$3) -> 0 | M37: 0 | N37: =(M37*N$3) -> 0 | O37: 0 | P37: =(O37*P$3) -> 0 | Q37: 0 | R37: =(Q37*R$3) -> 0 | S37: 0 | T37: =(S37*T$3) -> 0 | U37: 0 | V37: =(U37*V$3) -> 0 | W37: 0 | X37: =(W37*X$3) -> 0 | Y37: 0 | Z37: =(Y37*Z$3) -> 0 | AA37: 0 | AB37: =(AA37*AB$3) -> 0 | AC37: 0 | AD37: =(AC37*AD$3) -> 0 | AE37: =SUM(C37,E37,G37,I37,K37,M37,O37,Q37,S37,U37,W37,Y37,AA37,AC37) -> 0 | AF37: =SUM(D37,F37,H37,J37,L37,N37,P37,R37,T37,V37,X37,Z37,AB37,AD37) -> 0
B38: Hydraulic Modelling | C38: 0 | D38: =(C38*D$3) -> 0 | E38: 0 | F38: =(E38*F$3) -> 0 | G38: 0 | H38: =(G38*H$3) -> 0 | I38: 0 | J38: =(I38*J$3) -> 0 | K38: 0 | L38: =(K38*L$3) -> 0 | M38: 0 | N38: =(M38*N$3) -> 0 | O38: 0 | P38: =(O38*P$3) -> 0 | Q38: 0 | R38: =(Q38*R$3) -> 0 | S38: 0 | T38: =(S38*T$3) -> 0 | U38: 0 | V38: =(U38*V$3) -> 0 | W38: 0 | X38: =(W38*X$3) -> 0 | Y38: 0 | Z38: =(Y38*Z$3) -> 0 | AA38: 0 | AB38: =(AA38*AB$3) -> 0 | AC38: 0 | AD38: =(AC38*AD$3) -> 0 | AE38: =SUM(C38,E38,G38,I38,K38,M38,O38,Q38,S38,U38,W38,Y38,AA38,AC38) -> 0 | AF38: =SUM(D38,F38,H38,J38,L38,N38,P38,R38,T38,V38,X38,Z38,AB38,AD38) -> 0
B39: Section 50 Report | C39: 0 | D39: =(C39*D$3) -> 0 | E39: 0 | F39: =(E39*F$3) -> 0 | G39: 0 | H39: =(G39*H$3) -> 0 | I39: 0 | J39: =(I39*J$3) -> 0 | K39: 0 | L39: =(K39*L$3) -> 0 | M39: 0 | N39: =(M39*N$3) -> 0 | O39: 0 | P39: =(O39*P$3) -> 0 | Q39: 0 | R39: =(Q39*R$3) -> 0 | S39: 0 | T39: =(S39*T$3) -> 0 | U39: 0 | V39: =(U39*V$3) -> 0 | W39: 0 | X39: =(W39*X$3) -> 0 | Y39: 0 | Z39: =(Y39*Z$3) -> 0 | AA39: 0 | AB39: =(AA39*AB$3) -> 0 | AC39: 0 | AD39: =(AC39*AD$3) -> 0 | AE39: =SUM(C39,E39,G39,I39,K39,M39,O39,Q39,S39,U39,W39,Y39,AA39,AC39) -> 0 | AF39: =SUM(D39,F39,H39,J39,L39,N39,P39,R39,T39,V39,X39,Z39,AB39,AD39) -> 0
B40: Preliminary Design Report/Planning Report | C40: 0 | D40: =(C40*D$3) -> 0 | E40: 0 | F40: =(E40*F$3) -> 0 | G40: 0 | H40: =(G40*H$3) -> 0 | I40: 0 | J40: =(I40*J$3) -> 0 | K40: 0 | L40: =(K40*L$3) -> 0 | M40: 0 | N40: =(M40*N$3) -> 0 | O40: 0 | P40: =(O40*P$3) -> 0 | Q40: 0 | R40: =(Q40*R$3) -> 0 | S40: 0 | T40: =(S40*T$3) -> 0 | U40: 0 | V40: =(U40*V$3) -> 0 | W40: 0 | X40: =(W40*X$3) -> 0 | Y40: 0 | Z40: =(Y40*Z$3) -> 0 | AA40: 0 | AB40: =(AA40*AB$3) -> 0 | AC40: 0 | AD40: =(AC40*AD$3) -> 0 | AE40: =SUM(C40,E40,G40,I40,K40,M40,O40,Q40,S40,U40,W40,Y40,AA40,AC40) -> 0 | AF40: =SUM(D40,F40,H40,J40,L40,N40,P40,R40,T40,V40,X40,Z40,AB40,AD40) -> 0
A41: D | B41: Ecology Surveys
...

Sheet Feenune Br
A1: Project Role | C1: Project Director | E1: Project Manager | G1: Project Supervisor Design Process | I1: Civil Design Team Lead/Senior Engineer | K1: Structures Design Team Lead/Senior Engineer | M1: Hydraulics/Hydrology Team Lead/Senior Hydraulic Engineer/Hydrologist | O1: Senior Ecologist/Senior Environmental Consultant | Q1: Ecologist/ Environmental Consultant | S1: Project Engineer | U1: Graduate Engineer | W1: Senior Technician | Y1: Junior Technician | AA1: Resident Engineer | AC1: Employer's Representative | AE1: Total Hours | AF1: Item Total
A2: Note: Rates used in Pricing Document must be in accordance with Framework Rates. Any tender containing rates higher than those outlined at the time of the Framework Agreement or agreed with the Contracting Authority following any subsequent Review Date maybe excluded from consideration for the Services Contract; Lower rates may be used. | C2: ='Rates Lot 6'!C4 -> Insert Name 1 | E2: ='Rates Lot 6'!C5 -> Insert Name 2 | G2: ='Rates Lot 6'!C6 -> Insert Name 3 | I2: ='Rates Lot 6'!C7 -> Insert Name 4 | K2: ='Rates Lot 6'!C8 -> Insert Name 5 | M2: ='Rates Lot 6'!C9 -> Insert Name 6 | O2: ='Rates Lot 6'!C10 -> Insert Name 7 | Q2: ='Rates Lot 6'!C11 -> Insert Name 8 | S2: ='Rates Lot 6'!C12 -> Insert Name 9 | U2: ='Rates Lot 6'!C13 -> Insert Name 10 | W2: ='Rates Lot 6'!C14 -> Insert Name 11 | Y2: ='Rates Lot 6'!C15 -> Insert Name 12 | AA2: ='Rates Lot 6'!C16 -> Insert Name 13 | AC2: ='Rates Lot 6'!C17 -> Insert Name 14
C3: No. Hours | D3: ='Rates Lot 6'!B4 -> 0 | E3: No. Hours | F3: ='Rates Lot 6'!B5 -> 0 | G3: No. Hours | H3: ='Rates Lot 6'!B6 -> 0 | I3: No. Hours | J3: ='Rates Lot 6'!B7 -> 0 | K3: No. Hours | L3: ='Rates Lot 6'!B8 -> 0 | M3: No. Hours | N3: ='Rates Lot 6'!B9 -> 0 | O3: No. Hours | P3: ='Rates Lot 6'!B10 -> 0 | Q3: No. Hours | R3: ='Rates Lot 6'!B11 -> 0 | S3: No. Hours | T3: ='Rates Lot 6'!B12 -> 0 | U3: No. Hours | V3: ='Rates Lot 6'!B13 -> 0 | W3: No. Hours | X3: ='Rates Lot 6'!B14 -> 0 | Y3: No. Hours | Z3: ='Rates Lot 6'!B15 -> 0 | AA3: No. Hours | AB3: ='Rates Lot 6'!B16 -> 0 | AC3: No. Hours | AD3: ='Rates Lot 6'!B17 -> 0
A4: Phase 1 | B4: Feasibility Study & Option Selection
A5: A | B5: General Service Requirements
B6: Project Management | C6: 0 | D6: =(C6*D$3) -> 0 | E6: 0 | F6: =(E6*F$3) -> 0 | G6: 0 | H6: =(G6*H$3) -> 0 | I6: 0 | J6: =(I6*J$3) -> 0 | K6: 0 | L6: =(K6*L$3) -> 0 | M6: 0 | N6: =(M6*N$3) -> 0 | O6: 0 | P6: =(O6*P$3) -> 0 | Q6: 0 | R6: =(Q6*R$3) -> 0 | S6: 0 | T6: =(S6*T$3) -> 0 | U6: 0 | V6: =(U6*V$3) -> 0 | W6: 0 | X6: =(W6*X$3) -> 0 | Y6: 0 | Z6: =(Y6*Z$3) -> 0 | AA6: 0 | AB6: =(AA6*AB$3) -> 0 | AC6: 0 | AD6: =(AC6*AD$3) -> 0 | AE6: =SUM(C6,E6,G6,I6,K6,M6,O6,Q6,S6,U6,W6,Y6,AA6,AC6) -> 0 | AF6: =SUM(D6,F6,H6,J6,L6,N6,P6,R6,T6,V6,X6,Z6,AB6,AD6) -> 0
B7: Project Meetings | C7: 0 | D7: =(C7*D$3) -> 0 | E7: 0 | F7: =(E7*F$3) -> 0 | G7: 0 | H7: =(G7*H$3) -> 0 | I7: 0 | J7: =(I7*J$3) -> 0 | K7: 0 | L7: =(K7*L$3) -> 0 | M7: 0 | N7: =(M7*N$3) -> 0 | O7: 0 | P7: =(O7*P$3) -> 0 | Q7: 0 | R7: =(Q7*R$3) -> 0 | S7: 0 | T7: =(S7*T$3) -> 0 | U7: 0 | V7: =(U7*V$3) -> 0 | W7: 0 | X7: =(W7*X$3) -> 0 | Y7: 0 | Z7: =(Y7*Z$3) -> 0 | AA7: 0 | AB7: =(AA7*AB$3) -> 0 | AC7: 0 | AD7: =(AC7*AD$3) -> 0 | AE7: =SUM(C7,E7,G7,I7,K7,M7,O7,Q7,S7,U7,W7,Y7,AA7,AC7) -> 0 | AF7: =SUM(D7,F7,H7,J7,L7,N7,P7,R7,T7,V7,X7,Z7,AB7,AD7) -> 0
B8: Progress Reports | C8: 0 | D8: =(C8*D$3) -> 0 | E8: 0 | F8: =(E8*F$3) -> 0 | G8: 0 | H8: =(G8*H$3) -> 0 | I8: 0 | J8: =(I8*J$3) -> 0 | K8: 0 | L8: =(K8*L$3) -> 0 | M8: 0 | N8: =(M8*N$3) -> 0 | O8: 0 | P8: =(O8*P$3) -> 0 | Q8: 0 | R8: =(Q8*R$3) -> 0 | S8: 0 | T8: =(S8*T$3) -> 0 | U8: 0 | V8: =(U8*V$3) -> 0 | W8: 0 | X8: =(W8*X$3) -> 0 | Y8: 0 | Z8: =(Y8*Z$3) -> 0 | AA8: 0 | AB8: =(AA8*AB$3) -> 0 | AC8: 0 | AD8: =(AC8*AD$3) -> 0 | AE8: =SUM(C8,E8,G8,I8,K8,M8,O8,Q8,S8,U8,W8,Y8,AA8,AC8) -> 0 | AF8: =SUM(D8,F8,H8,J8,L8,N8,P8,R8,T8,V8,X8,Z8,AB8,AD8) -> 0
B9: Cost & Risk Management Plan | C9: 0 | D9: =(C9*D$3) -> 0 | E9: 0 | F9: =(E9*F$3) -> 0 | G9: 0 | H9: =(G9*H$3) -> 0 | I9: 0 | J9: =(I9*J$3) -> 0 | K9: 0 | L9: =(K9*L$3) -> 0 | M9: 0 | N9: =(M9*N$3) -> 0 | O9: 0 | P9: =(O9*P$3) -> 0 | Q9: 0 | R9: =(Q9*R$3) -> 0 | S9: 0 | T9: =(S9*T$3) -> 0 | U9: 0 | V9: =(U9*V$3) -> 0 | W9: 0 | X9: =(W9*X$3) -> 0 | Y9: 0 | Z9: =(Y9*Z$3) -> 0 | AA9: 0 | AB9: =(AA9*AB$3) -> 0 | AC9: 0 | AD9: =(AC9*AD$3) -> 0 | AE9: =SUM(C9,E9,G9,I9,K9,M9,O9,Q9,S9,U9,W9,Y9,AA9,AC9) -> 0 | AF9: =SUM(D9,F9,H9,J9,L9,N9,P9,R9,T9,V9,X9,Z9,AB9,AD9) -> 0
B10: Stakeholder Consultation | C10: 0 | D10: =(C10*D$3) -> 0 | E10: 0 | F10: =(E10*F$3) -> 0 | G10: 0 | H10: =(G10*H$3) -> 0 | I10: 0 | J10: =(I10*J$3) -> 0 | K10: 0 | L10: =(K10*L$3) -> 0 | M10: 0 | N10: =(M10*N$3) -> 0 | O10: 0 | P10: =(O10*P$3) -> 0 | Q10: 0 | R10: =(Q10*R$3) -> 0 | S10: 0 | T10: =(S10*T$3) -> 0 | U10: 0 | V10: =(U10*V$3) -> 0 | W10: 0 | X10: =(W10*X$3) -> 0 | Y10: 0 | Z10: =(Y10*Z$3) -> 0 | AA10: 0 | AB10: =(AA10*AB$3) -> 0 | AC10: 0 | AD10: =(AC10*AD$3) -> 0 | AE10: =SUM(C10,E10,G10,I10,K10,M10,O10,Q10,S10,U10,W10,Y10,AA10,AC10) -> 0 | AF10: =SUM(D10,F10,H10,J10,L10,N10,P10,R10,T10,V10,X10,Z10,AB10,AD10) -> 0
B11: Preliminary Business Case | C11: 0 | D11: =(C11*D$3) -> 0 | E11: 0 | F11: =(E11*F$3) -> 0 | G11: 0 | H11: =(G11*H$3) -> 0 | I11: 0 | J11: =(I11*J$3) -> 0 | K11: 0 | L11: =(K11*L$3) -> 0 | M11: 0 | N11: =(M11*N$3) -> 0 | O11: 0 | P11: =(O11*P$3) -> 0 | Q11: 0 | R11: =(Q11*R$3) -> 0 | S11: 0 | T11: =(S11*T$3) -> 0 | U11: 0 | V11: =(U11*V$3) -> 0 | W11: 0 | X11: =(W11*X$3) -> 0 | Y11: 0 | Z11: =(Y11*Z$3) -> 0 | AA11: 0 | AB11: =(AA11*AB$3) -> 0 | AC11: 0 | AD11: =(AC11*AD$3) -> 0 | AE11: =SUM(C11,E11,G11,I11,K11,M11,O11,Q11,S11,U11,W11,Y11,AA11,AC11) -> 0 | AF11: =SUM(D11,F11,H11,J11,L11,N11,P11,R11,T11,V11,X11,Z11,AB11,AD11) -> 0
A12: B | B12: Health & Safety
B13: Safety & Health Duties (General) | C13: 0 | D13: =(C13*D$3) -> 0 | E13: 0 | F13: =(E13*F$3) -> 0 | G13: 0 | H13: =(G13*H$3) -> 0 | I13: 0 | J13: =(I13*J$3) -> 0 | K13: 0 | L13: =(K13*L$3) -> 0 | M13: 0 | N13: =(M13*N$3) -> 0 | O13: 0 | P13: =(O13*P$3) -> 0 | Q13: 0 | R13: =(Q13*R$3) -> 0 | S13: 0 | T13: =(S13*T$3) -> 0 | U13: 0 | V13: =(U13*V$3) -> 0 | W13: 0 | X13: =(W13*X$3) -> 0 | Y13: 0 | Z13: =(Y13*Z$3) -> 0 | AA13: 0 | AB13: =(AA13*AB$3) -> 0 | AC13: 0 | AD13: =(AC13*AD$3) -> 0 | AE13: =SUM(C13,E13,G13,I13,K13,M13,O13,Q13,S13,U13,W13,Y13,AA13,AC13) -> 0 | AF13: =SUM(D13,F13,H13,J13,L13,N13,P13,R13,T13,V13,X13,Z13,AB13,AD13) -> 0
B14: PSDP (All Duties & Reports) | C14: 0 | D14: =(C14*D$3) -> 0 | E14: 0 | F14: =(E14*F$3) -> 0 | G14: 0 | H14: =(G14*H$3) -> 0 | I14: 0 | J14: =(I14*J$3) -> 0 | K14: 0 | L14: =(K14*L$3) -> 0 | M14: 0 | N14: =(M14*N$3) -> 0 | O14: 0 | P14: =(O14*P$3) -> 0 | Q14: 0 | R14: =(Q14*R$3) -> 0 | S14: 0 | T14: =(S14*T$3) -> 0 | U14: 0 | V14: =(U14*V$3) -> 0 | W14: 0 | X14: =(W14*X$3) -> 0 | Y14: 0 | Z14: =(Y14*Z$3) -> 0 | AA14: 0 | AB14: =(AA14*AB$3) -> 0 | AC14: 0 | AD14: =(AC14*AD$3) -> 0 | AE14: =SUM(C14,E14,G14,I14,K14,M14,O14,Q14,S14,U14,W14,Y14,AA14,AC14) -> 0 | AF14: =SUM(D14,F14,H14,J14,L14,N14,P14,R14,T14,V14,X14,Z14,AB14,AD14) -> 0
A15: C | B15: Fesability - Options
B16: Feasibility Study and Option Selection Public Information Event | C16: 0 | D16: =(C16*D$3) -> 0 | E16: 0 | F16: =(E16*F$3) -> 0 | G16: 0 | H16: =(G16*H$3) -> 0 | I16: 0 | J16: =(I16*J$3) -> 0 | K16: 0 | L16: =(K16*L$3) -> 0 | M16: 0 | N16: =(M16*N$3) -> 0 | O16: 0 | P16: =(O16*P$3) -> 0 | Q16: 0 | R16: =(Q16*R$3) -> 0 | S16: 0 | T16: =(S16*T$3) -> 0 | U16: 0 | V16: =(U16*V$3) -> 0 | W16: 0 | X16: =(W16*X$3) -> 0 | Y16: 0 | Z16: =(Y16*Z$3) -> 0 | AA16: 0 | AB16: =(AA16*AB$3) -> 0 | AC16: 0 | AD16: =(AC16*AD$3) -> 0 | AE16: =SUM(C16,E16,G16,I16,K16,M16,O16,Q16,S16,U16,W16,Y16,AA16,AC16) -> 0 | AF16: =SUM(D16,F16,H16,J16,L16,N16,P16,R16,T16,V16,X16,Z16,AB16,AD16) -> 0
B17: Feasibility Study and Option Selection Report | C17: 0 | D17: =(C17*D$3) -> 0 | E17: 0 | F17: =(E17*F$3) -> 0 | G17: 0 | H17: =(G17*H$3) -> 0 | I17: 0 | J17: =(I17*J$3) -> 0 | K17: 0 | L17: =(K17*L$3) -> 0 | M17: 0 | N17: =(M17*N$3) -> 0 | O17: 0 | P17: =(O17*P$3) -> 0 | Q17: 0 | R17: =(Q17*R$3) -> 0 | S17: 0 | T17: =(S17*T$3) -> 0 | U17: 0 | V17: =(U17*V$3) -> 0 | W17: 0 | X17: =(W17*X$3) -> 0 | Y17: 0 | Z17: =(Y17*Z$3) -> 0 | AA17: 0 | AB17: =(AA17*AB$3) -> 0 | AC17: 0 | AD17: =(AC17*AD$3) -> 0 | AE17: =SUM(C17,E17,G17,I17,K17,M17,O17,Q17,S17,U17,W17,Y17,AA17,AC17) -> 0 | AF17: =SUM(D17,F17,H17,J17,L17,N17,P17,R17,T17,V17,X17,Z17,AB17,AD17) -> 0
A18: D | B18: Surveys & Studies
B19: Preliminary Ecological Assessment Report (PEAR) | C19: 0 | D19: =(C19*D$3) -> 0 | E19: 0 | F19: =(E19*F$3) -> 0 | G19: 0 | H19: =(G19*H$3) -> 0 | I19: 0 | J19: =(I19*J$3) -> 0 | K19: 0 | L19: =(K19*L$3) -> 0 | M19: 0 | N19: =(M19*N$3) -> 0 | O19: 0 | P19: =(O19*P$3) -> 0 | Q19: 0 | R19: =(Q19*R$3) -> 0 | S19: 0 | T19: =(S19*T$3) -> 0 | U19: 0 | V19: =(U19*V$3) -> 0 | W19: 0 | X19: =(W19*X$3) -> 0 | Y19: 0 | Z19: =(Y19*Z$3) -> 0 | AA19: 0 | AB19: =(AA19*AB$3) -> 0 | AC19: 0 | AD19: =(AC19*AD$3) -> 0 | AE19: =SUM(C19,E19,G19,I19,K19,M19,O19,Q19,S19,U19,W19,Y19,AA19,AC19) -> 0 | AF19: =SUM(D19,F19,H19,J19,L19,N19,P19,R19,T19,V19,X19,Z19,AB19,AD19) -> 0
B20: Preliminary Archaeological Assessment | C20: 0 | D20: =(C20*D$3) -> 0 | E20: 0 | F20: =(E20*F$3) -> 0 | G20: 0 | H20: =(G20*H$3) -> 0 | I20: 0 | J20: =(I20*J$3) -> 0 | K20: 0 | L20: =(K20*L$3) -> 0 | M20: 0 | N20: =(M20*N$3) -> 0 | O20: 0 | P20: =(O20*P$3) -> 0 | Q20: 0 | R20: =(Q20*R$3) -> 0 | S20: 0 | T20: =(S20*T$3) -> 0 | U20: 0 | V20: =(U20*V$3) -> 0 | W20: 0 | X20: =(W20*X$3) -> 0 | Y20: 0 | Z20: =(Y20*Z$3) -> 0 | AA20: 0 | AB20: =(AA20*AB$3) -> 0 | AC20: 0 | AD20: =(AC20*AD$3) -> 0 | AE20: =SUM(C20,E20,G20,I20,K20,M20,O20,Q20,S20,U20,W20,Y20,AA20,AC20) -> 0 | AF20: =SUM(D20,F20,H20,J20,L20,N20,P20,R20,T20,V20,X20,Z20,AB20,AD20) -> 0
B21: Preliminary Architectural and Cultural Heritage Assessment | C21: 0 | D21: =(C21*D$3) -> 0 | E21: 0 | F21: =(E21*F$3) -> 0 | G21: 0 | H21: =(G21*H$3) -> 0 | I21: 0 | J21: =(I21*J$3) -> 0 | K21: 0 | L21: =(K21*L$3) -> 0 | M21: 0 | N21: =(M21*N$3) -> 0 | O21: 0 | P21: =(O21*P$3) -> 0 | Q21: 0 | R21: =(Q21*R$3) -> 0 | S21: 0 | T21: =(S21*T$3) -> 0 | U21: 0 | V21: =(U21*V$3) -> 0 | W21: 0 | X21: =(W21*X$3) -> 0 | Y21: 0 | Z21: =(Y21*Z$3) -> 0 | AA21: 0 | AB21: =(AA21*AB$3) -> 0 | AC21: 0 | AD21: =(AC21*AD$3) -> 0 | AE21: =SUM(C21,E21,G21,I21,K21,M21,O21,Q21,S21,U21,W21,Y21,AA21,AC21) -> 0 | AF21: =SUM(D21,F21,H21,J21,L21,N21,P21,R21,T21,V21,X21,Z21,AB21,AD21) -> 0
B22: Preliminary Hydromorphology/Geomorphology Report | C22: 0 | D22: =(C22*D$3) -> 0 | E22: 0 | F22: =(E22*F$3) -> 0 | G22: 0 | H22: =(G22*H$3) -> 0 | I22: 0 | J22: =(I22*J$3) -> 0 | K22: 0 | L22: =(K22*L$3) -> 0 | M22: 0 | N22: =(M22*N$3) -> 0 | O22: 0 | P22: =(O22*P$3) -> 0 | Q22: 0 | R22: =(Q22*R$3) -> 0 | S22: 0 | T22: =(S22*T$3) -> 0 | U22: 0 | V22: =(U22*V$3) -> 0 | W22: 0 | X22: =(W22*X$3) -> 0 | Y22: 0 | Z22: =(Y22*Z$3) -> 0 | AA22: 0 | AB22: =(AA22*AB$3) -> 0 | AC22: 0 | AD22: =(AC22*AD$3) -> 0 | AE22: =SUM(C22,E22,G22,I22,K22,M22,O22,Q22,S22,U22,W22,Y22,AA22,AC22) -> 0 | AF22: =SUM(D22,F22,H22,J22,L22,N22,P22,R22,T22,V22,X22,Z22,AB22,AD22) -> 0
A23: Phase 1 Total | C23: =SUM(C6:C11,C13:C14,C16:C17,C19:C22) -> 0 | D23: =SUM(D6:D11,D13:D14,D16:D17,D19:D22) -> 0 | E23: =SUM(E6:E11,E13:E14,E16:E17,E19:E22) -> 0 | F23: =SUM(F6:F11,F13:F14,F16:F17,F19:F22) -> 0 | G23: =SUM(G6:G11,G13:G14,G16:G17,G19:G22) -> 0 | H23: =SUM(H6:H11,H13:H14,H16:H17,H19:H22) -> 0 | I23: =SUM(I6:I11,I13:I14,I16:I17,I19:I22) -> 0 | J23: =SUM(J6:J11,J13:J14,J16:J17,J19:J22) -> 0 | ... AF23: =SUM(AF6:AF11,AF13:AF14,AF16:AF17,AF19:AF22) -> 0
A25: Phase 2 | B25: Preliminary Design
A26: A | B26: General Service Requirements
B27: Project Management | C27: 0 | D27: =(C27*D$3) -> 0 | E27: 0 | F27: =(E27*F$3) -> 0 | G27: 0 | H27: =(G27*H$3) -> 0 | I27: 0 | J27: =(I27*J$3) -> 0 | K27: 0 | L27: =(K27*L$3) -> 0 | M27: 0 | N27: =(M27*N$3) -> 0 | O27: 0 | P27: =(O27*P$3) -> 0 | Q27: 0 | R27: =(Q27*R$3) -> 0 | S27: 0 | T27: =(S27*T$3) -> 0 | U27: 0 | V27: =(U27*V$3) -> 0 | W27: 0 | X27: =(W27*X$3) -> 0 | Y27: 0 | Z27: =(Y27*Z$3) -> 0 | AA27: 0 | AB27: =(AA27*AB$3) -> 0 | AC27: 0 | AD27: =(AC27*AD$3) -> 0 | AE27: =SUM(C27,E27,G27,I27,K27,M27,O27,Q27,S27,U27,W27,Y27,AA27,AC27) -> 0 | AF27: =SUM(D27,F27,H27,J27,L27,N27,P27,R27,T27,V27,X27,Z27,AB27,AD27) -> 0
B28: Project Meetings | C28: 0 | D28: =(C28*D$3) -> 0 | E28: 0 | F28: =(E28*F$3) -> 0 | G28: 0 | H28: =(G28*H$3) -> 0 | I28: 0 | J28: =(I28*J$3) -> 0 | K28: 0 | L28: =(K28*L$3) -> 0 | M28: 0 | N28: =(M28*N$3) -> 0 | O28: 0 | P28: =(O28*P$3) -> 0 | Q28: 0 | R28: =(Q28*R$3) -> 0 | S28: 0 | T28: =(S28*T$3) -> 0 | U28: 0 | V28: =(U28*V$3) -> 0 | W28: 0 | X28: =(W28*X$3) -> 0 | Y28: 0 | Z28: =(Y28*Z$3) -> 0 | AA28: 0 | AB28: =(AA28*AB$3) -> 0 | AC28: 0 | AD28: =(AC28*AD$3) -> 0 | AE28: =SUM(C28,E28,G28,I28,K28,M28,O28,Q28,S28,U28,W28,Y28,AA28,AC28) -> 0 | AF28: =SUM(D28,F28,H28,J28,L28,N28,P28,R28,T28,V28,X28,Z28,AB28,AD28) -> 0
B29: Progress Reports | C29: 0 | D29: =(C29*D$3) -> 0 | E29: 0 | F29: =(E29*F$3) -> 0 | G29: 0 | H29: =(G29*H$3) -> 0 | I29: 0 | J29: =(I29*J$3) -> 0 | K29: 0 | L29: =(K29*L$3) -> 0 | M29: 0 | N29: =(M29*N$3) -> 0 | O29: 0 | P29: =(O29*P$3) -> 0 | Q29: 0 | R29: =(Q29*R$3) -> 0 | S29: 0 | T29: =(S29*T$3) -> 0 | U29: 0 | V29: =(U29*V$3) -> 0 | W29: 0 | X29: =(W29*X$3) -> 0 | Y29: 0 | Z29: =(Y29*Z$3) -> 0 | AA29: 0 | AB29: =(AA29*AB$3) -> 0 | AC29: 0 | AD29: =(AC29*AD$3) -> 0 | AE29: =SUM(C29,E29,G29,I29,K29,M29,O29,Q29,S29,U29,W29,Y29,AA29,AC29) -> 0 | AF29: =SUM(D29,F29,H29,J29,L29,N29,P29,R29,T29,V29,X29,Z29,AB29,AD29) -> 0
B30: Cost & Risk Management Plan | C30: 0 | D30: =(C30*D$3) -> 0 | E30: 0 | F30: =(E30*F$3) -> 0 | G30: 0 | H30: =(G30*H$3) -> 0 | I30: 0 | J30: =(I30*J$3) -> 0 | K30: 0 | L30: =(K30*L$3) -> 0 | M30: 0 | N30: =(M30*N$3) -> 0 | O30: 0 | P30: =(O30*P$3) -> 0 | Q30: 0 | R30: =(Q30*R$3) -> 0 | S30: 0 | T30: =(S30*T$3) -> 0 | U30: 0 | V30: =(U30*V$3) -> 0 | W30: 0 | X30: =(W30*X$3) -> 0 | Y30: 0 | Z30: =(Y30*Z$3) -> 0 | AA30: 0 | AB30: =(AA30*AB$3) -> 0 | AC30: 0 | AD30: =(AC30*AD$3) -> 0 | AE30: =SUM(C30,E30,G30,I30,K30,M30,O30,Q30,S30,U30,W30,Y30,AA30,AC30) -> 0 | AF30: =SUM(D30,F30,H30,J30,L30,N30,P30,R30,T30,V30,X30,Z30,AB30,AD30) -> 0
B31: Stakeholder Consultation | C31: 0 | D31: =(C31*D$3) -> 0 | E31: 0 | F31: =(E31*F$3) -> 0 | G31: 0 | H31: =(G31*H$3) -> 0 | I31: 0 | J31: =(I31*J$3) -> 0 | K31: 0 | L31: =(K31*L$3) -> 0 | M31: 0 | N31: =(M31*N$3) -> 0 | O31: 0 | P31: =(O31*P$3) -> 0 | Q31: 0 | R31: =(Q31*R$3) -> 0 | S31: 0 | T31: =(S31*T$3) -> 0 | U31: 0 | V31: =(U31*V$3) -> 0 | W31: 0 | X31: =(W31*X$3) -> 0 | Y31: 0 | Z31: =(Y31*Z$3) -> 0 | AA31: 0 | AB31: =(AA31*AB$3) -> 0 | AC31: 0 | AD31: =(AC31*AD$3) -> 0 | AE31: =SUM(C31,E31,G31,I31,K31,M31,O31,Q31,S31,U31,W31,Y31,AA31,AC31) -> 0 | AF31: =SUM(D31,F31,H31,J31,L31,N31,P31,R31,T31,V31,X31,Z31,AB31,AD31) -> 0
A32: B | B32: Health & Safety
B33: Safety & Health Duties (General) | C33: 0 | D33: =(C33*D$3) -> 0 | E33: 0 | F33: =(E33*F$3) -> 0 | G33: 0 | H33: =(G33*H$3) -> 0 | I33: 0 | J33: =(I33*J$3) -> 0 | K33: 0 | L33: =(K33*L$3) -> 0 | M33: 0 | N33: =(M33*N$3) -> 0 | O33: 0 | P33: =(O33*P$3) -> 0 | Q33: 0 | R33: =(Q33*R$3) -> 0 | S33: 0 | T33: =(S33*T$3) -> 0 | U33: 0 | V33: =(U33*V$3) -> 0 | W33: 0 | X33: =(W33*X$3) -> 0 | Y33: 0 | Z33: =(Y33*Z$3) -> 0 | AA33: 0 | AB33: =(AA33*AB$3) -> 0 | AC33: 0 | AD33: =(AC33*AD$3) -> 0 | AE33: =SUM(C33,E33,G33,I33,K33,M33,O33,Q33,S33,U33,W33,Y33,AA33,AC33) -> 0 | AF33: =SUM(D33,F33,H33,J33,L33,N33,P33,R33,T33,V33,X33,Z33,AB33,AD33) -> 0
B34: PSDP (All Duties & Reports) | C34: 0 | D34: =(C34*D$3) -> 0 | E34: 0 | F34: =(E34*F$3) -> 0 | G34: 0 | H34: =(G34*H$3) -> 0 | I34: 0 | J34: =(I34*J$3) -> 0 | K34: 0 | L34: =(K34*L$3) -> 0 | M34: 0 | N34: =(M34*N$3) -> 0 | O34: 0 | P34: =(O34*P$3) -> 0 | Q34: 0 | R34: =(Q34*R$3) -> 0 | S34: 0 | T34: =(S34*T$3) -> 0 | U34: 0 | V34: =(U34*V$3) -> 0 | W34: 0 | X34: =(W34*X$3) -> 0 | Y34: 0 | Z34: =(Y34*Z$3) -> 0 | AA34: 0 | AB34: =(AA34*AB$3) -> 0 | AC34: 0 | AD34: =(AC34*AD$3) -> 0 | AE34: =SUM(C34,E34,G34,I34,K34,M34,O34,Q34,S34,U34,W34,Y34,AA34,AC34) -> 0 | AF34: =SUM(D34,F34,H34,J34,L34,N34,P34,R34,T34,V34,X34,Z34,AB34,AD34) -> 0
A35: C | B35: Preliminary Design
B36: Civil and Structural Design | C36: 0 | D36: =(C36*D$3) -> 0 | E36: 0 | F36: =(E36*F$3) -> 0 | G36: 0 | H36: =(G36*H$3) -> 0 | I36: 0 | J36: =(I36*J$3) -> 0 | K36: 0 | L36: =(K36*L$3) -> 0 | M36: 0 | N36: =(M36*N$3) -> 0 | O36: 0 | P36: =(O36*P$3) -> 0 | Q36: 0 | R36: =(Q36*R$3) -> 0 | S36: 0 | T36: =(S36*T$3) -> 0 | U36: 0 | V36: =(U36*V$3) -> 0 | W36: 0 | X36: =(W36*X$3) -> 0 | Y36: 0 | Z36: =(Y36*Z$3) -> 0 | AA36: 0 | AB36: =(AA36*AB$3) -> 0 | AC36: 0 | AD36: =(AC36*AD$3) -> 0 | AE36: =SUM(C36,E36,G36,I36,K36,M36,O36,Q36,S36,U36,W36,Y36,AA36,AC36) -> 0 | AF36: =SUM(D36,F36,H36,J36,L36,N36,P36,R36,T36,V36,X36,Z36,AB36,AD36) -> 0
B37: Hydrology and Flood Risk Assessment | C37: 0 | D37: =(C37*D$3) -> 0 | E37: 0 | F37: =(E37*F$3) -> 0 | G37: 0 | H37: =(G37*H$3) -> 0 | I37: 0 | J37: =(I37*J$3) -> 0 | K37: 0 | L37: =(K37*L$3) -> 0 | M37: 0 | N37: =(M37*N$3) -> 0 | O37: 0 | P37: =(O37*P$3) -> 0 | Q37: 0 | R37: =(Q37*R$3) -> 0 | S37: 0 | T37: =(S37*T$3) -> 0 | U37: 0 | V37: =(U37*V$3) -> 0 | W37: 0 | X37: =(W37*X$3) -> 0 | Y37: 0 | Z37: =(Y37*Z$3) -> 0 | AA37: 0 | AB37: =(AA37*AB$3) -> 0 | AC37: 0 | AD37: =(AC37*AD$3) -> 0 | AE37: =SUM(C37,E37,G37,I37,K37,M37,O37,Q37,S37,U37,W37,Y37,AA37,AC37) -> 0 | AF37: =SUM(D37,F37,H37,J37,L37,N37,P37,R37,T37,V37,X37,Z37,AB37,AD37) -> 0
B38: Hydraulic Modelling | C38: 0 | D38: =(C38*D$3) -> 0 | E38: 0 | F38: =(E38*F$3) -> 0 | G38: 0 | H38: =(G38*H$3) -> 0 | I38: 0 | J38: =(I38*J$3) -> 0 | K38: 0 | L38: =(K38*L$3) -> 0 | M38: 0 | N38: =(M38*N$3) -> 0 | O38: 0 | P38: =(O38*P$3) -> 0 | Q38: 0 | R38: =(Q38*R$3) -> 0 | S38: 0 | T38: =(S38*T$3) -> 0 | U38: 0 | V38: =(U38*V$3) -> 0 | W38: 0 | X38: =(W38*X$3) -> 0 | Y38: 0 | Z38: =(Y38*Z$3) -> 0 | AA38: 0 | AB38: =(AA38*AB$3) -> 0 | AC38: 0 | AD38: =(AC38*AD$3) -> 0 | AE38: =SUM(C38,E38,G38,I38,K38,M38,O38,Q38,S38,U38,W38,Y38,AA38,AC38) -> 0 | AF38: =SUM(D38,F38,H38,J38,L38,N38,P38,R38,T38,V38,X38,Z38,AB38,AD38) -> 0
B39: Section 50 Report | C39: 0 | D39: =(C39*D$3) -> 0 | E39: 0 | F39: =(E39*F$3) -> 0 | G39: 0 | H39: =(G39*H$3) -> 0 | I39: 0 | J39: =(I39*J$3) -> 0 | K39: 0 | L39: =(K39*L$3) -> 0 | M39: 0 | N39: =(M39*N$3) -> 0 | O39: 0 | P39: =(O39*P$3) -> 0 | Q39: 0 | R39: =(Q39*R$3) -> 0 | S39: 0 | T39: =(S39*T$3) -> 0 | U39: 0 | V39: =(U39*V$3) -> 0 | W39: 0 | X39: =(W39*X$3) -> 0 | Y39: 0 | Z39: =(Y39*Z$3) -> 0 | AA39: 0 | AB39: =(AA39*AB$3) -> 0 | AC39: 0 | AD39: =(AC39*AD$3) -> 0 | AE39: =SUM(C39,E39,G39,I39,K39,M39,O39,Q39,S39,U39,W39,Y39,AA39,AC39) -> 0 | AF39: =SUM(D39,F39,H39,J39,L39,N39,P39,R39,T39,V39,X39,Z39,AB39,AD39) -> 0
B40: Preliminary Design Report/Planning Report | C40: 0 | D40: =(C40*D$3) -> 0 | E40: 0 | F40: =(E40*F$3) -> 0 | G40: 0 | H40: =(G40*H$3) -> 0 | I40: 0 | J40: =(I40*J$3) -> 0 | K40: 0 | L40: =(K40*L$3) -> 0 | M40: 0 | N40: =(M40*N$3) -> 0 | O40: 0 | P40: =(O40*P$3) -> 0 | Q40: 0 | R40: =(Q40*R$3) -> 0 | S40: 0 | T40: =(S40*T$3) -> 0 | U40: 0 | V40: =(U40*V$3) -> 0 | W40: 0 | X40: =(W40*X$3) -> 0 | Y40: 0 | Z40: =(Y40*Z$3) -> 0 | AA40: 0 | AB40: =(AA40*AB$3) -> 0 | AC40: 0 | AD40: =(AC40*AD$3) -> 0 | AE40: =SUM(C40,E40,G40,I40,K40,M40,O40,Q40,S40,U40,W40,Y40,AA40,AC40) -> 0 | AF40: =SUM(D40,F40,H40,J40,L40,N40,P40,R40,T40,V40,X40,Z40,AB40,AD40) -> 0
A41: D | B41: Ecology Surveys
...
