Workbook

Sheet Cover
A1: #VALUE!
A2: National Barrier Mitigation Programme
A4: PRICING DOCUMENT
A5: Engineering & Environmental Consultancy Services Lot 6 - Integrated Consultancy Services
B7: Tenderer Name
B8: Killeen & Feenune Bridge Barrier Mitigation Project
B10: Signature of person authorised to sign Tenders on behalf of the Tenderer
B13: Date:
A16: Document Verification Sheet
A17: Project Title: | C17: Killeen & Feenune Bridge Barrier Mitigation Project
A18: Document Title: | C18: Pricing Document
A19: File Reference: | C19: NBMP_0842008.01.01.005
A20: Date: | C20: 46301 | D20: Issue No.: | E20: I02
A22: Revision | B22: Date | C22: Description | D22: For Tender
A23: I01 | B23: 46294 | C23: Prepared by | D23: Checked by | E23: Approved by
C24: P Glynn | D24: J McHale | E24: J McHale
A25: Revision | B25: Date | C25: Description | D25: For Tender
A26: I02 | B26: 46301 | C26: Prepared by | D26: Checked by | E26: Approved by
C27: P Glynn | D27: J McHale | E27: J McHale
A28: Revision | B28: Date | C28: Description
C29: Prepared by | D29: Checked by | E29: Approved by
A31: Revision | B31: Date | C31: Description
C32: Prepared by | D32: Checked by | E32: Approved by
A34: Revision | B34: Date | C34: Description
C35: Prepared by | D35: Checked by | E35: Approved by
A37: Revision | B37: Date | C37: Description
C38: Prepared by | D38: Checked by | E38: Approved by
A40: Revision | B40: Date | C40: Description
C41: Prepared by | D41: Checked by | E41: Approved by

Sheet Rates Lot 6
A1: Note: Rates used in Pricing Document must be in accordance with Framework Rates. Any tender containing rates higher than those outlined at the time of the Framework Agreement or agreed with the Contracting Authority following any subsequent Review Date maybe excluded from consideration for the Services Contract; Lower rates may be used. | E1: Tender Cost Summary
A3: Role Lot | B3: Rates Lot 6 | C3: Name of Person Lot 6 | E3: Phase | G3: Total
A4: Project Director | B4: 0 | C4: Insert Name 1 | E4: Phase 1 Feasibility Study & Option Selection | G4: ='Killeen Br'!AF23+'Feenune Br'!AF23 -> 0
A5: Project Manager | B5: 0 | C5: Insert Name 2 | E5: Phase 2 Preliminary Design | G5: ='Killeen Br'!AF55+'Feenune Br'!AF55 -> 0
A6: Project Supervisor Design Process | B6: 0 | C6: Insert Name 3 | E6: Phase 3 Statutory Process | G6: ='Killeen Br'!AF72+'Feenune Br'!AF72 -> 0
A7: Civil Design Team Lead/Senior Engineer | B7: 0 | C7: Insert Name 4
A8: Structures Design Team Lead/Senior Engineer | B8: 0 | C8: Insert Name 5
A9: Hydraulics/Hydrology Team Lead/Senior Hydraulic Engineer/Hydrologist | B9: 0 | C9: Insert Name 6
A10: Senior Ecologist/Senior Environmental Consultant | B10: 0 | C10: Insert Name 7
A11: Ecologist/ Environmental Consultant | B11: 0 | C11: Insert Name 8 | E11: Tender Total | G11: =SUM(G4:G6) -> 0
A12: Project Engineer | B12: 0 | C12: Insert Name 9 | E12: VAT at | F12: 0.23 | G12: =G11*F12 -> 0
A13: Graduate Engineer | B13: 0 | C13: Insert Name 10 | E13: Grand Total | G13: =G11+G12 -> 0
A14: Senior Technician | B14: 0 | C14: Insert Name 11
A15: Junior Technician | B15: 0 | C15: Insert Name 12
A16: Resident Engineer | B16: 0 | C16: Insert Name 13
A17: Employer's Representative | B17: 0 | C17: Insert Name 14
A19: Note: Tenderers are to Complete the Rates and Names in the cells highlighted orange in the table above. The rates and names should automatically transfer to the Time sheet. Tenderer are required to insert the hours associated with each team member for each activity. Totals should automatically total for each activity, team member, phase and Tender total. If a Tender identifies any errors they shall immediately notify the contracting authority.

Sheet Killeen Br
A1: Project Role | C1: Project Director | E1: Project Manager | G1: Project Supervisor Design Process | I1: Civil Design Team Lead/Senior Engineer | K1: Structures Design Team Lead/Senior Engineer | M1: Hydraulics/Hydrology Team Lead/Senior Hydraulic Engineer/Hydrologist | O1: Senior Ecologist/Senior Environmental Consultant | Q1: Ecologist/ Environmental Consultant | S1: Project Engineer | U1: Graduate Engineer | W1: Senior Technician | Y1: Junior Technician | AA1: Resident Engineer | AC1: Employer's Representative | AE1: Total Hours | AF1: Item Total
A2: Note: Rates used in Pricing Document must be in accordance with Framework Rates. Any tender containing rates higher than those outlined at the time of the Framework Agreement or agreed with the Contracting Authority following any subsequent Review Date maybe excluded from consideration for the Services Contract; Lower rates may be used. | C2: ='Rates Lot 6'!C4 -> Insert Name 1 | E2: ='Rates Lot 6'!C5 -> Insert Name 2 | G2: ='Rates Lot 6'!C6 -> Insert Name 3 | I2: ='Rates Lot 6'!C7 -> Insert Name 4 | K2: ='Rates Lot 6'!C8 -> Insert Name 5 | M2: ='Rates Lot 6'!C9 -> Insert Name 6 | O2: ='Rates Lot 6'!C10 -> Insert Name 7 | Q2: ='Rates Lot 6'!C11 -> Insert Name 8 | S2: ='Rates Lot 6'!C12 -> Insert Name 9 | U2: ='Rates Lot 6'!C13 -> Insert Name 10 | W2: ='Rates Lot 6'!C14 -> Insert Name 11 | Y2: ='Rates Lot 6'!C15 -> Insert Name 12 | AA2: ='Rates Lot 6'!C16 -> Insert Name 13 | AC2: ='Rates Lot 6'!C17 -> Insert Name 14
C3: No. Hours | D3: ='Rates Lot 6'!B4 -> 0 | E3: No. Hours | F3: ='Rates Lot 6'!B5 -> 0 | G3: No. Hours | H3: ='Rates Lot 6'!B6 -> 0 | I3: No. Hours | J3: ='Rates Lot 6'!B7 -> 0 | K3: No. Hours | L3: ='Rates Lot 6'!B8 -> 0 | M3: No. Hours | N3: ='Rates Lot 6'!B9 -> 0 | O3: No. Hours | P3: ='Rates Lot 6'!B10 -> 0 | Q3: No. Hours | R3: ='Rates Lot 6'!B11 -> 0 | S3: No. Hours | T3: ='Rates Lot 6'!B12 -> 0 | U3: No. Hours | V3: ='Rates Lot 6'!B13 -> 0 | W3: No. Hours | X3: ='Rates Lot 6'!B14 -> 0 | Y3: No. Hours | Z3: ='Rates Lot 6'!B15 -> 0 | AA3: No. Hours | AB3: ='Rates Lot 6'!B16 -> 0 | AC3: No. Hours | AD3: ='Rates Lot 6'!B17 -> 0
A4: Phase 1 | B4: Feasibility Study & Option Selection
A5: A | B5: General Service Requirements
B6: Project Management | C6: 0 | D6: =(C6*D$3) -> 0 | E6: 0 | F6: =(E6*F$3) -> 0 | G6: 0 | H6: =(G6*H$3) -> 0 | I6: 0 | J6: =(I6*J$3) -> 0 | K6: 0 | L6: =(K6*L$3) -> 0 | M6: 0 | N6: =(M6*N$3) -> 0 | O6: 0 | P6: =(O6*P$3) -> 0 | Q6: 0 | R6: =(Q6*R$3) -> 0 | S6: 0 | T6: =(S6*T$3) -> 0 | U6: 0 | V6: =(U6*V$3) -> 0 | W6: 0 | X6: =(W6*X$3) -> 0 | Y6: 0 | Z6: =(Y6*Z$3) -> 0 | AA6: 0 | AB6: =(AA6*AB$3) -> 0 | AC6: 0 | AD6: =(AC6*AD$3) -> 0 | AE6: =SUM(C6,E6,G6,I6,K6,M6,O6,Q6,S6,U6,W6,Y6,AA6,AC6) -> 0 | AF6: =SUM(D6,F6,H6,J6,L6,N6,P6,R6,T6,V6,X6,Z6,AB6,AD6) -> 0
B7: Project Meetings | C7: 0 | D7: =(C7*D$3) -> 0 | E7: 0 | F7: =(E7*F$3) -> 0 | G7: 0 | H7: =(G7*H$3) -> 0 | I7: 0 | J7: =(I7*J$3) -> 0 | K7: 0 | L7: =(K7*L$3) -> 0 | M7: 0 | N7: =(M7*N$3) -> 0 | O7: 0 | P7: =(O7*P$3) -> 0 | Q7: 0 | R7: =(Q7*R$3) -> 0 | S7: 0 | T7: =(S7*T$3) -> 0 | U7: 0 | V7: =(U7*V$3) -> 0 | W7: 0 | X7: =(W7*X$3) -> 0 | Y7: 0 | Z7: =(Y7*Z$3) -> 0 | AA7: 0 | AB7: =(AA7*AB$3) -> 0 | AC7: 0 | AD7: =(AC7*AD$3) -> 0 | AE7: =SUM(C7,E7,G7,I7,K7,M7,O7,Q7,S7,U7,W7,Y7,AA7,AC7) -> 0 | AF7: =SUM(D7,F7,H7,J7,L7,N7,P7,R7,T7,V7,X7,Z7,AB7,AD7) -> 0
B8: Progress Reports | C8: 0 | D8: =(C8*D$3) -> 0 | E8: 0 | F8: =(E8*F$3) -> 0 | G8: 0 | H8: =(G8*H$3) -> 0 | I8: 0 | J8: =(I8*J$3) -> 0 | K8: 0 | L8: =(K8*L$3) -> 0 | M8: 0 | N8: =(M8*N$3) -> 0 | O8: 0 | P8: =(O8*P$3) -> 0 | Q8: 0 | R8: =(Q8*R$3) -> 0 | S8: 0 | T8: =(S8*T$3) -> 0 | U8: 0 | V8: =(U8*V$3) -> 0 | W8: 0 | X8: =(W8*X$3) -> 0 | Y8: 0 | Z8: =(Y8*Z$3) -> 0 | AA8: 0 | AB8: =(AA8*AB$3) -> 0 | AC8: 0 | AD8: =(AC8*AD$3) -> 0 | AE8: =SUM(C8,E8,G8,I8,K8,M8,O8,Q8,S8,U8,W8,Y8,AA8,AC8) -> 0 | AF8: =SUM(D8,F8,H8,J8,L8,N8,P8,R8,T8,V8,X8,Z8,AB8,AD8) -> 0
B9: Cost & Risk Management Plan | C9: 0 | D9: =(C9*D$3) -> 0 | E9: 0 | F9: =(E9*F$3) -> 0 | G9: 0 | H9: =(G9*H$3) -> 0 | I9: 0 | J9: =(I9*J$3) -> 0 | K9: 0 | L9: =(K9*L$3) -> 0 | M9: 0 | N9: =(M9*N$3) -> 0 | O9: 0 | P9: =(O9*P$3) -> 0 | Q9: 0 | R9: =(Q9*R$3) -> 0 | S9: 0 | T9: =(S9*T$3) -> 0 | U9: 0 | V9: =(U9*V$3) -> 0 | W9: 0 | X9: =(W9*X$3) -> 0 | Y9: 0 | Z9: =(Y9*Z$3) -> 0 | AA9: 0 | AB9: =(AA9*AB$3) -> 0 | AC9: 0 | AD9: =(AC9*AD$3) -> 0 | AE9: =SUM(C9,E9,G9,I9,K9,M9,O9,Q9,S9,U9,W9,Y9,AA9,AC9) -> 0 | AF9: =SUM(D9,F9,H9,J9,L9,N9,P9,R9,T9,V9,X9,Z9,AB9,AD9) -> 0
B10: Stakeholder Consultation | C10: 0 | D10: =(C10*D$3) -> 0 | E10: 0 | F10: =(E10*F$3) -> 0 | G10: 0 | H10: =(G10*H$3) -> 0 | I10: 0 | J10: =(I10*J$3) -> 0 | K10: 0 | L10: =(K10*L$3) -> 0 | M10: 0 | N10: =(M10*N$3) -> 0 | O10: 0 | P10: =(O10*P$3) -> 0 | Q10: 0 | R10: =(Q10*R$3) -> 0 | S10: 0 | T10: =(S10*T$3) -> 0 | U10: 0 | V10: =(U10*V$3) -> 0 | W10: 0 | X10: =(W10*X$3) -> 0 | Y10: 0 | Z10: =(Y10*Z$3) -> 0 | AA10: 0 | AB10: =(AA10*AB$3) -> 0 | AC10: 0 | AD10: =(AC10*AD$3) -> 0 | AE10: =SUM(C10,E10,G10,I10,K10,M10,O10,Q10,S10,U10,W10,Y10,AA10,AC10) -> 0 | AF10: =SUM(D10,F10,H10,J10,L10,N10,P10,R10,T10,V10,X10,Z10,AB10,AD10) -> 0
B11: Preliminary Business Case | C11: 0 | D11: =(C11*D$3) -> 0 | E11: 0 | F11: =(E11*F$3) -> 0 | G11: 0 | H11: =(G11*H$3) -> 0 | I11: 0 | J11: =(I11*J$3) -> 0 | K11: 0 | L11: =(K11*L$3) -> 0 | M11: 0 | N11: =(M11*N$3) -> 0 | O11: 0 | P11: =(O11*P$3) -> 0 | Q11: 0 | R11: =(Q11*R$3) -> 0 | S11: 0 | T11: =(S11*T$3) -> 0 | U11: 0 | V11: =(U11*V$3) -> 0 | W11: 0 | X11: =(W11*X$3) -> 0 | Y11: 0 | Z11: =(Y11*Z$3) -> 0 | AA11: 0 | AB11: =(AA11*AB$3) -> 0 | AC11: 0 | AD11: =(AC11*AD$3) -> 0 | AE11: =SUM(C11,E11,G11,I11,K11,M11,O11,Q11,S11,U11,W11,Y11,AA11,AC11) -> 0 | AF11: =SUM(D11,F11,H11,J11,L11,N11,P11,R11,T11,V11,X11,Z11,AB11,AD11) -> 0
A12: B | B12: Health & Safety
B13: Safety & Health Duties (General) | C13: 0 | D13: =(C13*D$3) -> 0 | E13: 0 | F13: =(E13*F$3) -> 0 | G13: 0 | H13: =(G13*H$3) -> 0 | I13: 0 | J13: =(I13*J$3) -> 0 | K13: 0 | L13: =(K13*L$3) -> 0 | M13: 0 | N13: =(M13*N$3) -> 0 | O13: 0 | P13: =(O13*P$3) -> 0 | Q13: 0 | R13: =(Q13*R$3) -> 0 | S13: 0 | T13: =(S13*T$3) -> 0 | U13: 0 | V13: =(U13*V$3) -> 0 | W13: 0 | X13: =(W13*X$3) -> 0 | Y13: 0 | Z13: =(Y13*Z$3) -> 0 | AA13: 0 | AB13: =(AA13*AB$3) -> 0 | AC13: 0 | AD13: =(AC13*AD$3) -> 0 | AE13: =SUM(C13,E13,G13,I13,K13,M13,O13,Q13,S13,U13,W13,Y13,AA13,AC13) -> 0 | AF13: =SUM(D13,F13,H13,J13,L13,N13,P13,R13,T13,V13,X13,Z13,AB13,AD13) -> 0
B14: PSDP (All Duties & Reports) | C14: 0 | D14: =(C14*D$3) -> 0 | E14: 0 | F14: =(E14*F$3) -> 0 | G14: 0 | H14: =(G14*H$3) -> 0 | I14: 0 | J14: =(I14*J$3) -> 0 | K14: 0 | L14: =(K14*L$3) -> 0 | M14: 0 | N14: =(M14*N$3) -> 0 | O14: 0 | P14: =(O14*P$3) -> 0 | Q14: 0 | R14: =(Q14*R$3) -> 0 | S14: 0 | T14: =(S14*T$3) -> 0 | U14: 0 | V14: =(U14*V$3) -> 0 | W14: 0 | X14: =(W14*X$3) -> 0 | Y14: 0 | Z14: =(Y14*Z$3) -> 0 | AA14: 0 | AB14: =(AA14*AB$3) -> 0 | AC14: 0 | AD14: =(AC14*AD$3) -> 0 | AE14: =SUM(C14,E14,G14,I14,K14,M14,O14,Q14,S14,U14,W14,Y14,AA14,AC14) -> 0 | AF14: =SUM(D14,F14,H14,J14,L14,N14,P14,R14,T14,V14,X14,Z14,AB14,AD14) -> 0
A15: C | B15: Fesability - Options
B16: Feasibility Study and Option Selection Public Information Event | C16: 0 | D16: =(C16*D$3) -> 0 | E16: 0 | F16: =(E16*F$3) -> 0 | G16: 0 | H16: =(G16*H$3) -> 0 | I16: 0 | J16: =(I16*J$3) -> 0 | K16: 0 | L16: =(K16*L$3) -> 0 | M16: 0 | N16: =(M16*N$3) -> 0 | O16: 0 | P16: =(O16*P$3) -> 0 | Q16: 0 | R16: =(Q16*R$3) -> 0 | S16: 0 | T16: =(S16*T$3) -> 0 | U16: 0 | V16: =(U16*V$3) -> 0 | W16: 0 | X16: =(W16*X$3) -> 0 | Y16: 0 | Z16: =(Y16*Z$3) -> 0 | AA16: 0 | AB16: =(AA16*AB$3) -> 0 | AC16: 0 | AD16: =(AC16*AD$3) -> 0 | AE16: =SUM(C16,E16,G16,I16,K16,M16,O16,Q16,S16,U16,W16,Y16,AA16,AC16) -> 0 | AF16: =SUM(D16,F16,H16,J16,L16,N16,P16,R16,T16,V16,X16,Z16,AB16,AD16) -> 0
B17: Feasibility Study and Option Selection Report | C17: 0 | D17: =(C17*D$3) -> 0 | E17: 0 | F17: =(E17*F$3) -> 0 | G17: 0 | H17: =(G17*H$3) -> 0 | I17: 0 | J17: =(I17*J$3) -> 0 | K17: 0 | L17: =(K17*L$3) -> 0 | M17: 0 | N17: =(M17*N$3) -> 0 | O17: 0 | P17: =(O17*P$3) -> 0 | Q17: 0 | R17: =(Q17*R$3) -> 0 | S17: 0 | T17: =(S17*T$3) -> 0 | U17: 0 | V17: =(U17*V$3) -> 0 | W17: 0 | X17: =(W17*X$3) -> 0 | Y17: 0 | Z17: =(Y17*Z$3) -> 0 | AA17: 0 | AB17: =(AA17*AB$3) -> 0 | AC17: 0 | AD17: =(AC17*AD$3) -> 0 | AE17: =SUM(C17,E17,G17,I17,K17,M17,O17,Q17,S17,U17,W17,Y17,AA17,AC17) -> 0 | AF17: =SUM(D17,F17,H17,J17,L17,N17,P17,R17,T17,V17,X17,Z17,AB17,AD17) -> 0
A18: D | B18: Surveys & Studies
B19: Preliminary Ecological Assessment Report (PEAR) | C19: 0 | D19: =(C19*D$3) -> 0 | E19: 0 | F19: =(E19*F$3) -> 0 | G19: 0 | H19: =(G19*H$3) -> 0 | I19: 0 | J19: =(I19*J$3) -> 0 | K19: 0 | L19: =(K19*L$3) -> 0 | M19: 0 | N19: =(M19*N$3) -> 0 | O19: 0 | P19: =(O19*P$3) -> 0 | Q19: 0 | R19: =(Q19*R$3) -> 0 | S19: 0 | T19: =(S19*T$3) -> 0 | U19: 0 | V19: =(U19*V$3) -> 0 | W19: 0 | X19: =(W19*X$3) -> 0 | Y19: 0 | Z19: =(Y19*Z$3) -> 0 | AA19: 0 | AB19: =(AA19*AB$3) -> 0 | AC19: 0 | AD19: =(AC19*AD$3) -> 0 | AE19: =SUM(C19,E19,G19,I19,K19,M19,O19,Q19,S19,U19,W19,Y19,AA19,AC19) -> 0 | AF19: =SUM(D19,F19,H19,J19,L19,N19,P19,R19,T19,V19,X19,Z19,AB19,AD19) -> 0
B20: Preliminary Archaeological Assessment | C20: 0 | D20: =(C20*D$3) -> 0 | E20: 0 | F20: =(E20*F$3) -> 0 | G20: 0 | H20: =(G20*H$3) -> 0 | I20: 0 | J20: =(I20*J$3) -> 0 | K20: 0 | L20: =(K20*L$3) -> 0 | M20: 0 | N20: =(M20*N$3) -> 0 | O20: 0 | P20: =(O20*P$3) -> 0 | Q20: 0 | R20: =(Q20*R$3) -> 0 | S20: 0 | T20: =(S20*T$3) -> 0 | U20: 0 | V20: =(U20*V$3) -> 0 | W20: 0 | X20: =(W20*X$3) -> 0 | Y20: 0 | Z20: =(Y20*Z$3) -> 0 | AA20: 0 | AB20: =(AA20*AB$3) -> 0 | AC20: 0 | AD20: =(AC20*AD$3) -> 0 | AE20: =SUM(C20,E20,G20,I20,K20,M20,O20,Q20,S20,U20,W20,Y20,AA20,AC20) -> 0 | AF20: =SUM(D20,F20,H20,J20,L20,N20,P20,R20,T20,V20,X20,Z20,AB20,AD20) -> 0
B21: Preliminary Architectural and Cultural Heritage Assessment | C21: 0 | D21: =(C21*D$3) -> 0 | E21: 0 | F21: =(E21*F$3) -> 0 | G21: 0 | H21: =(G21*H$3) -> 0 | I21: 0 | J21: =(I21*J$3) -> 0 | K21: 0 | L21: =(K21*L$3) -> 0 | M21: 0 | N21: =(M21*N$3) -> 0 | O21: 0 | P21: =(O21*P$3) -> 0 | Q21: 0 | R21: =(Q21*R$3) -> 0 | S21: 0 | T21: =(S21*T$3) -> 0 | U21: 0 | V21: =(U21*V$3) -> 0 | W21: 0 | X21: =(W21*X$3) -> 0 | Y21: 0 | Z21: =(Y21*Z$3) -> 0 | AA21: 0 | AB21: =(AA21*AB$3) -> 0 | AC21: 0 | AD21: =(AC21*AD$3) -> 0 | AE21: =SUM(C21,E21,G21,I21,K21,M21,O21,Q21,S21,U21,W21,Y21,AA21,AC21) -> 0 | AF21: =SUM(D21,F21,H21,J21,L21,N21,P21,R21,T21,V21,X21,Z21,AB21,AD21) -> 0
B22: Preliminary Hydromorphology/Geomorphology Report | C22: 0 | D22: =(C22*D$3) -> 0 | E22: 0 | F22: =(E22*F$3) -> 0 | G22: 0 | H22: =(G22*H$3) -> 0 | I22: 0 | J22: =(I22*J$3) -> 0 | K22: 0 | L22: =(K22*L$3) -> 0 | M22: 0 | N22: =(M22*N$3) -> 0 | O22: 0 | P22: =(O22*P$3) -> 0 | Q22: 0 | R22: =(Q22*R$3) -> 0 | S22: 0 | T22: =(S22*T$3) -> 0 | U22: 0 | V22: =(U22*V$3) -> 0 | W22: 0 | X22: =(W22*X$3) -> 0 | Y22: 0 | Z22: =(Y22*Z$3) -> 0 | AA22: 0 | AB22: =(AA22*AB$3) -> 0 | AC22: 0 | AD22: =(AC22*AD$3) -> 0 | AE22: =SUM(C22,E22,G22,I22,K22,M22,O22,Q22,S22,U22,W22,Y22,AA22,AC22) -> 0 | AF22: =SUM(D22,F22,H22,J22,L22,N22,P22,R22,T22,V22,X22,Z22,AB22,AD22) -> 0
A23: Phase 1 Total | C23: =SUM(C6:C11,C13:C14,C16:C17,C19:C22) -> 0 | D23: =SUM(D6:D11,D13:D14,D16:D17,D19:D22) -> 0 | E23: =SUM(E6:E11,E13:E14,E16:E17,E19:E22) -> 0 | F23: =SUM(F6:F11,F13:F14,F16:F17,F19:F22) -> 0 | G23: =SUM(G6:G11,G13:G14,G16:G17,G19:G22) -> 0 | H23: =SUM(H6:H11,H13:H14,H16:H17,H19:H22) -> 0 | I23: =SUM(I6:I11,I13:I14,I16:I17,I19:I22) -> 0 | J23: =SUM(J6:J11,J13:J14,J16:J17,J19:J22) -> 0 | ... AF23: =SUM(AF6:AF11,AF13:AF14,AF16:AF17,AF19:AF22) -> 0
A25: Phase 2 | B25: Preliminary Design
A26: A | B26: General Service Requirements
B27: Project Management | C27: 0 | D27: =(C27*D$3) -> 0 | E27: 0 | F27: =(E27*F$3) -> 0 | G27: 0 | H27: =(G27*H$3) -> 0 | I27: 0 | J27: =(I27*J$3) -> 0 | K27: 0 | L27: =(K27*L$3) -> 0 | M27: 0 | N27: =(M27*N$3) -> 0 | O27: 0 | P27: =(O27*P$3) -> 0 | Q27: 0 | R27: =(Q27*R$3) -> 0 | S27: 0 | T27: =(S27*T$3) -> 0 | U27: 0 | V27: =(U27*V$3) -> 0 | W27: 0 | X27: =(W27*X$3) -> 0 | Y27: 0 | Z27: =(Y27*Z$3) -> 0 | AA27: 0 | AB27: =(AA27*AB$3) -> 0 | AC27: 0 | AD27: =(AC27*AD$3) -> 0 | AE27: =SUM(C27,E27,G27,I27,K27,M27,O27,Q27,S27,U27,W27,Y27,AA27,AC27) -> 0 | AF27: =SUM(D27,F27,H27,J27,L27,N27,P27,R27,T27,V27,X27,Z27,AB27,AD27) -> 0
B28: Project Meetings | C28: 0 | D28: =(C28*D$3) -> 0 | E28: 0 | F28: =(E28*F$3) -> 0 | G28: 0 | H28: =(G28*H$3) -> 0 | I28: 0 | J28: =(I28*J$3) -> 0 | K28: 0 | L28: =(K28*L$3) -> 0 | M28: 0 | N28: =(M28*N$3) -> 0 | O28: 0 | P28: =(O28*P$3) -> 0 | Q28: 0 | R28: =(Q28*R$3) -> 0 | S28: 0 | T28: =(S28*T$3) -> 0 | U28: 0 | V28: =(U28*V$3) -> 0 | W28: 0 | X28: =(W28*X$3) -> 0 | Y28: 0 | Z28: =(Y28*Z$3) -> 0 | AA28: 0 | AB28: =(AA28*AB$3) -> 0 | AC28: 0 | AD28: =(AC28*AD$3) -> 0 | AE28: =SUM(C28,E28,G28,I28,K28,M28,O28,Q28,S28,U28,W28,Y28,AA28,AC28) -> 0 | AF28: =SUM(D28,F28,H28,J28,L28,N28,P28,R28,T28,V28,X28,Z28,AB28,AD28) -> 0
B29: Progress Reports | C29: 0 | D29: =(C29*D$3) -> 0 | E29: 0 | F29: =(E29*F$3) -> 0 | G29: 0 | H29: =(G29*H$3) -> 0 | I29: 0 | J29: =(I29*J$3) -> 0 | K29: 0 | L29: =(K29*L$3) -> 0 | M29: 0 | N29: =(M29*N$3) -> 0 | O29: 0 | P29: =(O29*P$3) -> 0 | Q29: 0 | R29: =(Q29*R$3) -> 0 | S29: 0 | T29: =(S29*T$3) -> 0 | U29: 0 | V29: =(U29*V$3) -> 0 | W29: 0 | X29: =(W29*X$3) -> 0 | Y29: 0 | Z29: =(Y29*Z$3) -> 0 | AA29: 0 | AB29: =(AA29*AB$3) -> 0 | AC29: 0 | AD29: =(AC29*AD$3) -> 0 | AE29: =SUM(C29,E29,G29,I29,K29,M29,O29,Q29,S29,U29,W29,Y29,AA29,AC29) -> 0 | AF29: =SUM(D29,F29,H29,J29,L29,N29,P29,R29,T29,V29,X29,Z29,AB29,AD29) -> 0
B30: Cost & Risk Management Plan | C30: 0 | D30: =(C30*D$3) -> 0 | E30: 0 | F30: =(E30*F$3) -> 0 | G30: 0 | H30: =(G30*H$3) -> 0 | I30: 0 | J30: =(I30*J$3) -> 0 | K30: 0 | L30: =(K30*L$3) -> 0 | M30: 0 | N30: =(M30*N$3) -> 0 | O30: 0 | P30: =(O30*P$3) -> 0 | Q30: 0 | R30: =(Q30*R$3) -> 0 | S30: 0 | T30: =(S30*T$3) -> 0 | U30: 0 | V30: =(U30*V$3) -> 0 | W30: 0 | X30: =(W30*X$3) -> 0 | Y30: 0 | Z30: =(Y30*Z$3) -> 0 | AA30: 0 | AB30: =(AA30*AB$3) -> 0 | AC30: 0 | AD30: =(AC30*AD$3) -> 0 | AE30: =SUM(C30,E30,G30,I30,K30,M30,O30,Q30,S30,U30,W30,Y30,AA30,AC30) -> 0 | AF30: =SUM(D30,F30,H30,J30,L30,N30,P30,R30,T30,V30,X30,Z30,AB30,AD30) -> 0
B31: Stakeholder Consultation | C31: 0 | D31: =(C31*D$3) -> 0 | E31: 0 | F31: =(E31*F$3) -> 0 | G31: 0 | H31: =(G31*H$3) -> 0 | I31: 0 | J31: =(I31*J$3) -> 0 | K31: 0 | L31: =(K31*L$3) -> 0 | M31: 0 | N31: =(M31*N$3) -> 0 | O31: 0 | P31: =(O31*P$3) -> 0 | Q31: 0 | R31: =(Q31*R$3) -> 0 | S31: 0 | T31: =(S31*T$3) -> 0 | U31: 0 | V31: =(U31*V$3) -> 0 | W31: 0 | X31: =(W31*X$3) -> 0 | Y31: 0 | Z31: =(Y31*Z$3) -> 0 | AA31: 0 | AB31: =(AA31*AB$3) -> 0 | AC31: 0 | AD31: =(AC31*AD$3) -> 0 | AE31: =SUM(C31,E31,G31,I31,K31,M31,O31,Q31,S31,U31,W31,Y31,AA31,AC31) -> 0 | AF31: =SUM(D31,F31,H31,J31,L31,N31,P31,R31,T31,V31,X31,Z31,AB31,AD31) -> 0
A32: B | B32: Health & Safety
B33: Safety & Health Duties (General) | C33: 0 | D33: =(C33*D$3) -> 0 | E33: 0 | F33: =(E33*F$3) -> 0 | G33: 0 | H33: =(G33*H$3) -> 0 | I33: 0 | J33: =(I33*J$3) -> 0 | K33: 0 | L33: =(K33*L$3) -> 0 | M33: 0 | N33: =(M33*N$3) -> 0 | O33: 0 | P33: =(O33*P$3) -> 0 | Q33: 0 | R33: =(Q33*R$3) -> 0 | S33: 0 | T33: =(S33*T$3) -> 0 | U33: 0 | V33: =(U33*V$3) -> 0 | W33: 0 | X33: =(W33*X$3) -> 0 | Y33: 0 | Z33: =(Y33*Z$3) -> 0 | AA33: 0 | AB33: =(AA33*AB$3) -> 0 | AC33: 0 | AD33: =(AC33*AD$3) -> 0 | AE33: =SUM(C33,E33,G33,I33,K33,M33,O33,Q33,S33,U33,W33,Y33,AA33,AC33) -> 0 | AF33: =SUM(D33,F33,H33,J33,L33,N33,P33,R33,T33,V33,X33,Z33,AB33,AD33) -> 0
B34: PSDP (All Duties & Reports) | C34: 0 | D34: =(C34*D$3) -> 0 | E34: 0 | F34: =(E34*F$3) -> 0 | G34: 0 | H34: =(G34*H$3) -> 0 | I34: 0 | J34: =(I34*J$3) -> 0 | K34: 0 | L34: =(K34*L$3) -> 0 | M34: 0 | N34: =(M34*N$3) -> 0 | O34: 0 | P34: =(O34*P$3) -> 0 | Q34: 0 | R34: =(Q34*R$3) -> 0 | S34: 0 | T34: =(S34*T$3) -> 0 | U34: 0 | V34: =(U34*V$3) -> 0 | W34: 0 | X34: =(W34*X$3) -> 0 | Y34: 0 | Z34: =(Y34*Z$3) -> 0 | AA34: 0 | AB34: =(AA34*AB$3) -> 0 | AC34: 0 | AD34: =(AC34*AD$3) -> 0 | AE34: =SUM(C34,E34,G34,I34,K34,M34,O34,Q34,S34,U34,W34,Y34,AA34,AC34) -> 0 | AF34: =SUM(D34,F34,H34,J34,L34,N34,P34,R34,T34,V34,X34,Z34,AB34,AD34) -> 0
A35: C | B35: Preliminary Design
B36: Civil and Structural Design | C36: 0 | D36: =(C36*D$3) -> 0 | E36: 0 | F36: =(E36*F$3) -> 0 | G36: 0 | H36: =(G36*H$3) -> 0 | I36: 0 | J36: =(I36*J$3) -> 0 | K36: 0 | L36: =(K36*L$3) -> 0 | M36: 0 | N36: =(M36*N$3) -> 0 | O36: 0 | P36: =(O36*P$3) -> 0 | Q36: 0 | R36: =(Q36*R$3) -> 0 | S36: 0 | T36: =(S36*T$3) -> 0 | U36: 0 | V36: =(U36*V$3) -> 0 | W36: 0 | X36: =(W36*X$3) -> 0 | Y36: 0 | Z36: =(Y36*Z$3) -> 0 | AA36: 0 | AB36: =(AA36*AB$3) -> 0 | AC36: 0 | AD36: =(AC36*AD$3) -> 0 | AE36: =SUM(C36,E36,G36,I36,K36,M36,O36,Q36,S36,U36,W36,Y36,AA36,AC36) -> 0 | AF36: =SUM(D36,F36,H36,J36,L36,N36,P36,R36,T36,V36,X36,Z36,AB36,AD36) -> 0
B37: Hydrology and Flood Risk Assessment | C37: 0 | D37: =(C37*D$3) -> 0 | E37: 0 | F37: =(E37*F$3) -> 0 | G37: 0 | H37: =(G37*H$3) -> 0 | I37: 0 | J37: =(I37*J$3) -> 0 | K37: 0 | L37: =(K37*L$3) -> 0 | M37: 0 | N37: =(M37*N$3) -> 0 | O37: 0 | P37: =(O37*P$3) -> 0 | Q37: 0 | R37: =(Q37*R$3) -> 0 | S37: 0 | T37: =(S37*T$3) -> 0 | U37: 0 | V37: =(U37*V$3) -> 0 | W37: 0 | X37: =(W37*X$3) -> 0 | Y37: 0 | Z37: =(Y37*Z$3) -> 0 | AA37: 0 | AB37: =(AA37*AB$3) -> 0 | AC37: 0 | AD37: =(AC37*AD$3) -> 0 | AE37: =SUM(C37,E37,G37,I37,K37,M37,O37,Q37,S37,U37,W37,Y37,AA37,AC37) -> 0 | AF37: =SUM(D37,F37,H37,J37,L37,N37,P37,R37,T37,V37,X37,Z37,AB37,AD37) -> 0
B38: Hydraulic Modelling | C38: 0 | D38: =(C38*D$3) -> 0 | E38: 0 | F38: =(E38*F$3) -> 0 | G38: 0 | H38: =(G38*H$3) -> 0 | I38: 0 | J38: =(I38*J$3) -> 0 | K38: 0 | L38: =(K38*L$3) -> 0 | M38: 0 | N38: =(M38*N$3) -> 0 | O38: 0 | P38: =(O38*P$3) -> 0 | Q38: 0 | R38: =(Q38*R$3) -> 0 | S38: 0 | T38: =(S38*T$3) -> 0 | U38: 0 | V38: =(U38*V$3) -> 0 | W38: 0 | X38: =(W38*X$3) -> 0 | Y38: 0 | Z38: =(Y38*Z$3) -> 0 | AA38: 0 | AB38: =(AA38*AB$3) -> 0 | AC38: 0 | AD38: =(AC38*AD$3) -> 0 | AE38: =SUM(C38,E38,G38,I38,K38,M38,O38,Q38,S38,U38,W38,Y38,AA38,AC38) -> 0 | AF38: =SUM(D38,F38,H38,J38,L38,N38,P38,R38,T38,V38,X38,Z38,AB38,AD38) -> 0
B39: Section 50 Report | C39: 0 | D39: =(C39*D$3) -> 0 | E39: 0 | F39: =(E39*F$3) -> 0 | G39: 0 | H39: =(G39*H$3) -> 0 | I39: 0 | J39: =(I39*J$3) -> 0 | K39: 0 | L39: =(K39*L$3) -> 0 | M39: 0 | N39: =(M39*N$3) -> 0 | O39: 0 | P39: =(O39*P$3) -> 0 | Q39: 0 | R39: =(Q39*R$3) -> 0 | S39: 0 | T39: =(S39*T$3) -> 0 | U39: 0 | V39: =(U39*V$3) -> 0 | W39: 0 | X39: =(W39*X$3) -> 0 | Y39: 0 | Z39: =(Y39*Z$3) -> 0 | AA39: 0 | AB39: =(AA39*AB$3) -> 0 | AC39: 0 | AD39: =(AC39*AD$3) -> 0 | AE39: =SUM(C39,E39,G39,I39,K39,M39,O39,Q39,S39,U39,W39,Y39,AA39,AC39) -> 0 | AF39: =SUM(D39,F39,H39,J39,L39,N39,P39,R39,T39,V39,X39,Z39,AB39,AD39) -> 0
B40: Preliminary Design Report/Planning Report | C40: 0 | D40: =(C40*D$3) -> 0 | E40: 0 | F40: =(E40*F$3) -> 0 | G40: 0 | H40: =(G40*H$3) -> 0 | I40: 0 | J40: =(I40*J$3) -> 0 | K40: 0 | L40: =(K40*L$3) -> 0 | M40: 0 | N40: =(M40*N$3) -> 0 | O40: 0 | P40: =(O40*P$3) -> 0 | Q40: 0 | R40: =(Q40*R$3) -> 0 | S40: 0 | T40: =(S40*T$3) -> 0 | U40: 0 | V40: =(U40*V$3) -> 0 | W40: 0 | X40: =(W40*X$3) -> 0 | Y40: 0 | Z40: =(Y40*Z$3) -> 0 | AA40: 0 | AB40: =(AA40*AB$3) -> 0 | AC40: 0 | AD40: =(AC40*AD$3) -> 0 | AE40: =SUM(C40,E40,G40,I40,K40,M40,O40,Q40,S40,U40,W40,Y40,AA40,AC40) -> 0 | AF40: =SUM(D40,F40,H40,J40,L40,N40,P40,R40,T40,V40,X40,Z40,AB40,AD40) -> 0
A41: D | B41: Ecology Surveys
B42: Fossitt Habitat Survey | C42: 0 | D42: =(C42*D$3) -> 0 | E42: 0 | F42: =(E42*F$3) -> 0 | G42: 0 | H42: =(G42*H$3) -> 0 | I42: 0 | J42: =(I42*J$3) -> 0 | K42: 0 | L42: =(K42*L$3) -> 0 | M42: 0 | N42: =(M42*N$3) -> 0 | O42: 0 | P42: =(O42*P$3) -> 0 | Q42: 0 | R42: =(Q42*R$3) -> 0 | S42: 0 | T42: =(S42*T$3) -> 0 | U42: 0 | V42: =(U42*V$3) -> 0 | W42: 0 | X42: =(W42*X$3) -> 0 | Y42: 0 | Z42: =(Y42*Z$3) -> 0 | AA42: 0 | AB42: =(AA42*AB$3) -> 0 | AC42: 0 | AD42: =(AC42*AD$3) -> 0 | AE42: =SUM(C42,E42,G42,I42,K42,M42,O42,Q42,S42,U42,W42,Y42,AA42,AC42) -> 0 | AF42: =SUM(D42,F42,H42,J42,L42,N42,P42,R42,T42,V42,X42,Z42,AB42,AD42) -> 0
B43: Invasive and Non-Native Species Survey (INNS) | C43: 0 | D43: =(C43*D$3) -> 0 | E43: 0 | F43: =(E43*F$3) -> 0 | G43: 0 | H43: =(G43*H$3) -> 0 | I43: 0 | J43: =(I43*J$3) -> 0 | K43: 0 | L43: =(K43*L$3) -> 0 | M43: 0 | N43: =(M43*N$3) -> 0 | O43: 0 | P43: =(O43*P$3) -> 0 | Q43: 0 | R43: =(Q43*R$3) -> 0 | S43: 0 | T43: =(S43*T$3) -> 0 | U43: 0 | V43: =(U43*V$3) -> 0 | W43: 0 | X43: =(W43*X$3) -> 0 | Y43: 0 | Z43: =(Y43*Z$3) -> 0 | AA43: 0 | AB43: =(AA43*AB$3) -> 0 | AC43: 0 | AD43: =(AC43*AD$3) -> 0 | AE43: =SUM(C43,E43,G43,I43,K43,M43,O43,Q43,S43,U43,W43,Y43,AA43,AC43) -> 0 | AF43: =SUM(D43,F43,H43,J43,L43,N43,P43,R43,T43,V43,X43,Z43,AB43,AD43) -> 0
B44: Mammal Survey | C44: 0 | D44: =(C44*D$3) -> 0 | E44: 0 | F44: =(E44*F$3) -> 0 | G44: 0 | H44: =(G44*H$3) -> 0 | I44: 0 | J44: =(I44*J$3) -> 0 | K44: 0 | L44: =(K44*L$3) -> 0 | M44: 0 | N44: =(M44*N$3) -> 0 | O44: 0 | P44: =(O44*P$3) -> 0 | Q44: 0 | R44: =(Q44*R$3) -> 0 | S44: 0 | T44: =(S44*T$3) -> 0 | U44: 0 | V44: =(U44*V$3) -> 0 | W44: 0 | X44: =(W44*X$3) -> 0 | Y44: 0 | Z44: =(Y44*Z$3) -> 0 | AA44: 0 | AB44: =(AA44*AB$3) -> 0 | AC44: 0 | AD44: =(AC44*AD$3) -> 0 | AE44: =SUM(C44,E44,G44,I44,K44,M44,O44,Q44,S44,U44,W44,Y44,AA44,AC44) -> 0 | AF44: =SUM(D44,F44,H44,J44,L44,N44,P44,R44,T44,V44,X44,Z44,AB44,AD44) -> 0
B45: Bat Survey | C45: 0 | D45: =(C45*D$3) -> 0 | E45: 0 | F45: =(E45*F$3) -> 0 | G45: 0 | H45: =(G45*H$3) -> 0 | I45: 0 | J45: =(I45*J$3) -> 0 | K45: 0 | L45: =(K45*L$3) -> 0 | M45: 0 | N45: =(M45*N$3) -> 0 | O45: 0 | P45: =(O45*P$3) -> 0 | Q45: 0 | R45: =(Q45*R$3) -> 0 | S45: 0 | T45: =(S45*T$3) -> 0 | U45: 0 | V45: =(U45*V$3) -> 0 | W45: 0 | X45: =(W45*X$3) -> 0 | Y45: 0 | Z45: =(Y45*Z$3) -> 0 | AA45: 0 | AB45: =(AA45*AB$3) -> 0 | AC45: 0 | AD45: =(AC45*AD$3) -> 0 | AE45: =SUM(C45,E45,G45,I45,K45,M45,O45,Q45,S45,U45,W45,Y45,AA45,AC45) -> 0 | AF45: =SUM(D45,F45,H45,J45,L45,N45,P45,R45,T45,V45,X45,Z45,AB45,AD45) -> 0
B46: Nesting and Breeding Bird Survey | D46: =(C46*D$3) -> 0 | E46: 0 | F46: =(E46*F$3) -> 0 | G46: 0 | H46: =(G46*H$3) -> 0 | I46: 0 | J46: =(I46*J$3) -> 0 | K46: 0 | L46: =(K46*L$3) -> 0 | M46: 0 | N46: =(M46*N$3) -> 0 | O46: 0 | P46: =(O46*P$3) -> 0 | Q46: 0 | R46: =(Q46*R$3) -> 0 | S46: 0 | T46: =(S46*T$3) -> 0 | U46: 0 | V46: =(U46*V$3) -> 0 | W46: 0 | X46: =(W46*X$3) -> 0 | Y46: 0 | Z46: =(Y46*Z$3) -> 0 | AA46: 0 | AB46: =(AA46*AB$3) -> 0 | AC46: 0 | AD46: =(AC46*AD$3) -> 0 | AE46: =SUM(C46,E46,G46,I46,K46,M46,O46,Q46,S46,U46,W46,Y46,AA46,AC46) -> 0 | AF46: =SUM(D46,F46,H46,J46,L46,N46,P46,R46,T46,V46,X46,Z46,AB46,AD46) -> 0
B47: Fresh Water Pearl Mussel Survey | C47: 0 | D47: =(C47*D$3) -> 0 | E47: 0 | F47: =(E47*F$3) -> 0 | G47: 0 | H47: =(G47*H$3) -> 0 | I47: 0 | J47: =(I47*J$3) -> 0 | K47: 0 | L47: =(K47*L$3) -> 0 | M47: 0 | N47: =(M47*N$3) -> 0 | O47: 0 | P47: =(O47*P$3) -> 0 | Q47: 0 | R47: =(Q47*R$3) -> 0 | S47: 0 | T47: =(S47*T$3) -> 0 | U47: 0 | V47: =(U47*V$3) -> 0 | W47: 0 | X47: =(W47*X$3) -> 0 | Y47: 0 | Z47: =(Y47*Z$3) -> 0 | AA47: 0 | AB47: =(AA47*AB$3) -> 0 | AC47: 0 | AD47: =(AC47*AD$3) -> 0 | AE47: =SUM(C47,E47,G47,I47,K47,M47,O47,Q47,S47,U47,W47,Y47,AA47,AC47) -> 0 | AF47: =SUM(D47,F47,H47,J47,L47,N47,P47,R47,T47,V47,X47,Z47,AB47,AD47) -> 0
A48: E | B48: Environmental Studies & Reports
B49: AA Screening Report and Natura Impact Statement | C49: 0 | D49: =(C49*D$3) -> 0 | E49: 0 | F49: =(E49*F$3) -> 0 | G49: 0 | H49: =(G49*H$3) -> 0 | I49: 0 | J49: =(I49*J$3) -> 0 | K49: 0 | L49: =(K49*L$3) -> 0 | M49: 0 | N49: =(M49*N$3) -> 0 | O49: 0 | P49: =(O49*P$3) -> 0 | Q49: 0 | R49: =(Q49*R$3) -> 0 | S49: 0 | T49: =(S49*T$3) -> 0 | U49: 0 | V49: =(U49*V$3) -> 0 | W49: 0 | X49: =(W49*X$3) -> 0 | Y49: 0 | Z49: =(Y49*Z$3) -> 0 | AA49: 0 | AB49: =(AA49*AB$3) -> 0 | AC49: 0 | AD49: =(AC49*AD$3) -> 0 | AE49: =SUM(C49,E49,G49,I49,K49,M49,O49,Q49,S49,U49,W49,Y49,AA49,AC49) -> 0 | AF49: =SUM(D49,F49,H49,J49,L49,N49,P49,R49,T49,V49,X49,Z49,AB49,AD49) -> 0
B50: Ecological Impact Assessment Report (EcIA) | C50: 0 | D50: =(C50*D$3) -> 0 | E50: 0 | F50: =(E50*F$3) -> 0 | G50: 0 | H50: =(G50*H$3) -> 0 | I50: 0 | J50: =(I50*J$3) -> 0 | K50: 0 | L50: =(K50*L$3) -> 0 | M50: 0 | N50: =(M50*N$3) -> 0 | O50: 0 | P50: =(O50*P$3) -> 0 | Q50: 0 | R50: =(Q50*R$3) -> 0 | S50: 0 | T50: =(S50*T$3) -> 0 | U50: 0 | V50: =(U50*V$3) -> 0 | W50: 0 | X50: =(W50*X$3) -> 0 | Y50: 0 | Z50: =(Y50*Z$3) -> 0 | AA50: 0 | AB50: =(AA50*AB$3) -> 0 | AC50: 0 | AD50: =(AC50*AD$3) -> 0 | AE50: =SUM(C50,E50,G50,I50,K50,M50,O50,Q50,S50,U50,W50,Y50,AA50,AC50) -> 0 | AF50: =SUM(D50,F50,H50,J50,L50,N50,P50,R50,T50,V50,X50,Z50,AB50,AD50) -> 0
B51: WFD Screening Report | C51: 0 | D51: =(C51*D$3) -> 0 | E51: 0 | F51: =(E51*F$3) -> 0 | G51: 0 | H51: =(G51*H$3) -> 0 | I51: 0 | J51: =(I51*J$3) -> 0 | K51: 0 | L51: =(K51*L$3) -> 0 | M51: 0 | N51: =(M51*N$3) -> 0 | O51: 0 | P51: =(O51*P$3) -> 0 | Q51: 0 | R51: =(Q51*R$3) -> 0 | S51: 0 | T51: =(S51*T$3) -> 0 | U51: 0 | V51: =(U51*V$3) -> 0 | W51: 0 | X51: =(W51*X$3) -> 0 | Y51: 0 | Z51: =(Y51*Z$3) -> 0 | AA51: 0 | AB51: =(AA51*AB$3) -> 0 | AC51: 0 | AD51: =(AC51*AD$3) -> 0 | AE51: =SUM(C51,E51,G51,I51,K51,M51,O51,Q51,S51,U51,W51,Y51,AA51,AC51) -> 0 | AF51: =SUM(D51,F51,H51,J51,L51,N51,P51,R51,T51,V51,X51,Z51,AB51,AD51) -> 0
B52: EIA Screening Report | I52: 0 | J52: =(I52*J$3) -> 0 | K52: 0 | L52: =(K52*L$3) -> 0 | M52: 0 | N52: =(M52*N$3) -> 0 | O52: 0 | P52: =(O52*P$3) -> 0 | Q52: 0 | R52: =(Q52*R$3) -> 0 | S52: 0 | T52: =(S52*T$3) -> 0 | U52: 0 | V52: =(U52*V$3) -> 0 | W52: 0 | X52: =(W52*X$3) -> 0 | Y52: 0 | Z52: =(Y52*Z$3) -> 0 | AA52: 0 | AB52: =(AA52*AB$3) -> 0 | AC52: 0 | AD52: =(AC52*AD$3) -> 0 | AE52: =SUM(C52,E52,G52,I52,K52,M52,O52,Q52,S52,U52,W52,Y52,AA52,AC52) -> 0 | AF52: =SUM(D52,F52,H52,J52,L52,N52,P52,R52,T52,V52,X52,Z52,AB52,AD52) -> 0
B53: Preliminary CEMP | C53: 0 | D53: =(C53*D$3) -> 0 | E53: 0 | F53: =(E53*F$3) -> 0 | G53: 0 | H53: =(G53*H$3) -> 0 | I53: 0 | J53: =(I53*J$3) -> 0 | K53: 0 | L53: =(K53*L$3) -> 0 | M53: 0 | N53: =(M53*N$3) -> 0 | O53: 0 | P53: =(O53*P$3) -> 0 | Q53: 0 | R53: =(Q53*R$3) -> 0 | S53: 0 | T53: =(S53*T$3) -> 0 | U53: 0 | V53: =(U53*V$3) -> 0 | W53: 0 | X53: =(W53*X$3) -> 0 | Y53: 0 | Z53: =(Y53*Z$3) -> 0 | AA53: 0 | AB53: =(AA53*AB$3) -> 0 | AC53: 0 | AD53: =(AC53*AD$3) -> 0 | AE53: =SUM(C53,E53,G53,I53,K53,M53,O53,Q53,S53,U53,W53,Y53,AA53,AC53) -> 0 | AF53: =SUM(D53,F53,H53,J53,L53,N53,P53,R53,T53,V53,X53,Z53,AB53,AD53) -> 0
B54: Waste Management & Circular Economy | C54: 0 | D54: =(C54*D$3) -> 0 | E54: 0 | F54: =(E54*F$3) -> 0 | G54: 0 | H54: =(G54*H$3) -> 0 | I54: 0 | J54: =(I54*J$3) -> 0 | K54: 0 | L54: =(K54*L$3) -> 0 | M54: 0 | N54: =(M54*N$3) -> 0 | O54: 0 | P54: =(O54*P$3) -> 0 | Q54: 0 | R54: =(Q54*R$3) -> 0 | S54: 0 | T54: =(S54*T$3) -> 0 | U54: 0 | V54: =(U54*V$3) -> 0 | W54: 0 | X54: =(W54*X$3) -> 0 | Y54: 0 | Z54: =(Y54*Z$3) -> 0 | AA54: 0 | AB54: =(AA54*AB$3) -> 0 | AC54: 0 | AD54: =(AC54*AD$3) -> 0 | AE54: =SUM(C54,E54,G54,I54,K54,M54,O54,Q54,S54,U54,W54,Y54,AA54,AC54) -> 0 | AF54: =SUM(D54,F54,H54,J54,L54,N54,P54,R54,T54,V54,X54,Z54,AB54,AD54) -> 0
A55: Phase 2 Total | C55: =SUM(C49:C54,C42:C47,C36:C40,C33:C34,C27:C31) -> 0 | D55: =SUM(D49:D54,D42:D47,D36:D40,D33:D34,D27:D31) -> 0 | E55: =SUM(E49:E54,E42:E47,E36:E40,E33:E34,E27:E31) -> 0 | F55: =SUM(F49:F54,F42:F47,F36:F40,F33:F34,F27:F31) -> 0 | G55: =SUM(G49:G54,G42:G47,G36:G40,G33:G34,G27:G31) -> 0 | H55: =SUM(H49:H54,H42:H47,H36:H40,H33:H34,H27:H31) -> 0 | I55: =SUM(I49:I54,I42:I47,I36:I40,I33:I34,I27:I31) -> 0 | J55: =SUM(J49:J54,J42:J47,J36:J40,J33:J34,J27:J31) -> 0 | ... AF55: =SUM(AF49:AF54,AF42:AF47,AF36:AF40,AF33:AF34,AF27:AF31) -> 0
A57: Phase 3 | B57: Statutory Process
A58: A | B58: General Service Requirements
B59: Project Management | C59: 0 | D59: =(C59*D$3) -> 0 | E59: 0 | F59: =(E59*F$3) -> 0 | G59: 0 | H59: =(G59*H$3) -> 0 | I59: 0 | J59: =(I59*J$3) -> 0 | K59: 0 | L59: =(K59*L$3) -> 0 | M59: 0 | N59: =(M59*N$3) -> 0 | O59: 0 | P59: =(O59*P$3) -> 0 | Q59: 0 | R59: =(Q59*R$3) -> 0 | S59: 0 | T59: =(S59*T$3) -> 0 | U59: 0 | V59: =(U59*V$3) -> 0 | W59: 0 | X59: =(W59*X$3) -> 0 | Y59: 0 | Z59: =(Y59*Z$3) -> 0 | AA59: 0 | AB59: =(AA59*AB$3) -> 0 | AC59: 0 | AD59: =(AC59*AD$3) -> 0 | AE59: =SUM(C59,E59,G59,I59,K59,M59,O59,Q59,S59,U59,W59,Y59,AA59,AC59) -> 0 | AF59: =SUM(D59,F59,H59,J59,L59,N59,P59,R59,T59,V59,X59,Z59,AB59,AD59) -> 0
B60: Project Meetings | C60: 0 | D60: =(C60*D$3) -> 0 | E60: 0 | F60: =(E60*F$3) -> 0 | G60: 0 | H60: =(G60*H$3) -> 0 | I60: 0 | J60: =(I60*J$3) -> 0 | K60: 0 | L60: =(K60*L$3) -> 0 | M60: 0 | N60: =(M60*N$3) -> 0 | O60: 0 | P60: =(O60*P$3) -> 0 | Q60: 0 | R60: =(Q60*R$3) -> 0 | S60: 0 | T60: =(S60*T$3) -> 0 | U60: 0 | V60: =(U60*V$3) -> 0 | W60: 0 | X60: =(W60*X$3) -> 0 | Y60: 0 | Z60: =(Y60*Z$3) -> 0 | AA60: 0 | AB60: =(AA60*AB$3) -> 0 | AC60: 0 | AD60: =(AC60*AD$3) -> 0 | AE60: =SUM(C60,E60,G60,I60,K60,M60,O60,Q60,S60,U60,W60,Y60,AA60,AC60) -> 0 | AF60: =SUM(D60,F60,H60,J60,L60,N60,P60,R60,T60,V60,X60,Z60,AB60,AD60) -> 0
B61: Progress Reports | C61: 0 | D61: =(C61*D$3) -> 0 | E61: 0 | F61: =(E61*F$3) -> 0 | G61: 0 | H61: =(G61*H$3) -> 0 | I61: 0 | J61: =(I61*J$3) -> 0 | K61: 0 | L61: =(K61*L$3) -> 0 | M61: 0 | N61: =(M61*N$3) -> 0 | O61: 0 | P61: =(O61*P$3) -> 0 | Q61: 0 | R61: =(Q61*R$3) -> 0 | S61: 0 | T61: =(S61*T$3) -> 0 | U61: 0 | V61: =(U61*V$3) -> 0 | W61: 0 | X61: =(W61*X$3) -> 0 | Y61: 0 | Z61: =(Y61*Z$3) -> 0 | AA61: 0 | AB61: =(AA61*AB$3) -> 0 | AC61: 0 | AD61: =(AC61*AD$3) -> 0 | AE61: =SUM(C61,E61,G61,I61,K61,M61,O61,Q61,S61,U61,W61,Y61,AA61,AC61) -> 0 | AF61: =SUM(D61,F61,H61,J61,L61,N61,P61,R61,T61,V61,X61,Z61,AB61,AD61) -> 0
B62: Cost & Risk Management Plan | C62: 0 | D62: =(C62*D$3) -> 0 | E62: 0 | F62: =(E62*F$3) -> 0 | G62: 0 | H62: =(G62*H$3) -> 0 | I62: 0 | J62: =(I62*J$3) -> 0 | K62: 0 | L62: =(K62*L$3) -> 0 | M62: 0 | N62: =(M62*N$3) -> 0 | O62: 0 | P62: =(O62*P$3) -> 0 | Q62: 0 | R62: =(Q62*R$3) -> 0 | S62: 0 | T62: =(S62*T$3) -> 0 | U62: 0 | V62: =(U62*V$3) -> 0 | W62: 0 | X62: =(W62*X$3) -> 0 | Y62: 0 | Z62: =(Y62*Z$3) -> 0 | AA62: 0 | AB62: =(AA62*AB$3) -> 0 | AC62: 0 | AD62: =(AC62*AD$3) -> 0 | AE62: =SUM(C62,E62,G62,I62,K62,M62,O62,Q62,S62,U62,W62,Y62,AA62,AC62) -> 0 | AF62: =SUM(D62,F62,H62,J62,L62,N62,P62,R62,T62,V62,X62,Z62,AB62,AD62) -> 0
B63: Stakeholder Consultation | C63: 0 | D63: =(C63*D$3) -> 0 | E63: 0 | F63: =(E63*F$3) -> 0 | G63: 0 | H63: =(G63*H$3) -> 0 | I63: 0 | J63: =(I63*J$3) -> 0 | K63: 0 | L63: =(K63*L$3) -> 0 | M63: 0 | N63: =(M63*N$3) -> 0 | O63: 0 | P63: =(O63*P$3) -> 0 | Q63: 0 | R63: =(Q63*R$3) -> 0 | S63: 0 | T63: =(S63*T$3) -> 0 | U63: 0 | V63: =(U63*V$3) -> 0 | W63: 0 | X63: =(W63*X$3) -> 0 | Y63: 0 | Z63: =(Y63*Z$3) -> 0 | AA63: 0 | AB63: =(AA63*AB$3) -> 0 | AC63: 0 | AD63: =(AC63*AD$3) -> 0 | AE63: =SUM(C63,E63,G63,I63,K63,M63,O63,Q63,S63,U63,W63,Y63,AA63,AC63) -> 0 | AF63: =SUM(D63,F63,H63,J63,L63,N63,P63,R63,T63,V63,X63,Z63,AB63,AD63) -> 0
A64: B | B64: Health & Safety
B65: Safety & Health Duties (General) | C65: 0 | D65: =(C65*D$3) -> 0 | E65: 0 | F65: =(E65*F$3) -> 0 | G65: 0 | H65: =(G65*H$3) -> 0 | I65: 0 | J65: =(I65*J$3) -> 0 | K65: 0 | L65: =(K65*L$3) -> 0 | M65: 0 | N65: =(M65*N$3) -> 0 | O65: 0 | P65: =(O65*P$3) -> 0 | Q65: 0 | R65: =(Q65*R$3) -> 0 | S65: 0 | T65: =(S65*T$3) -> 0 | U65: 0 | V65: =(U65*V$3) -> 0 | W65: 0 | X65: =(W65*X$3) -> 0 | Y65: 0 | Z65: =(Y65*Z$3) -> 0 | AA65: 0 | AB65: =(AA65*AB$3) -> 0 | AC65: 0 | AD65: =(AC65*AD$3) -> 0 | AE65: =SUM(C65,E65,G65,I65,K65,M65,O65,Q65,S65,U65,W65,Y65,AA65,AC65) -> 0 | AF65: =SUM(D65,F65,H65,J65,L65,N65,P65,R65,T65,V65,X65,Z65,AB65,AD65) -> 0
B66: PSDP (All Duties & Reports) | C66: 0 | D66: =(C66*D$3) -> 0 | E66: 0 | F66: =(E66*F$3) -> 0 | G66: 0 | H66: =(G66*H$3) -> 0 | I66: 0 | J66: =(I66*J$3) -> 0 | K66: 0 | L66: =(K66*L$3) -> 0 | M66: 0 | N66: =(M66*N$3) -> 0 | O66: 0 | P66: =(O66*P$3) -> 0 | Q66: 0 | R66: =(Q66*R$3) -> 0 | S66: 0 | T66: =(S66*T$3) -> 0 | U66: 0 | V66: =(U66*V$3) -> 0 | W66: 0 | X66: =(W66*X$3) -> 0 | Y66: 0 | Z66: =(Y66*Z$3) -> 0 | AA66: 0 | AB66: =(AA66*AB$3) -> 0 | AC66: 0 | AD66: =(AC66*AD$3) -> 0 | AE66: =SUM(C66,E66,G66,I66,K66,M66,O66,Q66,S66,U66,W66,Y66,AA66,AC66) -> 0 | AF66: =SUM(D66,F66,H66,J66,L66,N66,P66,R66,T66,V66,X66,Z66,AB66,AD66) -> 0
A67: C | B67: Planning Process
B68: Pre-Planning Public Information Event | C68: 0 | D68: =(C68*D$3) -> 0 | E68: 0 | F68: =(E68*F$3) -> 0 | G68: 0 | H68: =(G68*H$3) -> 0 | I68: 0 | J68: =(I68*J$3) -> 0 | K68: 0 | L68: =(K68*L$3) -> 0 | M68: 0 | N68: =(M68*N$3) -> 0 | O68: 0 | P68: =(O68*P$3) -> 0 | Q68: 0 | R68: =(Q68*R$3) -> 0 | S68: 0 | T68: =(S68*T$3) -> 0 | U68: 0 | V68: =(U68*V$3) -> 0 | W68: 0 | X68: =(W68*X$3) -> 0 | Y68: 0 | Z68: =(Y68*Z$3) -> 0 | AA68: 0 | AB68: =(AA68*AB$3) -> 0 | AC68: 0 | AD68: =(AC68*AD$3) -> 0 | AE68: =SUM(C68,E68,G68,I68,K68,M68,O68,Q68,S68,U68,W68,Y68,AA68,AC68) -> 0 | AF68: =SUM(D68,F68,H68,J68,L68,N68,P68,R68,T68,V68,X68,Z68,AB68,AD68) -> 0
B69: Pre-Planning meeting with Mayo County Council | C69: 0 | D69: =(C69*D$3) -> 0 | E69: 0 | F69: =(E69*F$3) -> 0 | G69: 0 | H69: =(G69*H$3) -> 0 | I69: 0 | J69: =(I69*J$3) -> 0 | K69: 0 | L69: =(K69*L$3) -> 0 | M69: 0 | N69: =(M69*N$3) -> 0 | O69: 0 | P69: =(O69*P$3) -> 0 | Q69: 0 | R69: =(Q69*R$3) -> 0 | S69: 0 | T69: =(S69*T$3) -> 0 | U69: 0 | V69: =(U69*V$3) -> 0 | W69: 0 | X69: =(W69*X$3) -> 0 | Y69: 0 | Z69: =(Y69*Z$3) -> 0 | AA69: 0 | AB69: =(AA69*AB$3) -> 0 | AC69: 0 | AD69: =(AC69*AD$3) -> 0 | AE69: =SUM(C69,E69,G69,I69,K69,M69,O69,Q69,S69,U69,W69,Y69,AA69,AC69) -> 0 | AF69: =SUM(D69,F69,H69,J69,L69,N69,P69,R69,T69,V69,X69,Z69,AB69,AD69) -> 0
B70: Planning Application Preperation & Submission (note: Planning fees & newspaper notices to be paid by IFI) or Planning Exemption application preparation & submission | C70: 0 | D70: =(C70*D$3) -> 0 | E70: 0 | F70: =(E70*F$3) -> 0 | G70: 0 | H70: =(G70*H$3) -> 0 | I70: 0 | J70: =(I70*J$3) -> 0 | K70: 0 | L70: =(K70*L$3) -> 0 | M70: 0 | N70: =(M70*N$3) -> 0 | O70: 0 | P70: =(O70*P$3) -> 0 | Q70: 0 | R70: =(Q70*R$3) -> 0 | S70: 0 | T70: =(S70*T$3) -> 0 | U70: 0 | V70: =(U70*V$3) -> 0 | W70: 0 | X70: =(W70*X$3) -> 0 | Y70: 0 | Z70: =(Y70*Z$3) -> 0 | AA70: 0 | AB70: =(AA70*AB$3) -> 0 | AC70: 0 | AD70: =(AC70*AD$3) -> 0 | AE70: =SUM(C70,E70,G70,I70,K70,M70,O70,Q70,S70,U70,W70,Y70,AA70,AC70) -> 0 | AF70: =SUM(D70,F70,H70,J70,L70,N70,P70,R70,T70,V70,X70,Z70,AB70,AD70) -> 0
B71: Post Planning Review | C71: 0 | D71: =(C71*D$3) -> 0 | E71: 0 | F71: =(E71*F$3) -> 0 | G71: 0 | H71: =(G71*H$3) -> 0 | I71: 0 | J71: =(I71*J$3) -> 0 | K71: 0 | L71: =(K71*L$3) -> 0 | M71: 0 | N71: =(M71*N$3) -> 0 | O71: 0 | P71: =(O71*P$3) -> 0 | Q71: 0 | R71: =(Q71*R$3) -> 0 | S71: 0 | T71: =(S71*T$3) -> 0 | U71: 0 | V71: =(U71*V$3) -> 0 | W71: 0 | X71: =(W71*X$3) -> 0 | Y71: 0 | Z71: =(Y71*Z$3) -> 0 | AA71: 0 | AB71: =(AA71*AB$3) -> 0 | AC71: 0 | AD71: =(AC71*AD$3) -> 0 | AE71: =SUM(C71,E71,G71,I71,K71,M71,O71,Q71,S71,U71,W71,Y71,AA71,AC71) -> 0 | AF71: =SUM(D71,F71,H71,J71,L71,N71,P71,R71,T71,V71,X71,Z71,AB71,AD71) -> 0
A72: Phase 3 Total | C72: =SUM(C59:C63,C65:C66,C68:C71) -> 0 | D72: =SUM(D59:D63,D65:D66,D68:D71) -> 0 | E72: =SUM(E59:E63,E65:E66,E68:E71) -> 0 | F72: =SUM(F59:F63,F65:F66,F68:F71) -> 0 | G72: =SUM(G59:G63,G65:G66,G68:G71) -> 0 | H72: =SUM(H59:H63,H65:H66,H68:H71) -> 0 | I72: =SUM(I59:I63,I65:I66,I68:I71) -> 0 | J72: =SUM(J59:J63,J65:J66,J68:J71) -> 0 | ... AF72: =SUM(AF59:AF63,AF65:AF66,AF68:AF71) -> 0

Sheet Feenune Br
A1: Project Role | C1: Project Director | E1: Project Manager | G1: Project Supervisor Design Process | I1: Civil Design Team Lead/Senior Engineer | K1: Structures Design Team Lead/Senior Engineer | M1: Hydraulics/Hydrology Team Lead/Senior Hydraulic Engineer/Hydrologist | O1: Senior Ecologist/Senior Environmental Consultant | Q1: Ecologist/ Environmental Consultant | S1: Project Engineer | U1: Graduate Engineer | W1: Senior Technician | Y1: Junior Technician | AA1: Resident Engineer | AC1: Employer's Representative | AE1: Total Hours | AF1: Item Total
A2: Note: Rates used in Pricing Document must be in accordance with Framework Rates. Any tender containing rates higher than those outlined at the time of the Framework Agreement or agreed with the Contracting Authority following any subsequent Review Date maybe excluded from consideration for the Services Contract; Lower rates may be used. | C2: ='Rates Lot 6'!C4 -> Insert Name 1 | E2: ='Rates Lot 6'!C5 -> Insert Name 2 | G2: ='Rates Lot 6'!C6 -> Insert Name 3 | I2: ='Rates Lot 6'!C7 -> Insert Name 4 | K2: ='Rates Lot 6'!C8 -> Insert Name 5 | M2: ='Rates Lot 6'!C9 -> Insert Name 6 | O2: ='Rates Lot 6'!C10 -> Insert Name 7 | Q2: ='Rates Lot 6'!C11 -> Insert Name 8 | S2: ='Rates Lot 6'!C12 -> Insert Name 9 | U2: ='Rates Lot 6'!C13 -> Insert Name 10 | W2: ='Rates Lot 6'!C14 -> Insert Name 11 | Y2: ='Rates Lot 6'!C15 -> Insert Name 12 | AA2: ='Rates Lot 6'!C16 -> Insert Name 13 | AC2: ='Rates Lot 6'!C17 -> Insert Name 14
C3: No. Hours | D3: ='Rates Lot 6'!B4 -> 0 | E3: No. Hours | F3: ='Rates Lot 6'!B5 -> 0 | G3: No. Hours | H3: ='Rates Lot 6'!B6 -> 0 | I3: No. Hours | J3: ='Rates Lot 6'!B7 -> 0 | K3: No. Hours | L3: ='Rates Lot 6'!B8 -> 0 | M3: No. Hours | N3: ='Rates Lot 6'!B9 -> 0 | O3: No. Hours | P3: ='Rates Lot 6'!B10 -> 0 | Q3: No. Hours | R3: ='Rates Lot 6'!B11 -> 0 | S3: No. Hours | T3: ='Rates Lot 6'!B12 -> 0 | U3: No. Hours | V3: ='Rates Lot 6'!B13 -> 0 | W3: No. Hours | X3: ='Rates Lot 6'!B14 -> 0 | Y3: No. Hours | Z3: ='Rates Lot 6'!B15 -> 0 | AA3: No. Hours | AB3: ='Rates Lot 6'!B16 -> 0 | AC3: No. Hours | AD3: ='Rates Lot 6'!B17 -> 0
A4: Phase 1 | B4: Feasibility Study & Option Selection
A5: A | B5: General Service Requirements
B6: Project Management | C6: 0 | D6: =(C6*D$3) -> 0 | E6: 0 | F6: =(E6*F$3) -> 0 | G6: 0 | H6: =(G6*H$3) -> 0 | I6: 0 | J6: =(I6*J$3) -> 0 | K6: 0 | L6: =(K6*L$3) -> 0 | M6: 0 | N6: =(M6*N$3) -> 0 | O6: 0 | P6: =(O6*P$3) -> 0 | Q6: 0 | R6: =(Q6*R$3) -> 0 | S6: 0 | T6: =(S6*T$3) -> 0 | U6: 0 | V6: =(U6*V$3) -> 0 | W6: 0 | X6: =(W6*X$3) -> 0 | Y6: 0 | Z6: =(Y6*Z$3) -> 0 | AA6: 0 | AB6: =(AA6*AB$3) -> 0 | AC6: 0 | AD6: =(AC6*AD$3) -> 0 | AE6: =SUM(C6,E6,G6,I6,K6,M6,O6,Q6,S6,U6,W6,Y6,AA6,AC6) -> 0 | AF6: =SUM(D6,F6,H6,J6,L6,N6,P6,R6,T6,V6,X6,Z6,AB6,AD6) -> 0
B7: Project Meetings | C7: 0 | D7: =(C7*D$3) -> 0 | E7: 0 | F7: =(E7*F$3) -> 0 | G7: 0 | H7: =(G7*H$3) -> 0 | I7: 0 | J7: =(I7*J$3) -> 0 | K7: 0 | L7: =(K7*L$3) -> 0 | M7: 0 | N7: =(M7*N$3) -> 0 | O7: 0 | P7: =(O7*P$3) -> 0 | Q7: 0 | R7: =(Q7*R$3) -> 0 | S7: 0 | T7: =(S7*T$3) -> 0 | U7: 0 | V7: =(U7*V$3) -> 0 | W7: 0 | X7: =(W7*X$3) -> 0 | Y7: 0 | Z7: =(Y7*Z$3) -> 0 | AA7: 0 | AB7: =(AA7*AB$3) -> 0 | AC7: 0 | AD7: =(AC7*AD$3) -> 0 | AE7: =SUM(C7,E7,G7,I7,K7,M7,O7,Q7,S7,U7,W7,Y7,AA7,AC7) -> 0 | AF7: =SUM(D7,F7,H7,J7,L7,N7,P7,R7,T7,V7,X7,Z7,AB7,AD7) -> 0
B8: Progress Reports | C8: 0 | D8: =(C8*D$3) -> 0 | E8: 0 | F8: =(E8*F$3) -> 0 | G8: 0 | H8: =(G8*H$3) -> 0 | I8: 0 | J8: =(I8*J$3) -> 0 | K8: 0 | L8: =(K8*L$3) -> 0 | M8: 0 | N8: =(M8*N$3) -> 0 | O8: 0 | P8: =(O8*P$3) -> 0 | Q8: 0 | R8: =(Q8*R$3) -> 0 | S8: 0 | T8: =(S8*T$3) -> 0 | U8: 0 | V8: =(U8*V$3) -> 0 | W8: 0 | X8: =(W8*X$3) -> 0 | Y8: 0 | Z8: =(Y8*Z$3) -> 0 | AA8: 0 | AB8: =(AA8*AB$3) -> 0 | AC8: 0 | AD8: =(AC8*AD$3) -> 0 | AE8: =SUM(C8,E8,G8,I8,K8,M8,O8,Q8,S8,U8,W8,Y8,AA8,AC8) -> 0 | AF8: =SUM(D8,F8,H8,J8,L8,N8,P8,R8,T8,V8,X8,Z8,AB8,AD8) -> 0
B9: Cost & Risk Management Plan | C9: 0 | D9: =(C9*D$3) -> 0 | E9: 0 | F9: =(E9*F$3) -> 0 | G9: 0 | H9: =(G9*H$3) -> 0 | I9: 0 | J9: =(I9*J$3) -> 0 | K9: 0 | L9: =(K9*L$3) -> 0 | M9: 0 | N9: =(M9*N$3) -> 0 | O9: 0 | P9: =(O9*P$3) -> 0 | Q9: 0 | R9: =(Q9*R$3) -> 0 | S9: 0 | T9: =(S9*T$3) -> 0 | U9: 0 | V9: =(U9*V$3) -> 0 | W9: 0 | X9: =(W9*X$3) -> 0 | Y9: 0 | Z9: =(Y9*Z$3) -> 0 | AA9: 0 | AB9: =(AA9*AB$3) -> 0 | AC9: 0 | AD9: =(AC9*AD$3) -> 0 | AE9: =SUM(C9,E9,G9,I9,K9,M9,O9,Q9,S9,U9,W9,Y9,AA9,AC9) -> 0 | AF9: =SUM(D9,F9,H9,J9,L9,N9,P9,R9,T9,V9,X9,Z9,AB9,AD9) -> 0
B10: Stakeholder Consultation | C10: 0 | D10: =(C10*D$3) -> 0 | E10: 0 | F10: =(E10*F$3) -> 0 | G10: 0 | H10: =(G10*H$3) -> 0 | I10: 0 | J10: =(I10*J$3) -> 0 | K10: 0 | L10: =(K10*L$3) -> 0 | M10: 0 | N10: =(M10*N$3) -> 0 | O10: 0 | P10: =(O10*P$3) -> 0 | Q10: 0 | R10: =(Q10*R$3) -> 0 | S10: 0 | T10: =(S10*T$3) -> 0 | U10: 0 | V10: =(U10*V$3) -> 0 | W10: 0 | X10: =(W10*X$3) -> 0 | Y10: 0 | Z10: =(Y10*Z$3) -> 0 | AA10: 0 | AB10: =(AA10*AB$3) -> 0 | AC10: 0 | AD10: =(AC10*AD$3) -> 0 | AE10: =SUM(C10,E10,G10,I10,K10,M10,O10,Q10,S10,U10,W10,Y10,AA10,AC10) -> 0 | AF10: =SUM(D10,F10,H10,J10,L10,N10,P10,R10,T10,V10,X10,Z10,AB10,AD10) -> 0
B11: Preliminary Business Case | C11: 0 | D11: =(C11*D$3) -> 0 | E11: 0 | F11: =(E11*F$3) -> 0 | G11: 0 | H11: =(G11*H$3) -> 0 | I11: 0 | J11: =(I11*J$3) -> 0 | K11: 0 | L11: =(K11*L$3) -> 0 | M11: 0 | N11: =(M11*N$3) -> 0 | O11: 0 | P11: =(O11*P$3) -> 0 | Q11: 0 | R11: =(Q11*R$3) -> 0 | S11: 0 | T11: =(S11*T$3) -> 0 | U11: 0 | V11: =(U11*V$3) -> 0 | W11: 0 | X11: =(W11*X$3) -> 0 | Y11: 0 | Z11: =(Y11*Z$3) -> 0 | AA11: 0 | AB11: =(AA11*AB$3) -> 0 | AC11: 0 | AD11: =(AC11*AD$3) -> 0 | AE11: =SUM(C11,E11,G11,I11,K11,M11,O11,Q11,S11,U11,W11,Y11,AA11,AC11) -> 0 | AF11: =SUM(D11,F11,H11,J11,L11,N11,P11,R11,T11,V11,X11,Z11,AB11,AD11) -> 0
A12: B | B12: Health & Safety
B13: Safety & Health Duties (General) | C13: 0 | D13: =(C13*D$3) -> 0 | E13: 0 | F13: =(E13*F$3) -> 0 | G13: 0 | H13: =(G13*H$3) -> 0 | I13: 0 | J13: =(I13*J$3) -> 0 | K13: 0 | L13: =(K13*L$3) -> 0 | M13: 0 | N13: =(M13*N$3) -> 0 | O13: 0 | P13: =(O13*P$3) -> 0 | Q13: 0 | R13: =(Q13*R$3) -> 0 | S13: 0 | T13: =(S13*T$3) -> 0 | U13: 0 | V13: =(U13*V$3) -> 0 | W13: 0 | X13: =(W13*X$3) -> 0 | Y13: 0 | Z13: =(Y13*Z$3) -> 0 | AA13: 0 | AB13: =(AA13*AB$3) -> 0 | AC13: 0 | AD13: =(AC13*AD$3) -> 0 | AE13: =SUM(C13,E13,G13,I13,K13,M13,O13,Q13,S13,U13,W13,Y13,AA13,AC13) -> 0 | AF13: =SUM(D13,F13,H13,J13,L13,N13,P13,R13,T13,V13,X13,Z13,AB13,AD13) -> 0
B14: PSDP (All Duties & Reports) | C14: 0 | D14: =(C14*D$3) -> 0 | E14: 0 | F14: =(E14*F$3) -> 0 | G14: 0 | H14: =(G14*H$3) -> 0 | I14: 0 | J14: =(I14*J$3) -> 0 | K14: 0 | L14: =(K14*L$3) -> 0 | M14: 0 | N14: =(M14*N$3) -> 0 | O14: 0 | P14: =(O14*P$3) -> 0 | Q14: 0 | R14: =(Q14*R$3) -> 0 | S14: 0 | T14: =(S14*T$3) -> 0 | U14: 0 | V14: =(U14*V$3) -> 0 | W14: 0 | X14: =(W14*X$3) -> 0 | Y14: 0 | Z14: =(Y14*Z$3) -> 0 | AA14: 0 | AB14: =(AA14*AB$3) -> 0 | AC14: 0 | AD14: =(AC14*AD$3) -> 0 | AE14: =SUM(C14,E14,G14,I14,K14,M14,O14,Q14,S14,U14,W14,Y14,AA14,AC14) -> 0 | AF14: =SUM(D14,F14,H14,J14,L14,N14,P14,R14,T14,V14,X14,Z14,AB14,AD14) -> 0
A15: C | B15: Fesability - Options
B16: Feasibility Study and Option Selection Public Information Event | C16: 0 | D16: =(C16*D$3) -> 0 | E16: 0 | F16: =(E16*F$3) -> 0 | G16: 0 | H16: =(G16*H$3) -> 0 | I16: 0 | J16: =(I16*J$3) -> 0 | K16: 0 | L16: =(K16*L$3) -> 0 | M16: 0 | N16: =(M16*N$3) -> 0 | O16: 0 | P16: =(O16*P$3) -> 0 | Q16: 0 | R16: =(Q16*R$3) -> 0 | S16: 0 | T16: =(S16*T$3) -> 0 | U16: 0 | V16: =(U16*V$3) -> 0 | W16: 0 | X16: =(W16*X$3) -> 0 | Y16: 0 | Z16: =(Y16*Z$3) -> 0 | AA16: 0 | AB16: =(AA16*AB$3) -> 0 | AC16: 0 | AD16: =(AC16*AD$3) -> 0 | AE16: =SUM(C16,E16,G16,I16,K16,M16,O16,Q16,S16,U16,W16,Y16,AA16,AC16) -> 0 | AF16: =SUM(D16,F16,H16,J16,L16,N16,P16,R16,T16,V16,X16,Z16,AB16,AD16) -> 0
B17: Feasibility Study and Option Selection Report | C17: 0 | D17: =(C17*D$3) -> 0 | E17: 0 | F17: =(E17*F$3) -> 0 | G17: 0 | H17: =(G17*H$3) -> 0 | I17: 0 | J17: =(I17*J$3) -> 0 | K17: 0 | L17: =(K17*L$3) -> 0 | M17: 0 | N17: =(M17*N$3) -> 0 | O17: 0 | P17: =(O17*P$3) -> 0 | Q17: 0 | R17: =(Q17*R$3) -> 0 | S17: 0 | T17: =(S17*T$3) -> 0 | U17: 0 | V17: =(U17*V$3) -> 0 | W17: 0 | X17: =(W17*X$3) -> 0 | Y17: 0 | Z17: =(Y17*Z$3) -> 0 | AA17: 0 | AB17: =(AA17*AB$3) -> 0 | AC17: 0 | AD17: =(AC17*AD$3) -> 0 | AE17: =SUM(C17,E17,G17,I17,K17,M17,O17,Q17,S17,U17,W17,Y17,AA17,AC17) -> 0 | AF17: =SUM(D17,F17,H17,J17,L17,N17,P17,R17,T17,V17,X17,Z17,AB17,AD17) -> 0
A18: D | B18: Surveys & Studies
B19: Preliminary Ecological Assessment Report (PEAR) | C19: 0 | D19: =(C19*D$3) -> 0 | E19: 0 | F19: =(E19*F$3) -> 0 | G19: 0 | H19: =(G19*H$3) -> 0 | I19: 0 | J19: =(I19*J$3) -> 0 | K19: 0 | L19: =(K19*L$3) -> 0 | M19: 0 | N19: =(M19*N$3) -> 0 | O19: 0 | P19: =(O19*P$3) -> 0 | Q19: 0 | R19: =(Q19*R$3) -> 0 | S19: 0 | T19: =(S19*T$3) -> 0 | U19: 0 | V19: =(U19*V$3) -> 0 | W19: 0 | X19: =(W19*X$3) -> 0 | Y19: 0 | Z19: =(Y19*Z$3) -> 0 | AA19: 0 | AB19: =(AA19*AB$3) -> 0 | AC19: 0 | AD19: =(AC19*AD$3) -> 0 | AE19: =SUM(C19,E19,G19,I19,K19,M19,O19,Q19,S19,U19,W19,Y19,AA19,AC19) -> 0 | AF19: =SUM(D19,F19,H19,J19,L19,N19,P19,R19,T19,V19,X19,Z19,AB19,AD19) -> 0
B20: Preliminary Archaeological Assessment | C20: 0 | D20: =(C20*D$3) -> 0 | E20: 0 | F20: =(E20*F$3) -> 0 | G20: 0 | H20: =(G20*H$3) -> 0 | I20: 0 | J20: =(I20*J$3) -> 0 | K20: 0 | L20: =(K20*L$3) -> 0 | M20: 0 | N20: =(M20*N$3) -> 0 | O20: 0 | P20: =(O20*P$3) -> 0 | Q20: 0 | R20: =(Q20*R$3) -> 0 | S20: 0 | T20: =(S20*T$3) -> 0 | U20: 0 | V20: =(U20*V$3) -> 0 | W20: 0 | X20: =(W20*X$3) -> 0 | Y20: 0 | Z20: =(Y20*Z$3) -> 0 | AA20: 0 | AB20: =(AA20*AB$3) -> 0 | AC20: 0 | AD20: =(AC20*AD$3) -> 0 | AE20: =SUM(C20,E20,G20,I20,K20,M20,O20,Q20,S20,U20,W20,Y20,AA20,AC20) -> 0 | AF20: =SUM(D20,F20,H20,J20,L20,N20,P20,R20,T20,V20,X20,Z20,AB20,AD20) -> 0
B21: Preliminary Architectural and Cultural Heritage Assessment | C21: 0 | D21: =(C21*D$3) -> 0 | E21: 0 | F21: =(E21*F$3) -> 0 | G21: 0 | H21: =(G21*H$3) -> 0 | I21: 0 | J21: =(I21*J$3) -> 0 | K21: 0 | L21: =(K21*L$3) -> 0 | M21: 0 | N21: =(M21*N$3) -> 0 | O21: 0 | P21: =(O21*P$3) -> 0 | Q21: 0 | R21: =(Q21*R$3) -> 0 | S21: 0 | T21: =(S21*T$3) -> 0 | U21: 0 | V21: =(U21*V$3) -> 0 | W21: 0 | X21: =(W21*X$3) -> 0 | Y21: 0 | Z21: =(Y21*Z$3) -> 0 | AA21: 0 | AB21: =(AA21*AB$3) -> 0 | AC21: 0 | AD21: =(AC21*AD$3) -> 0 | AE21: =SUM(C21,E21,G21,I21,K21,M21,O21,Q21,S21,U21,W21,Y21,AA21,AC21) -> 0 | AF21: =SUM(D21,F21,H21,J21,L21,N21,P21,R21,T21,V21,X21,Z21,AB21,AD21) -> 0
B22: Preliminary Hydromorphology/Geomorphology Report | C22: 0 | D22: =(C22*D$3) -> 0 | E22: 0 | F22: =(E22*F$3) -> 0 | G22: 0 | H22: =(G22*H$3) -> 0 | I22: 0 | J22: =(I22*J$3) -> 0 | K22: 0 | L22: =(K22*L$3) -> 0 | M22: 0 | N22: =(M22*N$3) -> 0 | O22: 0 | P22: =(O22*P$3) -> 0 | Q22: 0 | R22: =(Q22*R$3) -> 0 | S22: 0 | T22: =(S22*T$3) -> 0 | U22: 0 | V22: =(U22*V$3) -> 0 | W22: 0 | X22: =(W22*X$3) -> 0 | Y22: 0 | Z22: =(Y22*Z$3) -> 0 | AA22: 0 | AB22: =(AA22*AB$3) -> 0 | AC22: 0 | AD22: =(AC22*AD$3) -> 0 | AE22: =SUM(C22,E22,G22,I22,K22,M22,O22,Q22,S22,U22,W22,Y22,AA22,AC22) -> 0 | AF22: =SUM(D22,F22,H22,J22,L22,N22,P22,R22,T22,V22,X22,Z22,AB22,AD22) -> 0
A23: Phase 1 Total | C23: =SUM(C6:C11,C13:C14,C16:C17,C19:C22) -> 0 | D23: =SUM(D6:D11,D13:D14,D16:D17,D19:D22) -> 0 | E23: =SUM(E6:E11,E13:E14,E16:E17,E19:E22) -> 0 | F23: =SUM(F6:F11,F13:F14,F16:F17,F19:F22) -> 0 | G23: =SUM(G6:G11,G13:G14,G16:G17,G19:G22) -> 0 | H23: =SUM(H6:H11,H13:H14,H16:H17,H19:H22) -> 0 | I23: =SUM(I6:I11,I13:I14,I16:I17,I19:I22) -> 0 | J23: =SUM(J6:J11,J13:J14,J16:J17,J19:J22) -> 0 | ... AF23: =SUM(AF6:AF11,AF13:AF14,AF16:AF17,AF19:AF22) -> 0
A25: Phase 2 | B25: Preliminary Design
A26: A | B26: General Service Requirements
B27: Project Management | C27: 0 | D27: =(C27*D$3) -> 0 | E27: 0 | F27: =(E27*F$3) -> 0 | G27: 0 | H27: =(G27*H$3) -> 0 | I27: 0 | J27: =(I27*J$3) -> 0 | K27: 0 | L27: =(K27*L$3) -> 0 | M27: 0 | N27: =(M27*N$3) -> 0 | O27: 0 | P27: =(O27*P$3) -> 0 | Q27: 0 | R27: =(Q27*R$3) -> 0 | S27: 0 | T27: =(S27*T$3) -> 0 | U27: 0 | V27: =(U27*V$3) -> 0 | W27: 0 | X27: =(W27*X$3) -> 0 | Y27: 0 | Z27: =(Y27*Z$3) -> 0 | AA27: 0 | AB27: =(AA27*AB$3) -> 0 | AC27: 0 | AD27: =(AC27*AD$3) -> 0 | AE27: =SUM(C27,E27,G27,I27,K27,M27,O27,Q27,S27,U27,W27,Y27,AA27,AC27) -> 0 | AF27: =SUM(D27,F27,H27,J27,L27,N27,P27,R27,T27,V27,X27,Z27,AB27,AD27) -> 0
B28: Project Meetings | C28: 0 | D28: =(C28*D$3) -> 0 | E28: 0 | F28: =(E28*F$3) -> 0 | G28: 0 | H28: =(G28*H$3) -> 0 | I28: 0 | J28: =(I28*J$3) -> 0 | K28: 0 | L28: =(K28*L$3) -> 0 | M28: 0 | N28: =(M28*N$3) -> 0 | O28: 0 | P28: =(O28*P$3) -> 0 | Q28: 0 | R28: =(Q28*R$3) -> 0 | S28: 0 | T28: =(S28*T$3) -> 0 | U28: 0 | V28: =(U28*V$3) -> 0 | W28: 0 | X28: =(W28*X$3) -> 0 | Y28: 0 | Z28: =(Y28*Z$3) -> 0 | AA28: 0 | AB28: =(AA28*AB$3) -> 0 | AC28: 0 | AD28: =(AC28*AD$3) -> 0 | AE28: =SUM(C28,E28,G28,I28,K28,M28,O28,Q28,S28,U28,W28,Y28,AA28,AC28) -> 0 | AF28: =SUM(D28,F28,H28,J28,L28,N28,P28,R28,T28,V28,X28,Z28,AB28,AD28) -> 0
B29: Progress Reports | C29: 0 | D29: =(C29*D$3) -> 0 | E29: 0 | F29: =(E29*F$3) -> 0 | G29: 0 | H29: =(G29*H$3) -> 0 | I29: 0 | J29: =(I29*J$3) -> 0 | K29: 0 | L29: =(K29*L$3) -> 0 | M29: 0 | N29: =(M29*N$3) -> 0 | O29: 0 | P29: =(O29*P$3) -> 0 | Q29: 0 | R29: =(Q29*R$3) -> 0 | S29: 0 | T29: =(S29*T$3) -> 0 | U29: 0 | V29: =(U29*V$3) -> 0 | W29: 0 | X29: =(W29*X$3) -> 0 | Y29: 0 | Z29: =(Y29*Z$3) -> 0 | AA29: 0 | AB29: =(AA29*AB$3) -> 0 | AC29: 0 | AD29: =(AC29*AD$3) -> 0 | AE29: =SUM(C29,E29,G29,I29,K29,M29,O29,Q29,S29,U29,W29,Y29,AA29,AC29) -> 0 | AF29: =SUM(D29,F29,H29,J29,L29,N29,P29,R29,T29,V29,X29,Z29,AB29,AD29) -> 0
B30: Cost & Risk Management Plan | C30: 0 | D30: =(C30*D$3) -> 0 | E30: 0 | F30: =(E30*F$3) -> 0 | G30: 0 | H30: =(G30*H$3) -> 0 | I30: 0 | J30: =(I30*J$3) -> 0 | K30: 0 | L30: =(K30*L$3) -> 0 | M30: 0 | N30: =(M30*N$3) -> 0 | O30: 0 | P30: =(O30*P$3) -> 0 | Q30: 0 | R30: =(Q30*R$3) -> 0 | S30: 0 | T30: =(S30*T$3) -> 0 | U30: 0 | V30: =(U30*V$3) -> 0 | W30: 0 | X30: =(W30*X$3) -> 0 | Y30: 0 | Z30: =(Y30*Z$3) -> 0 | AA30: 0 | AB30: =(AA30*AB$3) -> 0 | AC30: 0 | AD30: =(AC30*AD$3) -> 0 | AE30: =SUM(C30,E30,G30,I30,K30,M30,O30,Q30,S30,U30,W30,Y30,AA30,AC30) -> 0 | AF30: =SUM(D30,F30,H30,J30,L30,N30,P30,R30,T30,V30,X30,Z30,AB30,AD30) -> 0
B31: Stakeholder Consultation | C31: 0 | D31: =(C31*D$3) -> 0 | E31: 0 | F31: =(E31*F$3) -> 0 | G31: 0 | H31: =(G31*H$3) -> 0 | I31: 0 | J31: =(I31*J$3) -> 0 | K31: 0 | L31: =(K31*L$3) -> 0 | M31: 0 | N31: =(M31*N$3) -> 0 | O31: 0 | P31: =(O31*P$3) -> 0 | Q31: 0 | R31: =(Q31*R$3) -> 0 | S31: 0 | T31: =(S31*T$3) -> 0 | U31: 0 | V31: =(U31*V$3) -> 0 | W31: 0 | X31: =(W31*X$3) -> 0 | Y31: 0 | Z31: =(Y31*Z$3) -> 0 | AA31: 0 | AB31: =(AA31*AB$3) -> 0 | AC31: 0 | AD31: =(AC31*AD$3) -> 0 | AE31: =SUM(C31,E31,G31,I31,K31,M31,O31,Q31,S31,U31,W31,Y31,AA31,AC31) -> 0 | AF31: =SUM(D31,F31,H31,J31,L31,N31,P31,R31,T31,V31,X31,Z31,AB31,AD31) -> 0
A32: B | B32: Health & Safety
B33: Safety & Health Duties (General) | C33: 0 | D33: =(C33*D$3) -> 0 | E33: 0 | F33: =(E33*F$3) -> 0 | G33: 0 | H33: =(G33*H$3) -> 0 | I33: 0 | J33: =(I33*J$3) -> 0 | K33: 0 | L33: =(K33*L$3) -> 0 | M33: 0 | N33: =(M33*N$3) -> 0 | O33: 0 | P33: =(O33*P$3) -> 0 | Q33: 0 | R33: =(Q33*R$3) -> 0 | S33: 0 | T33: =(S33*T$3) -> 0 | U33: 0 | V33: =(U33*V$3) -> 0 | W33: 0 | X33: =(W33*X$3) -> 0 | Y33: 0 | Z33: =(Y33*Z$3) -> 0 | AA33: 0 | AB33: =(AA33*AB$3) -> 0 | AC33: 0 | AD33: =(AC33*AD$3) -> 0 | AE33: =SUM(C33,E33,G33,I33,K33,M33,O33,Q33,S33,U33,W33,Y33,AA33,AC33) -> 0 | AF33: =SUM(D33,F33,H33,J33,L33,N33,P33,R33,T33,V33,X33,Z33,AB33,AD33) -> 0
B34: PSDP (All Duties & Reports) | C34: 0 | D34: =(C34*D$3) -> 0 | E34: 0 | F34: =(E34*F$3) -> 0 | G34: 0 | H34: =(G34*H$3) -> 0 | I34: 0 | J34: =(I34*J$3) -> 0 | K34: 0 | L34: =(K34*L$3) -> 0 | M34: 0 | N34: =(M34*N$3) -> 0 | O34: 0 | P34: =(O34*P$3) -> 0 | Q34: 0 | R34: =(Q34*R$3) -> 0 | S34: 0 | T34: =(S34*T$3) -> 0 | U34: 0 | V34: =(U34*V$3) -> 0 | W34: 0 | X34: =(W34*X$3) -> 0 | Y34: 0 | Z34: =(Y34*Z$3) -> 0 | AA34: 0 | AB34: =(AA34*AB$3) -> 0 | AC34: 0 | AD34: =(AC34*AD$3) -> 0 | AE34: =SUM(C34,E34,G34,I34,K34,M34,O34,Q34,S34,U34,W34,Y34,AA34,AC34) -> 0 | AF34: =SUM(D34,F34,H34,J34,L34,N34,P34,R34,T34,V34,X34,Z34,AB34,AD34) -> 0
A35: C | B35: Preliminary Design
B36: Civil and Structural Design | C36: 0 | D36: =(C36*D$3) -> 0 | E36: 0 | F36: =(E36*F$3) -> 0 | G36: 0 | H36: =(G36*H$3) -> 0 | I36: 0 | J36: =(I36*J$3) -> 0 | K36: 0 | L36: =(K36*L$3) -> 0 | M36: 0 | N36: =(M36*N$3) -> 0 | O36: 0 | P36: =(O36*P$3) -> 0 | Q36: 0 | R36: =(Q36*R$3) -> 0 | S36: 0 | T36: =(S36*T$3) -> 0 | U36: 0 | V36: =(U36*V$3) -> 0 | W36: 0 | X36: =(W36*X$3) -> 0 | Y36: 0 | Z36: =(Y36*Z$3) -> 0 | AA36: 0 | AB36: =(AA36*AB$3) -> 0 | AC36: 0 | AD36: =(AC36*AD$3) -> 0 | AE36: =SUM(C36,E36,G36,I36,K36,M36,O36,Q36,S36,U36,W36,Y36,AA36,AC36) -> 0 | AF36: =SUM(D36,F36,H36,J36,L36,N36,P36,R36,T36,V36,X36,Z36,AB36,AD36) -> 0
B37: Hydrology and Flood Risk Assessment | C37: 0 | D37: =(C37*D$3) -> 0 | E37: 0 | F37: =(E37*F$3) -> 0 | G37: 0 | H37: =(G37*H$3) -> 0 | I37: 0 | J37: =(I37*J$3) -> 0 | K37: 0 | L37: =(K37*L$3) -> 0 | M37: 0 | N37: =(M37*N$3) -> 0 | O37: 0 | P37: =(O37*P$3) -> 0 | Q37: 0 | R37: =(Q37*R$3) -> 0 | S37: 0 | T37: =(S37*T$3) -> 0 | U37: 0 | V37: =(U37*V$3) -> 0 | W37: 0 | X37: =(W37*X$3) -> 0 | Y37: 0 | Z37: =(Y37*Z$3) -> 0 | AA37: 0 | AB37: =(AA37*AB$3) -> 0 | AC37: 0 | AD37: =(AC37*AD$3) -> 0 | AE37: =SUM(C37,E37,G37,I37,K37,M37,O37,Q37,S37,U37,W37,Y37,AA37,AC37) -> 0 | AF37: =SUM(D37,F37,H37,J37,L37,N37,P37,R37,T37,V37,X37,Z37,AB37,AD37) -> 0
B38: Hydraulic Modelling | C38: 0 | D38: =(C38*D$3) -> 0 | E38: 0 | F38: =(E38*F$3) -> 0 | G38: 0 | H38: =(G38*H$3) -> 0 | I38: 0 | J38: =(I38*J$3) -> 0 | K38: 0 | L38: =(K38*L$3) -> 0 | M38: 0 | N38: =(M38*N$3) -> 0 | O38: 0 | P38: =(O38*P$3) -> 0 | Q38: 0 | R38: =(Q38*R$3) -> 0 | S38: 0 | T38: =(S38*T$3) -> 0 | U38: 0 | V38: =(U38*V$3) -> 0 | W38: 0 | X38: =(W38*X$3) -> 0 | Y38: 0 | Z38: =(Y38*Z$3) -> 0 | AA38: 0 | AB38: =(AA38*AB$3) -> 0 | AC38: 0 | AD38: =(AC38*AD$3) -> 0 | AE38: =SUM(C38,E38,G38,I38,K38,M38,O38,Q38,S38,U38,W38,Y38,AA38,AC38) -> 0 | AF38: =SUM(D38,F38,H38,J38,L38,N38,P38,R38,T38,V38,X38,Z38,AB38,AD38) -> 0
B39: Section 50 Report | C39: 0 | D39: =(C39*D$3) -> 0 | E39: 0 | F39: =(E39*F$3) -> 0 | G39: 0 | H39: =(G39*H$3) -> 0 | I39: 0 | J39: =(I39*J$3) -> 0 | K39: 0 | L39: =(K39*L$3) -> 0 | M39: 0 | N39: =(M39*N$3) -> 0 | O39: 0 | P39: =(O39*P$3) -> 0 | Q39: 0 | R39: =(Q39*R$3) -> 0 | S39: 0 | T39: =(S39*T$3) -> 0 | U39: 0 | V39: =(U39*V$3) -> 0 | W39: 0 | X39: =(W39*X$3) -> 0 | Y39: 0 | Z39: =(Y39*Z$3) -> 0 | AA39: 0 | AB39: =(AA39*AB$3) -> 0 | AC39: 0 | AD39: =(AC39*AD$3) -> 0 | AE39: =SUM(C39,E39,G39,I39,K39,M39,O39,Q39,S39,U39,W39,Y39,AA39,AC39) -> 0 | AF39: =SUM(D39,F39,H39,J39,L39,N39,P39,R39,T39,V39,X39,Z39,AB39,AD39) -> 0
B40: Preliminary Design Report/Planning Report | C40: 0 | D40: =(C40*D$3) -> 0 | E40: 0 | F40: =(E40*F$3) -> 0 | G40: 0 | H40: =(G40*H$3) -> 0 | I40: 0 | J40: =(I40*J$3) -> 0 | K40: 0 | L40: =(K40*L$3) -> 0 | M40: 0 | N40: =(M40*N$3) -> 0 | O40: 0 | P40: =(O40*P$3) -> 0 | Q40: 0 | R40: =(Q40*R$3) -> 0 | S40: 0 | T40: =(S40*T$3) -> 0 | U40: 0 | V40: =(U40*V$3) -> 0 | W40: 0 | X40: =(W40*X$3) -> 0 | Y40: 0 | Z40: =(Y40*Z$3) -> 0 | AA40: 0 | AB40: =(AA40*AB$3) -> 0 | AC40: 0 | AD40: =(AC40*AD$3) -> 0 | AE40: =SUM(C40,E40,G40,I40,K40,M40,O40,Q40,S40,U40,W40,Y40,AA40,AC40) -> 0 | AF40: =SUM(D40,F40,H40,J40,L40,N40,P40,R40,T40,V40,X40,Z40,AB40,AD40) -> 0
A41: D | B41: Ecology Surveys
B42: Fossitt Habitat Survey | C42: 0 | D42: =(C42*D$3) -> 0 | E42: 0 | F42: =(E42*F$3) -> 0 | G42: 0 | H42: =(G42*H$3) -> 0 | I42: 0 | J42: =(I42*J$3) -> 0 | K42: 0 | L42: =(K42*L$3) -> 0 | M42: 0 | N42: =(M42*N$3) -> 0 | O42: 0 | P42: =(O42*P$3) -> 0 | Q42: 0 | R42: =(Q42*R$3) -> 0 | S42: 0 | T42: =(S42*T$3) -> 0 | U42: 0 | V42: =(U42*V$3) -> 0 | W42: 0 | X42: =(W42*X$3) -> 0 | Y42: 0 | Z42: =(Y42*Z$3) -> 0 | AA42: 0 | AB42: =(AA42*AB$3) -> 0 | AC42: 0 | AD42: =(AC42*AD$3) -> 0 | AE42: =SUM(C42,E42,G42,I42,K42,M42,O42,Q42,S42,U42,W42,Y42,AA42,AC42) -> 0 | AF42: =SUM(D42,F42,H42,J42,L42,N42,P42,R42,T42,V42,X42,Z42,AB42,AD42) -> 0
B43: Invasive and Non-Native Species Survey (INNS) | C43: 0 | D43: =(C43*D$3) -> 0 | E43: 0 | F43: =(E43*F$3) -> 0 | G43: 0 | H43: =(G43*H$3) -> 0 | I43: 0 | J43: =(I43*J$3) -> 0 | K43: 0 | L43: =(K43*L$3) -> 0 | M43: 0 | N43: =(M43*N$3) -> 0 | O43: 0 | P43: =(O43*P$3) -> 0 | Q43: 0 | R43: =(Q43*R$3) -> 0 | S43: 0 | T43: =(S43*T$3) -> 0 | U43: 0 | V43: =(U43*V$3) -> 0 | W43: 0 | X43: =(W43*X$3) -> 0 | Y43: 0 | Z43: =(Y43*Z$3) -> 0 | AA43: 0 | AB43: =(AA43*AB$3) -> 0 | AC43: 0 | AD43: =(AC43*AD$3) -> 0 | AE43: =SUM(C43,E43,G43,I43,K43,M43,O43,Q43,S43,U43,W43,Y43,AA43,AC43) -> 0 | AF43: =SUM(D43,F43,H43,J43,L43,N43,P43,R43,T43,V43,X43,Z43,AB43,AD43) -> 0
B44: Mammal Survey | C44: 0 | D44: =(C44*D$3) -> 0 | E44: 0 | F44: =(E44*F$3) -> 0 | G44: 0 | H44: =(G44*H$3) -> 0 | I44: 0 | J44: =(I44*J$3) -> 0 | K44: 0 | L44: =(K44*L$3) -> 0 | M44: 0 | N44: =(M44*N$3) -> 0 | O44: 0 | P44: =(O44*P$3) -> 0 | Q44: 0 | R44: =(Q44*R$3) -> 0 | S44: 0 | T44: =(S44*T$3) -> 0 | U44: 0 | V44: =(U44*V$3) -> 0 | W44: 0 | X44: =(W44*X$3) -> 0 | Y44: 0 | Z44: =(Y44*Z$3) -> 0 | AA44: 0 | AB44: =(AA44*AB$3) -> 0 | AC44: 0 | AD44: =(AC44*AD$3) -> 0 | AE44: =SUM(C44,E44,G44,I44,K44,M44,O44,Q44,S44,U44,W44,Y44,AA44,AC44) -> 0 | AF44: =SUM(D44,F44,H44,J44,L44,N44,P44,R44,T44,V44,X44,Z44,AB44,AD44) -> 0
B45: Bat Survey | C45: 0 | D45: =(C45*D$3) -> 0 | E45: 0 | F45: =(E45*F$3) -> 0 | G45: 0 | H45: =(G45*H$3) -> 0 | I45: 0 | J45: =(I45*J$3) -> 0 | K45: 0 | L45: =(K45*L$3) -> 0 | M45: 0 | N45: =(M45*N$3) -> 0 | O45: 0 | P45: =(O45*P$3) -> 0 | Q45: 0 | R45: =(Q45*R$3) -> 0 | S45: 0 | T45: =(S45*T$3) -> 0 | U45: 0 | V45: =(U45*V$3) -> 0 | W45: 0 | X45: =(W45*X$3) -> 0 | Y45: 0 | Z45: =(Y45*Z$3) -> 0 | AA45: 0 | AB45: =(AA45*AB$3) -> 0 | AC45: 0 | AD45: =(AC45*AD$3) -> 0 | AE45: =SUM(C45,E45,G45,I45,K45,M45,O45,Q45,S45,U45,W45,Y45,AA45,AC45) -> 0 | AF45: =SUM(D45,F45,H45,J45,L45,N45,P45,R45,T45,V45,X45,Z45,AB45,AD45) -> 0
B46: Nesting and Breeding Bird Survey | C46: 0 | D46: =(C46*D$3) -> 0 | E46: 0 | F46: =(E46*F$3) -> 0 | G46: 0 | H46: =(G46*H$3) -> 0 | I46: 0 | J46: =(I46*J$3) -> 0 | K46: 0 | L46: =(K46*L$3) -> 0 | M46: 0 | N46: =(M46*N$3) -> 0 | O46: 0 | P46: =(O46*P$3) -> 0 | Q46: 0 | R46: =(Q46*R$3) -> 0 | S46: 0 | T46: =(S46*T$3) -> 0 | U46: 0 | V46: =(U46*V$3) -> 0 | W46: 0 | X46: =(W46*X$3) -> 0 | Y46: 0 | Z46: =(Y46*Z$3) -> 0 | AA46: 0 | AB46: =(AA46*AB$3) -> 0 | AC46: 0 | AD46: =(AC46*AD$3) -> 0 | AE46: =SUM(C46,E46,G46,I46,K46,M46,O46,Q46,S46,U46,W46,Y46,AA46,AC46) -> 0 | AF46: =SUM(D46,F46,H46,J46,L46,N46,P46,R46,T46,V46,X46,Z46,AB46,AD46) -> 0
B47: Fresh Water Peral Mussel Survey | C47: 0 | D47: =(C47*D$3) -> 0 | E47: 0 | F47: =(E47*F$3) -> 0 | G47: 0 | H47: =(G47*H$3) -> 0 | I47: 0 | J47: =(I47*J$3) -> 0 | K47: 0 | L47: =(K47*L$3) -> 0 | M47: 0 | N47: =(M47*N$3) -> 0 | O47: 0 | P47: =(O47*P$3) -> 0 | Q47: 0 | R47: =(Q47*R$3) -> 0 | S47: 0 | T47: =(S47*T$3) -> 0 | U47: 0 | V47: =(U47*V$3) -> 0 | W47: 0 | X47: =(W47*X$3) -> 0 | Y47: 0 | Z47: =(Y47*Z$3) -> 0 | AA47: 0 | AB47: =(AA47*AB$3) -> 0 | AC47: 0 | AD47: =(AC47*AD$3) -> 0 | AE47: =SUM(C47,E47,G47,I47,K47,M47,O47,Q47,S47,U47,W47,Y47,AA47,AC47) -> 0 | AF47: =SUM(D47,F47,H47,J47,L47,N47,P47,R47,T47,V47,X47,Z47,AB47,AD47) -> 0
A48: E | B48: Environmental Studies & Reports
B49: AA Screening Report and Natura Impact Statement | C49: 0 | D49: =(C49*D$3) -> 0 | E49: 0 | F49: =(E49*F$3) -> 0 | G49: 0 | H49: =(G49*H$3) -> 0 | I49: 0 | J49: =(I49*J$3) -> 0 | K49: 0 | L49: =(K49*L$3) -> 0 | M49: 0 | N49: =(M49*N$3) -> 0 | O49: 0 | P49: =(O49*P$3) -> 0 | Q49: 0 | R49: =(Q49*R$3) -> 0 | S49: 0 | T49: =(S49*T$3) -> 0 | U49: 0 | V49: =(U49*V$3) -> 0 | W49: 0 | X49: =(W49*X$3) -> 0 | Y49: 0 | Z49: =(Y49*Z$3) -> 0 | AA49: 0 | AB49: =(AA49*AB$3) -> 0 | AC49: 0 | AD49: =(AC49*AD$3) -> 0 | AE49: =SUM(C49,E49,G49,I49,K49,M49,O49,Q49,S49,U49,W49,Y49,AA49,AC49) -> 0 | AF49: =SUM(D49,F49,H49,J49,L49,N49,P49,R49,T49,V49,X49,Z49,AB49,AD49) -> 0
B50: Ecological Impact Assessment Report (EcIA) | C50: 0 | D50: =(C50*D$3) -> 0 | E50: 0 | F50: =(E50*F$3) -> 0 | G50: 0 | H50: =(G50*H$3) -> 0 | I50: 0 | J50: =(I50*J$3) -> 0 | K50: 0 | L50: =(K50*L$3) -> 0 | M50: 0 | N50: =(M50*N$3) -> 0 | O50: 0 | P50: =(O50*P$3) -> 0 | Q50: 0 | R50: =(Q50*R$3) -> 0 | S50: 0 | T50: =(S50*T$3) -> 0 | U50: 0 | V50: =(U50*V$3) -> 0 | W50: 0 | X50: =(W50*X$3) -> 0 | Y50: 0 | Z50: =(Y50*Z$3) -> 0 | AA50: 0 | AB50: =(AA50*AB$3) -> 0 | AC50: 0 | AD50: =(AC50*AD$3) -> 0 | AE50: =SUM(C50,E50,G50,I50,K50,M50,O50,Q50,S50,U50,W50,Y50,AA50,AC50) -> 0 | AF50: =SUM(D50,F50,H50,J50,L50,N50,P50,R50,T50,V50,X50,Z50,AB50,AD50) -> 0
B51: WFD Screening Report | C51: 0 | D51: =(C51*D$3) -> 0 | E51: 0 | F51: =(E51*F$3) -> 0 | G51: 0 | H51: =(G51*H$3) -> 0 | I51: 0 | J51: =(I51*J$3) -> 0 | K51: 0 | L51: =(K51*L$3) -> 0 | M51: 0 | N51: =(M51*N$3) -> 0 | O51: 0 | P51: =(O51*P$3) -> 0 | Q51: 0 | R51: =(Q51*R$3) -> 0 | S51: 0 | T51: =(S51*T$3) -> 0 | U51: 0 | V51: =(U51*V$3) -> 0 | W51: 0 | X51: =(W51*X$3) -> 0 | Y51: 0 | Z51: =(Y51*Z$3) -> 0 | AA51: 0 | AB51: =(AA51*AB$3) -> 0 | AC51: 0 | AD51: =(AC51*AD$3) -> 0 | AE51: =SUM(C51,E51,G51,I51,K51,M51,O51,Q51,S51,U51,W51,Y51,AA51,AC51) -> 0 | AF51: =SUM(D51,F51,H51,J51,L51,N51,P51,R51,T51,V51,X51,Z51,AB51,AD51) -> 0
B52: EIA Screening Report | I52: 0 | J52: =(I52*J$3) -> 0 | K52: 0 | L52: =(K52*L$3) -> 0 | M52: 0 | N52: =(M52*N$3) -> 0 | O52: 0 | P52: =(O52*P$3) -> 0 | Q52: 0 | R52: =(Q52*R$3) -> 0 | S52: 0 | T52: =(S52*T$3) -> 0 | U52: 0 | V52: =(U52*V$3) -> 0 | W52: 0 | X52: =(W52*X$3) -> 0 | Y52: 0 | Z52: =(Y52*Z$3) -> 0 | AA52: 0 | AB52: =(AA52*AB$3) -> 0 | AC52: 0 | AD52: =(AC52*AD$3) -> 0 | AE52: =SUM(C52,E52,G52,I52,K52,M52,O52,Q52,S52,U52,W52,Y52,AA52,AC52) -> 0 | AF52: =SUM(D52,F52,H52,J52,L52,N52,P52,R52,T52,V52,X52,Z52,AB52,AD52) -> 0
B53: Preliminary CEMP | C53: 0 | D53: =(C53*D$3) -> 0 | E53: 0 | F53: =(E53*F$3) -> 0 | G53: 0 | H53: =(G53*H$3) -> 0 | I53: 0 | J53: =(I53*J$3) -> 0 | K53: 0 | L53: =(K53*L$3) -> 0 | M53: 0 | N53: =(M53*N$3) -> 0 | O53: 0 | P53: =(O53*P$3) -> 0 | Q53: 0 | R53: =(Q53*R$3) -> 0 | S53: 0 | T53: =(S53*T$3) -> 0 | U53: 0 | V53: =(U53*V$3) -> 0 | W53: 0 | X53: =(W53*X$3) -> 0 | Y53: 0 | Z53: =(Y53*Z$3) -> 0 | AA53: 0 | AB53: =(AA53*AB$3) -> 0 | AC53: 0 | AD53: =(AC53*AD$3) -> 0 | AE53: =SUM(C53,E53,G53,I53,K53,M53,O53,Q53,S53,U53,W53,Y53,AA53,AC53) -> 0 | AF53: =SUM(D53,F53,H53,J53,L53,N53,P53,R53,T53,V53,X53,Z53,AB53,AD53) -> 0
B54: Waste Management & Circular Economy | C54: 0 | D54: =(C54*D$3) -> 0 | E54: 0 | F54: =(E54*F$3) -> 0 | G54: 0 | H54: =(G54*H$3) -> 0 | I54: 0 | J54: =(I54*J$3) -> 0 | K54: 0 | L54: =(K54*L$3) -> 0 | M54: 0 | N54: =(M54*N$3) -> 0 | O54: 0 | P54: =(O54*P$3) -> 0 | Q54: 0 | R54: =(Q54*R$3) -> 0 | S54: 0 | T54: =(S54*T$3) -> 0 | U54: 0 | V54: =(U54*V$3) -> 0 | W54: 0 | X54: =(W54*X$3) -> 0 | Y54: 0 | Z54: =(Y54*Z$3) -> 0 | AA54: 0 | AB54: =(AA54*AB$3) -> 0 | AC54: 0 | AD54: =(AC54*AD$3) -> 0 | AE54: =SUM(C54,E54,G54,I54,K54,M54,O54,Q54,S54,U54,W54,Y54,AA54,AC54) -> 0 | AF54: =SUM(D54,F54,H54,J54,L54,N54,P54,R54,T54,V54,X54,Z54,AB54,AD54) -> 0
A55: Phase 2 Total | C55: =SUM(C49:C54,C42:C47,C36:C40,C33:C34,C27:C31) -> 0 | D55: =SUM(D49:D54,D42:D47,D36:D40,D33:D34,D27:D31) -> 0 | E55: =SUM(E49:E54,E42:E47,E36:E40,E33:E34,E27:E31) -> 0 | F55: =SUM(F49:F54,F42:F47,F36:F40,F33:F34,F27:F31) -> 0 | G55: =SUM(G49:G54,G42:G47,G36:G40,G33:G34,G27:G31) -> 0 | H55: =SUM(H49:H54,H42:H47,H36:H40,H33:H34,H27:H31) -> 0 | I55: =SUM(I49:I54,I42:I47,I36:I40,I33:I34,I27:I31) -> 0 | J55: =SUM(J49:J54,J42:J47,J36:J40,J33:J34,J27:J31) -> 0 | ... AF55: =SUM(AF49:AF54,AF42:AF47,AF36:AF40,AF33:AF34,AF27:AF31) -> 0
A57: Phase 3 | B57: Statutory Process
A58: A | B58: General Service Requirements
B59: Project Management | C59: 0 | D59: =(C59*D$3) -> 0 | E59: 0 | F59: =(E59*F$3) -> 0 | G59: 0 | H59: =(G59*H$3) -> 0 | I59: 0 | J59: =(I59*J$3) -> 0 | K59: 0 | L59: =(K59*L$3) -> 0 | M59: 0 | N59: =(M59*N$3) -> 0 | O59: 0 | P59: =(O59*P$3) -> 0 | Q59: 0 | R59: =(Q59*R$3) -> 0 | S59: 0 | T59: =(S59*T$3) -> 0 | U59: 0 | V59: =(U59*V$3) -> 0 | W59: 0 | X59: =(W59*X$3) -> 0 | Y59: 0 | Z59: =(Y59*Z$3) -> 0 | AA59: 0 | AB59: =(AA59*AB$3) -> 0 | AC59: 0 | AD59: =(AC59*AD$3) -> 0 | AE59: =SUM(C59,E59,G59,I59,K59,M59,O59,Q59,S59,U59,W59,Y59,AA59,AC59) -> 0 | AF59: =SUM(D59,F59,H59,J59,L59,N59,P59,R59,T59,V59,X59,Z59,AB59,AD59) -> 0
B60: Project Meetings | C60: 0 | D60: =(C60*D$3) -> 0 | E60: 0 | F60: =(E60*F$3) -> 0 | G60: 0 | H60: =(G60*H$3) -> 0 | I60: 0 | J60: =(I60*J$3) -> 0 | K60: 0 | L60: =(K60*L$3) -> 0 | M60: 0 | N60: =(M60*N$3) -> 0 | O60: 0 | P60: =(O60*P$3) -> 0 | Q60: 0 | R60: =(Q60*R$3) -> 0 | S60: 0 | T60: =(S60*T$3) -> 0 | U60: 0 | V60: =(U60*V$3) -> 0 | W60: 0 | X60: =(W60*X$3) -> 0 | Y60: 0 | Z60: =(Y60*Z$3) -> 0 | AA60: 0 | AB60: =(AA60*AB$3) -> 0 | AC60: 0 | AD60: =(AC60*AD$3) -> 0 | AE60: =SUM(C60,E60,G60,I60,K60,M60,O60,Q60,S60,U60,W60,Y60,AA60,AC60) -> 0 | AF60: =SUM(D60,F60,H60,J60,L60,N60,P60,R60,T60,V60,X60,Z60,AB60,AD60) -> 0
B61: Progress Reports | C61: 0 | D61: =(C61*D$3) -> 0 | E61: 0 | F61: =(E61*F$3) -> 0 | G61: 0 | H61: =(G61*H$3) -> 0 | I61: 0 | J61: =(I61*J$3) -> 0 | K61: 0 | L61: =(K61*L$3) -> 0 | M61: 0 | N61: =(M61*N$3) -> 0 | O61: 0 | P61: =(O61*P$3) -> 0 | Q61: 0 | R61: =(Q61*R$3) -> 0 | S61: 0 | T61: =(S61*T$3) -> 0 | U61: 0 | V61: =(U61*V$3) -> 0 | W61: 0 | X61: =(W61*X$3) -> 0 | Y61: 0 | Z61: =(Y61*Z$3) -> 0 | AA61: 0 | AB61: =(AA61*AB$3) -> 0 | AC61: 0 | AD61: =(AC61*AD$3) -> 0 | AE61: =SUM(C61,E61,G61,I61,K61,M61,O61,Q61,S61,U61,W61,Y61,AA61,AC61) -> 0 | AF61: =SUM(D61,F61,H61,J61,L61,N61,P61,R61,T61,V61,X61,Z61,AB61,AD61) -> 0
B62: Cost & Risk Management Plan | C62: 0 | D62: =(C62*D$3) -> 0 | E62: 0 | F62: =(E62*F$3) -> 0 | G62: 0 | H62: =(G62*H$3) -> 0 | I62: 0 | J62: =(I62*J$3) -> 0 | K62: 0 | L62: =(K62*L$3) -> 0 | M62: 0 | N62: =(M62*N$3) -> 0 | O62: 0 | P62: =(O62*P$3) -> 0 | Q62: 0 | R62: =(Q62*R$3) -> 0 | S62: 0 | T62: =(S62*T$3) -> 0 | U62: 0 | V62: =(U62*V$3) -> 0 | W62: 0 | X62: =(W62*X$3) -> 0 | Y62: 0 | Z62: =(Y62*Z$3) -> 0 | AA62: 0 | AB62: =(AA62*AB$3) -> 0 | AC62: 0 | AD62: =(AC62*AD$3) -> 0 | AE62: =SUM(C62,E62,G62,I62,K62,M62,O62,Q62,S62,U62,W62,Y62,AA62,AC62) -> 0 | AF62: =SUM(D62,F62,H62,J62,L62,N62,P62,R62,T62,V62,X62,Z62,AB62,AD62) -> 0
B63: Stakeholder Consultation | C63: 0 | D63: =(C63*D$3) -> 0 | E63: 0 | F63: =(E63*F$3) -> 0 | G63: 0 | H63: =(G63*H$3) -> 0 | I63: 0 | J63: =(I63*J$3) -> 0 | K63: 0 | L63: =(K63*L$3) -> 0 | M63: 0 | N63: =(M63*N$3) -> 0 | O63: 0 | P63: =(O63*P$3) -> 0 | Q63: 0 | R63: =(Q63*R$3) -> 0 | S63: 0 | T63: =(S63*T$3) -> 0 | U63: 0 | V63: =(U63*V$3) -> 0 | W63: 0 | X63: =(W63*X$3) -> 0 | Y63: 0 | Z63: =(Y63*Z$3) -> 0 | AA63: 0 | AB63: =(AA63*AB$3) -> 0 | AC63: 0 | AD63: =(AC63*AD$3) -> 0 | AE63: =SUM(C63,E63,G63,I63,K63,M63,O63,Q63,S63,U63,W63,Y63,AA63,AC63) -> 0 | AF63: =SUM(D63,F63,H63,J63,L63,N63,P63,R63,T63,V63,X63,Z63,AB63,AD63) -> 0
A64: B | B64: Health & Safety
B65: Safety & Health Duties (General) | C65: 0 | D65: =(C65*D$3) -> 0 | E65: 0 | F65: =(E65*F$3) -> 0 | G65: 0 | H65: =(G65*H$3) -> 0 | I65: 0 | J65: =(I65*J$3) -> 0 | K65: 0 | L65: =(K65*L$3) -> 0 | M65: 0 | N65: =(M65*N$3) -> 0 | O65: 0 | P65: =(O65*P$3) -> 0 | Q65: 0 | R65: =(Q65*R$3) -> 0 | S65: 0 | T65: =(S65*T$3) -> 0 | U65: 0 | V65: =(U65*V$3) -> 0 | W65: 0 | X65: =(W65*X$3) -> 0 | Y65: 0 | Z65: =(Y65*Z$3) -> 0 | AA65: 0 | AB65: =(AA65*AB$3) -> 0 | AC65: 0 | AD65: =(AC65*AD$3) -> 0 | AE65: =SUM(C65,E65,G65,I65,K65,M65,O65,Q65,S65,U65,W65,Y65,AA65,AC65) -> 0 | AF65: =SUM(D65,F65,H65,J65,L65,N65,P65,R65,T65,V65,X65,Z65,AB65,AD65) -> 0
B66: PSDP (All Duties & Reports) | C66: 0 | D66: =(C66*D$3) -> 0 | E66: 0 | F66: =(E66*F$3) -> 0 | G66: 0 | H66: =(G66*H$3) -> 0 | I66: 0 | J66: =(I66*J$3) -> 0 | K66: 0 | L66: =(K66*L$3) -> 0 | M66: 0 | N66: =(M66*N$3) -> 0 | O66: 0 | P66: =(O66*P$3) -> 0 | Q66: 0 | R66: =(Q66*R$3) -> 0 | S66: 0 | T66: =(S66*T$3) -> 0 | U66: 0 | V66: =(U66*V$3) -> 0 | W66: 0 | X66: =(W66*X$3) -> 0 | Y66: 0 | Z66: =(Y66*Z$3) -> 0 | AA66: 0 | AB66: =(AA66*AB$3) -> 0 | AC66: 0 | AD66: =(AC66*AD$3) -> 0 | AE66: =SUM(C66,E66,G66,I66,K66,M66,O66,Q66,S66,U66,W66,Y66,AA66,AC66) -> 0 | AF66: =SUM(D66,F66,H66,J66,L66,N66,P66,R66,T66,V66,X66,Z66,AB66,AD66) -> 0
A67: C | B67: Planning Process
B68: Pre-Planning Public Information Event | C68: 0 | D68: =(C68*D$3) -> 0 | E68: 0 | F68: =(E68*F$3) -> 0 | G68: 0 | H68: =(G68*H$3) -> 0 | I68: 0 | J68: =(I68*J$3) -> 0 | K68: 0 | L68: =(K68*L$3) -> 0 | M68: 0 | N68: =(M68*N$3) -> 0 | O68: 0 | P68: =(O68*P$3) -> 0 | Q68: 0 | R68: =(Q68*R$3) -> 0 | S68: 0 | T68: =(S68*T$3) -> 0 | U68: 0 | V68: =(U68*V$3) -> 0 | W68: 0 | X68: =(W68*X$3) -> 0 | Y68: 0 | Z68: =(Y68*Z$3) -> 0 | AA68: 0 | AB68: =(AA68*AB$3) -> 0 | AC68: 0 | AD68: =(AC68*AD$3) -> 0 | AE68: =SUM(C68,E68,G68,I68,K68,M68,O68,Q68,S68,U68,W68,Y68,AA68,AC68) -> 0 | AF68: =SUM(D68,F68,H68,J68,L68,N68,P68,R68,T68,V68,X68,Z68,AB68,AD68) -> 0
B69: Pre-Planning meeting with Mayo County Council | C69: 0 | D69: =(C69*D$3) -> 0 | E69: 0 | F69: =(E69*F$3) -> 0 | G69: 0 | H69: =(G69*H$3) -> 0 | I69: 0 | J69: =(I69*J$3) -> 0 | K69: 0 | L69: =(K69*L$3) -> 0 | M69: 0 | N69: =(M69*N$3) -> 0 | O69: 0 | P69: =(O69*P$3) -> 0 | Q69: 0 | R69: =(Q69*R$3) -> 0 | S69: 0 | T69: =(S69*T$3) -> 0 | U69: 0 | V69: =(U69*V$3) -> 0 | W69: 0 | X69: =(W69*X$3) -> 0 | Y69: 0 | Z69: =(Y69*Z$3) -> 0 | AA69: 0 | AB69: =(AA69*AB$3) -> 0 | AC69: 0 | AD69: =(AC69*AD$3) -> 0 | AE69: =SUM(C69,E69,G69,I69,K69,M69,O69,Q69,S69,U69,W69,Y69,AA69,AC69) -> 0 | AF69: =SUM(D69,F69,H69,J69,L69,N69,P69,R69,T69,V69,X69,Z69,AB69,AD69) -> 0
B70: Planning Application Preperation & Submission (note: Planning fees & newspaper notices to be paid by IFI) or Planning Exemption application preparation & submission | C70: 0 | D70: =(C70*D$3) -> 0 | E70: 0 | F70: =(E70*F$3) -> 0 | G70: 0 | H70: =(G70*H$3) -> 0 | I70: 0 | J70: =(I70*J$3) -> 0 | K70: 0 | L70: =(K70*L$3) -> 0 | M70: 0 | N70: =(M70*N$3) -> 0 | O70: 0 | P70: =(O70*P$3) -> 0 | Q70: 0 | R70: =(Q70*R$3) -> 0 | S70: 0 | T70: =(S70*T$3) -> 0 | U70: 0 | V70: =(U70*V$3) -> 0 | W70: 0 | X70: =(W70*X$3) -> 0 | Y70: 0 | Z70: =(Y70*Z$3) -> 0 | AA70: 0 | AB70: =(AA70*AB$3) -> 0 | AC70: 0 | AD70: =(AC70*AD$3) -> 0 | AE70: =SUM(C70,E70,G70,I70,K70,M70,O70,Q70,S70,U70,W70,Y70,AA70,AC70) -> 0 | AF70: =SUM(D70,F70,H70,J70,L70,N70,P70,R70,T70,V70,X70,Z70,AB70,AD70) -> 0
B71: Post Planning Review | C71: 0 | D71: =(C71*D$3) -> 0 | E71: 0 | F71: =(E71*F$3) -> 0 | G71: 0 | H71: =(G71*H$3) -> 0 | I71: 0 | J71: =(I71*J$3) -> 0 | K71: 0 | L71: =(K71*L$3) -> 0 | M71: 0 | N71: =(M71*N$3) -> 0 | O71: 0 | P71: =(O71*P$3) -> 0 | Q71: 0 | R71: =(Q71*R$3) -> 0 | S71: 0 | T71: =(S71*T$3) -> 0 | U71: 0 | V71: =(U71*V$3) -> 0 | W71: 0 | X71: =(W71*X$3) -> 0 | Y71: 0 | Z71: =(Y71*Z$3) -> 0 | AA71: 0 | AB71: =(AA71*AB$3) -> 0 | AC71: 0 | AD71: =(AC71*AD$3) -> 0 | AE71: =SUM(C71,E71,G71,I71,K71,M71,O71,Q71,S71,U71,W71,Y71,AA71,AC71) -> 0 | AF71: =SUM(D71,F71,H71,J71,L71,N71,P71,R71,T71,V71,X71,Z71,AB71,AD71) -> 0
A72: Phase 3 Total | C72: =SUM(C59:C63,C65:C66,C68:C71) -> 0 | D72: =SUM(D59:D63,D65:D66,D68:D71) -> 0 | E72: =SUM(E59:E63,E65:E66,E68:E71) -> 0 | F72: =SUM(F59:F63,F65:F66,F68:F71) -> 0 | G72: =SUM(G59:G63,G65:G66,G68:G71) -> 0 | H72: =SUM(H59:H63,H65:H66,H68:H71) -> 0 | I72: =SUM(I59:I63,I65:I66,I68:I71) -> 0 | J72: =SUM(J59:J63,J65:J66,J68:J71) -> 0 | ... AF72: =SUM(AF59:AF63,AF65:AF66,AF68:AF71) -> 0
