Workbook
Name Select: 'Lot Summary '!$E$6

Sheet Notes to Tenderers
A1: FCL033F - Appendix 2: Pricing Schedule. Cleaning, Paper & Personal Hygiene & Period Equality Products (Lots 1 - 8)
A2: Notes to Tenderers
A3: Please ensure you read Appendix 2 Pricing Schedule of the RFT in advance of completing this document. Any Tenderer who does not follow the instructions in the RFT and this Pricing Document will be eliminated from the competition.
A4: Notes to assist you in completion of Pricing Document:
A5: Only cells highlighted in Blue require completion.
A6: All prices are to be tendered in Euro, exclusive of VAT.
A7: The Unit Price submitted cannot be exceeded until the first anniversary of the Effective Date as defined in the Framework Contract (RFT clause 2.10.6.)
A8: Tenderer should note that the Unit Price entered should be to two decimal places only.
A10: All Lots (1 - 8)
A12: For Lots 1-8, Tenderers must be in a position to supply 100% of the Products listed within those Lots in Appendix 2 Pricing Schedule and must submit a Unit Price for those Goods.
A13: Failure to insert a unit price for all applicable Products will, in accordance with section 2.2 (Compliant Tenders) of Part two of the RFT, render the Tender non-compliant and the Tender will be eliminated from the Competition.
A15: Steps to complete Lot Summary Tab
... A23: Tenderers must submit their completed Appendix 2 Pricing Schedule separately via the post-box facility on www.etenders.gov.ie

Sheet Lot Summary 
A1: Contract: | B1: FCL033F Framework Cleaning, Paper, Personal Hygiene & Period Equality Products
A2: Tenderers Name:
A3: Delivery charge that will apply to orders below the minimum order value of €100 | C3: €
A5: Lot Number | B5: Geographic Area | C5: Goods Requirement | D5: Tendering For This Lot? (Yes/No) | E5: Order of preference 1 to 8 (with 1 been the preferred choice) | S5: Yes | T5: 1
A6: 1 | B6: Health Organisations | C6: Cleaning Supplies Products | D6: Select | E6: Select | S6: No | T6: 2
A7: 2 | B7: Health Organisations | C7: Paper Products | D7: Select | E7: Select | T7: 3
A8: 3 | B8: Health Organisations | C8: Personal Hygiene Products | D8: Select | E8: Select | T8: 4
A9: 4 | B9: Health Organisations | C9: Period Equality Products | D9: Select | E9: Select | T9: 5
A10: 5 | B10: All Client Organisations (apart from Health) | C10: Cleaning Supplies Products | D10: Select | E10: Select | T10: 6
A11: 6 | B11: All Client Organisations (apart from Health) | C11: Paper Products | D11: Select | E11: Select | T11: 7
A12: 7 | B12: All Client Organisations (apart from Health) | C12: Personal Hygiene Products | D12: Select | E12: Select | T12: 8
A13: 8 | B13: All Client Organisations (apart from Health) | C13: Period Equality Products | D13: Select | E13: Select

Sheet Lot 1
A1: Contract: | D1: FCL033F Framework - Cleaning, Paper, Personal Hygiene & Period Equality Products
A2: Lot Number: 1 | D2: Health Organisations | E2: Cleaning Supplies Products
A3: Tenderers Name: | D3: ='Lot Summary '!B2 -> 0
A5: Please ensure that you read all instructions in Appendix 2: Pricing Schedule from page 72 of the "FCL033F RFT". Any Tenderer who does not follow these instructions may be eliminated from the competition.
H7: Required for all Products | Y7: Select
S8: Required for Biocidal Products | Y8: Yes
A9: Lot Number | B9: OGP Product Number | C9: Area | D9: Product Description | E9: Product Specifications | F9: Unit of Measure (UOM) | G9: Estimated annual Volumes | H9: Supplier Product Code | I9: Country of Origin | J9: Prospective Product Description | K9: Prospective Case Size (For information purposes only) | M9: Price For Full Size Case | N9: Price as Per Unit of Measure (Column F) | O9: Annualised Unit Price for each Good based on unit of measure in column G | P9: Delivery UOM e.g. (Case, Box) | Q9: Green Criteria Compliant (Y/N) | R9: Green Criteria Rationale | S9: Insert a PCS, IE/BPA or EU Number | T9: Insert link to the biocidal product on the DAFM Register | Y9: No
A10: Example Row | C10: Housekeeping | D10: Metal polish, Multi-purpose | E10: Bottle, Suitable for a variety of metals including brass, copper, stainless steel, chrome, pewter, and bronze. | F10: Per 500ml | G10: 100 | H10: 12345 | I10: Ireland | J10: Metal polish, Multi-purpose (brand) | K10: 600ml | L10: 6 | M10: 10.8 | N10: 1.5 | O10: 150 | P10: Case | Q10: Y | R10: List all green elements linked to the product | S10: If applicable, add the details | T10: If applicable, add the details
A11: 1 | B11: 1 | C11: Floor Cleaning | D11: Concentrated Floor Cleaner | E11: Concentrate pouch/bottle/cartridge, for refilling ready to use spray bottles, concentrate suitable for cleaning protected and unprotected floors. If a separate dosing system/dispenser is required then it must be provided free of charge. | F11: Per 5 ltr. pouch/bottle/cartridge. | G11: 166 | O11: =N11*G11 -> 0
A12: 1 | B12: 2 | C12: Floor Cleaning | D12: Concentrated Floor Degreaser | E12: Concentrate pouch/bottle/cartridge, for dispenser for refilling ready to use spray bottles, concentrate suitable for cleaning and degreasing floors. If a separate dosing system/dispenser is required then it must be provided free of charge. | F12: Per 5 ltr. pouch/bottle/cartridge. | G12: 166 | O12: =N12*G12 -> 0
A13: 1 | B13: 3 | C13: Floor Cleaning | D13: Floor Polish, Emulsion and Maintainer | E13: 5 Ltr Container Triple polymer formulation with 18% solids, suitable for use on all sealed floors to protect & clean all in one operation. Used for spraying and buffing, damp mopping or machine scrubbing. | F13: Per 5 ltr. | G13: 1368 | O13: =N13*G13 -> 0
A14: 1 | B14: 4 | C14: Floor Cleaning | D14: Floor Polish, High gloss, slip resistant metallised emulsion | E14: 5 Ltr Container triple polymer formulation with 22% solids, Suitable for most types of smooth and water resistant hard floors including Vinyl, Thermoplastic, Rubber, Linoleum, Marble and Terrazzo. Suitable for very heavy traffic areas. | F14: Per 5 ltr. | G14: 596 | O14: =N14*G14 -> 0
A15: 1 | B15: 5 | C15: Floor Cleaning | D15: Floor Polish Stripper, No scrub, no rinse floor polish stripper | E15: 5 Ltr Container Alkali stripper for removing all emulsion floor polish, suitable for use on all resiliant floors (excluding wood), | F15: Per 5 ltr. | G15: 259 | O15: =N15*G15 -> 0
A16: 1 | B16: 6 | C16: Floor Cleaning | D16: Floor Cleaner, Fragranced PH neutral detergent | E16: pH Neutral Floor Cleaner, 5 Ltr Container, Liquid gel detergent cleaner/deodoriser, lightly/mildly fragranced, suitable for cleaning protected and unprotected floors. | F16: Per 5 ltr. | G16: 332 | O16: =N16*G16 -> 0
A17: 1 | B17: 7 | C17: Floor Cleaning | D17: Handle, 1200mm - 1350mm (48''-54'') Wooden Handle - 24mm (15/16'') | E17: 1200mm - 1350mm (48''-54'') Hard Wood Handle, smooth rounded edge, varnished, 24mm (15/16'') diameter, FSC certified (or equivalent), Must be compatible with wooden 250-300mm brush/broom heads on this list. | F17: Per Piece | G17: 33 | O17: =N17*G17 -> 0
A18: 1 | B18: 8 | C18: Floor Cleaning | D18: Handle, 1200mm - 1350mm (48''-54'') Wooden Handle - 29mm (1 1/8'') | E18: 1200mm - 1350mm (48''-54'') Hard Wood Handle, smooth rounded edge, varnished, 29mm (1 1/8'') diameter, FSC certified (or equivalent), , Must be compatible with wooden 450-500mm brush/broom heads on this list. | F18: Per Piece | G18: 164 | O18: =N18*G18 -> 0
A19: 1 | B19: 9 | C19: Floor Cleaning | D19: Handle, 1200mm - 1350mm Broom Handle - Asstd. Colours | E19: 1200mm-1350mm (48''-54'') ergonomic handle with comfort grip and rounded top with hanger. Aluminium or metal composite or vinyl covered steel construction, Asstd. Colours must include: Blue, Green, Red, White, Yellow., , Must be compatible with plastic broom heads on this list. | F19: Per Piece | G19: 208 | O19: =N19*G19 -> 0
A20: 1 | B20: 10 | C20: Floor Cleaning | D20: Brush Head, 250-300mm Wooden Sweeping Brush Head - Medium | E20: 250mm(10")-300mm (12'') hardwood backed head, medium stiffness nylon bristles, FSC certified (or equivalent), standard brush depth, 1 piece screw socket for 15/16'' handle, Must be suitable for indoor and outdoor use. | F20: Per Piece | G20: 214 | O20: =N20*G20 -> 0
A21: 1 | B21: 11 | C21: Floor Cleaning | D21: Brush Head, 275mm - 300mm Plastic Soft Broom Head - Asstd. Colours | E21: 275mm - 300mm (11''- 12''), moulded 1 piece screw socket for handle, nylon bristles, assorted colours must include Blue, Red, Green, Yellow, Must be autoclavable to 134 degrees C. | F21: Per Piece | G21: 428 | O21: =N21*G21 -> 0
A22: 1 | B22: 12 | C22: Floor Cleaning | D22: Brush Head, 275mm - 300mm Plastic Stiff Broom Head - Asstd. Colours | E22: 275mm - 300mm (11''- 12''), moulded 1 piece screw socket for handle, nylon bristles, assorted colours must include Blue, Red, Green, Yellow, Must be autoclavable to 134 degrees C. | F22: Per Piece | G22: 168 | O22: =N22*G22 -> 0
... A232: 1 | B232: 222 | C232: Laundry | D232: Biological Laundry Powder Detergent | E232: Biological laundry powder detergent supplied in a commercial pack. Suitable for use in commercial, healthcare, educational and institutional laundry environments. Product must contain enzymes to assist in the effective removal of protein-based stains, fats, oils and general soiling. Suitable for laundering white and colourfast fabrics and capable of delivering effective cleaning performance across a range of wash temperatures and water conditions. Product must help maintain fabric appearance and freshness throughout repeated wash cycles. Suitable for use in commercial washing machines and standard laundry processes. Product must rinse effectively and leave fabrics clean, fresh and free from excessive residue. | F232: Per 8.4kg | G232: 437 | O232: =N232*G232 -> 0
O233: =SUM(O11:O232) -> 0

Sheet Lot 2
A1: Contract: | D1: FCL033F Framework - Cleaning, Paper, Personal Hygiene & Period Equality Products
A2: Lot Number: 2 | D2: Health Organisations | E2: Paper Products
A3: Tenderers Name: | D3: ='Lot Summary '!B2 -> 0
A5: Please ensure that you read all instructions in Appendix 2: Pricing Schedule from page 72 of the "FCL033F RFT". Any Tenderer who does not follow these instructions may be eliminated from the competition.
H7: Required for all Products
S8: Yes
A9: Lot Number | B9: OGP Product Number | C9: Area | D9: Product Description | E9: Product Specifications | F9: Unit of Measure (UOM) | G9: Estimated annual Volumes | H9: Supplier Product Code | I9: Country of Origin | J9: Prospective Product Description | K9: Prospective Case Size (For information purposes only) | M9: Price For Full Size Case | N9: Price as Per Unit of Measure (Column F) | O9: Annualised Unit Price for each Good based on unit of measure in column F | P9: Delivery UOM e.g. (Case, Box) | Q9: Green Criteria Compliant (Y/N) | R9: Green Criteria Rationale | S9: No
A10: Example Row | C10: Paper Hygiene | D10: Kitchen Cleaning Cloth | E10: Highly absorbent cloth , white in colour, Heat resistant up to 250°c food contact approved , min sheet size ( e.g, 42.8cm Length x 35.5 cm Wide or similar dimensions equal to min area of 1519cm2). Product must be OK Biobased certified. | F10: 300 per pack | G10: 100 | H10: 12345 | I10: Ireland | J10: Kitchen Cleaning Cloth (brand) | K10: 350 pack | L10: 5 | M10: 50 | N10: 8.57 | O10: 857 | P10: Case | Q10: Y | R10: List all green elements linked to the product | S10: If applicable, add the details
A11: 2 | B11: 1 | C11: Paper Hygiene | D11: Hand Towel, 1 Ply, Standard Hand Towel, White | E11: Interfolded, Min. Size: 504 cm2 per sheet (e.g.24 cm length x 21cmwidth or similar dimensions equal to min. of 504cm2) Must dispense 1 at a time touched only by user. Must be compatabile with interfolded dispenser on contract Must not break up when wet. Must be Forest Stewardship Council (FSC), Eu Ecolabel certified or equivalent. Must be Elemental Chlorine Free (ECF) or Totally Chlorine Free (TCF). Approx. 250 Towels per sleeve. | F11: 12 units x 250 sheets per pack | G11: 45379 | O11: =N11*G11 -> 0
A12: 2 | B12: 2 | C12: Paper Hygiene | D12: Toilet Tissue, 2 Ply, Toilet Tissue, White | E12: Interfolded or Flat folded, Min. Size: 200.88cm2 per sheet (e.g. 10.8cm width x 18.6 length or similar dimensions equal to min. area of 200.88cm2), Min. weight 32gsm, embossed or creped finish, must dispense 1 at a time touched only by user. 240-300 sheets per block . Must dissolve in cold water. Must be Forest Stewardship Council (FSC), Eu Ecolabel certified or equivalent. Must be Elemental Chlorine Free (ECF) or Totally Chlorine Free (TCF). Per Block. | F12: 36 units x 252 sheets per pack | G12: 5556 | O12: =N12*G12 -> 0
A13: 2 | B13: 3 | C13: Paper Hygiene | D13: Hand Towel, 2 Ply, Hand Towel Roll,Blue | E13: Hand Towel Soft 2Ply blue must be minimum length 150metre Min width 21cm must dispense 1 at a time touched only by user. Must be compatible with a Roll handtowel dispenserMust not break up when wet. Must be Forest Stewardship Council (FSC), Eu Ecolabel certified or equivalent. Must be Elemental Chlorine Free (ECF) or Totally Chlorine Free (TCF). Must be food contact approved. | F13: Per 6 x 150metere roll | G13: 120 | O13: =N13*G13 -> 0
A14: 2 | B14: 4 | C14: Paper Hygiene | D14: Toilet Roll, 2 Ply Mini Jumbo Toilet Roll, White | E14: Min. Size: 180 cm2 per sheet (e.g. 9.cm x 20cm length or similar dimensions equal to min. area of 180cm2), embossed or creped finish, min. weight 30gsm, perforated, 3'' core, 1000-1250 sheets per roll, 200m - 250m per roll / 12 rolls per case. MUST DISSOLVE IN COLD WATER. Must be Forest Stewardship Council (FSC), Eu Ecolabel certified or equivalent. Must be Elemental Chlorine Free (ECF) or Totally Chlorine Free (TCF). Manufacturers certified specifications must be available (will be verified before contract award). | F14: 12 rolls x 200m per pack | G14: 8204 | O14: =N14*G14 -> 0
A15: 2 | B15: 5 | C15: Paper Hygiene | D15: Toilet Roll, 2 Ply Centrepull Toilet Roll - White | E15: Single sheet presentation, Min. sheet size: 234cm2 (e.g. 13cm x 18cm length or similar dimensions equal to min. area of 234cm2), min. weight 32gsm, perforated, 44mm - 50mm core, embossed or creped finish, 1000-1250 sheets per roll, 200m - 210 m per roll / 6 rolls per case. MUST DISSOLVE IN COLD WATER. Must be Forest Stewardship Council (FSC), Eu Ecolabel certified or equivalent. Must be Elemental Chlorine Free (ECF) or Totally Chlorine Free (TCF). Manufacturers certified specifications must be available (will be verified before contract award). | F15: 6 rolls x 207m per pack. | G15: 14000 | O15: =N15*G15 -> 0
A16: 2 | B16: 6 | C16: Paper Hygiene | D16: Wiper roll , 2 Ply, Centrefeed Blue | E16: Size: Each Sheet: 18-21 cm (w) x 36-39 cm (L), min. weight 32gsm, perforated, 300-400 Sheets per roll ( = 108-156 mtr. roll). Suitable for wet or dry use. Must be Forest Stewardship Council (FSC), Eu Ecolabel certified or equivalent. Must be Elemental Chlorine Free (ECF) or Totally Chlorine Free (TCF). Must be suitable for general purpose use. Must be Food Contact approved | F16: 6 rolls x 150m per pack. | G16: 1314 | O16: =N16*G16 -> 0
A17: 2 | B17: 7 | C17: Paper Hygiene | D17: Facial Tissue, 2 Ply, Facial Tissues, White | E17: Size: Each sheet: 18-22cm (w) x 20-23cm (w), pop up box, 90-120 tissues per box. Suitable for wet or dry use. Must be Forest Stewardship Council (FSC), Eu Ecolabel certified or equivalent. Must be Elemental Chlorine Free (ECF) or Totally Chlorine Free (TCF). | F17: 30 units x 100 per pac | G17: 6510 | O17: =N17*G17 -> 0
A18: 2 | B18: 8 | C18: Paper Hygiene | D18: Wiper, 1 Ply, Large Wiper, White | E18: Interfolded, Min. Size:1435cm2 per sheet (e.g. 41cm x 35cm )or similar dimensions equal to min. of 1435cm2), Min. weight 60 gsm, Nonwoven low lint construction, Pop up box / brag box or equivalent. Must be highly absorbant - must not break up when 100% saturated. Must be Forest Stewardship Council (FSC), Eu Ecolabel certified or equivalent. Must be Elemental Chlorine Free (ECF) or Totally Chlorine Free (TCF). Must be suitable for mopping up / absorbing large spills including solvents, inks, oils and paints. Per Box of 210 - 300 sheets per box. | F18: Per Box 210 | G18: 312 | O18: =N18*G18 -> 0
A19: 2 | B19: 9 | C19: Paper Hygiene | D19: Hand Towel, 1 Ply, Standard Hand Towel, Blue | E19: Interfolded, Min. Size: 630cm2 per sheet (e.g.31.5cm length x 20cm width or similar dimensions equal to min. of 630cm2), Min. weight 16gsm, must dispense 1 at a time touched only by user. Must not break up when wet. Must be Forest Stewardship Council (FSC), Eu Ecolabel certified or equivalent. Must be Elemental Chlorine Free (ECF) or Totally Chlorine Free (TCF). Per Pack of 250. | F19: 12 Per Box/Pack | G19: 162 | O19: =N19*G19 -> 0
A20: 2 | B20: 10 | C20: Paper Hygiene | D20: Hand Towel, 3 Ply, Hand Towel, White | E20: Interfolded, Min. Size: 651cm2 per sheet (e.g.31cm length x 21cm width or similar dimensions equal to min. of 651cm2), Min. weight 48gsm, must dispense 1 at a time touched only by user. Must not break up when wet. Must be Forest Stewardship Council (FSC), Eu Ecolabel certified or equivalent. Must be Elemental Chlorine Free (ECF) or Totally Chlorine Free (TCF). Per Pack of 100/150. | F20: 21x 100 towels per case | G20: 320 | O20: =N20*G20 -> 0
A21: 2 | B21: 11 | C21: Paper Hygiene | D21: Hand Towel , 1 Ply, Wiper Pop Up Box, White | E21: Min. Size: 1473cm2 per sheet (35.5cm x 41.5cm) or similar dimensions equal to min. of 1473cm2), Min. weight 16gsm, lint free, creped, embossed or layered construction, one at a time dispensing. Must be highly absorbant - must not break up when 100% saturated. Must be Forest Stewardship Council (FSC), Eu Ecolabel certified or equivalent. Must be Elemental Chlorine Free (ECF) or Totally Chlorine Free (TCF). Must be suitable for mopping up / absorbing large spills including solvents, inks, oils and paints. Per Box of 120/150. | F21: 4x 120 Per Box | G21: 160 | O21: =N21*G21 -> 0
A22: 2 | B22: 12 | C22: Paper Hygiene | D22: Couch/Wiper Roll,2Ply, 20'', White | E22: White, Size: 49-52cm (w) x 38-44cm (L per sheet), min. weight 16gsm, perforated, 115-150 sheets per roll (= 43.7-66mts per roll), creped, embossed or layered construction, rolls must be individually wrapped. Suitable for wet or dry use. Must be Forest Stewardship Council (FSC), Eu Ecolabel certified or equivalent. Must be Elemental Chlorine Free (ECF) or Totally Chlorine Free (TCF). Must be suitable for general purpose use and use as couch roll. | F22: 9 pack x 54.45m Per Roll. | G22: 28000 | O22: =N22*G22 -> 0
... A33: 2 | B33: 23 | C33: Paper Hygiene | D33: Toilet Roll, 2 Ply Small Domestic Toilet Roll - White | E33: Min. Size: 108cm2 per sheet (e.g. 9.cm width x 12cm length or similar dimensions equal to min. area of 108cm2), embossed or creped finish, perforated, 200 sheets per roll / 36-48 rolls per case., Must dissolve in cold water. Must be Forest Stewardship Council (FSC), Eu Ecolabel certified or equivalent. Must be Elemental Chlorine Free (ECF) or Totally Chlorine Free (TCF). | F33: 36 rolls x 24m per pack | G33: 15 | O33: =N33*G33 -> 0
A34: 2 | B34: 24 | C34: Paper Hygiene | D34: Dispenser for Couch Roll/Wiper, 2 Ply 10'' Wiper Towel/Couch Roll | E34: Easy pull, wall mountable, white / blue or semi transparent heavy duty plastic, fully concealed roll, lockable, easy clean finish., Must be compatible with 2 ply 10'' wiper roll on this list, MUST BE AVAILABLE FREE ON LOAN. | F34: Per Piece | G34: N/A | O34: 0
A35: 2 | B35: 25 | C35: Paper Hygiene | D35: Dispenser for Couch Roll/Wiper, 2Ply 20'' Wiper Towel/Couch Roll | E35: Easy pull, wall mountable, white / blue or semi transparent heavy duty plastic, fully concealed roll, lockable, easy clean finish., Must be compatible with 2 ply 20'' wiper roll on this list, MUST BE AVAILABLE FREE ON LOAN. | F35: Per Piece | G35: N/A | O35: 0
A36: 2 | B36: 26 | C36: Paper Hygiene | D36: Dispenser, Hand Towel Dispenser, 2 Ply or 1 ply Hand Towel Interfold | E36: Interfold dispenser, white or blue or semi transparent heavy duty plastic, easy clean finish, window, single sheet dispensing without need to touch dispenser, overfill prevention, lockable., Must be compatible with interfolded 2 ply and 1 ply interfold hand towels on this list, MUST BE AVAILABLE FREE ON LOAN. | F36: Per Piece | G36: N/A | O36: 0
A37: 2 | B37: 27 | C37: Paper Hygiene | D37: Dispenser, Hand Towel Dispenser, Flushable 1 Ply Hand Towel | E37: Singlefold dispenser, white / blue or semi transparent heavy duty plastic, easy clean finish, window, single sheet dispensing without need to touch dispenser, overfill prevention, lockable. Must be compatible with flushable 1 ply interfolded hand towel on this list. MUST BE AVAILABLE FREE ON LOAN. | F37: Per Piece | G37: N/A | O37: 0
A38: 2 | B38: 28 | C38: Paper Hygiene | D38: Dispenser , Toilet Roll Dispenser, 2 Ply Centrepull Toilet Roll | E38: Single sheet presentation, Stainless steel or white/ blue heavy duty plastic, easy clean finish, window, self presenting dispensing without need to touch dispenser, window, concealed refill, lockable. Must be compatible with 2 ply centrepull toilet roll on this list, MUST BE AVAILABLE FREE ON LOAN. | F38: Per Piece | G38: N/A | O38: 0
A39: 2 | B39: 29 | C39: Paper Hygiene | D39: Dispenser, Toilet Roll Dispenser, Single Mini Jumbo Toilet Roll | E39: SINGLE toilet roll dispenser, stainless steel or white / blue heavy duty plastic, easy clean finish, window, self presenting dispensing without need to touch dispenser, window, concealed refills, lockable. Must be compatible with items 1 ply and 2 ply mini jumbo toilet rolls on this list, MUST BE AVAILABLE FREE ON LOAN. | F39: Per Piece | G39: N/A | O39: 0
A40: 2 | B40: 30 | C40: Paper Hygiene | D40: Dispenser, Toilet Roll Dispenser, Extra Large Jumbo Toilet Roll | E40: Stainless steel or white / blue heavy duty plastic, easy clean finish, window, reinforced teeth, self presenting dispensing without need to touch dispenser, window, concealed refill, lockable. Must be compatible with extra large jumbo toilet roll on this list, MUST BE AVAILABLE FREE ON LOAN. | F40: Per Piece | G40: N/A | O40: 0
A41: 2 | B41: 31 | C41: Paper Hygiene | D41: Dispenser, Toilet Roll Dispenser, 2 Ply Domestic/Conventional Toilet Roll | E41: Twin small roll toilet dispenser, stainless steel or white / blue heavy duty plastic, easy clean finish, window, self presenting dispensing without need to touch dispenser, window, concealed refills, lockable. Must be compatible with 2 ply domestic/conventional toilet rolls on this list. MUST BE AVAILABLE FREE ON LOAN. | F41: Per Piece | G41: N/A | O41: 0
A42: 2 | B42: 32 | C42: Paper Hygiene | D42: Z fold/Interfolded Hand Towel | E42: Interfolded Multifold HT 2P Z -Min size 21.3 x 24cm Approx. 180 sheets per pack or similar Min Grammage 42g Must dispense one at time only touched by user from z fold/interfold dispenser on contract . Must not break up when wet . Must be Forest Stewardship Council (FSC), Eu Ecolabel certified or equivalent. Must be Elemental Chlorine Free (ECF) or Totally Chlorine Free (TCF). Food contact approved | F42: 21 packs x 180 per case | G42: 82000 | O42: =N42*G42 -> 0
A43: 2 | B43: 33 | C43: Paper Hygiene | D43: Hand Towel Roll 2 ply white | E43: Hand Towel Soft 2Ply white must be minimum length 150metre Min width 21cm must dispense 1 at a time touched only by user. Must be compatible with a Roll handtowel dispenser on contract Must not break up when wet. Must be Forest Stewardship Council (FSC), Eu Ecolabel certified or equivalent. Must be Elemental Chlorine Free (ECF) or Totally Chlorine Free (TCF). | F43: 6 x 150metre per pack | G43: 51273 | O43: =N43*G43 -> 0
A44: 2 | B44: 34 | C44: Paper Hygiene | D44: Mini Toilet Roll Centrepull | E44: Single sheet presentation, 2 ply white Min. sheet size: 234cm2 (e.g. 13cm x 18cm length or similar dimensions equal to min. area of 234cm2), min. weight 32gsm, perforated, 44mm - 50mm core, embossed or creped finish, 600 and 620 sheets sheets per roll, 111m approx per roll / 12 rolls per case. MUST DISSOLVE IN COLD WATER. Must be Forest Stewardship Council (FSC) or Eu Ecolabel certified. Must be Elemental Chlorine Free (ECF) or Totally Chlorine Free (TCF). | F44: 12 x 620 sheets per pack | G44: 67000 | O44: =N44*G44 -> 0
A45: 2 | B45: 35 | C45: Paper Hygiene | D45: Mini Double Toilet Tissue Dispenser White | E45: Single sheet presentation, twin, white heavy duty plastic, easy clean finish, window, self presenting dispensing without need to touch dispenser, transparent at bottom, concealed refill, lockable. Must be compatible with 2 ply mini centrepull toilet roll on this list aprrox 111m long, approx 13,4cm wide. MUST BE AVAILABLE FREE ON LOAN | F45: Per Piece | G45: N/A | O45: 0
A46: 2 | B46: 36 | C46: Paper Hygiene | D46: Toilet Tissue Dispenser White | E46: Single sheet presentation, white heavy duty plastic, easy clean finish, window, self presenting dispensing without need to touch dispenser, transparent at bottom, concealed refill, lockable. Must be compatible with 2 ply centrepull toilet roll on this list , Approx 207m long, 13,4cm wide. MUST BE AVAILABLE FREE ON LOAN | F46: Per Piece | G46: N/A | O46: 0
A47: 2 | B47: 37 | C47: Paper Hygiene | D47: Twin Coreless Mid-size Toilet Roll Dispenser white | E47: High Capacity white Twin roll dispenser,tranparent at bottom,lockable and top up in use. Easy to clean design. Only one is roll is accessible at any time. Must be compatible with coreless toilet tissue on this list.Approx 94-110m long, 9,3cm wide. MUST BE AVAILABLE FREE ON LOAN | F47: Per Piece | G47: N/A | O47: 0
A48: 2 | B48: 38 | C48: Paper Hygiene | D48: Twin Coreless Mid-size Toilet Roll Dispenser Black | E48: High Capacity black Twin roll dispenser,tranparent at bottom,lockable and top up in use. Easy to clean design. Only one is roll is accessible at at time. Must be compatible with coreless toilet tissue on this list..Approx 103m long, 9,3cm wide. MUST BE AVAILABLE FREE ON LOAN | F48: Per Piece | G48: N/A | O48: 0
A49: 2 | B49: 39 | C49: Paper Hygiene | D49: Wiper Dispenser /Turquoise | E49: Single sheet presentation, flow restrictor, Robust design, Easy-to-clean design featuring removable hood, self presenting dispensing without need to touch dispenser, transparent, concealed refill, lockable. Must be compatible with 2 ply roll ,Approx 150m long ,19.4cm wide. MUST BE AVAILABLE FREE ON LOAN | F49: Per Piece | G49: N/A | O49: 0
A50: 2 | B50: 40 | C50: Paper Hygiene | D50: Hand Towel Roll Dispenser | E50: Single sheet presentation, white robust plastic, easy clean finish, transparent at bottom , self presenting dispensing without need to touch dispenser, hygienic as only touch the towel you use, concealed refill, lockable. Exterior refill level indicator Must be compatible with 2 ply roll on this list 150m long ,21cm wide. MUST BE AVAILABLE FREE ON LOAN | F50: Per Piece | G50: N/A | O50: 0
A51: 2 | B51: 41 | C51: Paper Hygiene | D51: Hand Towel Roll Dispenser - with sensor | E51: Automatic Single sheet presentation, white robust plastic, easy clean finish, transparent at bottom , self presenting dispensing with alternative sheet lengths. No need to touch dispenser, hygienic - only touch the towel you use, concealed refill, lockable. Led indicator warning for low paper and battery. Battery operated. Must be compatible with 2 ply roll on this list 150m long ,21cm wide. MUST BE AVAILABLE FREE ON LOAN | F51: Per Piece | G51: N/A | O51: 0
A52: 2 | B52: 42 | C52: Paper Hygiene | D52: Wiper Roll 2 Ply Blue | E52: Single sheet presentation, food contact approved certified 2 ply blue roll Min. sheet size: 679cm2 (e.g. 35cm x 19.4cm length or similar dimensions equal to min. area of 679cm2), - 400- 429 sheets per roll, 150m per roll / 6 rolls per case. Must be Forest Stewardship Council (FSC) or Eu Ecolabel certified. Must be Totally Chlorine Free (TCF). | F52: 6 rolls x 150metre per pack | G52: 8071 | O52: =N52*G52 -> 0
...

Sheet Lot 3
A1: Contract: | D1: FCL033F Framework - Cleaning, Paper, Personal Hygiene & Period Equality Products
A2: Lot Number: 3 | D2: Health Organisations | E2: Personal Hygiene Products
A3: Tenderers Name: | D3: ='Lot Summary '!B2 -> 0
A5: Please ensure that you read all instructions in Appendix 2: Pricing Schedule from page 72 of the "FCL033F RFT". Any Tenderer who does not follow these instructions may be eliminated from the competition.
H7: Required for all Products | V7: Select
S8: Required for Biocidal Products | V8: Yes
A9: Lot Number | B9: OGP Product Number | C9: Area | D9: Product Description | E9: Product Specifications | F9: Unit of Measure (UOM) | G9: Estimated annual Volumes | H9: Supplier Product Code | I9: Country of Origin | J9: Prospective Product Description | K9: Prospective Case Size (For information purposes only) | M9: Price For Full Size Case | N9: Price as Per Unit of Measure (Column F) | O9: Annualised Unit Price for each Good based on unit of measure in column F | P9: Delivery UOM e.g. (Case, Box) | Q9: Green Criteria Compliant (Y/N) | R9: Green Criteria Rationale | S9: Insert a PCS, IE/BPA or EU Number | T9: Insert link to the biocidal product on the DAFM Register | V9: No
A10: Example Row | C10: Personal Hygiene | D10: Hair Conditioner | E10: Hair Conditioner, 150-250ml bottle. Used for everyday hair washing and conditioning, Compliant with Cosmetic Regulation 1223/2009/EC. | F10: Per 200ml Bottle. | G10: 100 | H10: 12345 | I10: Ireland | J10: Hair Conditioner (brand) | K10: 150ml | L10: 10 | M10: 10 | N10: 1.33 | O10: 133 | P10: Case | Q10: Y | R10: List all green elements linked to the product | S10: If applicable, add the details | T10: If applicable, add the details
A11: 3 | B11: 1 | C11: Personal Hygiene | D11: Baby Hair Shampoo | E11: Baby Hair Shampoo, 500ml bottle, Paraben free or equivalent, Used for everyday hair washing and conditioning, Compliant with Cosmetic Regulation 1223/2009/EC. | F11: Per 500ml Bottle. | G11: 13866 | O11: =N11*G11 -> 0
A12: 3 | B12: 2 | C12: Personal Hygiene | D12: Barrier Cream | E12: General purpose pre-work skin cream for wet & dry work, 1 ltr. Used to protect the skin from external damage through irritants such as dirt, mud, water, chemicals, allergens and other foreign bodies. | F12: Per 1ltr. Bottle. | G12: 23 | O12: =N12*G12 -> 0
A13: 3 | B13: 3 | C13: Personal Hygiene | D13: Deodorant Aerosol | E13: Body dry Antiperspirant Deodorant Aerosol 150ml (Male/Female), Everyday body deodorant. | F13: Per 150ml Can | G13: 24023 | O13: =N13*G13 -> 0
A14: 3 | B14: 4 | C14: Personal Hygiene | D14: Hair & Body wash | E14: All over body and hair shampoo, Replacement Cartridge for use in dispenser. Used for everyday hair and body wash. If necessary must fit to a dispenser that is to be provided. | F14: Per pouch/bottle/cartridge. | G14: 102 | O14: =N14*G14 -> 0
A15: 3 | B15: 5 | C15: Personal Hygiene | D15: Hair & Body wash | E15: Hair & Body wash, 25-40ml bottle. Used for everyday hair and body wash. | F15: Per Bottle. | G15: 400 | O15: =N15*G15 -> 0
A16: 3 | B16: 6 | C16: Personal Hygiene | D16: Hair & Body wash | E16: Hair & Body wash, Liquid bulk 5ltr container used to refill dispensing unit. Used for everyday hair and body wash. | F16: Per 5 ltr. | G16: 831 | O16: =N16*G16 -> 0
A17: 3 | B17: 7 | C17: Personal Hygiene | D17: Hand Soap | E17: 5 ltr Bulk pearlised liquid hand soap formulated for industrial and Institutional use. Biodegradable and phosphate free. Use to refill dispensers, General Hand Soap. Ideal for Schools, Pubs, Hotels, or as a General hand Soap., Complies with the EN 1276. | F17: Per 5 ltr. | G17: 122 | O17: =N17*G17 -> 0
A18: 3 | B18: 8 | C18: Personal Hygiene | D18: Hand Soap | E18: Antibacterial bulk liquid hand soap. 5 ltr. Bulk container used to refill dispenser units. Anti-Bacterial Liquid Hand Soap is useful in all office and public bathrooms. It effectively removes soils, provides antibacterial activity and is mild on the skin. Complies with EN 1276. | F18: Per 5 ltr. | G18: 1565 | O18: =N18*G18 -> 0
A19: 3 | B19: 9 | C19: Personal Hygiene | D19: Liquid soap dispenser | E19: Bulk Liquid Soap/Shampoo & body wash dispenser, refillable. Must be compatible with bulk filling soap/shampoo/body wash products on this list. MUST BE AVAILABLE FREE OF CHARGE. | F19: Per Piece. | G19: N/A | O19: 0
A20: 3 | B20: 10 | C20: Personal Hygiene | D20: Hair Shampoo | E20: Hair Shampoo, 300ml bottle. Used for everyday hair washing and conditioning, Compliant with Cosmetic Regulation 1223/2009/EC. | F20: Per 300ml Bottle. | G20: 400 | O20: =N20*G20 -> 0
A21: 3 | B21: 11 | C21: Personal Hygiene | D21: Hair Shampoo | E21: Hair Shampoo, 500ml bottle. Used for everyday hair washing and conditioning, Compliant with Cosmetic Regulation 1223/2009/EC. | F21: Pe 500ml Bottle. | G21: 400 | O21: =N21*G21 -> 0
A22: 3 | B22: 12 | C22: Personal Hygiene | D22: Shaving Foam | E22: Shaving Foam 200-300ml aerosol can. Used for everday shaving. | F22: Per 250ml Can | G22: 200 | O22: =N22*G22 -> 0
A23: 3 | B23: 13 | C23: Personal Hygiene | D23: Shower gel | E23: Shower gel, 200-300ml bottle. Used for everyday body wash. | F23: Per 300ml Bottle. | G23: 200 | O23: =N23*G23 -> 0
A24: 3 | B24: 14 | C24: Personal Hygiene | D24: Toothbrush kit | E24: Toothbrush 126mm & Toothpaste 5g Pack , Compact kit for everyday use, | F24: Per Pack. | G24: 39488 | O24: =N24*G24 -> 0
A25: 3 | B25: 15 | C25: Personal Hygiene | D25: Toothpaste, Large Tube | E25: Toothpaste, an everyday toothpaste with active fluoride for cavity protection. 75ml - 100ml tube. | F25: Per 75ml Tube | G25: 17217 | O25: =N25*G25 -> 0
A26: 3 | B26: 16 | C26: Personal Hygiene | D26: Razor, Disposable Two Blade Safety Razor, Sensitive Skin | E26: Twin blade fixed head plastic disposable safety razor. Pk of 5 or 6. Used for everday shaving of sennsitive skin. | F26: Per 5 Pack. | G26: 8000 | O26: =N26*G26 -> 0
A27: 3 | B27: 17 | C27: Personal Hygiene | D27: Razor, Disposable Safety Razor & Gel, Sensitive Skin | E27: 2 Blade Safety Razor & Sachet of shaving gel pack, used for everday shaving sensitive skin. | F27: Per Pack. | G27: 27000 | O27: =N27*G27 -> 0
A28: 3 | B28: 18 | C28: Personal Hygiene | D28: Deodorant Roll | E28: Deodorant Roll on Stick 50ml (Female), Everyday body deodorant. | F28: Per 50ml Stick | G28: 6500 | O28: =N28*G28 -> 0
B29: 19 | C29: Personal Hygiene | D29: Deodorant Roll | E29: Deodorant Roll on Stick 50ml (Male), Everyday body deodorant. | F29: Per 50ml Stick | G29: 6500 | O29: =N29*G29 -> 0
A30: 3 | B30: 20 | C30: Personal Hygiene | D30: Baby Bath | E30: Baby Bath, Hypoallergenic, pH Balanced, dye Free, paraben Free, phthaltes Free, sulphate Free, alcohol free and soap Free. 50-300ml Bottle. | F30: Per 300ml Bottle. | G30: 39476 | O30: =N30*G30 -> 0
A31: 3 | B31: 21 | C31: Personal Hygiene | D31: Hair Conditioner | E31: Hair Conditioner, 150-250ml bottle. Used for everyday hair washing and conditioning, Compliant with Cosmetic Regulation 1223/2009/EC. | F31: Per 200ml Bottle. | G31: 4000 | O31: =N31*G31 -> 0
A32: 3 | B32: 22 | C32: Personal Hygiene | D32: Mouthwash | E32: Mouthwash 200-300ml bottle. Alcohol Free. | F32: Per 250ml Bottle. | G32: 567 | O32: =N32*G32 -> 0
A33: 3 | B33: 23 | C33: Personal Hygiene | D33: Hair Shampoo, Anti-Dandruff | E33: Hair Shampoo, Anti-Dandruff, 250ml bottle. Used for everyday hair washing and conditioning, Compliant with Cosmetic Regulation 1223/2009/EC. | F33: Per 250ml Bottle. | G33: 18500 | O33: =N33*G33 -> 0
A34: 3 | B34: 24 | C34: Personal Hygiene | D34: Denture Cleaning tablets | E34: Denture Cleaning tablets, daily cleaning tablets, 99.9% Bacterial removal, stain removal. | F34: Per pack of 30 | G34: 200 | O34: =N34*G34 -> 0
A35: 3 | B35: 25 | C35: Personal Hygiene | D35: Ladies Hair Brush | E35: 100% Non-metallic, ladies hair brush. | F35: Per Piece. | G35: 15000 | O35: =N35*G35 -> 0
A36: 3 | B36: 26 | C36: Personal Hygiene | D36: Gents Hair Brush | E36: 100% Non-metallic, mens hair brush. | F36: Per Piece. | G36: 188 | O36: =N36*G36 -> 0
A37: 3 | B37: 27 | C37: Personal Hygiene | D37: Hair Comb | E37: 100% Non-metallic, ladies / gents hair comb. | F37: Per Piece. | G37: 103343 | O37: =N37*G37 -> 0
A38: 3 | B38: 28 | C38: Personal Hygiene | D38: Toothbrush | E38: A toothbrush includes a brush head having a pattern of bristles and a handle that consists of a soft, plastic, flexible, preferably transparent, tube with the brush head being fixedly mounted. Designed to be used particularly in the prison setting and the flexibility of the handle is designed to preclude its use as a weapon. Every day toothbrush. | F38: Per Piece. | G38: 16000 | O38: =N38*G38 -> 0
A39: 3 | B39: 29 | C39: Personal Hygiene | D39: Blue Surgical Disp Mask | E39: Blue Surgical Disp Mask Type IIR - EN12447 - Box = 50 | F39: Per Box | G39: 13000 | O39: =N39*G39 -> 0
A40: 3 | B40: 30 | C40: Personal Hygiene | D40: Apron White | E40: White Disposable Aprons 16MU - Flat Pack (27 x 46"). Approx. 1000 aprons per pack | F40: Per 1000 Pack. | G40: 867 | O40: =N40*G40 -> 0
A41: 3 | B41: 31 | C41: Personal Hygiene | D41: Apron Blue | E41: Blue Disposable Aprons 16MU - Flat Pack (27 x 46"). Approx. 1000 aprons per pack | F41: Per 1000 Pack. | G41: 535 | O41: =N41*G41 -> 0
... A77: 3 | B77: 67 | C77: Washroom | D77: Concentrated Toilet/Urinal Cleaner | E77: Concentrated Toilet/Urinal Cleaner, 1-3ltr. Cartridge, dosing system compatable for refilling Liquid Spray bottles or Buckets. If a separate dosing system/dispenser is required then it must be provided free of charge. | F77: Per 2.5 ltr. pouch/bottle/cartridge. | G77: 1092 | O77: =N77*G77 -> 0
...

Sheet Lot 4
A1: Contract: | D1: FCL033F Framework - Cleaning, Paper, Personal Hygiene & Period Equality Products
A2: Lot Number: 4 | D2: Health Organisations | E2: Period Equality Products
A3: Tenderers Name: | D3: ='Lot Summary '!B2 -> 0
A5: Please ensure that you read all instructions in Appendix 2: Pricing Schedule from page 72 of the "FCL033F RFT". Any Tenderer who does not follow these instructions may be eliminated from the competition.
H7: Required for all Products | S7: Select
S8: Yes
A9: Lot Number | B9: OGP Product Number | C9: Area | D9: Product Description | E9: Product Specifications | F9: Unit of Measure (UOM) | G9: Estimated annual Volumes | H9: Supplier Product Code | I9: Country of Origin | J9: Prospective Product Description | K9: Prospective Case Size (For information purposes only) | M9: Price For Full Size Case | N9: Price as Per Unit of Measure (Column F) | O9: Annualised Unit Price for each Good based on unit of measure in column F | P9: Delivery UOM e.g. (Case, Box) | Q9: Green Criteria Compliant (Y/N) | R9: Green Criteria Rationale | S9: No
A10: Example Row | C10: Period Equality | D10: Sanitary Pads- Light Flow | E10: Regular: Size and absorbent capacity must be suitable for normal flow. Regular size should have length 180mm to 220mm and width excluding wings shall be 60mm–100mm. Absorbency shall be 15-20ml. | F10: Per 100 Pack | G10: 100 | H10: 12345 | I10: Ireland | J10: Sanitary Pads- Light Flow (brand) | K10: 150 pack | L10: 5 | M10: 70 | N10: 9.33 | O10: 933 | P10: Case | Q10: Y | R10: List all green elements linked to the product
A11: 4 | B11: 1 | C11: Period Equality | D11: Free Dispensing Machines | E11: Coin free Dispensing Machine. Dual column with two stock lines at a minimum. Vandal resistant cover. Minimum size 31 x 73 x 8.5cm. Colour White. MUST BE AVAILABLE FREE ON LOAN | F11: Per Piece. | G11: N/A | O11: 0
A12: 4 | B12: 2 | C12: Period Equality | D12: Basket | E12: Basket Type Holder | F12: Per Piece. | G12: 85 | O12: =N12*G12 -> 0
A13: 4 | B13: 3 | C13: Period Equality | D13: Sanitary Pads- Light Flow | E13: Regular: Size and absorbent capacity must be suitable for normal flow. Regular size should have length 180mm to 220mm and width excluding wings shall be 60mm–100mm. Absorbency shall be 15-20ml. | F13: Per 100 Pack | G13: 2582 | O13: =N13*G13 -> 0
A14: 4 | B14: 4 | C14: Period Equality | D14: Sanitary Pads- Medium Flow | E14: Large: Size and absorbent capacity must be suitable for moderate flow. Large size with length 220mm to 260mm and width excluding wings shall be 60mm–100mm. Absorbency shall be 20-30 m | F14: Per 100 Pack | G14: 80853 | O14: =N14*G14 -> 0
A15: 4 | B15: 5 | C15: Period Equality | D15: Sanitary Pads- Heavy Flow | E15: Extra Large: Size and absorbent capacity must be suitable for heavy flow. Extra-large size with length 260mm to 300mm and width excluding wings shall be 60mm–100mm. Absorbency shall be 30-40 ml w | F15: Per 100 Pack | G15: 5800 | O15: =N15*G15 -> 0
A16: 4 | B16: 6 | C16: Period Equality | D16: Reusable Sanitary Pads -Light Flow - Environmentally Friendly | E16: Regular: Size and absorbent capacity must be suitable for light flow. Regular size should have length 180mm to 220mm and width excluding wings shall be 60mm–100mm. Absorbency shall be 15-20ml when measured as per standard unicef test. | F16: Per 10 Pack | G16: 400 | O16: =N16*G16 -> 0
A17: 4 | B17: 7 | C17: Period Equality | D17: Reusable Sanitary Pads -Medium Flow - Environmentally Friendly | E17: Large: Size and absorbent capacity must be suitable for moderate flow. Large size with length 220mm to 260mm and width excluding wings shall be 60mm–100mm. Absorbency shall be 20-30 ml when measured as per standard unicef test. | F17: Per 10 Pack | G17: 70 | O17: =N17*G17 -> 0
A18: 4 | B18: 8 | C18: Period Equality | D18: Reusable Sanitary Pads - Heavy Flow - Environmentally Friendly | E18: Extra Large: Size and absorbent capacity must be suitable for heavy flow. Extra-large size with length 260mm to 300mm and width excluding wings shall be 60mm–100mm. Absorbency shall be 30-40 ml when measured as per standard unicef test. | F18: Per 10 Pack | G18: 100 | O18: =N18*G18 -> 0
A19: 4 | B19: 9 | C19: Period Equality | D19: Menstrual Tampon - Light Flow | E19: Absorbent capacity up to 3ml. Non-applicator form. | F19: Per 100 Pack | G19: 1370 | O19: =N19*G19 -> 0
A20: 4 | B20: 10 | C20: Period Equality | D20: Menstrual Tampon - Medium Flow | E20: Absorbent capacity up to 5ml. Non-applicator form. | F20: Per 100 Pack | G20: 44770 | O20: =N20*G20 -> 0
A21: 4 | B21: 11 | C21: Period Equality | D21: Menstrual Tampon - Heavy Flow | E21: Absorbent capacity up to 12ml. Non-applicator form. | F21: Per 100 Pack | G21: 3587 | O21: =N21*G21 -> 0
A22: 4 | B22: 12 | C22: Period Equality | D22: Menstrual Tampon - Light Flow - Environmentally Friendly | E22: Made from 90% certified organic material. Compostable, Toxin-free, and Chemical-free. 90% recyclable applicators. Regular absorbency 6-9 grams. Super absorbency 9-12 grams. Applicator form. | F22: Per 100 Pack | G22: 461 | O22: =N22*G22 -> 0
A23: 4 | B23: 13 | C23: Period Equality | D23: Menstrual Tampon - Medium Flow - Environmentally Friendly | E23: Made from 90% certified organic material. Compostable, Toxin-free, and Chemical-free. 90% recyclable applicators. Regular absorbency 6-9 grams. Super absorbency 9-12 grams. Applicator form. | F23: Per 100 Pack | G23: 1810 | O23: =N23*G23 -> 0
... A32: 4 | B32: 22 | C32: Period Equality | D32: Menstrual Support Package | E32: Packaging Requirements. All contents packed within one single outer box, sealed for issue as a complete unit. Menstrual Tampon - Medium Flow - Environmentally Friendly (Made from 90% certified organic material. Compostable, Toxin-free, and Chemical-free. 90% recyclable applicators. Regular absorbency 6-9 grams. Super absorbency 9-12 grams. Applicator form.) x 1 Menstrual Tampon - Heavy Flow - Environmentally Friendly Made from 90% certified organic material. Compostable, Toxin-free, and Chemical-free. 90% recyclable applicators. Regular absorbency 6-9 grams. Super absorbency 9-12 grams. Applicator form x 1 Sanitary Pads- Medium Flow - Large: Size and absorbent capacity must be suitable for moderate flow. Large size with length 220mm to 260mm and width excluding wings shall be 60mm–100mm. Absorbency shall be 20-30m x 1 Sanitary Pads- Heavy Flow - Extra Large: Size and absorbent capacity must be suitable for heavy flow. Extra-large size with length 260mm to 300mm and width excluding wings shall be 60mm–100mm. Absorbency shall be 30-40 ml w x 1 Wipes - Wet Wipes Personal Pack = 15 to 30 individual wipes per pack x 5 | F32: Per Single box | G32: 50 | O32: =N32*G32 -> 0
O33: =SUM(O11:O32) -> 0

Sheet Lot 5
A1: Contract: | D1: FCL033F Framework - Cleaning, Paper, Personal Hygiene & Period Equality Products
A2: Lot Number: 5 | D2: All Client Organisations (apart from Health) | E2: Cleaning Supplies Products
A3: Tenderers Name: | D3: ='Lot Summary '!B2 -> 0
A5: Please ensure that you read all instructions in Appendix 2: Pricing Schedule from page 72 of the "FCL033F RFT". Any Tenderer who does not follow these instructions may be eliminated from the competition.
H7: Required for all Products | V7: Select
S8: Required for Biocidal Products | V8: Yes
A9: Lot Number | B9: OGP Product Number | C9: Area | D9: Product Description | E9: Product Specifications | F9: Unit of Measure (UOM) | G9: Estimated annual Volumes | H9: Supplier Product Code | I9: Country of Origin | J9: Prospective Product Description | K9: Prospective Case Size (For information purposes only) | M9: Price For Full Size Case | N9: Price as Per Unit of Measure (Column F) | O9: Annualised Unit Price for each Good based on unit of measure in column F | P9: Delivery UOM e.g. (Case, Box) | Q9: Green Criteria Compliant (Y/N) | R9: Green Criteria Rationale | S9: Insert a PCS, IE/BPA or EU Number | T9: Insert link to the biocidal product on the DAFM Register | V9: No
A10: Example Row | C10: Housekeeping | D10: Metal polish, Multi-purpose | E10: Bottle, Suitable for a variety of metals including brass, copper, stainless steel, chrome, pewter, and bronze. | F10: Per 500ml | G10: 100 | H10: 12345 | I10: Ireland | J10: Metal polish, Multi-purpose (brand) | K10: 600ml | L10: 6 | M10: 10.8 | N10: 1.5 | O10: 150 | P10: Case | Q10: Y | R10: List all green elements linked to the product | S10: If applicable, add the details | T10: If applicable, add the details
A11: 5 | B11: 1 | C11: Floor Cleaning | D11: Concentrated Floor Cleaner | E11: Concentrate pouch/bottle/cartridge, for refilling ready to use spray bottles, concentrate suitable for cleaning protected and unprotected floors. If a separate dosing system/dispenser is required then it must be provided free of charge. | F11: Per 5 ltr. pouch/bottle/cartridge. | G11: 33 | O11: =N11*G11 -> 0
A12: 5 | B12: 2 | C12: Floor Cleaning | D12: Concentrated Floor Degreaser | E12: Concentrate pouch/bottle/cartridge, for dispenser for refilling ready to use spray bottles, concentrate suitable for cleaning and degreasing floors. If a separate dosing system/dispenser is required then it must be provided free of charge. | F12: Per 5 ltr. pouch/bottle/cartridge. | G12: 33 | O12: =N12*G12 -> 0
A13: 5 | B13: 3 | C13: Floor Cleaning | D13: Floor Polish, Emulsion and Maintainer | E13: 5 Ltr Container Triple polymer formulation with 18% solids, suitable for use on all sealed floors to protect & clean all in one operation. Used for spraying and buffing, damp mopping or machine scrubbing. | F13: Per 5 ltr. | G13: 275 | O13: =N13*G13 -> 0
A14: 5 | B14: 4 | C14: Floor Cleaning | D14: Floor Polish, High gloss, slip resistant metallised emulsion | E14: 5 Ltr Container triple polymer formulation with 22% solids, Suitable for most types of smooth and water resistant hard floors including Vinyl, Thermoplastic, Rubber, Linoleum, Marble and Terrazzo. Suitable for very heavy traffic areas. | F14: Per 5 ltr. | G14: 120 | O14: =N14*G14 -> 0
A15: 5 | B15: 5 | C15: Floor Cleaning | D15: Floor Polish Stripper, No scrub, no rinse floor polish stripper | E15: 5 Ltr Container Alkali stripper for removing all emulsion floor polish, suitable for use on all resiliant floors (excluding wood), | F15: Per 5 ltr. | G15: 52 | O15: =N15*G15 -> 0
A16: 5 | B16: 6 | C16: Floor Cleaning | D16: Floor Cleaner, Fragranced PH neutral detergent | E16: pH Neutral Floor Cleaner, 5 Ltr Container, Liquid gel detergent cleaner/deodoriser, lightly/mildly fragranced, suitable for cleaning protected and unprotected floors. | F16: Per 5 ltr. | G16: 67 | O16: =N16*G16 -> 0
A17: 5 | B17: 7 | C17: Floor Cleaning | D17: Handle, 1200mm - 1350mm (48''-54'') Wooden Handle - 24mm (15/16'') | E17: 1200mm - 1350mm (48''-54'') Hard Wood Handle, smooth rounded edge, varnished, 24mm (15/16'') diameter, FSC certified (or equivalent), Must be compatible with wooden 250-300mm brush/broom heads on this list. | F17: Per Piece | G17: 10 | O17: =N17*G17 -> 0
A18: 5 | B18: 8 | C18: Floor Cleaning | D18: Handle, 1200mm - 1350mm (48''-54'') Wooden Handle - 29mm (1 1/8'') | E18: 1200mm - 1350mm (48''-54'') Hard Wood Handle, smooth rounded edge, varnished, 29mm (1 1/8'') diameter, FSC certified (or equivalent), , Must be compatible with wooden 450-500mm brush/broom heads on this list. | F18: Per Piece | G18: 33 | O18: =N18*G18 -> 0
A19: 5 | B19: 9 | C19: Floor Cleaning | D19: Handle, 1200mm - 1350mm Broom Handle - Asstd. Colours | E19: 1200mm-1350mm (48''-54'') ergonomic handle with comfort grip and rounded top with hanger. Aluminium or metal composite or vinyl covered steel construction, Asstd. Colours must include: Blue, Green, Red, White, Yellow., , Must be compatible with plastic broom heads on this list. | F19: Per Piece | G19: 42 | O19: =N19*G19 -> 0
A20: 5 | B20: 10 | C20: Floor Cleaning | D20: Brush Head, 250-300mm Wooden Sweeping Brush Head - Medium | E20: 250mm(10")-300mm (12'') hardwood backed head, medium stiffness nylon bristles, FSC certified (or equivalent), standard brush depth, 1 piece screw socket for 15/16'' handle, Must be suitable for indoor and outdoor use. | F20: Per Piece | G20: 43 | O20: =N20*G20 -> 0
A21: 5 | B21: 11 | C21: Floor Cleaning | D21: Brush Head, 275mm - 300mm Plastic Soft Broom Head - Asstd. Colours | E21: 275mm - 300mm (11''- 12''), moulded 1 piece screw socket for handle, nylon bristles, assorted colours must include Blue, Red, Green, Yellow, Must be autoclavable to 134 degrees C. | F21: Per Piece | G21: 86 | O21: =N21*G21 -> 0
A22: 5 | B22: 12 | C22: Floor Cleaning | D22: Brush Head, 275mm - 300mm Plastic Stiff Broom Head - Asstd. Colours | E22: 275mm - 300mm (11''- 12''), moulded 1 piece screw socket for handle, nylon bristles, assorted colours must include Blue, Red, Green, Yellow, Must be autoclavable to 134 degrees C. | F22: Per Piece | G22: 34 | O22: =N22*G22 -> 0
... A174: 5 | B174: 164 | C174: Laundry | D174: Biological Laundry Powder Detergent | E174: Biological laundry powder detergent supplied in a commercial pack. Suitable for use in commercial, healthcare, educational and institutional laundry environments. Product must contain enzymes to assist in the effective removal of protein-based stains, fats, oils and general soiling. Suitable for laundering white and colourfast fabrics and capable of delivering effective cleaning performance across a range of wash temperatures and water conditions. Product must help maintain fabric appearance and freshness throughout repeated wash cycles. Suitable for use in commercial washing machines and standard laundry processes. Product must rinse effectively and leave fabrics clean, fresh and free from excessive residue. | F174: Per 8.4kg | G174: 88 | O174: =N174*G174 -> 0
O175: =SUM(O11:O174) -> 0

Sheet Lot 6
A1: Contract: | D1: FCL033F Framework - Cleaning, Paper, Personal Hygiene & Period Equality Products
A2: Lot Number: 6 | D2: All Client Organisations (apart from Health) | E2: Paper Products
A3: Tenderers Name: | D3: ='Lot Summary '!B2 -> 0
A5: Please ensure that you read all instructions in Appendix 2: Pricing Schedule from page 72 of the "FCL033F RFT". Any Tenderer who does not follow these instructions may be eliminated from the competition.
H7: Required for all Products | S7: Select
S8: Yes
A9: Lot Number | B9: OGP Product Number | C9: Area | D9: Product Description | E9: Product Specifications | F9: Unit of Measure (UOM) | G9: Estimated annual Volumes | H9: Supplier Product Code | I9: Country of Origin | J9: Prospective Product Description | K9: Prospective Case Size (For information purposes only) | M9: Price For Full Size Case | N9: Price as Per Unit of Measure (Column F) | O9: Annualised Unit Price for each Good based on unit of measure in column F | P9: Delivery UOM e.g. (Case, Box) | Q9: Green Criteria Compliant (Y/N) | R9: Green Criteria Rationale | S9: No
A10: Example Row | C10: Paper Hygiene | D10: Kitchen Cleaning Cloth | E10: Highly absorbent cloth , white in colour, Heat resistant up to 250°c food contact approved , min sheet size ( e.g, 42.8cm Length x 35.5 cm Wide or similar dimensions equal to min area of 1519cm2). Product must be OK Biobased certified. | F10: 300 per pack | G10: 100 | H10: 12345 | I10: Ireland | J10: Kitchen Cleaning Cloth (brand) | K10: 350 pack | L10: 5 | M10: 50 | N10: 8.57 | O10: 857 | P10: Case | Q10: Y | R10: List all green elements linked to the product
A11: 6 | B11: 1 | C11: Paper Hygiene | D11: Hand Towel, 1 Ply, Flushable Hand Towel, White | E11: Interfolded, Min. Size: 400cm2 per sheet (e.g.20cm length x 20cm width or similar dimensions equal to min. of 400cm2), min. weight 16gsm, must dispense 1 at a time touched only by user. Must dissolve in cold water. Must be Forest Stewardship Council (FSC), Eu Ecolabel certified or equivalent. Must be Elemental Chlorine Free (ECF) or Totally Chlorine Free (TCF). Must be flushable and dissolve rapidly and fully in water to prevent drain blockage. Approx. 250 Towels per sleeve. | F11: 15 units x 250 sheets per pack | G11: 7515 | O11: =N11*G11 -> 0
A12: 6 | B12: 2 | C12: Paper Hygiene | D12: Hand Towel, 1 Ply, Standard Hand Towel, White | E12: Interfolded, Min. Size: 504 cm2 per sheet (e.g.24 cm length x 21cmwidth or similar dimensions equal to min. of 504cm2) Must dispense 1 at a time touched only by user. Must be compatabile with interfolded dispenser on contract Must not break up when wet. Must be Forest Stewardship Council (FSC), Eu Ecolabel certified or equivalent. Must be Elemental Chlorine Free (ECF) or Totally Chlorine Free (TCF). Approx. 250 Towels per sleeve. | F12: 12 units x 250 sheets per pack | G12: 15126 | O12: =N12*G12 -> 0
A13: 6 | B13: 3 | C13: Paper Hygiene | D13: Toilet Roll, 2 Ply Mini Jumbo Toilet Roll, White | E13: Min. Size: 180 cm2 per sheet (e.g. 9.cm x 20cm length or similar dimensions equal to min. area of 180cm2), embossed or creped finish, min. weight 30gsm, perforated, 3'' core, 1000-1250 sheets per roll, 200m - 250m per roll / 12 rolls per case. MUST DISSOLVE IN COLD WATER. Must be Forest Stewardship Council (FSC), Eu Ecolabel certified or equivalent. Must be Elemental Chlorine Free (ECF) or Totally Chlorine Free (TCF). Manufacturers certified specifications must be available (will be verified before contract award). | F13: 12 rolls x 200m per pack | G13: 12426 | O13: =N13*G13 -> 0
A14: 6 | B14: 4 | C14: Paper Hygiene | D14: Toilet Roll, 2 Ply Centrepull Toilet Roll - White | E14: Single sheet presentation, Min. sheet size: 234cm2 (e.g. 13cm x 18cm length or similar dimensions equal to min. area of 234cm2), min. weight 32gsm, perforated, 44mm - 50mm core, embossed or creped finish, 1000-1250 sheets per roll, 200m - 210 m per roll / 6 rolls per case. MUST DISSOLVE IN COLD WATER. Must be Forest Stewardship Council (FSC), Eu Ecolabel certified or equivalent. Must be Elemental Chlorine Free (ECF) or Totally Chlorine Free (TCF). Manufacturers certified specifications must be available (will be verified before contract award). | F14: 6 rolls x 207m per pack. | G14: 13462 | O14: =N14*G14 -> 0
A15: 6 | B15: 5 | C15: Paper Hygiene | D15: Wiper roll , 2 Ply, Centrefeed Blue | E15: Size: Each Sheet: 18-21 cm (w) x 36-39 cm (L), min. weight 32gsm, perforated, 300-400 Sheets per roll ( = 108-156 mtr. roll). Suitable for wet or dry use. Must be Forest Stewardship Council (FSC), Eu Ecolabel certified or equivalent. Must be Elemental Chlorine Free (ECF) or Totally Chlorine Free (TCF). Must be suitable for general purpose use. . Must be Food Contact approved | F15: 6 rolls x 150m per pack. | G15: 20520 | O15: =N15*G15 -> 0
A16: 6 | B16: 6 | C16: Paper Hygiene | D16: Facial Tissue, 2 Ply, Facial Tissues, White | E16: Size: Each sheet: 18-22cm (w) x 20-23cm (w), pop up box, 90-120 tissues per box. Suitable for wet or dry use. Must be Forest Stewardship Council (FSC), Eu Ecolabel certified or equivalent. Must be Elemental Chlorine Free (ECF) or Totally Chlorine Free (TCF). | F16: 30 units x 100 per pac | G16: 2170 | O16: =N16*G16 -> 0
A17: 6 | B17: 7 | C17: Paper Hygiene | D17: Wiper, 1 Ply, Large Wiper, White | E17: Interfolded, Min. Size:1435cm2 per sheet (e.g. 41cm x 35cm )or similar dimensions equal to min. of 1435cm2), Min. weight 60 gsm, Nonwoven low lint construction, Pop up box / brag box or equivalent. Must be highly absorbant - must not break up when 100% saturated. Must be Forest Stewardship Council (FSC), Eu Ecolabel certified or equivalent. Must be Elemental Chlorine Free (ECF) or Totally Chlorine Free (TCF). Must be suitable for mopping up / absorbing large spills including solvents, inks, oils and paints. Per Box of 210 - 300 sheets per box. | F17: Per Box 210 | G17: 104 | O17: =N17*G17 -> 0
A18: 6 | B18: 8 | C18: Paper Hygiene | D18: Hand Towel, 2 Ply, Hand Towel, White | E18: Interfolded, Min. Size: 529cm2 per sheet (e.g.23cm length x 23cm width or similar dimensions equal to min. of 529cm2), Min. weight 32gsm, must dispense 1 at a time touched only by user. Must not break up when wet. Must be Forest Stewardship Council (FSC), Eu Ecolabel certified or equivalent. Must be Elemental Chlorine Free (ECF) or Totally Chlorine Free (TCF). Per Pack of 200/350. | F18: 20 x 200 towels per pack / box | G18: 125 | O18: =N18*G18 -> 0
A19: 6 | B19: 9 | C19: Paper Hygiene | D19: Hand Towel, 1 Ply, Standard Hand Towel, Blue | E19: Interfolded, Min. Size: 630cm2 per sheet (e.g.31.5cm length x 20cm width or similar dimensions equal to min. of 630cm2), Min. weight 16gsm, must dispense 1 at a time touched only by user. Must not break up when wet. Must be Forest Stewardship Council (FSC), Eu Ecolabel certified or equivalent. Must be Elemental Chlorine Free (ECF) or Totally Chlorine Free (TCF). Per Pack of 250. | F19: 12 x 250 Per Box/Pack | G19: 1033 | O19: =N19*G19 -> 0
A20: 6 | B20: 10 | C20: Paper Hygiene | D20: Hand Towel, 3 Ply, Hand Towel, White | E20: Interfolded, Min. Size: 651cm2 per sheet (e.g.31cm length x 21cm width or similar dimensions equal to min. of 651cm2), Min. weight 48gsm, must dispense 1 at a time touched only by user. Must not break up when wet. Must be Forest Stewardship Council (FSC), Eu Ecolabel certified or equivalent. Must be Elemental Chlorine Free (ECF) or Totally Chlorine Free (TCF). Per Pack of 100/150. | F20: 21 x 100 towels per case | G20: 2626 | O20: =N20*G20 -> 0
A21: 6 | B21: 11 | C21: Paper Hygiene | D21: Hand Towel, 1 Ply, Large Hand Towel, White | E21: Interfolded, Min. Size: 713cm2 per sheet (e.g.31cm length x 23cm width or similar dimensions equal to min. of 713cm2), Min. weight 16gsm, embossed or crepe finish, must dispense 1 at a time touched only by user. Must not break up when wet. Must be Forest Stewardship Council (FSC), Eu Ecolabel certified or equivalent. Must be Elemental Chlorine Free (ECF) or Totally Chlorine Free (TCF). Per Pack of 250. | F21: Per Pack of 250 | G21: 660 | O21: =N21*G21 -> 0
