Workbook
Name _Toc406491743: '1. Licensing and Subscriptions'!#REF!
Name _Toc406491743: '2. Platform'!#REF!
Name _Toc406491743: '4. Support & Maintenance'!#REF!

Sheet Instructions
A1: Pricing Schedule
A2: Instructions to Tenderers
A3: 1 | B3: Please read the RFT before completing these tables
A4: 2 | B4: If Tenderers have any queries in relation to this Pricing Schedule please use the messaging facility on eTenders before the deadline date for clarifications.
A5: 3 | B5: All rates and prices quoted in the pricing schedules must be in Euros [€], to two decimal places, exclusive of VAT, except as expressly provided. In accordance with paragraph 3.7 of this RFT, prices quoted in Tenders will remain valid for the a period of entire duration of contract (including any extensions) from the Tender Deadline
A6: 4 | B6: Except in those places where it is indicated as acceptable, Tenderers must not insert additional items in the Pricing Schedule, or make any alterations to the Pricing Schedule.
A7: 6 | B7: Variations and/or qualifications to the Pricing Schedule are not permitted and will result in the Tenderer being eliminated from the Competition.
A8: 7 | B8: Tenderers are required to complete the following tables: - 1. Licensing or Subscriptions - 2. Platform - 3. Design & Implementation - 4. Support & Maintenance - 5. Personnel Rate Card
A9: 8 | B9: In the case of a third party element to your solution, provide all related initial and recurring costs in the tables provided
A10: 9 | B10: The 'Total Cost Evaluation' tab will be used to calculate the Total Cost for evaluation purposes. Tenderers do not have to enter any information here, but they should note how Total Cost is determined as this value will be used to evaluate Award Criterion G. Total Cost
A11: 10 | B11: Please indicate any assumptions made in relation to the costs. Clarity regarding your assumptions and any options we may have is essential so that we can correctly assess Total Cost of Ownership.

Sheet Annual fixed cost
A1: ICT MANAGED SERVICES - Annual Fixed Cost
B2: Year 1 | C2: Year 2 | D2: Year 3 | E2: Year 4 | F2: Year 5 | G2: Year 6 | H2: Year 7 | I2: Year 8 | J2: Total cost for 5 years
A3: Annual Fixed Cost for managed service provision | B3: €(insert cost) | C3: €(insert cost) | D3: €(insert cost) | E3: €(insert cost) | F3: €(insert cost) | G3: €(insert cost) | H3: €(insert cost) | I3: €(insert cost) | J3: €(insert total cost)
A5: a) Annual Fixed cost
A7: Note: The initial contract duration will be for four years, but the tender response is assessed over an Eight year period, which is in line with the contract extension provisions ( see Section 3.5 of RFT)
A9: Tenderers must provide an annual fixed cost for ICT Managed Services for years 1 to 8 inclusive and the overall total fixed cost for 8 years.
A10: Costs should be based on: | B10: A fleet of 250 vehicles which includes fluctuations due to seasonal leasing

Sheet 1. Licensing and Subscriptions
B2: Please also refer to the RFT for details on completing this document
B3: 1 | C3: Please provide pricing for all licenses Inland Fisheries Ireland will need to acquire for the T&FMS (both the T&FMS application and any products required to deliver the required functional and non-functional requirements). Please refer to RFT Appendix 1 regarding number and type of licences. If your solution entails seperate platform/hosting costs please provide them in tab "2. Platform"
B4: 2 | C4: Tenderers may choose the pricing model (usage-based, feature-based, user/seat-based etc.) that they believe proves optimum value to Inland Fisheries Ireland . A total cost is required for each year. However, they should provide a detailed description of the basis of their costs for each year of the contract. As an example, costs for a given year could include: - charges per user - charges per feature - a fixed fee
B5: 3 | C5: Costs must be provided in Euros and ex.VAT
B6: 4 | C6: Please indicate if VAT is applicable & include the % in the column 'VAT Applicable %'. If VAT is not applicable, put in 0%.
B7: 5 | C7: Describe clearly what services are included in the licence or subscription costs using the Explanation / Assumptions / Comments table at the bottom of this page.
B8: 6 | C8: Provide an explanation of your cost proposal, including any underlying assumptions or comments, in the Explanation / Assumptions / Comments table at the bottom of this page. This should include any assumptions you are making about third party licences that IFI may already hold. However, in general, all licence costs should be included in the first table so that we can correctly assess Total Cost of Ownership.
B11: No. | C11: Description / Basis of Costing (Please set out the basis for the costing provided, e.g. number of users etc.) | D11: Year 1 | E11: Year 2 | F11: Year 3 | G11: Year 4 | H11: Year 5 | I11: Year 6 | J11: Year 7 | K11: Year 8 | L11: Cost | N11: VAT % Applicable
B12: Licence / Subscription Costs by Year | N12: %
C13: (Please specify and provide one row for each product, add rows to this table as required) | D13: 0 | E13: 0 | F13: 0 | G13: 0 | H13: 0 | I13: 0 | J13: 0 | K13: 0 | L13: =SUM(D13:K13) -> 0
D14: 0 | E14: 0 | F14: 0 | G14: 0 | H14: 0 | I14: 0 | J14: 0 | K14: 0 | L14: =SUM(D14:K14) -> 0
D15: 0 | E15: 0 | F15: 0 | G15: 0 | H15: 0 | I15: 0 | J15: 0 | K15: 0 | L15: =SUM(D15:K15) -> 0
B16: Total Licence costs | D16: =SUM(D13:D15) -> 0 | E16: =SUM(E13:E15) -> 0 | F16: =SUM(F13:F15) -> 0 | G16: =SUM(G13:G15) -> 0 | H16: =SUM(H13:H15) -> 0 | I16: =SUM(I13:I15) -> 0 | J16: =SUM(J13:J15) -> 0 | K16: =SUM(K13:K15) -> 0 | L16: =SUM(L13:L15) -> 0
B19: No. | C19: Explanation / Assumptions / Comments
B20: Please add additional rows to this table as required

Sheet 2. Platform
B2: Please also refer to the RFT for details on completing this document
B3: 1 | C3: If your solution entails seperate platform/hosting costs please provide them in in the table below. If already included - not required to fill in
B4: 2 | C4: Tenderers may choose the pricing model (usage-based, feature-based, user/seat-based etc.) that they believe proves optimum value to Inland Fisheries Ireland . A total cost is required for each year. However, they should provide a detailed description of the basis of their costs for each year of the contract. As an example, costs for a given year could include: - charges per GB of storage - charge per 100,000 transactions - charge per database (also determined by database size) - transfer price per GB (inbound and outbound) - charge for connections from applications to different hosts - charge per 100,000 logins - any costs associated with API
B5: 3 | C5: Costs must be provided in Euros and ex.VAT
B6: 4 | C6: Please indicate if VAT is applicable & include the % in the column 'VAT Applicable %'. If VAT is not applicable, put in 0%.
B7: 5 | C7: Provide an explanation of your cost proposal, including any underlying assumptions or comments, in the Explaination / Assumptions / Comments table at the bottom of this page. Clarity regarding your assumptions and any options we may have is essential so that we can correctly assess Total Cost of Ownership.
B10: No. | C10: Description / Basis of costing (Please set out the basis for the costing provided) | D10: Year | E10: Cost | G10: VAT % Applicable
E11: € (ex. VAT) | G11: %
D12: Year 1 | E12: 0
D13: Year 2 | E13: 0
D14: Year 3 | E14: 0
D15: Year 4 | E15: 0
D16: Year 5 | E16: 0
D17: Year 6 | E17: 0
D18: Year 7 | E18: 0
D19: Year 8 | E19: 0
C20: Total Cost | E20: =SUM(E12:E19) -> 0
B23: No. | C23: Explanation / Assumptions / Comments
B24: Please add additional rows to this table as required

Sheet 3. Design & Implementation 
B2: Please also refer to the RFT for details on completing this document
B3: 1 | C3: Please provide the fee proposed to deliver the implementation services outlined. Please indicate the number of man-days included in the fee for each of the provided implementation services.
B4: 2 | C4: Please indicate other implementation options such as specific development projects.
B5: 3 | C5: Costs must be provided in Euros and ex.VAT
B6: 4 | C6: Please indicate if VAT is applicable & include the % in the column 'VAT Applicable %'. If VAT is not applicable, put in 0%.
B7: 5 | C7: Describe clearly what services are included in the implementation costs using the Explanation / Assumptions / Comments table at the bottom of this page.
B8: 6 | C8: Provide an explanation of your cost proposal, including any underlying assumptions or comments, in the Explaination / Assumptions / Comments table at the bottom of this page. Clarity regarding your assumptions and any options we may have is essential so that we can correctly assess Total Cost of Ownership.
B11: No. | C11: Description | D11: Man-days (estimated) | E11: Cost | G11: VAT % Applicable
B12: Implementation | E12: € (ex. VAT) | G12: %
B13: 1 | C13: Solution Design (refer to RFT Appendix 2.1 ) | E13: 0
B14: 2 | C14: Solution Implementation (refer to RFT Appendix 2.1 ) | E14: 0
B15: 3 | C15: Solution Testing (refer to RFT Appendix 2.1 ) | E15: 0
B16: 4 | C16: Transition to new system (refer to RFT Appendix 2.1 ) | E16: 0
B17: 5 | C17: Training (refer to RFT Appendix 2.1 ) | E17: 0
B18: 6 | C18: Data Migration including critical support during a migration phase (refer to RFT Appendix 2.1 ) | E18: 0
B19: 7 | C19: Other (Please specify and add rows for any additional service not already included above) | E19: 0
C24: Total Cost | E24: =SUM(E13:E23) -> 0
B27: No. | C27: Explaination / Assumptions / Comments
B28: Please add additional rows to this table as required

Sheet 4. Support & Maintenance
B2: Please also refer to the RFT for details on completing this document
B3: 1 | C3: Please provide the annual support and maintenance fee proposed to deliver the services outlined. Please indicate the number of man-days included in the annual fee for each of the provided support and maintenance services.
B4: 2 | C4: Costs must be provided in Euros and ex.VAT
B5: 3 | C5: Please indicate if VAT is applicable & include the % in the column 'VAT Applicable %'. If VAT is not applicable, put in 0%.
B7: 5 | C7: For the "annual support and maintenance" service please provide a breakdown by role of the man-days included in the annual fee. (See the table below titled 'Break down of "Annual support and maintenance" man-days included in Annual Fee')
B8: 6 | C8: Describe clearly what services are included in the support & maintenance costs using the Explanation / Assumptions / Comments table at the bottom of this page.
B9: 7 | C9: Provide an explanation of your cost proposal, including any underlying assumptions or comments, in the Explanation / Assumptions / Comments table at the bottom of this page.
B12: No. | C12: Description | D12: Man-days included in Annual Fee | E12: Year 1: Annual Fee | F12: Year 2: Annual Fee | G12: Year 3: Annual Fee | H12: Year 4: Annual Fee | I12: Year 5: Annual Fee | J12: Year 6: Annual Fee | K12: Year 7: Annual Fee | L12: Year 8: Annual Fee | M12: Cost | O12: VAT % Applicable
B13: Support and Maintenance Services | E13: € (ex. VAT) | F13: € (ex. VAT) | G13: € (ex. VAT) | H13: € (ex. VAT) | I13: € (ex. VAT) | J13: € (ex. VAT) | K13: € (ex. VAT) | L13: € (ex. VAT) | M13: € (ex. VAT) | O13: %
B14: 1 | C14: Annual support and maintenance (refer to RFT Appendix 2.1 Section 1.5) | E14: 0 | F14: 0 | G14: 0 | H14: 0 | I14: 0 | J14: 0 | K14: 0 | L14: 0 | M14: =SUM(E14:L14) -> 0
B15: 2 | C15: Other (Please specify and add rows for any additional service not already included above) | E15: 0 | F15: 0 | G15: 0 | H15: 0 | I15: 0 | J15: 0 | K15: 0 | L15: 0 | M15: =SUM(E15:L15) -> 0
E16: 0 | F16: 0 | G16: 0 | H16: 0 | I16: 0 | J16: 0 | K16: 0 | L16: 0 | M16: =SUM(E16:L16) -> 0
E17: 0 | F17: 0 | G17: 0 | H17: 0 | I17: 0 | J17: 0 | K17: 0 | L17: 0 | M17: =SUM(E17:L17) -> 0
E18: 0 | F18: 0 | G18: 0 | H18: 0 | I18: 0 | J18: 0 | K18: 0 | L18: 0 | M18: =SUM(E18:L18) -> 0
E19: 0 | F19: 0 | G19: 0 | H19: 0 | I19: 0 | J19: 0 | K19: 0 | L19: 0 | M19: =SUM(E19:L19) -> 0
E20: 0 | F20: 0 | G20: 0 | H20: 0 | I20: 0 | J20: 0 | K20: 0 | L20: 0 | M20: =SUM(E20:L20) -> 0
C21: Total Cost | E21: =SUM(E14:E20) -> 0 | F21: =SUM(F14:F20) -> 0 | G21: =SUM(G14:G20) -> 0 | H21: =SUM(H14:H20) -> 0 | I21: =SUM(I14:I20) -> 0 | J21: =SUM(J14:J20) -> 0 | K21: =SUM(K14:K20) -> 0 | L21: =SUM(L14:L20) -> 0 | M21: =SUM(M14:M20) -> 0
C22: Note: support and maintenance fees may be required in year one in the event delivery and go live are within one year, we are seeking annualised pricing for evaluation purposes here.
B24: Breakdown of the "Annual support and maintenance" man-days provided above
B25: No. | C25: Role Description | D25: Man-days
C26: Application support (help desk) – Level 3 | D26: 0
C27: Minor enhancements and reporting | D27: 0
C28: Testing and Release management | D28: 0
C29: Account Management | D29: 0
C30: Other (Please specify and add rows for any additional service not already included above) | D30: 0
D31: 0
C32: Total: | D32: =SUM(D26:D31) -> 0
B35: No. | C35: Explaination / Assumptions / Comments
B36: Please add additional rows to this table as required

Sheet 5. Personnel Rate Card
B3: 1 | C3: Please provide rates for Professional Services Day at Expert, Mid Level and Junior that maybe required after implementation of the project/ handover and where further enhancements are required. And please describe number of years experience for each of the levels outlined in Assumptions/ Comments below.
B4: 2 | C4: Costs must be provided in Euros and ex.VAT
B5: 3 | C5: Please indicate if VAT is applicable & include the % in the column 'VAT Applicable %'. If VAT is not applicable, put in 0%.
C8: Role (Add any other roles using the additional lines in the table) | D8: Hourly Rate | E8: Daily Rate (based on a 7.5-hour day) | G8: VAT % Applicable
D9: € (ex. VAT) | E9: € (ex. VAT) | G9: %
C10: Professional Services Day (Expert) | D10: 0 | E10: 0
C11: Professional Services Day (Mid level) | D11: 0 | E11: 0
C12: Professional Services Day (Junior) | D12: 0 | E12: 0
D13: 0 | E13: 0
C14: Other | D14: 0 | E14: 0
D15: 0 | E15: 0
D16: 0 | E16: 0
D17: 0 | E17: 0
D18: 0 | E18: 0
D19: 0 | E19: 0
D20: 0 | E20: 0
D21: 0 | E21: 0
D22: 0 | E22: 0
B25: No. | C25: Assumptions / Comments
B26: Please add additional rows to this table as required

Sheet Total Cost Evaluation
B1: Instructions
B2: Do not enter any data on this worksheet!
B3: The formulae on this worksheet will compile the Total Cost, which will be used to evaluate the Cost Award Criterion
B4: The cost information is taken from the other worksheets.
B6: Description | C6: Year 1 | F6: Year 2 | I6: Year 3 | L6: Year 4 | O6: Year 5 | R6: Year 6 | U6: Year 7 | X6: Year 8 | AA6: Total
C7: Base Price | D7: # Units ( Days etc.) | E7: Total Fee | F7: Base Price | G7: # Units ( Days etc.) | H7: Total Fee | I7: Base Price | J7: # Units ( Days etc.) | K7: Total Fee | L7: Base Price | M7: # Units ( Days etc.) | N7: Total Fee | O7: Base Price | P7: # Units ( Days etc.) | Q7: Total Fee | R7: Base Price | S7: # Units ( Days etc.) | T7: Total Fee | U7: Base Price | V7: # Units ( Days etc.) | W7: Total Fee | X7: Base Price | Y7: # Units ( Days etc.) | Z7: Total Fee
B8: 1. Licenses & Subscriptions
B9: Total Licenses & Subscriptions | C9: n/a | D9: n/a | E9: ='1. Licensing and Subscriptions'!D16 -> 0 | F9: n/a | G9: n/a | H9: ='1. Licensing and Subscriptions'!E16 -> 0 | I9: n/a | J9: n/a | K9: ='1. Licensing and Subscriptions'!F16 -> 0 | L9: n/a | M9: n/a | N9: ='1. Licensing and Subscriptions'!G16 -> 0 | O9: n/a | P9: n/a | Q9: ='1. Licensing and Subscriptions'!H16 -> 0 | R9: n/a | S9: n/a | T9: ='1. Licensing and Subscriptions'!I16 -> 0 | U9: n/a | V9: n/a | W9: ='1. Licensing and Subscriptions'!J16 -> 0 | X9: n/a | Y9: n/a | Z9: ='1. Licensing and Subscriptions'!K16 -> 0 | AA9: =E9+H9+K9+N9+Q9+T9+W9+Z9 -> 0
B10: 2. Platform
B11: Total Platform | C11: n/a | D11: n/a | E11: ='2. Platform'!E12 -> 0 | F11: n/a | G11: n/a | H11: ='2. Platform'!E13 -> 0 | I11: n/a | J11: n/a | K11: ='2. Platform'!E14 -> 0 | L11: n/a | M11: n/a | N11: ='2. Platform'!E15 -> 0 | O11: n/a | P11: n/a | Q11: ='2. Platform'!E16 -> 0 | R11: n/a | S11: n/a | T11: ='2. Platform'!E17 -> 0 | U11: n/a | V11: n/a | W11: ='2. Platform'!E18 -> 0 | X11: n/a | Y11: n/a | Z11: ='2. Platform'!E19 -> 0 | AA11: =E11+H11+K11+N11+Q11+T11+W11+Z11 -> 0
B12: 3. Design & Implementation
B13: Total Design & Implementation | C13: n/a | D13: n/a | E13: ='3. Design & Implementation '!E24 -> 0 | F13: n/a | G13: n/a | H13: ='1. Licensing and Subscriptions'!E19 -> 0 | I13: n/a | J13: n/a | K13: ='1. Licensing and Subscriptions'!F19 -> 0 | L13: n/a | M13: n/a | N13: ='1. Licensing and Subscriptions'!G19 -> 0 | O13: n/a | P13: n/a | Q13: n/a | R13: n/a | S13: n/a | T13: ='1. Licensing and Subscriptions'!Q19 -> 0 | U13: n/a | V13: n/a | W13: ='1. Licensing and Subscriptions'!R19 -> 0 | X13: n/a | Y13: n/a | Z13: ='1. Licensing and Subscriptions'!S19 -> 0 | AA13: =E13 -> 0
B14: 4. Support & Maintenance
B15: Total Support & Maintenance | C15: n/a | D15: n/a | E15: ='4. Support & Maintenance'!E21 -> 0 | F15: n/a | G15: n/a | H15: ='4. Support & Maintenance'!F21 -> 0 | I15: n/a | J15: n/a | K15: ='4. Support & Maintenance'!G21 -> 0 | L15: n/a | M15: n/a | N15: ='4. Support & Maintenance'!H21 -> 0 | O15: n/a | P15: n/a | Q15: ='4. Support & Maintenance'!I21 -> 0 | R15: n/a | S15: n/a | T15: ='4. Support & Maintenance'!J21 -> 0 | U15: n/a | V15: n/a | W15: ='4. Support & Maintenance'!K21 -> 0 | X15: n/a | Y15: n/a | Z15: ='4. Support & Maintenance'!L21 -> 0 | AA15: =E15+H15+K15+N15+Q15+T15+W15+Z15 -> 0
B16: 5. Personnel Rate Card (Change Requests etc.)
B17: Professional Services Day (Expert) | C17: ='5. Personnel Rate Card'!$E10 -> 0 | D17: =$C$39 -> 10 | E17: =C17*D17 -> 0 | F17: ='5. Personnel Rate Card'!$E10 -> 0 | G17: =$C$39 -> 10 | H17: =F17*G17 -> 0 | I17: ='5. Personnel Rate Card'!$E10 -> 0 | J17: =$C$39 -> 10 | K17: =I17*J17 -> 0 | L17: ='5. Personnel Rate Card'!$E10 -> 0 | M17: =$C$39 -> 10 | N17: =L17*M17 -> 0 | O17: ='5. Personnel Rate Card'!$E10 -> 0 | P17: =$C$39 -> 10 | Q17: =O17*P17 -> 0 | R17: ='5. Personnel Rate Card'!$E10 -> 0 | S17: =$C$39 -> 10 | T17: =R17*S17 -> 0 | U17: ='5. Personnel Rate Card'!$E10 -> 0 | V17: =$C$39 -> 10 | W17: =U17*V17 -> 0 | X17: ='5. Personnel Rate Card'!$E10 -> 0 | Y17: =$C$39 -> 10 | Z17: =X17*Y17 -> 0 | AA17: =E17+H17+K17+N17+Q17+T17+W17+Z17 -> 0
B18: Professional Services Day (Mid level) | C18: ='5. Personnel Rate Card'!$E11 -> 0 | D18: =$C$39 -> 10 | E18: =C18*D18 -> 0 | F18: ='5. Personnel Rate Card'!$E11 -> 0 | G18: =$C$39 -> 10 | H18: =F18*G18 -> 0 | I18: ='5. Personnel Rate Card'!$E11 -> 0 | J18: =$C$39 -> 10 | K18: =I18*J18 -> 0 | L18: ='5. Personnel Rate Card'!$E11 -> 0 | M18: =$C$39 -> 10 | N18: =L18*M18 -> 0 | O18: ='5. Personnel Rate Card'!$E11 -> 0 | P18: =$C$39 -> 10 | Q18: =O18*P18 -> 0 | R18: ='5. Personnel Rate Card'!$E11 -> 0 | S18: =$C$39 -> 10 | T18: =R18*S18 -> 0 | U18: ='5. Personnel Rate Card'!$E11 -> 0 | V18: =$C$39 -> 10 | W18: =U18*V18 -> 0 | X18: ='5. Personnel Rate Card'!$E11 -> 0 | Y18: =$C$39 -> 10 | Z18: =X18*Y18 -> 0 | AA18: =E18+H18+K18+N18+Q18+T18+W18+Z18 -> 0
B19: Professional Services Day (Junior) | C19: ='5. Personnel Rate Card'!$E12 -> 0 | D19: =$C$39 -> 10 | E19: =C19*D19 -> 0 | F19: ='5. Personnel Rate Card'!$E12 -> 0 | G19: =$C$39 -> 10 | H19: =F19*G19 -> 0 | I19: ='5. Personnel Rate Card'!$E12 -> 0 | J19: =$C$39 -> 10 | K19: =I19*J19 -> 0 | L19: ='5. Personnel Rate Card'!$E12 -> 0 | M19: =$C$39 -> 10 | N19: =L19*M19 -> 0 | O19: ='5. Personnel Rate Card'!$E12 -> 0 | P19: =$C$39 -> 10 | Q19: =O19*P19 -> 0 | R19: ='5. Personnel Rate Card'!$E12 -> 0 | S19: =$C$39 -> 10 | T19: =R19*S19 -> 0 | U19: ='5. Personnel Rate Card'!$E12 -> 0 | V19: =$C$39 -> 10 | W19: =U19*V19 -> 0 | X19: ='5. Personnel Rate Card'!$E12 -> 0 | Y19: =$C$39 -> 10 | Z19: =X19*Y19 -> 0 | AA19: =E19+H19+K19+N19+Q19+T19+W19+Z19 -> 0
C20: ='5. Personnel Rate Card'!$E13 -> 0 | D20: =$C$39 -> 10 | E20: =C20*D20 -> 0 | F20: ='5. Personnel Rate Card'!$E13 -> 0 | G20: =$C$39 -> 10 | H20: =F20*G20 -> 0 | I20: ='5. Personnel Rate Card'!$E13 -> 0 | J20: =$C$39 -> 10 | K20: =I20*J20 -> 0 | L20: ='5. Personnel Rate Card'!$E13 -> 0 | M20: =$C$39 -> 10 | N20: =L20*M20 -> 0 | O20: ='5. Personnel Rate Card'!$E13 -> 0 | P20: =$C$39 -> 10 | Q20: =O20*P20 -> 0 | R20: ='5. Personnel Rate Card'!$E13 -> 0 | S20: =$C$39 -> 10 | T20: =R20*S20 -> 0 | U20: ='5. Personnel Rate Card'!$E13 -> 0 | V20: =$C$39 -> 10 | W20: =U20*V20 -> 0 | X20: ='5. Personnel Rate Card'!$E13 -> 0 | Y20: =$C$39 -> 10 | Z20: =X20*Y20 -> 0 | AA20: =E20+H20+K20+N20+Q20+T20+W20+Z20 -> 0
B21: Other | C21: ='5. Personnel Rate Card'!$E14 -> 0 | D21: =$C$39 -> 10 | E21: =C21*D21 -> 0 | F21: ='5. Personnel Rate Card'!$E14 -> 0 | G21: =$C$39 -> 10 | H21: =F21*G21 -> 0 | I21: ='5. Personnel Rate Card'!$E14 -> 0 | J21: =$C$39 -> 10 | K21: =I21*J21 -> 0 | L21: ='5. Personnel Rate Card'!$E14 -> 0 | M21: =$C$39 -> 10 | N21: =L21*M21 -> 0 | O21: ='5. Personnel Rate Card'!$E14 -> 0 | P21: =$C$39 -> 10 | Q21: =O21*P21 -> 0 | R21: ='5. Personnel Rate Card'!$E14 -> 0 | S21: =$C$39 -> 10 | T21: =R21*S21 -> 0 | U21: ='5. Personnel Rate Card'!$E14 -> 0 | V21: =$C$39 -> 10 | W21: =U21*V21 -> 0 | X21: ='5. Personnel Rate Card'!$E14 -> 0 | Y21: =$C$39 -> 10 | Z21: =X21*Y21 -> 0 | AA21: =E21+H21+K21+N21+Q21+T21+W21+Z21 -> 0
C22: ='5. Personnel Rate Card'!$E15 -> 0 | D22: =$C$39 -> 10 | E22: =C22*D22 -> 0 | F22: ='5. Personnel Rate Card'!$E15 -> 0 | G22: =$C$39 -> 10 | H22: =F22*G22 -> 0 | I22: ='5. Personnel Rate Card'!$E15 -> 0 | J22: =$C$39 -> 10 | K22: =I22*J22 -> 0 | L22: ='5. Personnel Rate Card'!$E15 -> 0 | M22: =$C$39 -> 10 | N22: =L22*M22 -> 0 | O22: ='5. Personnel Rate Card'!$E15 -> 0 | P22: =$C$39 -> 10 | Q22: =O22*P22 -> 0 | R22: ='5. Personnel Rate Card'!$E15 -> 0 | S22: =$C$39 -> 10 | T22: =R22*S22 -> 0 | U22: ='5. Personnel Rate Card'!$E15 -> 0 | V22: =$C$39 -> 10 | W22: =U22*V22 -> 0 | X22: ='5. Personnel Rate Card'!$E15 -> 0 | Y22: =$C$39 -> 10 | Z22: =X22*Y22 -> 0 | AA22: =E22+H22+K22+N22+Q22+T22+W22+Z22 -> 0
C23: ='5. Personnel Rate Card'!$E16 -> 0 | D23: =$C$39 -> 10 | E23: =C23*D23 -> 0 | F23: ='5. Personnel Rate Card'!$E16 -> 0 | G23: =$C$39 -> 10 | H23: =F23*G23 -> 0 | I23: ='5. Personnel Rate Card'!$E16 -> 0 | J23: =$C$39 -> 10 | K23: =I23*J23 -> 0 | L23: ='5. Personnel Rate Card'!$E16 -> 0 | M23: =$C$39 -> 10 | N23: =L23*M23 -> 0 | O23: ='5. Personnel Rate Card'!$E16 -> 0 | P23: =$C$39 -> 10 | Q23: =O23*P23 -> 0 | R23: ='5. Personnel Rate Card'!$E16 -> 0 | S23: =$C$39 -> 10 | T23: =R23*S23 -> 0 | U23: ='5. Personnel Rate Card'!$E16 -> 0 | V23: =$C$39 -> 10 | W23: =U23*V23 -> 0 | X23: ='5. Personnel Rate Card'!$E16 -> 0 | Y23: =$C$39 -> 10 | Z23: =X23*Y23 -> 0 | AA23: =E23+H23+K23+N23+Q23+T23+W23+Z23 -> 0
C24: ='5. Personnel Rate Card'!$E17 -> 0 | D24: =$C$39 -> 10 | E24: =C24*D24 -> 0 | F24: ='5. Personnel Rate Card'!$E17 -> 0 | G24: =$C$39 -> 10 | H24: =F24*G24 -> 0 | I24: ='5. Personnel Rate Card'!$E17 -> 0 | J24: =$C$39 -> 10 | K24: =I24*J24 -> 0 | L24: ='5. Personnel Rate Card'!$E17 -> 0 | M24: =$C$39 -> 10 | N24: =L24*M24 -> 0 | O24: ='5. Personnel Rate Card'!$E17 -> 0 | P24: =$C$39 -> 10 | Q24: =O24*P24 -> 0 | R24: ='5. Personnel Rate Card'!$E17 -> 0 | S24: =$C$39 -> 10 | T24: =R24*S24 -> 0 | U24: ='5. Personnel Rate Card'!$E17 -> 0 | V24: =$C$39 -> 10 | W24: =U24*V24 -> 0 | X24: ='5. Personnel Rate Card'!$E17 -> 0 | Y24: =$C$39 -> 10 | Z24: =X24*Y24 -> 0 | AA24: =E24+H24+K24+N24+Q24+T24+W24+Z24 -> 0
C25: ='5. Personnel Rate Card'!$E18 -> 0 | D25: =$C$39 -> 10 | E25: =C25*D25 -> 0 | F25: ='5. Personnel Rate Card'!$E18 -> 0 | G25: =$C$39 -> 10 | H25: =F25*G25 -> 0 | I25: ='5. Personnel Rate Card'!$E18 -> 0 | J25: =$C$39 -> 10 | K25: =I25*J25 -> 0 | L25: ='5. Personnel Rate Card'!$E18 -> 0 | M25: =$C$39 -> 10 | N25: =L25*M25 -> 0 | O25: ='5. Personnel Rate Card'!$E18 -> 0 | P25: =$C$39 -> 10 | Q25: =O25*P25 -> 0 | R25: ='5. Personnel Rate Card'!$E18 -> 0 | S25: =$C$39 -> 10 | T25: =R25*S25 -> 0 | U25: ='5. Personnel Rate Card'!$E18 -> 0 | V25: =$C$39 -> 10 | W25: =U25*V25 -> 0 | X25: ='5. Personnel Rate Card'!$E18 -> 0 | Y25: =$C$39 -> 10 | Z25: =X25*Y25 -> 0 | AA25: =E25+H25+K25+N25+Q25+T25+W25+Z25 -> 0
C26: ='5. Personnel Rate Card'!$E21 -> 0 | D26: =$C$39 -> 10 | E26: =C26*D26 -> 0 | F26: ='5. Personnel Rate Card'!$E21 -> 0 | G26: =$C$39 -> 10 | H26: =F26*G26 -> 0 | I26: ='5. Personnel Rate Card'!$E21 -> 0 | J26: =$C$39 -> 10 | K26: =I26*J26 -> 0 | L26: ='5. Personnel Rate Card'!$E21 -> 0 | M26: =$C$39 -> 10 | N26: =L26*M26 -> 0 | O26: ='5. Personnel Rate Card'!$E21 -> 0 | P26: =$C$39 -> 10 | Q26: =O26*P26 -> 0 | R26: ='5. Personnel Rate Card'!$E21 -> 0 | S26: =$C$39 -> 10 | T26: =R26*S26 -> 0 | U26: ='5. Personnel Rate Card'!$E21 -> 0 | V26: =$C$39 -> 10 | W26: =U26*V26 -> 0 | X26: ='5. Personnel Rate Card'!$E21 -> 0 | Y26: =$C$39 -> 10 | Z26: =X26*Y26 -> 0 | AA26: =E26+H26+K26+N26+Q26+T26+W26+Z26 -> 0
C27: ='5. Personnel Rate Card'!$E22 -> 0 | D27: =$C$39 -> 10 | E27: =C27*D27 -> 0 | F27: ='5. Personnel Rate Card'!$E22 -> 0 | G27: =$C$39 -> 10 | H27: =F27*G27 -> 0 | I27: ='5. Personnel Rate Card'!$E22 -> 0 | J27: =$C$39 -> 10 | K27: =I27*J27 -> 0 | L27: ='5. Personnel Rate Card'!$E22 -> 0 | M27: =$C$39 -> 10 | N27: =L27*M27 -> 0 | O27: ='5. Personnel Rate Card'!$E22 -> 0 | P27: =$C$39 -> 10 | Q27: =O27*P27 -> 0 | R27: ='5. Personnel Rate Card'!$E22 -> 0 | S27: =$C$39 -> 10 | T27: =R27*S27 -> 0 | U27: ='5. Personnel Rate Card'!$E22 -> 0 | V27: =$C$39 -> 10 | W27: =U27*V27 -> 0 | X27: ='5. Personnel Rate Card'!$E22 -> 0 | Y27: =$C$39 -> 10 | Z27: =X27*Y27 -> 0 | AA27: =E27+H27+K27+N27+Q27+T27+W27+Z27 -> 0
B28: Total (excluding Additional Items) | AA28: =SUM(AA9,AA11,AA13,AA15,AA17,AA18,AA19,AA20,AA21,AA22,AA23,AA24,AA25,AA26,AA27) -> 0
B29: 6. Additional Items
AA30: =E30 -> 0
AA31: =E31 -> 0
AA32: =E32 -> 0
AA33: =E33 -> 0
AA34: =E34 -> 0
AA35: =E35 -> 0
B36: Total (Additional Items) | AA36: =SUM(AE34,AA30,AA31,AA32,AA33,AA34,AA35) -> 0
B37: OVERALL COST TO BE EVALUATED | AA37: =AA28+AA36 -> 0
B39: # Days for Change Requests (same for all roles) | C39: 10
