Workbook
Name _Toc138928365: Preamble!#REF!
Name _Toc78904380: 'Appendix A & B Rates'!$A$1
Name _Toc78904381: 'Appendix A & B Rates'!#REF!
Name Checked: [1]Cover!$F$11
Name Checked: [2]Cover!$F$11
Name CP: #REF!
Name CP: #REF!
Name Date: [1]Cover!$F$13
Name Date: [2]Cover!$F$13
Name Drawing_Reference: [1]Cover!$F$21
Name Drawing_Reference: [2]Cover!$F$21
Name GBS: #REF!
Name GBS: #REF!
Name GP: #REF!
Name GP: #REF!
Name JobNumber: [1]Cover!$F$7
Name JobNumber: [2]Cover!$F$7
Name JobTitle: [1]Cover!$F$5
Name JobTitle: [2]Cover!$F$5
Name MadeBy: [1]Cover!$F$9
Name MadeBy: [2]Cover!$F$9
Name Member_Location: [1]Cover!$F$19
Name Member_Location: [2]Cover!$F$19
Name Revision: [1]Cover!$F$48
Name Revision: [2]Cover!$F$48
Name SheetNo: [1]Cover!$F$17
Name SheetNo: [2]Cover!$F$17
Name Tot: #REF!
Name Tot: #REF!
Name TotGP: #REF!
Name TotGP: #REF!
Name TP: #REF!
Name TP: #REF!
Name TPDP: #REF!
Name TPDP: #REF!
Name TPPLT: #REF!
Name TPPLT: #REF!
Name WS: #REF!
Name WS: #REF!

Sheet Title Disclaimer Acknowledgment
C4: SPECIFICATION FOR GROUND INVESTIGATION
C7: BILL OF QUANTITIES
C10: 2nd Edition, 2016
C11: (With minor updates and ammendments by Arup)
A17: Copies of this document may be obtained from:
A19: Engineers Ireland
A20: 22 Clyde Road
A21: Ballsbridge
A22: Dublin 4
A23: www.engineersireland.ie/groups/societies/geotechnical-society.aspx
A25: ISBN 1-898012-62-8
A27: © Engineers Ireland / Geotechnical Society of Ireland
A29: All rights including translation reserved. Except for fair copying, no part of this publication may be reproduced, stored in a retrieval system or transmitted in any form or by any means electronic, mechanical, photocopying or otherwise without prior written permission of Engineers Ireland or ICE Publishing.
A31: The information contained in this document is intended for use as a general statement and guide only. The publishers cannot accept any liability for loss or damage that may be suffered by any person as a result of the use in any way of the information contained herein.
A34: Disclaimer
A36: The user shall accept full responsibility for the adaption, modification or implementation of this document for purposes of Tendering and / or measuring the values of Ground Investigation Contracts, consistent with the specific Instructions to Tenderers and Conditions of Contract adopted for use. The user remains fully responsible for the accuracy of all arithmetic calulations within the document, including the assignment of item descriptions, quantities and unit rates; extension / product of unit rates times quantities; summation of extended amounts for individual section sub totals and summary total; assignment of the correct VAT rate to bill items and the extension and summation of amounts inclisive of VAT; etc.
... A47: The following corrections have been made:
B48: - Corrected as per Errate Sheet Rev 1, January 2019.
B49: - Additional edits by Arup, August 2019.

Sheet Preamble
A1: Preamble and Notes for Guidance
A3: Refer to Engineers Ireland Specification 2nd Edition 2016 base document.
A5: The following corrections have been made:
B6: - Corrected as per Errate Sheet Rev 1, January 2019.
B7: - Additional edits by Arup, August 2019.
A9: The following clauses are amended or added to the preamble:
A10: Clause 1: | B10: Add at end of Clause: (j) reinstatement.
A11: Clause (19): | B11: Add to end of Clause:
A12: (e) | B12: the time of the personnel carrying out the test.
A13: (f) | B13: The rates for performing laboratory tests of long duration shall include for all costs incurred whilst working outside normal hours.
A14: Additional Clause (24):
A15: The rates for observation pits and trenches shall allow for all necessary shoring and shoring crew. For all hand-dug pits and trenches, the rates shall allow for working within a properly shored excavation. The size of a hand-dug pit or trench shall be sufficient to allow the excavation to be progressed to its scheduled depth. The rates for all pits and trenches should allow for the excavator, driver and technical assistant to log the pit and trench, take samples and carry out tests.
A16: Additional Clause (25):
A17: Quantities associated with Items A7 and A8 will be reimbursed at cost on production of receipts.
A18: Additional Clause (26):
A19: Where the Contractor is instructed by the Investigation Supervisor to remobilise plan and equipment to site. The cost of this shall be a reasonable and fair assessment, associated with transportation and down time of the plant equipment and operators. It shall not be considered equivalent to, or a proportion of the establishment rates A2 to A4. An itemised cost proposal shall be provided to the Investigation Supervisor for approval in advance.

Sheet Sec A
A1: Number | B1: Item Description | C1: Unit | D1: Quantity | E1: Rate | F1: Amount €
A3: A | B3: General Items and Provisional Services
A4: A1 | B4: Offices and stores for the Contractor | C4: sum | D4: 1
A5: A2.1 | B5: Establish on site cable percussion ('shell / auger') boring plant and equipment for a Green Category site (Note Additional Clause 25 to the preamble) | C5: sum | D5: 1
A6: A2.2 | B6: Establish on site rotary drilling plant and equipment for a Green Category site (Note Additional Clause 25 to the preamble) | C6: sum | D6: 1
A7: A2.3 | B7: Establish on site Geobor S rotary drilling plant and equipment for a Green Category site (Note Additional Clause 25 to the preamble) | C7: sum | D7: 1
A8: A2.4 | B8: Establish on site trial pitting and trenching plant and equipment for a Green Category site (Note Additional Clause 25 to the preamble) | C8: sum | D8: 1
A9: A2.5 | B9: Establish on site in situ test and sampling equipment for a Green Category site (Note Additional Clause 25 to the preamble) | C9: sum | D9: 1
A10: A2.6 | B10: Establish on site cone penetration testing (CPT) plant and equipment for a Green Category site (Note Additional Clause 25 to the preamble) | C10: sum | D10: 1
A11: A2.7 | B11: Establish on site dynamic sampling and probing plant and equipment for a Green Category site (Note Additional Clause 25 to the preamble) | C11: sum | D11: 1
A12: A2.8 | B12: Establish on site geophysical survey equipment for a Green Category site (Note Additional Clause 25 to the preamble) | C12: sum | D12: 1
A13: A2.9 | B13: Establish instrumentation equipment on site as required for Green Category site (Note Additional Clause 25 to the preamble) | C13: sum | D13: 1
A14: A3.1 | B14: Extra over Item A2.1 - A2.9 for a Yellow Category site | C14: sum | D14: 1
A15: A3.2 | B15: As Item A3.1 but for Red Category site | C15: sum
A16: A4.1 | B16: Maintain on site all site safety equipment for a Yellow Category site | C16: sum | D16: 1
A17: A4.2 | B17: As Item A4.1 but for Red Category site | C17: per week
A18: A5 | B18: Decontamination of equipment during and at the end of fieldworks for a Yellow Category site | C18: sum | D18: 1
A19: A5.1 | B19: As Item A5 but for Red Category site | C19: sum
A20: A6 | B20: Appropriate storage, transport and off-site disposal of excess contaminated arisings from borehole, trial pit or slit trench to EPA regulated landfill site (includes any PPE equipment but excludes laboratory testing on suspected contaminated materials). Note Item to be re-measured with delivery dockets and records maintained by the Contractor | C20: provisional sum | D20: 1
A21: A6.1 | B21: Contractor's uplift on Item A6 | C21: % | D21: 1
A22: A7 | B22: Professional attendance to meet the contract requirements | C22: sum | D22: 1
A23: A7.1 | B23: Provide Technician | C23: per day
A24: A7.2 | B24: Provide Engineer/Geologist (as per Item 2.3 of Specification) | C24: per day
A25: A7.3 | B25: Provide Chartered Engineer/Professional Geologist (as per Item 2.3 of Specification) | C25: per day
A26: A7.4 | B26: Provide Chartered Engineer/ Professional Geologist (+10 yr experience post charter) | C26: per day
A27: A7.5 | B27: Provide Chartered Engineer/ Professional Geologist (+20 yr experience post charter) | C27: per day
A28: A8 | B28: Set out the location at each exploratory hole or point | C28: nr | D28: 396
A29: A8.1 | B29: Establish the location and elevation (X, Y, Z) of the ground at each ‘as-built’ exploratory hole or point | C29: nr | D29: 396
A30: A9 | B30: Preparation of Health and Safety documentation and Safety Risk Assessment | C30: sum | D30: 1
A31: A10 | B31: Facilities for the Investigation Supervisor | C31: per week
A32: A11 | B32: Vehicle(s) for the Investigation Supervisor | C32: vehicle week
A33: A11.1 | B33: Provision of fuel and tolls for A11 (to be reimbursed under the contract) | C33: provisional sum
A34: A11.2 | B34: Contractors Uplift on item A11 and A11.1 | C34: % Uplift
A35: A12 | B35: Provision of phone and Internet for the Investigation Supervisor (to be reimbursed under the contract) | C35: provisional sum
A36: A12.1 | B36: Contractors Uplift on item A12 | C36: % Uplift
A37: A13 | B37: Deliver selected cores and samples to specified Client address | C37: provisional sum
A38: A14 | B38: Special additional testing and sampling required by Investigation Supervisor | C38: provisional sum
A39: A15 | B39: Traffic safety and management to include preparation of traffic management (TM) drawings for investigations on roads or pavement areas | C39: provisional sum | D39: 1
A40: A15.1 | B40: Provision of security and fencing as per Schedule S1.8.9 | C40: sum | D40: 1
A41: A16 | B41: Provision of road opening licences and road damages bond | C41: provisional sum
...

Sheet Sec B
A1: Number | B1: Item Description | C1: Unit | D1: Quantity | E1: Rate | F1: Amount €
A3: B | B3: Cable percussion boring (cable tool or percussive boring using minimum of 150mm diameter casing)
A4: B1 | B4: Move boring plant and equipment to the site of each exploratory hole and set up | C4: nr | D4: 79
A5: B2 | B5: Extra over Item B1 for setting up on a slope of gradient greater than 20% | C5: nr | D5: r/o
A6: B3 | B6: Hand digging and CAT scan at borehole location to confirm absence of utility ducts (maximum depth of 1.20m or lesser if ground is assessed as potentially unstable) | C6: nr | D6: 79
A7: B4 | B7: Advance borehole between existing ground level and 10 m depth | C7: m | D7: 790
A8: B5 | B8: As Item B4 but between 10 and 20 m depth | C8: m
A9: B6 | B9: As Item B4 but between 20 and 30 m depth | C9: m
A10: B7 | B10: As Item B4 but between 30 and 40 m depth | C10: m
A11: B8 | B11: As Item B4 but between 40 and 50 m depth | C11: m
A12: B9 | B12: Advance borehole through hard stratum or obstruction | C12: h | D12: 10
A13: B10 | B13: Provide aquifer protection measures at a single aquiclude/aquifer boundary or cross-contamination control measures at a single soil boundary in a borehole | C13: nr | D13: 36
A14: B11 | B14: Backfill borehole with cement/bentonite grout or bentonite pellets (where standpipe or piezometer is not installed) | C14: m | D14: INCL. IN I1
A15: B12 | B15: Standing time for borehole plant, equipment and crew | C15: h
A16: B | B16: Dynamic sampling (window and windowless sampling)
A17: B13 | B17: Move dynamic sampling plant and equipment to the site of each exploratory hole and set up | C17: nr | D17: 50
A18: B14 | B18: Extra over Item B1 for setting up on a slope of gradient greater than 20% | C18: nr | D18: r/o
A19: B15 | B19: Hand digging and CAT scan at dynamic sampling location to confirm absence of utility ducts (maximum depth of 1.20m or lesser if ground is assessed as potentially unstable) | C19: nr | D19: 50
A20: B16 | B20: Break out surface obstruction where present | C20: h | D20: 5
A21: B17 | B21: Dynamic sampling between 0 and 5m depth | C21: m | D21: 250
A22: B18 | B22: Dynamic sampling between 5 and 10m depth | C22: m | D22: 150
A23: B19 | B23: Dynamic sampling >10m as instructed by Investigation Supervisor | C23: m
A24: B20 | B24: Standing time for dynamic sampling plant, equipment and crew | C24: h
A25: B21 | B25: Backfill dynamic sample borehole with cement/bentonite grout or bentonite pellets (where standpipe or piezometer is not installed) | C25: m | D25: INCL. IN I1
B26: Reinstatement of cable percussive borehole and dynamic sampling borehole
A27: B22 | B27: Reinstatement of gravel hardstanding | C27: m2 | D27: 27
A28: B23 | B28: Reinstatement of asphalt / bituminous pavement | C28: m2 | D28: 11
A29: B24 | B29: Reinstatement of grass areas | C29: m2 | D29: 91
A30: B25 | B30: Provision of stock proof fencing to borehole or dynamic sample work area | C30: nr | D30: 1
A31: B26 | B31: Disposal of excess or surplus inert arisings from cable percussion boring or dynamic sampling (where standpipe or piezometer is not installed) | C31: m3
A32: B27.1 | B32: Reinstatement of reinforced concrete pavement | C32: m2
A33: B27.2 | B33: Reinstatement of paving slabs or bricks. | C33: m2
A34: B27.3 | B34: Repair of road markings | C34: m2
A40: Subtotal Section B, carried to Summary

Sheet Sec C
A1: Number | B1: Item Description | C1: Unit | D1: Quantity | E1: Rate | F1: Amount €
A3: C | B3: Rotary boring
B4: Hand augering
A5: C1 | B5: Bring hand auger equipment to the position of each exploratory hole | C5: nr
A6: C1.1 | B6: Hand digging and CAT scan at the location to confirm absence of utility ducts (maximum depth of 1.20m or lesser if ground is assessed as potentially unstable) | C6: nr
A7: C2 | B7: Bore with hand auger from existing ground level to 2 m depth | C7: m
A8: C3 | B8: As Item C2 but between 2 and 4 m depth | C8: m
A9: C4 | B9: Standing time for hand auger equipment and crew | C9: h
A10: C5 | B10: Provision of hand augering equipment and crew for augering as directed by the Investigation Supervisor; maximum depth 4 m | C10: day
A11: C6 | B11: Backfill hand auger hole with cement/bentonite grout or bentonite pellets. | C11: m
B12: Continuous ﬂight and hollow-stem ﬂight augering
A13: C7 | B13: Move mechanical augering plant and equipment to the site of each exploratory hole and set up | C13: nr
A14: C7.1 | B14: Hand digging and CAT scan at borehole location to confirm absence of utility ducts (maximum depth of 1.20m or lesser if ground is assessed as potentially unstable) | C14: nr
A15: C8 | B15: Extra over Item C7 for setting up on a slope of gradient greater than 20% | C15: nr
A16: C9 | B16: Break out surface obstructions where present at auger hole | C16: h
A17: C10 | B17: Standing time for rotary auger equipment and crew | C17: h
A18: C11 | B18: Auger in materials other than hard strata at the specified diameter between existing ground level and 10 m depth | C18: m
A19: C12 | B19: As Item C11 but between 10 and 20 m depth | C19: m
A20: C13 | B20: As Item C11 but between 20 and 30 m depth | C20: m
A21: C14 | B21: Backfill auger hole with cement/bentonite grout or bentonite pellets | C21: m
B22: Rotary drilling with and without core recovery
A23: C15 | B23: Move rotary drilling plant and equipment to the site of each exploratory drillhole and set up on gradient less than 20% | C23: nr | D23: 26
A24: C15.1 | B24: Hand digging and CAT scan at borehole location to confirm absence of utility ducts (maximum depth of 1.20m or lesser if ground is assessed as potentially unstable) | C24: nr
A25: C16 | B25: Extra over Item C15 for setting up drilling plant on gradient greater than 20% | C25: nr
A26: C17 | B26: Hand digging and CAT scan at rotary drillhole location to confirm absence of utility ducts (maximum depth of 1.20m or lesser if ground is assessed as potentially unstable) | C26: nr
A27: C18 | B27: Break out surface obstructions where present at exploratory drillhole | C27: h
A28: C19 | B28: Standing time for rotary drilling plant, equipment and crew | C28: h
A29: C20 | B29: Provide aquifer protection measures at a single aquiclude/aquifer boundary in a drillhole | C29: nr | D29: INCL. IN B10
B30: Drilling without cores
A31: C21 | B31: Rotary drill in materials other than hard strata at the specified diameter, from which cores are not required, between 0 and 10 m depth (openhole drilling) | C31: m
A32: C22 | B32: As Item C21 but between 10 and 20m depth | C32: m
A33: C23 | B33: As Item C21 but between 20 and 30m depth | C33: m
A34: C24 | B34: As Item C21 but between 30 and 40m depth | C34: m
A35: C25 | B35: As Item C21 but between 40 and 50m depth | C35: m
A36: C26 | B36: Extra over Items C21 to C25 for inclined rotary drillhole | C36: m
A37: C27 | B37: Rotary drill in hard strata at the specified diameter, from which cores are not required, between 0 and 10 m depth | C37: m
A38: C28 | B38: As Item C27 but between 10 and 20m depth | C38: m
A39: C29 | B39: As Item C27 but between 20 and 30m depth | C39: m
A40: C30 | B40: As Item C27 but between 30 and 40m depth | C40: m
A41: C31 | B41: As Item C27 but between 40 and 50m depth | C41: m
...

Sheet Sec D
A1: Number | B1: Item Description | C1: Unit | D1: Quantity | E1: Rate | F1: Amount €
A3: D | B3: Pitting and Trenching
B4: Inspection Pits
A5: D1 | B5: Excavate inspection pit by hand to 1.2m depth | C5: nr
A6: D1.1 | B6: Completed CAT scan and hand dug inspection pit at the location to confirm absence of utility ducts (maximum depth of 1.20m or lesser if ground is assessed as potentially unstable) | C6: nr
A7: D2 | B7: Extra over Item Dl for breaking out surface obstructions | C7: h
B8: Trial pits and trenches (non paved areas)
A9: D3 | B9: Move equipment to the site of each trial pit or trench of not greater than 4.5m depth | C9: nr | D9: 173
A10: D4 | B10: Extra over Item D3 for setting up on a slope of gradient greater than 20% | C10: nr
A11: D5 | B11: Extra over Item D3 for trial pit or trench between 4.5 and 6m depth | C11: nr
A12: D6 | B12: Excavate trial pit between existing ground level and 3.0m depth | C12: m | D12: =D9*3 -> 519
A13: D7 | B13: As Item D6 but between 3.0 and 4.5m depth | C13: m
A14: D8 | B14: As Item D6 but between 4.5 and 6m depth | C14: m
A15: D9 | B15: Excavate trial trench between existing ground level and 3.0m depth | C15: m3
A16: D10 | B16: As Item D9 between 3.0 and 4.5m in depth | C16: m3
A17: D11 | B17: As Item D9 between 4.5 and 6m depth | C17: m3
B18: Trial pits and trenches (paved areas)
A19: D12 | B19: Set up trial pit in road area to include erection of traffic management systems (works supervised by Engineer/Geologist with valid CSCS Card for Signing, Lighting and Guarding at Roadworks) | C19: nr
A20: D13 | B20: Set up at slit trench in road area to include erection of traffic management systems (works supervised by Engineer/Geologist with valid CSCS Card for Signing, Lighting and Guarding at Roadworks) | C20: nr
A21: D14 | B21: Saw cut paved areas in advance of works | C21: lin m
A22: D15 | B22: Breaking out hard material or surface obstructions | C22: h
A23: D16 | B23: Excavate trial pit in paved areas between ground level and 1.20m depth (works by either hand excavation or hand assisted machine excavation) | C23: lin m
A24: D17 | B24: As D16 but depth range 1.2 to 3.0m | C24: lin m
A25: D18 | B25: Excavate slit trench in paved areas between ground level and 1.2m depth (works by either hand excavation or hand assisted machine excavation) | C25: m3
A26: D19 | B26: As Item D18 but depth range 1.2 to 3.0m | C26: m3
A27: D20 | B27: Standing time for excavation plant, equipment and crew for machine dug trial pit or trench | C27: h
A28: D20.1 | B28: Standing time for excavation plant, equipment and crew for slit trenches | C28: h
B29: Observation pits and trenches
A30: D21 | B30: Move equipment to the site of each observation pit or trench of not greater than 4.5m depth | C30: nr
A31: D22 | B31: Extra over Item D21 setting up on a slope of gradient greater than 20% | C31: nr
A32: D23 | B32: Extra over Item D21 for trial pit or trench between 4.5 and 6m depth | C32: nr
A33: D24 | B33: Excavate observation pit between existing ground level and 3.0m depth | C33: m
A34: D25 | B34: As Item D24 but between 3.0 and 4.5m depth | C34: m
A35: D26 | B35: As Item D24 but between 4.5 and 6m depth | C35: m
A36: D27 | B36: Extra over Item D24 for hand excavation | C36: m
A37: D28 | B37: Excavate observation trench between existing ground level and 3.0m depth | C37: m3
A38: D29 | B38: As Item D28 but between 3.0 and 4.5m depth | C38: m3
A39: D30 | B39: As Item D28 but between 4.5 and 6m depth | C39: m3
A40: D31 | B40: Extra over Item D28 for hand excavation | C40: m3
A41: D32 | B41: Extra over Items D24 to D26 for breaking out hard strata or obstructions | C41: h
...

Sheet Sec E
A1: Number | B1: Item Description | C1: Unit | D1: Quantity | E1: Rate | F1: Amount €
A3: E | B3: Sampling and monitoring during intrusive investigation
B4: Samples for geotechnical analysis
A5: E1 | B5: Jar sample | C5: nr
A6: E2 | B6: Tub sample | C6: nr | D6: 900
A7: E3 | B7: Bulk sample | C7: nr | D7: 600
A8: E4 | B8: Large bulk sample | C8: nr | D8: 200
A9: E5 | B9: Open-tube thick-walled sample | C9: nr
A10: E6 | B10: Open-tube thin-walled sample | C10: nr | D10: 400
A11: E7 | B11: Piston sample | C11: nr
A12: E8 | B12: Groundwater sample | C12: nr
A13: E8.1 | B13: Sampling as Item E5 in depth range 10 to 20m | C13: nr
A14: E8.2 | B14: Sampling as Item E6 in depth range 20 to 30m | C14: nr
A15: E8.3 | B15: Sampling as Item E7 in depth range 30 to 40m | C15: nr
A16: E9 | B16: Ground gas sample | C16: nr
A17: E10 | B17: Cut, prepare and protect core sub-sample | C17: nr | D17: 100
A18: E10.1 | B18: Cut, prepare and protect core sub-sample on site in accordance with Annex 2.2 | C18: nr | D18: 230
B19: Samples for environmental / contamination analysis
A20: E11 | B20: Environmental / contamination sample for Suite E | C20: nr | D20: 468
A21: E12 | B21: Environmental / contamination sample for Suite F | C21: nr
A22: E13 | B22: Ground gas sample for Suite G | C22: nr
A23: E14 | B23: Environmental / contamination sample for Suite H | C23: nr
A24: E15 | B24: Environmental / contamination sample for Suite I | C24: nr
A25: E16 | B25: Other specialist environmental / contamination sampling as specified by Investigation Supervisor (Suite J) | C25: nr
A26: E17 | B26: Herbicides & Pesticides (Suite K) | C26: nr | D26: 468
A27: Subtotal Section E, carried to Summary

Sheet Sec F
A1: Number | B1: Item Description | C1: Unit | D1: Quantity | E1: Rate | F1: Amount €
A3: F | B3: Dynamic probing (DPH)
A4: F1 | B4: Bring dynamic probe equipment (DPSH) to the site of each test location | C4: nr | D4: 50
A5: F2 | B5: Extra over Item F1 for setting up on a slope of gradient greater than 20% | C5: nr
A6: F3 | B6: Carry out dynamic probe test from 0 to 5m depth | C6: m | D6: =D4*5 -> 250
A7: F4 | B7: As Item F3 but between 5 and 10m depth | C7: m | D7: =D4*3 -> 150
A8: F5 | B8: As Item F3 but between 10 and 15m depth | C8: m
A9: F6 | B9: Standing time for dynamic probe test equipment and crew | C9: h
B10: Cone penetration testing
A11: F8 | B11: Bring static cone penetration test equipment to the site of each test location | C11: nr | D11: 44
A12: F9 | B12: Extra over Item F8 for setting up on a slope of gradient greater than 20% | C12: nr
A13: F10 | B13: Carry out static cone penetration test measuring both cone and sleeve resistance from existing ground level to 10m depth | C13: m | D13: =D11*10 -> 440
A14: F11 | B14: As Item F10 but between 10 and 20m depth | C14: m | D14: =D11*10 -> 440
A15: F12 | B15: As Item F10 but between 20 and 30m depth | C15: m
A16: F13 | B16: As Item F10 but between 30 and 40m depth | C16: m
A17: F14 | B17: Extra over Items F10 to F13 for use of piezocone | C17: m | D17: =D13+D14+D15+D16 -> 880
A18: F15 | B18: Extra over Items F10 to F13 for interpretation of CPT/CPTU data | C18: m | D18: =D13+D14+D15+D16 -> 880
A19: F16 | B19: Carry out dissipation test up to 1 hour duration | C19: nr
A20: F17 | B20: Extra over Item F16 for test duration exceeding 1 hour | C20: h
A21: F18 | B21: Standing time for static cone penetration test equipment and crew | C21: h
A22: F19 | B22: Extra over Items F10 to F13 for use of seismic cone | C22: m
A23: F20 | B23: Carry out seismic cone test | C23: nr
A24: F21 | B24: Extra over Item F20 for interpretation of seismic cone data | C24: nr
A25: F22 | B25: Standing time for seismic cone test equipment and crew | C25: h
A26: F22.1 | B26: Provision of CPT equipment and operatives to the requirements of the contract specification | C26: day
B27: Dynamic cone penetrometer
A28: F23.1 | B28: Bring dynamic probe equipment (DPH) to the site of each test location | C28: nr | D28: 131
A29: F24.1 | B29: Extra over Item F1 for setting up on a slope of gradient greater than 20% | C29: nr
A30: F23.2 | B30: Carry out dynamic probe test from 0 to 5m depth | C30: m | D30: =D28*3 -> 393
A31: F24.2 | B31: As Item F3 but between 5 and 10m depth | C31: m
A32: F23.3 | B32: As Item F3 but between 10 and 15m depth | C32: m
A33: F24.3 | B33: Standing time for dynamic probe test equipment and crew | C33: h
A34: F23.4 | B34: Provision of dynamic probing equipment and crew for probing at locations as specified by the Investigation Supervisor (0 to 15m depth) | C34: day
A35: Subtotal Section F, carried to Summary

Sheet Sec G
A1: Number | B1: Item Description | C1: Unit | D1: Quantity | E1: Rate | F1: Amount €
A3: G | B3: Geophysical Surveying
B4: Land geophysical surveying
A5: G1 | B5: Conduct and process Ground Penetrating Radar (GPR) profiles | C5: lin.m
A6: G2 | B6: Conduct and process electro magnetic conductivity (EMC) profiles | C6: lin.m
A7: G3 | B7: Conduct and process electrical resistivity tomography (ERT) profiles | C7: lin.m | D7: 4750
A8: G4 | B8: Conduct and process seismic refraction spreads (P or S wave) | C8: lin.m | D8: 4750
A9: G5 | B9: Conduct and process surface wave spreads (1D or 2D MASW) | C9: lin.m | D9: 4750
B10: Borehole geophysical surveying
A11: G6 | B11: Establish down-hole geophysical logging equipment and personnel to the site of each exploratory hole and set up at each location | C11: sum
A12: G7 | B12: Conduct and process down the hole calliper, natural gamma, resistivity, sonic, ﬂuid temperature, conductivity and ﬂuid ﬂow logging | C12: m
A13: G8 | B13: Conduct and process cross-hole seismic readings at specified intervals | C13: nr
B14: Marine (overwater) geophysical surveying
A15: G9 | B15: Establish geophysical personnel and field equipment and demobilisation on completion | C15: sum
A16: G10 | B16: Conduct and process echo sounding, side-scan sonar, magnetic, sub-bottom profile surveying | C16: day
B17: Reporting
A18: G11.1 | B18: Preliminary and final geophysical interpretation and factual report | C18: Sum | D18: 1
A19: G12.1 | B19: Provision of digital data | C19: Sum | D19: 1
A20: Subtotal Section G, carried to Summary

Sheet Sec H
A1: Number | B1: Item Description | C1: Unit | D1: Quantity | E1: Rate | F1: Amount €
A3: H | B3: In situ testing
A4: H1.1 | B4: Standard penetration test in percussive borehole, depth range 0 to 10m | C4: nr | D4: =6*'Sec B'!D4 -> 474
A5: H1.2 | B5: Standard penetration test in percussive borehole, depth range 10 to 20m | C5: nr
A6: H1.3 | B6: Standard penetration test in percussive borehole, depth range 20 to 30m | C6: nr
A7: H1.4 | B7: Standard penetration test in percussive borehole, depth range 30 to 40m | C7: nr
A8: H2.1 | B8: Standard penetration test in rotary drillhole, depth range 0 to 10m | C8: nr
A9: H2.2 | B9: Standard penetration test in rotary drillhole, depth range 10 to 20m | C9: nr | D9: ='Sec C'!D23*6 -> 156
A10: H2.3 | B10: Standard penetration test in rotary drillhole, depth range 20 to 30m | C10: nr | D10: ='Sec C'!D23*2 -> 52
A11: H2.4 | B11: Standard penetration test in rotary drillhole, depth range 30 to 40m | C11: nr
A12: H1.1.A | B12: Standard penetration test in dynamic sampling hole, depth range 0 to 10m | C12: nr | D12: 250
A13: H1.2.A | B13: Standard penetration test in dynamic sampling hole, depth range 10 to 20m | C13: nr
A14: H3 | B14: In situ density testing
A15: H3.1 | B15: Small pouring cylinder method | C15: nr
A16: H3.2 | B16: Large pouring cylinder method | C16: nr
A17: H3.3 | B17: Water replacement method | C17: nr
A18: H3.4 | B18: Core cutter method | C18: nr
A19: H3.5 | B19: Nuclear gauge method | C19: day
B20: Other tests
A21: H4 | B21: California Bearing Ratio by Plate bearing test by plunger method | C21: nr
A22: H4.1 | B22: California Bearing Ratio by TRL DCP Method | C22: nr
A23: H5 | B23: Vane shear strength test in borehole | C23: nr
A24: H6 | B24: Penetration vane test, penetration from ground level | C24: nr
A25: H7 | B25: Hand penetrometer test (set of 3 readings) | C25: nr
A26: H8 | B26: Hand vane test (set of 3 readings) | C26: nr | D26: =2*'Sec D'!D9 -> 346
A27: H9 | B27: In situ geophysical techniques (resistivity and redox potential) for earthing analysis | C27: nr
B28: Permeability Testing
A29: H10 | B29: Set up, execute and dismantle variable head permeability test in cable percussive borehole | C29: nr
A30: H11 | B30: Set up, execute and dismantle constant head permeability test in cable percussive borehole | C30: nr
A31: H12 | B31: Set up, execute and dismantle variable head permeability test in rotary drillhole | C31: nr
A32: H13 | B32: Set up, execute and dismantle constant head permeability test in rotary drillhole | C32: nr
A33: H14 | B33: Set up, execute and dismantle variable head permeability test in standpipe or standpipe piezometer (Rising or Falling Method) | C33: nr
A34: H15 | B34: Set up and execute constant head permeability test in standpipe or piezometer | C34: nr
A35: H16 | B35: Set up and execute packer permeability test in rotary drillhole (0 to 10m depth) | C35: nr
A36: H17 | B36: Set up and execute packer permeability test in rotary drillhole (10 to 20m depth) | C36: nr
B37: Note: rates for permeability tests in boreholes or rotary holes to include standing time rate for plant and equipment
A38: H17.1 | B38: Disposal of water from pump tests. | C38: l
A39: Page 1 Subtotal Section H, carried forward
A46: Number | B46: Item Description | C46: Unit | D46: Quantity | E46: Rate | F46: Amount €
B48: Soil infiltration test (BRE Digest 365)
...

Sheet Sec I
A1: Number | B1: Item Description | C1: Unit | D1: Quantity | E1: Rate | F1: Amount €
A3: I | B3: Instrumentation
B4: Standpipes and piezometers
A5: I1 | B5: Backfill exploratory hole with cement / bentonite grout or bentonite pellets | C5: m | D5: =2180-D11 -> 1982
A6: I2 | B6: Provide and install 19mm Casagrande piezometer tip | C6: nr
A7: I3 | B7: Provide and install sand cell to I2 | C7: m
A8: I4 | B8: Provide and install 19mm casing/piezometer plain pipe | C8: m
A9: I5 | B9: Provide and install bentonite seal to I4 | C9: m
A10: I6 | B10: Provide and install proprietary slotted standpipe (50mm internal diameter) | C10: m | D10: =66*3 -> 198
A11: I7 | B11: Provide and install gravel pack to I6 | C11: m | D11: 198
A12: I8 | B12: Provide and install proprietary casing/plain standpipe (50mm internal diameter) | C12: m | D12: =22*22+14*7+5*7+25*5 -> 742
A13: I9 | B13: Provide and install bentonite seals to I8 | C13: m | D13: 66
A14: I10 | B14: Provide and install slotted proprietary standpipe (100mm internal diameter) | C14: m
A15: I11 | B15: Provide and install gravel pack to I10 | C15: m
A16: I12 | B16: Provide and install casing/plain standpipe (100mm internal diameter) | C16: m
A17: I13 | B17: Provide and install bentonite seals to I12 | C17: m
A18: I14 | B18: Provide and install end caps to I6 or I10 | C18: nr | D18: 66
A19: I15 | B19: Provide and install quick release gas valve to I6 or I10 | C19: nr
A20: I16 | B20: Provide and install protective cover (ﬂush) | C20: nr | D20: 66
A21: I17 | B21: Provide and install protective cover (raised) | C21: nr | D21: r/o
A22: I18 | B22: Extra over Item I16 for heavy duty cover in pavements or highways | C22: nr
A23: I19 | B23: Supply and erect protective stock proof fencing around standpipe or piezometer installation | C23: nr
A24: I20 | B24: Supply and erect 1.5 m high marker posts (3 x 1.5m) | C24: nr
A25: I21.1 | B25: Supply of security locks (including three sets of keys) | C25: nr
B26: Standpipe and piezometer development / purging
A27: I21 | B27: Supply equipment and personnel to carry out purging | C27: sum
A28: I22 | B28: Develop standpipe or piezometer by purging (3 well volumes) | C28: h
A29: I23 | B29: As Item I22 but by airlift pumping | C29: nr
A30: I24 | B30: As Item I22 but by over pumping | C30: nr
A31: I25 | B31: As Item I22 but by jetting | C31: nr
A32: I26 | B32: Disposal of purged water | C32: litre
B33: Inclinometer
A34: I27 | B34: Supply and install inclinometer tubing in exploratory hole (not including forming/drilling of borehole) | C34: m
A35: I28 | B35: Grout in place inclinometer in cable percussive or rotary drillhole | C35: m3
A36: I29 | B36: Provision of calibrated inclinometer read out unit for monitoring during investigation | C36: per week
A37: I30 | B37: Carry out base set of inclinometer readings in inclinometer and process | C37: nr
A38: I31 | B38: Provide and install protective cover to the Schedule 2 requirements | C38: nr
B39: Slip indicator
A40: I32 | B40: Provide and install protective cover (raised) slip indicators | C40: nr
A41: I33 | B41: Supply and install slip indicator in exploratory hole, including brass probe (not including forming/drilling of borehole) | C41: m
...

Sheet Sec J
A1: Number | B1: Item Description | C1: Unit | D1: Quantity | E1: Rate | F1: Amount €
A3: J | B3: Installation monitoring and sampling (during fieldwork period)
A4: J1 | B4: Reading of water level in standpipe or standpipe piezometer as per Engineer's requirements. | C4: nr | D4: ='Sec I'!D18 -> 66
A5: J2 | B5: Ground gas measurement in standpipe as per Engineer's requirements. | C5: nr
A6: J3 | B6: Provide Engineer or Geologist to take inclinometer readings as directed by Investigation Supervisor | C6: nr
A7: J4 | B7: Provide Engineer or Geologist to take measurement of slip indicator | C7: nr
A8: J5 | B8: Provide Engineer/Geologist to take water sample from standpipe or standpipe piezometer (rate not including purging or micro-purging) | C8: nr
A9: J6 | B9: Extra over Item J5 for purging or micro-purging in excess of 3 well volumes | C9: h
A10: J7 | B10: Provide Engineer/Geologist to recover ground gas sample from gas monitoring standpipe | C10: nr
A11: J8 | B11: Provide Engineer/Geologist to read free product level in standpipe using an interface probe | C11: nr
B12: Installation monitoring and sampling (post fieldwork period)
A13: J9 | B13: Return visit to site following completion of fieldwork for field instrumentation | C13: nr | D13: 3
A14: J10 | B14: Extra over Item J9 for groundwater measurements in standpipe or standpipe piezometer during return visit | C14: nr | D14: =66*3 -> 198
A15: J11 | B15: Extra over Item J9 for ground gas measurement in standpipe during return visit | C15: nr
A16: J12 | B16: Extra over Item J9 for set of inclinometer readings per installation during return visit and report results | C16: nr
A17: J13 | B17: Extra over Item J9 to check for ground slippage in slip indicator installation during return visit | C17: nr
A18: J14 | B18: Extra over Item J9 for water sample from standpipe or standpipe piezometer during return visit to site, including purging 3 volumes or micro-purging up to 3.0 hours | C18: nr
A19: J15 | B19: Extra over Item J14 for purging or micro-purging in excess of 3.0 hours | C19: h
A20: J16 | B20: Extra over Item J9 for ground gas sample from gas monitoring standpipe during return visit | C20: nr
A21: J17 | B21: Extra over Item J9 for reading of free product level in standpipe using an interface probe during return visit | C21: nr | D21: =D14/3 -> 66
A22: J18 | B22: Provision of equipment to facilitate measuring free product in Item J17 | C22: sum
A23: J19 | B23: Provide and install data logger to measure groundwater levels in standpipes | C23: nr
A24: J20 | B24: Provide baro logger to monitor air pressure for Item J19 | C24: nr
A25: J21 | B25: Provide Engineer/Geologist to visit site to download and process data logger and baro logger | C25: day
B26: Surface water body sampling and testing
A27: J22 | B27: Surface water body sample taken during fieldwork period | C27: nr
A28: J23 | B28: Surface water body sample taken during return visit | C28: nr
A29: J24 | B29: Determination of dissolved oxygen, conductivity, pH and temperature of surface water body during fieldwork period | C29: nr
A30: J25 | B30: Determination of dissolved oxygen, conductivity, pH and temperature of surface water body during return visit | C30: nr
A32: Subtotal Section J, carried to Summary

Sheet Sec K
A1: Number | B1: Item Description | C1: Unit | D1: Quantity | E1: Rate | F1: Amount €
A3: K | B3: Geotechnical laboratory testing
A4: K1 | B4: Classification
A5: K1.1 | B5: Moisture content | C5: nr | D5: 600
A6: K1.2 | B6: Liquid and plastic limit | C6: nr | D6: 400
A7: K1.3 | B7: Volumetric shrinkage | C7: nr
A8: K1.4 | B8: Linear shrinkage | C8: nr
A9: K1.5 | B9: Density by linear measurement | C9: nr
A10: K1.6 | B10: Density by immersion in water or water displacement | C10: nr | D10: 120
A11: K1.7 | B11: Dry density and saturation moisture content for chalk | C11: nr
A12: K1.8 | B12: Particle density by gas jar or pycnometer | C12: nr
A13: K1.9 | B13: Particle size distribution by wet sieving | C13: nr | D13: 260
A14: K1.10 | B14: Particle size distribution by dry sieving | C14: nr
A15: K1.11 | B15: Sedimentation by pipette | C15: nr
A16: K1.12 | B16: Sedimentation by hydrometer | C16: nr | D16: 225
A17: K2 | B17: Chemical and electrochemical
A18: K2.1 | B18: Organic matter content | C18: nr
A19: K2.2 | B19: Mass loss on ignition | C19: nr | D19: 50
A20: K2.3 | B20: Acid soluble sulphate content of soil sample | C20: nr
A21: K2.4 | B21: Water soluble sulphate content of soil sample (2;1 water / soil extract) | C21: nr
A22: K2.5 | B22: Total sulphur content of soil sample | C22: nr
A23: K2.6 | B23: Sulphate content of groundwater sample | C23: nr
A24: K2.7 | B24: Carbonate content of groundwater sample | C24: nr
A25: K2.8 | B25: Chloride content of groundwater sample | C25: nr
A26: K2.9 | B26: Water soluble sulphate content of hardcore sample | C26: nr
A27: K2.10 | B27: Acid soluble sulphate content of hardcore sample (2:1 extract) | C27: nr
A28: K2.11 | B28: Total sulphur content of hardcore sample | C28: nr
A29: K2.12 | B29: pH value | C29: nr
A30: K2.13 | B30: Resistivity | C30: nr
A31: K2.14 | B31: Redox potential | C31: nr
A32: K2.15 | B32: Test Suite A (Greenfield – pyrite absent) | C32: nr
A33: K2.16 | B33: Test Suite B (Greenfield – pyrite present | C33: nr | D33: 35
A34: K2.17 | B34: Test Suite C (Brownfield – pyrite absent) | C34: nr
A35: K2.18 | B35: Test Suite D (Brownfield – pyrite present) | C35: nr | D35: 60
A36: K3 | B36: Compaction related
A37: K3.1 | B37: Dry density/moisture content relationship using 2.5 kg rammer (5 pt) | C37: nr
A38: K3.2 | B38: Dry density/moisture content relationship using 4.5 kg rammer (5 pt) | C38: nr
A39: K3.3 | B39: Dry density/moisture content relationship using vibrating rammer (5 pt) | C39: nr
A40: K3.4 | B40: Extra over Items K3.1, K3.2 and K3.3 for use of CBR mould | C40: nr
A41: K3.5 | B41: Moisture Condition Value at natural moisture content | C41: nr
...

Sheet Sec L
A1: Number | B1: Item Description | C1: Unit | D1: Quantity | E1: Rate | F1: Amount €
A3: L | B3: Geoenvironmental laboratory testing
B4: (Contamination testing of soil, groundwater, gas and fill material)
A5: L1 | B5: Test Suite E (soil sample) | C5: nr | D5: 468
A6: L2 | B6: Test Suite F (water sample) | C6: nr
A7: L3 | B7: Test Suite G (ground gas) | C7: nr
A8: L4 | B8: Test Suite H (WAC testing – inert) | C8: nr
A9: L5 | B9: Test Suite I (WAC testing – non-hazardous) | C9: nr
A10: L6 | B10: Test Suite J (WAC testing – hazardous) | C10: nr
A11: L7 | B11: Herbicides & Pesticides (Suite K) | C11: nr | D11: 468
A15: Subtotal Section L, carried to Summary

Sheet Appendix A & B Rates
A1: Appendix A. Rates for Ground Practitioners and other Personnel
A3: Item | B3: Item description | C3: Unit | D3: Rate
A4: 1 | B4: Technician | C4: h
A5: 2 | B5: Engineer/ Geologist | C5: h
A6: 3 | B6: Chartered Engineer / Professional Geologist | C6: h
A7: 4 | B7: Chartered Engineer/ Professional Geologist (10 years’ experience post charter) | C7: h
A8: 5 | B8: Chartered Engineer/ Professional Geologist (20 years’ experience post charter) | C8: h
A9: 6 | B9: Ecologist | C9: h
A10: 7 | B10: Archaeologist | C10: h
A11: 8 | B11: Expenses incurred by staff on site visits or who are resident by agreement with the Investigation Supervisor | C11: day
A12: 9 | B12: Rate per kilometre from Contractor's premises and return for Items 1 and 2 | C12: km
A13: 10 | B13: As above but for Items 3, 4 and 5 | C13: km
A14: 11 | B14: All other expenses incurred in conjunction with a site visit where a return journey is made on the same day for Items I and 2 | C14: visit
A15: 12 | B15: As above but for Items 3, 4 and 5 | C15: visit
... A17: 14 | B17: As above but for Items 3, 4 and 5 | C17: overnight
A19: Item description as defined in accordance with Clause 2.3 of the Specification.
A20: Estimate of costs under Appendix A to the Bill of Quantities where the provision of the Contractor's staff for work in accordance with Specification Clauses 3.5.2, 3.6.1 and 3.6.2 cannot be adequately specified at tender. (To be assessed by the Investigation Supervisor).
A23: Appendix B. Long term sample storage
A24: Rates shall be entered for the following:
A26: Item | B26: Item description | C26: Unit | D26: Rate/Week
A27: Geotechnical samples
A28: 1 | B28: Cable percussive borehole or dynamic sample | C28: nr
A29: 2 | B29: Rotary drilling core (core box) | C29: nr
A30: 3 | B30: Rotary drilling core sub-sample | C30: nr
A31: 4 | B31: Bulk sample | C31: nr
A32: 5 | B32: Large bulk sample | C32: nr
A33: 6 | B33: Open-tube sample (thick-wall sampler) | C33: nr
A34: 7 | B34: Open-tube sample (thin-wall sampler) | C34: nr
A35: 8 | B35: Piston sample | C35: nr
A36: 9 | B36: Groundwater sample | C36: nr
A37: 10 | B37: Hardcore aggregate bulk sample (not including drying at 40 degrees) | C37: nr
A38: Environmental/ Contamination samples
A39: 11 | B39: Soil sample in plastic tub | C39: nr
A40: 12 | B40: Soil sample in glass jar | C40: nr
A41: 13 | B41: Groundwater sample | C41: nr
A42: 14 | B42: Gas sample | C42: nr
A44: Where samples comprise more than one container, the rate entered shall be per container.
A45: Estimate of costs under Appendix B to the Bill of Quantities for long-term storage of samples where required in Schedules S1.12.2 and S1.12.10. (To be assessed by the Investigation Supervisor)

Sheet Summary
A2: Summary of Bill of Quantities
A4: Section | C4: Amount €
A5: A. | B5: General items, provisional services and additional items
A6: B. | B6: Percussion boring and dynamic Sampling
A7: C. | B7: Rotary drilling
A8: D. | B8: Pitting and trenching
A9: E. | B9: Sampling and monitoring during intrusive investigation
A10: F. | B10: Probing and cone penetration testing
A11: G. | B11: Geophysical surveying
A12: H. | B12: In situ testing
A13: I. | B13: Instrumentation
A14: J. | B14: Installation monitoring and sampling
A15: K. | B15: Geotechnical laboratory testing
A16: L. | B16: Geoenvironmental laboratory testing
B18: Tender Sum (excluding VAT)
B19: VAT % - Fieldwork
B20: VAT % - Laboratory/reporting work
B21: Tender Sum (plus VAT)
