Workbook

Sheet Instructions
B2: Establishment of a Single Party Framework Agreement for Event Programming, Production & Promotion Services for The Bram Stoker Festival 2026 – 2030
B3: INSTRUCTIONS TO TENDERERS
B5: THIS WORKBOOK MUST BE COMPLETED AND RETURNED IN SOFT COPY WITH YOUR TENDER SUBMISSION. THE RESPONSE TO THIS PRICING SCHEDULE MUST BE UPLOADED SEPARATELY FROM THE TRD AND CLEARLY LABELLED AS “TRD PRICING SCHEDULE”. TENDERERS ARE REQUIRED TO COMPLETE ONLY THOSE CELLS HIGHLIGHTED IN YELLOW. THE RELEVANT TABLE TOTALS IN THE BLUE CELLS WILL AUTOMATICALLY POPULATE THE 'COSTS FOR EVALUATION' TABLE.
B6: Tenderers shall provide a separate cost breakdown for each of the proposed locations including the four (4) mandatory installations identified in the Initial Call-Off Contract and shall complete each of the worksheets, in this excel workbook, as follows: • Location 1: GPO Projection Mapping • Location 2: Millenium Bridge Illumination • Location 3: Palace Street Projection • Location 4: Custom House Projection • Locations 5 to 19 • Miscellaneous Costs Each worksheet shall identify design, equipment, installation, maintenance, monitoring, removal and any other associated costs. total.
B7: TENDERERS MUST INSERT THE TOTAL COST FOR EVALUATION PURPOSES (FROM THE 'COSTS FOR EVALUATION' WORKSHEET CELL D26) INTO THE FORM OF TENDER IN THE TENDER RESPONSE DOCUMENT UPLOADED SEPARATELY ON ETENDERS. WHERE A NUMBER OF DAYS AND VOLUME FIGURES ARE INCLUDED IN THESE WORKSHEETS THEY ARE NOTIONAL AMOUNTS AND PROVIDE NO GUARANTEE OF WORK TO BE AWARDED UNDER THE FRAMEWORK AGREEMENT. THEY ARE BEING USED PURELY TO ENABLE ASSESSMENT OF THE NOTIONAL COST FOR THE FRAMEWORK AGREEMENT AND ENSURE CERTAINTY OF RATES FOR WORK UNDER THE FRAMEWORK

Sheet Costs for Evaluation
B2: TOTAL NOTIONAL COSTS FOR EVALUATION PURPOSES
B3: Name of Tenderer: | D3: [insert Tenderer name]
B4: The cells below will be automatically populated from the relevant tables in the worksheets.
B6: ='Location 1'!B48 -> Total cost for Location 1 (excluding VAT) | C6: ='Location 1'!B3 -> Site: GPO | D6: ='Location 1'!G48 -> 0
B7: ='Location 2'!B48 -> Total cost for Location 2 (excluding VAT) | C7: ='Location 2'!B3 -> Site: Millenium Bridge Illumination | D7: ='Location 2'!G48 -> 0
B8: ='Location 3'!B48 -> Total cost for Location 3 (excluding VAT) | C8: ='Location 3'!B3 -> Site: Palace Street Projection | D8: ='Location 3'!G48 -> 0
B9: ='Location 4'!B48 -> Total cost for Location 4 (excluding VAT) | C9: ='Location 4'!B3 -> Site: Custom House Projection | D9: ='Location 4'!G48 -> 0
B10: ='Location 5'!B48 -> Total cost for Location 5 (excluding VAT) | C10: ='Location 5'!B3 -> Site: (insert name / location of proposed site) | D10: ='Location 5'!G48 -> 0
B11: ='Location 6'!B48 -> Total cost for Location 6 (excluding VAT) | C11: ='Location 6'!B3 -> Site: (insert name / location of proposed site) | D11: ='Location 6'!G48 -> 0
B12: ='Location 7'!B48 -> Total cost for Location 7 (excluding VAT) | C12: ='Location 7'!B3 -> Site: (insert name / location of proposed site) | D12: ='Location 7'!G48 -> 0
B13: ='Location 8'!B48 -> Total cost for Location 8 (excluding VAT) | C13: ='Location 8'!B3 -> Site: (insert name / location of proposed site) | D13: ='Location 8'!G48 -> 0
B14: ='Location 9'!B48 -> Total cost for Location 9 (excluding VAT) | C14: ='Location 9'!B3 -> Site: (insert name / location of proposed site) | D14: ='Location 9'!G48 -> 0
B15: ='Location 10'!B48 -> Total cost for Location 10 (excluding VAT) | C15: ='Location 10'!B3 -> Site: (insert name / location of proposed site) | D15: ='Location 10'!G48 -> 0
B16: ='Location 11'!B48 -> Total cost for Location 11 (excluding VAT) | C16: ='Location 10'!B3 -> Site: (insert name / location of proposed site) | D16: ='Location 11'!G48 -> 0
B17: ='Location 12'!B48 -> Total cost for Location 12 (excluding VAT) | C17: ='Location 12'!B3 -> Site: (insert name / location of proposed site) | D17: ='Location 12'!G48 -> 0
B18: ='Location 13'!B48 -> Total cost for Location 13 (excluding VAT) | C18: ='Location 13'!B3 -> Site: (insert name / location of proposed site) | D18: ='Location 13'!G48 -> 0
B19: ='Location 14'!B48 -> Total cost for Location 14 (excluding VAT) | C19: ='Location 14'!B3 -> Site: (insert name / location of proposed site) | D19: ='Location 14'!G48 -> 0
B20: ='Location 15'!B48 -> Total cost for Location 15 (excluding VAT) | C20: ='Location 15'!B3 -> Site: (insert name / location of proposed site) | D20: ='Location 15'!G48 -> 0
B21: ='Location 16'!B48 -> Total cost for Location 16 (excluding VAT) | C21: ='Location 16'!B3 -> Site: (insert name / location of proposed site) | D21: ='Location 16'!G48 -> 0
B22: ='Location 17'!B48 -> Total cost for Location 17 (excluding VAT) | C22: ='Location 17'!B3 -> Site: (insert name / location of proposed site) | D22: ='Location 17'!G48 -> 0
B23: ='Location 18'!B48 -> Total cost for Location 18 (excluding VAT) | C23: ='Location 18'!B3 -> Site: (insert name / location of proposed site) | D23: ='Location 18'!G48 -> 0
B24: ='Location 19'!B48 -> Total cost for Location 19 (excluding VAT) | C24: ='Location 19'!B3 -> Site: (insert name / location of proposed site) | D24: ='Location 19'!G48 -> 0
B25: ='Miscellaneous Costs'!B47 -> Total Miscellaneous Costs (excluding VAT) | C25: N/A | D25: ='Miscellaneous Costs'!G47 -> 0
B26: TOTAL COSTS FOR EVALUATION PURPOSES (insert this figure into the TRD Form of Tender in the TRD) | D26: =SUM(D6:D25) -> 0

Sheet Location 1
B2: Location 1:
B3: Site: GPO
B4: Rule: The tenderer is fully responsible for pricing all elements required to deliver the event to the highest possible standard from planning through to dismantling. Add as many rows as required
B6: Breakdown of Location 1 Costs
B7: Item / Please describe each discrete service element and associated supplies | D7: Description of Unit (e.g. daily, hourly, box (no. in box), per metre, per machine etc.) | E7: A. Unit Cost (Excluding VAT) | F7: B. Volume | G7: Total Cost (Excluding VAT) (A x B)
B8: 1 | E8: 0 | F8: 0 | G8: =SUM(E8*F8) -> 0
B9: 2 | E9: 0 | F9: 0 | G9: =SUM(E9*F9) -> 0
B10: 3 | E10: 0 | F10: 0 | G10: =SUM(E10*F10) -> 0
B11: 4 | E11: 0 | F11: 0 | G11: =SUM(E11*F11) -> 0
B12: 5 | E12: 0 | F12: 0 | G12: =SUM(E12*F12) -> 0
B13: 6 | E13: 0 | F13: 0 | G13: =SUM(E13*F13) -> 0
B14: 7 | E14: 0 | F14: 0 | G14: =SUM(E14*F14) -> 0
B15: 8 | E15: 0 | F15: 0 | G15: =SUM(E15*F15) -> 0
B16: 9 | E16: 0 | F16: 0 | G16: =SUM(E16*F16) -> 0
B17: 10 | E17: 0 | F17: 0 | G17: =SUM(E17*F17) -> 0
B18: 11 | E18: 0 | F18: 0 | G18: =SUM(E18*F18) -> 0
B19: 12 | E19: 0 | F19: 0 | G19: =SUM(E19*F19) -> 0
... B47: 40 | E47: 0 | F47: 0 | G47: =SUM(E47*F47) -> 0
B48: Total cost for Location 1 (excluding VAT) | G48: =SUM(G8:G47) -> 0

Sheet Location 2
B2: Location 2:
B3: Site: Millenium Bridge Illumination
B4: Rule: The tenderer is fully responsible for pricing all elements required to deliver the event to the highest possible standard from planning through to dismantling. Add as many rows as required
B6: Breakdown of Location 2 Costs
B7: Item / Please describe each discrete service element and associated supplies | D7: Description of Unit (e.g. daily, hourly, box (no. in box), per metre, per machine etc.) | E7: A. Unit Cost (Excluding VAT) | F7: B. Volume | G7: Total Cost (Excluding VAT) (A x B)
B8: 1 | E8: 0 | F8: 0 | G8: =SUM(E8*F8) -> 0
B9: 2 | E9: 0 | F9: 0 | G9: =SUM(E9*F9) -> 0
B10: 3 | E10: 0 | F10: 0 | G10: =SUM(E10*F10) -> 0
B11: 4 | E11: 0 | F11: 0 | G11: =SUM(E11*F11) -> 0
B12: 5 | E12: 0 | F12: 0 | G12: =SUM(E12*F12) -> 0
B13: 6 | E13: 0 | F13: 0 | G13: =SUM(E13*F13) -> 0
B14: 7 | E14: 0 | F14: 0 | G14: =SUM(E14*F14) -> 0
B15: 8 | E15: 0 | F15: 0 | G15: =SUM(E15*F15) -> 0
B16: 9 | E16: 0 | F16: 0 | G16: =SUM(E16*F16) -> 0
B17: 10 | E17: 0 | F17: 0 | G17: =SUM(E17*F17) -> 0
B18: 11 | E18: 0 | F18: 0 | G18: =SUM(E18*F18) -> 0
B19: 12 | E19: 0 | F19: 0 | G19: =SUM(E19*F19) -> 0
... B47: 40 | E47: 0 | F47: 0 | G47: =SUM(E47*F47) -> 0
B48: Total cost for Location 2 (excluding VAT) | G48: =SUM(G8:G47) -> 0

Sheet Location 3
B2: Location 3:
B3: Site: Palace Street Projection
B4: Rule: The tenderer is fully responsible for pricing all elements required to deliver the event to the highest possible standard from planning through to dismantling. Add as many rows as required
B6: Breakdown of Location 3 Costs
B7: Item / Please describe each discrete service element and associated supplies | D7: Description of Unit (e.g. daily, hourly, box (no. in box), per metre, per machine etc.) | E7: A. Unit Cost (Excluding VAT) | F7: B. Volume | G7: Total Cost (Excluding VAT) (A x B)
B8: 1 | E8: 0 | F8: 0 | G8: =SUM(E8*F8) -> 0
B9: 2 | E9: 0 | F9: 0 | G9: =SUM(E9*F9) -> 0
B10: 3 | E10: 0 | F10: 0 | G10: =SUM(E10*F10) -> 0
B11: 4 | E11: 0 | F11: 0 | G11: =SUM(E11*F11) -> 0
B12: 5 | E12: 0 | F12: 0 | G12: =SUM(E12*F12) -> 0
B13: 6 | E13: 0 | F13: 0 | G13: =SUM(E13*F13) -> 0
B14: 7 | E14: 0 | F14: 0 | G14: =SUM(E14*F14) -> 0
B15: 8 | E15: 0 | F15: 0 | G15: =SUM(E15*F15) -> 0
B16: 9 | E16: 0 | F16: 0 | G16: =SUM(E16*F16) -> 0
B17: 10 | E17: 0 | F17: 0 | G17: =SUM(E17*F17) -> 0
B18: 11 | E18: 0 | F18: 0 | G18: =SUM(E18*F18) -> 0
B19: 12 | E19: 0 | F19: 0 | G19: =SUM(E19*F19) -> 0
... B47: 40 | E47: 0 | F47: 0 | G47: =SUM(E47*F47) -> 0
B48: Total cost for Location 3 (excluding VAT) | G48: =SUM(G8:G47) -> 0

Sheet Location 4
B2: Location 4:
B3: Site: Custom House Projection
B4: Rule: The tenderer is fully responsible for pricing all elements required to deliver the event to the highest possible standard from planning through to dismantling. Add as many rows as required
B6: Breakdown of Location 4 Costs
B7: Item / Please describe each discrete service element and associated supplies | D7: Description of Unit (e.g. daily, hourly, box (no. in box), per metre, per machine etc.) | E7: A. Unit Cost (Excluding VAT) | F7: B. Volume | G7: Total Cost (Excluding VAT) (A x B)
B8: 1 | E8: 0 | F8: 0 | G8: =SUM(E8*F8) -> 0
B9: 2 | E9: 0 | F9: 0 | G9: =SUM(E9*F9) -> 0
B10: 3 | E10: 0 | F10: 0 | G10: =SUM(E10*F10) -> 0
B11: 4 | E11: 0 | F11: 0 | G11: =SUM(E11*F11) -> 0
B12: 5 | E12: 0 | F12: 0 | G12: =SUM(E12*F12) -> 0
B13: 6 | E13: 0 | F13: 0 | G13: =SUM(E13*F13) -> 0
B14: 7 | E14: 0 | F14: 0 | G14: =SUM(E14*F14) -> 0
B15: 8 | E15: 0 | F15: 0 | G15: =SUM(E15*F15) -> 0
B16: 9 | E16: 0 | F16: 0 | G16: =SUM(E16*F16) -> 0
B17: 10 | E17: 0 | F17: 0 | G17: =SUM(E17*F17) -> 0
B18: 11 | E18: 0 | F18: 0 | G18: =SUM(E18*F18) -> 0
B19: 12 | E19: 0 | F19: 0 | G19: =SUM(E19*F19) -> 0
... B47: 40 | E47: 0 | F47: 0 | G47: =SUM(E47*F47) -> 0
B48: Total cost for Location 4 (excluding VAT) | G48: =SUM(G8:G47) -> 0

Sheet Location 5
B2: Location 5:
B3: Site: (insert name / location of proposed site)
B4: Rule: The tenderer is fully responsible for pricing all elements required to deliver the event to the highest possible standard from planning through to dismantling. Add as many rows as required
B6: Breakdown of Location 5 Costs
B7: Item / Please describe each discrete service element and associated supplies | D7: Description of Unit (e.g. daily, hourly, box (no. in box), per metre, per machine etc.) | E7: A. Unit Cost (Excluding VAT) | F7: B. Volume | G7: Total Cost (Excluding VAT) (A x B)
B8: 1 | E8: 0 | F8: 0 | G8: =SUM(E8*F8) -> 0
B9: 2 | E9: 0 | F9: 0 | G9: =SUM(E9*F9) -> 0
B10: 3 | E10: 0 | F10: 0 | G10: =SUM(E10*F10) -> 0
B11: 4 | E11: 0 | F11: 0 | G11: =SUM(E11*F11) -> 0
B12: 5 | E12: 0 | F12: 0 | G12: =SUM(E12*F12) -> 0
B13: 6 | E13: 0 | F13: 0 | G13: =SUM(E13*F13) -> 0
B14: 7 | E14: 0 | F14: 0 | G14: =SUM(E14*F14) -> 0
B15: 8 | E15: 0 | F15: 0 | G15: =SUM(E15*F15) -> 0
B16: 9 | E16: 0 | F16: 0 | G16: =SUM(E16*F16) -> 0
B17: 10 | E17: 0 | F17: 0 | G17: =SUM(E17*F17) -> 0
B18: 11 | E18: 0 | F18: 0 | G18: =SUM(E18*F18) -> 0
B19: 12 | E19: 0 | F19: 0 | G19: =SUM(E19*F19) -> 0
... B47: 40 | E47: 0 | F47: 0 | G47: =SUM(E47*F47) -> 0
B48: Total cost for Location 5 (excluding VAT) | G48: =SUM(G8:G47) -> 0

Sheet Location 6
B2: Location 6:
B3: Site: (insert name / location of proposed site)
B4: Rule: The tenderer is fully responsible for pricing all elements required to deliver the event to the highest possible standard from planning through to dismantling. Add as many rows as required
B6: Breakdown of Location 6 Costs
B7: Item / Please describe each discrete service element and associated supplies | D7: Description of Unit (e.g. daily, hourly, box (no. in box), per metre, per machine etc.) | E7: A. Unit Cost (Excluding VAT) | F7: B. Volume | G7: Total Cost (Excluding VAT) (A x B)
B8: 1 | E8: 0 | F8: 0 | G8: =SUM(E8*F8) -> 0
B9: 2 | E9: 0 | F9: 0 | G9: =SUM(E9*F9) -> 0
B10: 3 | E10: 0 | F10: 0 | G10: =SUM(E10*F10) -> 0
B11: 4 | E11: 0 | F11: 0 | G11: =SUM(E11*F11) -> 0
B12: 5 | E12: 0 | F12: 0 | G12: =SUM(E12*F12) -> 0
B13: 6 | E13: 0 | F13: 0 | G13: =SUM(E13*F13) -> 0
B14: 7 | E14: 0 | F14: 0 | G14: =SUM(E14*F14) -> 0
B15: 8 | E15: 0 | F15: 0 | G15: =SUM(E15*F15) -> 0
B16: 9 | E16: 0 | F16: 0 | G16: =SUM(E16*F16) -> 0
B17: 10 | E17: 0 | F17: 0 | G17: =SUM(E17*F17) -> 0
B18: 11 | E18: 0 | F18: 0 | G18: =SUM(E18*F18) -> 0
B19: 12 | E19: 0 | F19: 0 | G19: =SUM(E19*F19) -> 0
... B47: 40 | E47: 0 | F47: 0 | G47: =SUM(E47*F47) -> 0
B48: Total cost for Location 6 (excluding VAT) | G48: =SUM(G8:G47) -> 0

Sheet Location 7
B2: Location 7:
B3: Site: (insert name / location of proposed site)
B4: Rule: The tenderer is fully responsible for pricing all elements required to deliver the event to the highest possible standard from planning through to dismantling. Add as many rows as required
B6: Breakdown of Location 7 Costs
B7: Item / Please describe each discrete service element and associated supplies | D7: Description of Unit (e.g. daily, hourly, box (no. in box), per metre, per machine etc.) | E7: A. Unit Cost (Excluding VAT) | F7: B. Volume | G7: Total Cost (Excluding VAT) (A x B)
B8: 1 | E8: 0 | F8: 0 | G8: =SUM(E8*F8) -> 0
B9: 2 | E9: 0 | F9: 0 | G9: =SUM(E9*F9) -> 0
B10: 3 | E10: 0 | F10: 0 | G10: =SUM(E10*F10) -> 0
B11: 4 | E11: 0 | F11: 0 | G11: =SUM(E11*F11) -> 0
B12: 5 | E12: 0 | F12: 0 | G12: =SUM(E12*F12) -> 0
B13: 6 | E13: 0 | F13: 0 | G13: =SUM(E13*F13) -> 0
B14: 7 | E14: 0 | F14: 0 | G14: =SUM(E14*F14) -> 0
B15: 8 | E15: 0 | F15: 0 | G15: =SUM(E15*F15) -> 0
B16: 9 | E16: 0 | F16: 0 | G16: =SUM(E16*F16) -> 0
B17: 10 | E17: 0 | F17: 0 | G17: =SUM(E17*F17) -> 0
B18: 11 | E18: 0 | F18: 0 | G18: =SUM(E18*F18) -> 0
B19: 12 | E19: 0 | F19: 0 | G19: =SUM(E19*F19) -> 0
... B47: 40 | E47: 0 | F47: 0 | G47: =SUM(E47*F47) -> 0
B48: Total cost for Location 7 (excluding VAT) | G48: =SUM(G8:G47) -> 0

Sheet Location 8
B2: Location 8:
B3: Site: (insert name / location of proposed site)
B4: Rule: The tenderer is fully responsible for pricing all elements required to deliver the event to the highest possible standard from planning through to dismantling. Add as many rows as required
B6: Breakdown of Location 8 Costs
B7: Item / Please describe each discrete service element and associated supplies | D7: Description of Unit (e.g. daily, hourly, box (no. in box), per metre, per machine etc.) | E7: A. Unit Cost (Excluding VAT) | F7: B. Volume | G7: Total Cost (Excluding VAT) (A x B)
B8: 1 | E8: 0 | F8: 0 | G8: =SUM(E8*F8) -> 0
B9: 2 | E9: 0 | F9: 0 | G9: =SUM(E9*F9) -> 0
B10: 3 | E10: 0 | F10: 0 | G10: =SUM(E10*F10) -> 0
B11: 4 | E11: 0 | F11: 0 | G11: =SUM(E11*F11) -> 0
B12: 5 | E12: 0 | F12: 0 | G12: =SUM(E12*F12) -> 0
B13: 6 | E13: 0 | F13: 0 | G13: =SUM(E13*F13) -> 0
B14: 7 | E14: 0 | F14: 0 | G14: =SUM(E14*F14) -> 0
B15: 8 | E15: 0 | F15: 0 | G15: =SUM(E15*F15) -> 0
B16: 9 | E16: 0 | F16: 0 | G16: =SUM(E16*F16) -> 0
B17: 10 | E17: 0 | F17: 0 | G17: =SUM(E17*F17) -> 0
B18: 11 | E18: 0 | F18: 0 | G18: =SUM(E18*F18) -> 0
B19: 12 | E19: 0 | F19: 0 | G19: =SUM(E19*F19) -> 0
... B47: 40 | E47: 0 | F47: 0 | G47: =SUM(E47*F47) -> 0
B48: Total cost for Location 8 (excluding VAT) | G48: =SUM(G8:G47) -> 0

Sheet Location 9
B2: Location 9:
B3: Site: (insert name / location of proposed site)
B4: Rule: The tenderer is fully responsible for pricing all elements required to deliver the event to the highest possible standard from planning through to dismantling. Add as many rows as required
B6: Breakdown of Location 9 Costs
B7: Item / Please describe each discrete service element and associated supplies | D7: Description of Unit (e.g. daily, hourly, box (no. in box), per metre, per machine etc.) | E7: A. Unit Cost (Excluding VAT) | F7: B. Volume | G7: Total Cost (Excluding VAT) (A x B)
B8: 1 | E8: 0 | F8: 0 | G8: =SUM(E8*F8) -> 0
B9: 2 | E9: 0 | F9: 0 | G9: =SUM(E9*F9) -> 0
B10: 3 | E10: 0 | F10: 0 | G10: =SUM(E10*F10) -> 0
B11: 4 | E11: 0 | F11: 0 | G11: =SUM(E11*F11) -> 0
B12: 5 | E12: 0 | F12: 0 | G12: =SUM(E12*F12) -> 0
B13: 6 | E13: 0 | F13: 0 | G13: =SUM(E13*F13) -> 0
B14: 7 | E14: 0 | F14: 0 | G14: =SUM(E14*F14) -> 0
B15: 8 | E15: 0 | F15: 0 | G15: =SUM(E15*F15) -> 0
B16: 9 | E16: 0 | F16: 0 | G16: =SUM(E16*F16) -> 0
B17: 10 | E17: 0 | F17: 0 | G17: =SUM(E17*F17) -> 0
B18: 11 | E18: 0 | F18: 0 | G18: =SUM(E18*F18) -> 0
B19: 12 | E19: 0 | F19: 0 | G19: =SUM(E19*F19) -> 0
... B47: 40 | E47: 0 | F47: 0 | G47: =SUM(E47*F47) -> 0
B48: Total cost for Location 9 (excluding VAT) | G48: =SUM(G8:G47) -> 0

Sheet Location 10
B2: Location 10:
B3: Site: (insert name / location of proposed site)
B4: Rule: The tenderer is fully responsible for pricing all elements required to deliver the event to the highest possible standard from planning through to dismantling. Add as many rows as required
B6: Breakdown of Location 10 Costs
B7: Item / Please describe each discrete service element and associated supplies | D7: Description of Unit (e.g. daily, hourly, box (no. in box), per metre, per machine etc.) | E7: A. Unit Cost (Excluding VAT) | F7: B. Volume | G7: Total Cost (Excluding VAT) (A x B)
B8: 1 | E8: 0 | F8: 0 | G8: =SUM(E8*F8) -> 0
B9: 2 | E9: 0 | F9: 0 | G9: =SUM(E9*F9) -> 0
B10: 3 | E10: 0 | F10: 0 | G10: =SUM(E10*F10) -> 0
B11: 4 | E11: 0 | F11: 0 | G11: =SUM(E11*F11) -> 0
B12: 5 | E12: 0 | F12: 0 | G12: =SUM(E12*F12) -> 0
B13: 6 | E13: 0 | F13: 0 | G13: =SUM(E13*F13) -> 0
B14: 7 | E14: 0 | F14: 0 | G14: =SUM(E14*F14) -> 0
B15: 8 | E15: 0 | F15: 0 | G15: =SUM(E15*F15) -> 0
B16: 9 | E16: 0 | F16: 0 | G16: =SUM(E16*F16) -> 0
B17: 10 | E17: 0 | F17: 0 | G17: =SUM(E17*F17) -> 0
B18: 11 | E18: 0 | F18: 0 | G18: =SUM(E18*F18) -> 0
B19: 12 | E19: 0 | F19: 0 | G19: =SUM(E19*F19) -> 0
... B47: 40 | E47: 0 | F47: 0 | G47: =SUM(E47*F47) -> 0
B48: Total cost for Location 10 (excluding VAT) | G48: =SUM(G8:G47) -> 0

Sheet Location 11
B2: Location 11:
B3: Site: (insert name / location of proposed site)
B4: Rule: The tenderer is fully responsible for pricing all elements required to deliver the event to the highest possible standard from planning through to dismantling. Add as many rows as required
B6: Breakdown of Location 11 Costs
B7: Item / Please describe each discrete service element and associated supplies | D7: Description of Unit (e.g. daily, hourly, box (no. in box), per metre, per machine etc.) | E7: A. Unit Cost (Excluding VAT) | F7: B. Volume | G7: Total Cost (Excluding VAT) (A x B)
B8: 1 | E8: 0 | F8: 0 | G8: =SUM(E8*F8) -> 0
B9: 2 | E9: 0 | F9: 0 | G9: =SUM(E9*F9) -> 0
B10: 3 | E10: 0 | F10: 0 | G10: =SUM(E10*F10) -> 0
B11: 4 | E11: 0 | F11: 0 | G11: =SUM(E11*F11) -> 0
B12: 5 | E12: 0 | F12: 0 | G12: =SUM(E12*F12) -> 0
B13: 6 | E13: 0 | F13: 0 | G13: =SUM(E13*F13) -> 0
B14: 7 | E14: 0 | F14: 0 | G14: =SUM(E14*F14) -> 0
B15: 8 | E15: 0 | F15: 0 | G15: =SUM(E15*F15) -> 0
B16: 9 | E16: 0 | F16: 0 | G16: =SUM(E16*F16) -> 0
B17: 10 | E17: 0 | F17: 0 | G17: =SUM(E17*F17) -> 0
B18: 11 | E18: 0 | F18: 0 | G18: =SUM(E18*F18) -> 0
B19: 12 | E19: 0 | F19: 0 | G19: =SUM(E19*F19) -> 0
... B47: 40 | E47: 0 | F47: 0 | G47: =SUM(E47*F47) -> 0
B48: Total cost for Location 11 (excluding VAT) | G48: =SUM(G8:G47) -> 0

Sheet Location 12
B2: Location 12:
B3: Site: (insert name / location of proposed site)
B4: Rule: The tenderer is fully responsible for pricing all elements required to deliver the event to the highest possible standard from planning through to dismantling. Add as many rows as required
B6: Breakdown of Location 12 Costs
B7: Item / Please describe each discrete service element and associated supplies | D7: Description of Unit (e.g. daily, hourly, box (no. in box), per metre, per machine etc.) | E7: A. Unit Cost (Excluding VAT) | F7: B. Volume | G7: Total Cost (Excluding VAT) (A x B)
B8: 1 | E8: 0 | F8: 0 | G8: =SUM(E8*F8) -> 0
B9: 2 | E9: 0 | F9: 0 | G9: =SUM(E9*F9) -> 0
B10: 3 | E10: 0 | F10: 0 | G10: =SUM(E10*F10) -> 0
B11: 4 | E11: 0 | F11: 0 | G11: =SUM(E11*F11) -> 0
B12: 5 | E12: 0 | F12: 0 | G12: =SUM(E12*F12) -> 0
B13: 6 | E13: 0 | F13: 0 | G13: =SUM(E13*F13) -> 0
B14: 7 | E14: 0 | F14: 0 | G14: =SUM(E14*F14) -> 0
B15: 8 | E15: 0 | F15: 0 | G15: =SUM(E15*F15) -> 0
B16: 9 | E16: 0 | F16: 0 | G16: =SUM(E16*F16) -> 0
B17: 10 | E17: 0 | F17: 0 | G17: =SUM(E17*F17) -> 0
B18: 11 | E18: 0 | F18: 0 | G18: =SUM(E18*F18) -> 0
B19: 12 | E19: 0 | F19: 0 | G19: =SUM(E19*F19) -> 0
... B47: 40 | E47: 0 | F47: 0 | G47: =SUM(E47*F47) -> 0
B48: Total cost for Location 12 (excluding VAT) | G48: =SUM(G8:G47) -> 0

Sheet Location 13
B2: Location 13:
B3: Site: (insert name / location of proposed site)
B4: Rule: The tenderer is fully responsible for pricing all elements required to deliver the event to the highest possible standard from planning through to dismantling. Add as many rows as required
B6: Breakdown of Location 13 Costs
B7: Item / Please describe each discrete service element and associated supplies | D7: Description of Unit (e.g. daily, hourly, box (no. in box), per metre, per machine etc.) | E7: A. Unit Cost (Excluding VAT) | F7: B. Volume | G7: Total Cost (Excluding VAT) (A x B)
B8: 1 | E8: 0 | F8: 0 | G8: =SUM(E8*F8) -> 0
B9: 2 | E9: 0 | F9: 0 | G9: =SUM(E9*F9) -> 0
B10: 3 | E10: 0 | F10: 0 | G10: =SUM(E10*F10) -> 0
B11: 4 | E11: 0 | F11: 0 | G11: =SUM(E11*F11) -> 0
B12: 5 | E12: 0 | F12: 0 | G12: =SUM(E12*F12) -> 0
B13: 6 | E13: 0 | F13: 0 | G13: =SUM(E13*F13) -> 0
B14: 7 | E14: 0 | F14: 0 | G14: =SUM(E14*F14) -> 0
B15: 8 | E15: 0 | F15: 0 | G15: =SUM(E15*F15) -> 0
B16: 9 | E16: 0 | F16: 0 | G16: =SUM(E16*F16) -> 0
B17: 10 | E17: 0 | F17: 0 | G17: =SUM(E17*F17) -> 0
B18: 11 | E18: 0 | F18: 0 | G18: =SUM(E18*F18) -> 0
B19: 12 | E19: 0 | F19: 0 | G19: =SUM(E19*F19) -> 0
... B47: 40 | E47: 0 | F47: 0 | G47: =SUM(E47*F47) -> 0
B48: Total cost for Location 13 (excluding VAT) | G48: =SUM(G8:G47) -> 0

Sheet Location 14
B2: Location 14:
B3: Site: (insert name / location of proposed site)
B4: Rule: The tenderer is fully responsible for pricing all elements required to deliver the event to the highest possible standard from planning through to dismantling. Add as many rows as required
B6: Breakdown of Location 14 Costs
B7: Item / Please describe each discrete service element and associated supplies | D7: Description of Unit (e.g. daily, hourly, box (no. in box), per metre, per machine etc.) | E7: A. Unit Cost (Excluding VAT) | F7: B. Volume | G7: Total Cost (Excluding VAT) (A x B)
B8: 1 | E8: 0 | F8: 0 | G8: =SUM(E8*F8) -> 0
B9: 2 | E9: 0 | F9: 0 | G9: =SUM(E9*F9) -> 0
B10: 3 | E10: 0 | F10: 0 | G10: =SUM(E10*F10) -> 0
B11: 4 | E11: 0 | F11: 0 | G11: =SUM(E11*F11) -> 0
B12: 5 | E12: 0 | F12: 0 | G12: =SUM(E12*F12) -> 0
B13: 6 | E13: 0 | F13: 0 | G13: =SUM(E13*F13) -> 0
B14: 7 | E14: 0 | F14: 0 | G14: =SUM(E14*F14) -> 0
B15: 8 | E15: 0 | F15: 0 | G15: =SUM(E15*F15) -> 0
B16: 9 | E16: 0 | F16: 0 | G16: =SUM(E16*F16) -> 0
B17: 10 | E17: 0 | F17: 0 | G17: =SUM(E17*F17) -> 0
B18: 11 | E18: 0 | F18: 0 | G18: =SUM(E18*F18) -> 0
B19: 12 | E19: 0 | F19: 0 | G19: =SUM(E19*F19) -> 0
... B47: 40 | E47: 0 | F47: 0 | G47: =SUM(E47*F47) -> 0
B48: Total cost for Location 14 (excluding VAT) | G48: =SUM(G8:G47) -> 0

Sheet Location 15
B2: Location 15:
B3: Site: (insert name / location of proposed site)
B4: Rule: The tenderer is fully responsible for pricing all elements required to deliver the event to the highest possible standard from planning through to dismantling. Add as many rows as required
B6: Breakdown of Location 15 Costs
B7: Item / Please describe each discrete service element and associated supplies | D7: Description of Unit (e.g. daily, hourly, box (no. in box), per metre, per machine etc.) | E7: A. Unit Cost (Excluding VAT) | F7: B. Volume | G7: Total Cost (Excluding VAT) (A x B)
B8: 1 | E8: 0 | F8: 0 | G8: =SUM(E8*F8) -> 0
B9: 2 | E9: 0 | F9: 0 | G9: =SUM(E9*F9) -> 0
B10: 3 | E10: 0 | F10: 0 | G10: =SUM(E10*F10) -> 0
B11: 4 | E11: 0 | F11: 0 | G11: =SUM(E11*F11) -> 0
B12: 5 | E12: 0 | F12: 0 | G12: =SUM(E12*F12) -> 0
B13: 6 | E13: 0 | F13: 0 | G13: =SUM(E13*F13) -> 0
B14: 7 | E14: 0 | F14: 0 | G14: =SUM(E14*F14) -> 0
B15: 8 | E15: 0 | F15: 0 | G15: =SUM(E15*F15) -> 0
B16: 9 | E16: 0 | F16: 0 | G16: =SUM(E16*F16) -> 0
B17: 10 | E17: 0 | F17: 0 | G17: =SUM(E17*F17) -> 0
B18: 11 | E18: 0 | F18: 0 | G18: =SUM(E18*F18) -> 0
B19: 12 | E19: 0 | F19: 0 | G19: =SUM(E19*F19) -> 0
... B47: 40 | E47: 0 | F47: 0 | G47: =SUM(E47*F47) -> 0
B48: Total cost for Location 15 (excluding VAT) | G48: =SUM(G8:G47) -> 0

Sheet Location 16
B2: Location 16:
B3: Site: (insert name / location of proposed site)
B4: Rule: The tenderer is fully responsible for pricing all elements required to deliver the event to the highest possible standard from planning through to dismantling. Add as many rows as required
B6: Breakdown of Location 16 Costs
B7: Item / Please describe each discrete service element and associated supplies | D7: Description of Unit (e.g. daily, hourly, box (no. in box), per metre, per machine etc.) | E7: A. Unit Cost (Excluding VAT) | F7: B. Volume | G7: Total Cost (Excluding VAT) (A x B)
B8: 1 | E8: 0 | F8: 0 | G8: =SUM(E8*F8) -> 0
B9: 2 | E9: 0 | F9: 0 | G9: =SUM(E9*F9) -> 0
B10: 3 | E10: 0 | F10: 0 | G10: =SUM(E10*F10) -> 0
B11: 4 | E11: 0 | F11: 0 | G11: =SUM(E11*F11) -> 0
B12: 5 | E12: 0 | F12: 0 | G12: =SUM(E12*F12) -> 0
B13: 6 | E13: 0 | F13: 0 | G13: =SUM(E13*F13) -> 0
B14: 7 | E14: 0 | F14: 0 | G14: =SUM(E14*F14) -> 0
B15: 8 | E15: 0 | F15: 0 | G15: =SUM(E15*F15) -> 0
B16: 9 | E16: 0 | F16: 0 | G16: =SUM(E16*F16) -> 0
B17: 10 | E17: 0 | F17: 0 | G17: =SUM(E17*F17) -> 0
B18: 11 | E18: 0 | F18: 0 | G18: =SUM(E18*F18) -> 0
B19: 12 | E19: 0 | F19: 0 | G19: =SUM(E19*F19) -> 0
... B47: 40 | E47: 0 | F47: 0 | G47: =SUM(E47*F47) -> 0
B48: Total cost for Location 16 (excluding VAT) | G48: =SUM(G8:G47) -> 0

Sheet Location 17
B2: Location 17:
B3: Site: (insert name / location of proposed site)
B4: Rule: The tenderer is fully responsible for pricing all elements required to deliver the event to the highest possible standard from planning through to dismantling. Add as many rows as required
B6: Breakdown of Location 17 Costs
B7: Item / Please describe each discrete service element and associated supplies | D7: Description of Unit (e.g. daily, hourly, box (no. in box), per metre, per machine etc.) | E7: A. Unit Cost (Excluding VAT) | F7: B. Volume | G7: Total Cost (Excluding VAT) (A x B)
B8: 1 | E8: 0 | F8: 0 | G8: =SUM(E8*F8) -> 0
B9: 2 | E9: 0 | F9: 0 | G9: =SUM(E9*F9) -> 0
B10: 3 | E10: 0 | F10: 0 | G10: =SUM(E10*F10) -> 0
B11: 4 | E11: 0 | F11: 0 | G11: =SUM(E11*F11) -> 0
B12: 5 | E12: 0 | F12: 0 | G12: =SUM(E12*F12) -> 0
B13: 6 | E13: 0 | F13: 0 | G13: =SUM(E13*F13) -> 0
B14: 7 | E14: 0 | F14: 0 | G14: =SUM(E14*F14) -> 0
B15: 8 | E15: 0 | F15: 0 | G15: =SUM(E15*F15) -> 0
B16: 9 | E16: 0 | F16: 0 | G16: =SUM(E16*F16) -> 0
B17: 10 | E17: 0 | F17: 0 | G17: =SUM(E17*F17) -> 0
B18: 11 | E18: 0 | F18: 0 | G18: =SUM(E18*F18) -> 0
B19: 12 | E19: 0 | F19: 0 | G19: =SUM(E19*F19) -> 0
... B47: 40 | E47: 0 | F47: 0 | G47: =SUM(E47*F47) -> 0
B48: Total cost for Location 17 (excluding VAT) | G48: =SUM(G8:G47) -> 0

Sheet Location 18
B2: Location 18:
B3: Site: (insert name / location of proposed site)
B4: Rule: The tenderer is fully responsible for pricing all elements required to deliver the event to the highest possible standard from planning through to dismantling. Add as many rows as required
B6: Breakdown of Location 18 Costs
B7: Item / Please describe each discrete service element and associated supplies | D7: Description of Unit (e.g. daily, hourly, box (no. in box), per metre, per machine etc.) | E7: A. Unit Cost (Excluding VAT) | F7: B. Volume | G7: Total Cost (Excluding VAT) (A x B)
B8: 1 | E8: 0 | F8: 0 | G8: =SUM(E8*F8) -> 0
B9: 2 | E9: 0 | F9: 0 | G9: =SUM(E9*F9) -> 0
B10: 3 | E10: 0 | F10: 0 | G10: =SUM(E10*F10) -> 0
B11: 4 | E11: 0 | F11: 0 | G11: =SUM(E11*F11) -> 0
B12: 5 | E12: 0 | F12: 0 | G12: =SUM(E12*F12) -> 0
B13: 6 | E13: 0 | F13: 0 | G13: =SUM(E13*F13) -> 0
B14: 7 | E14: 0 | F14: 0 | G14: =SUM(E14*F14) -> 0
B15: 8 | E15: 0 | F15: 0 | G15: =SUM(E15*F15) -> 0
B16: 9 | E16: 0 | F16: 0 | G16: =SUM(E16*F16) -> 0
B17: 10 | E17: 0 | F17: 0 | G17: =SUM(E17*F17) -> 0
B18: 11 | E18: 0 | F18: 0 | G18: =SUM(E18*F18) -> 0
B19: 12 | E19: 0 | F19: 0 | G19: =SUM(E19*F19) -> 0
... B47: 40 | E47: 0 | F47: 0 | G47: =SUM(E47*F47) -> 0
B48: Total cost for Location 18 (excluding VAT) | G48: =SUM(G8:G47) -> 0

Sheet Location 19
B2: Location 19:
B3: Site: (insert name / location of proposed site)
B4: Rule: The tenderer is fully responsible for pricing all elements required to deliver the event to the highest possible standard from planning through to dismantling. Add as many rows as required
B6: Breakdown of Location 19 Costs
B7: Item / Please describe each discrete service element and associated supplies | D7: Description of Unit (e.g. daily, hourly, box (no. in box), per metre, per machine etc.) | E7: A. Unit Cost (Excluding VAT) | F7: B. Volume | G7: Total Cost (Excluding VAT) (A x B)
B8: 1 | E8: 0 | F8: 0 | G8: =SUM(E8*F8) -> 0
B9: 2 | E9: 0 | F9: 0 | G9: =SUM(E9*F9) -> 0
B10: 3 | E10: 0 | F10: 0 | G10: =SUM(E10*F10) -> 0
B11: 4 | E11: 0 | F11: 0 | G11: =SUM(E11*F11) -> 0
B12: 5 | E12: 0 | F12: 0 | G12: =SUM(E12*F12) -> 0
B13: 6 | E13: 0 | F13: 0 | G13: =SUM(E13*F13) -> 0
B14: 7 | E14: 0 | F14: 0 | G14: =SUM(E14*F14) -> 0
B15: 8 | E15: 0 | F15: 0 | G15: =SUM(E15*F15) -> 0
B16: 9 | E16: 0 | F16: 0 | G16: =SUM(E16*F16) -> 0
B17: 10 | E17: 0 | F17: 0 | G17: =SUM(E17*F17) -> 0
B18: 11 | E18: 0 | F18: 0 | G18: =SUM(E18*F18) -> 0
B19: 12 | E19: 0 | F19: 0 | G19: =SUM(E19*F19) -> 0
... B47: 40 | E47: 0 | F47: 0 | G47: =SUM(E47*F47) -> 0
B48: Total cost for Location 19 (excluding VAT) | G48: =SUM(G8:G47) -> 0

Sheet Miscellaneous Costs
B2: Miscellaneous Costs
B3: Rule: The tenderer is fully responsible for pricing all elements required to deliver the event to the highest possible standard from planning through to dismantling. Please set out below any applicable costs that have not been captured in Worksheets Location 1 to Location 19 Add as many rows as required
B5: Breakdown of Miscellaneous Costs
B6: Item / Please describe each discrete service element and associated supplies | D6: Description of Unit (e.g. daily, hourly, box (no. in box), per metre, per machine etc.) | E6: A. Unit Cost (Excluding VAT) | F6: B. Volume | G6: Total Cost (Excluding VAT) (A x B)
B7: 1 | E7: 0 | F7: 0 | G7: =SUM(E7*F7) -> 0
B8: 2 | E8: 0 | F8: 0 | G8: =SUM(E8*F8) -> 0
B9: 3 | E9: 0 | F9: 0 | G9: =SUM(E9*F9) -> 0
B10: 4 | E10: 0 | F10: 0 | G10: =SUM(E10*F10) -> 0
B11: 5 | E11: 0 | F11: 0 | G11: =SUM(E11*F11) -> 0
B12: 6 | E12: 0 | F12: 0 | G12: =SUM(E12*F12) -> 0
B13: 7 | E13: 0 | F13: 0 | G13: =SUM(E13*F13) -> 0
B14: 8 | E14: 0 | F14: 0 | G14: =SUM(E14*F14) -> 0
B15: 9 | E15: 0 | F15: 0 | G15: =SUM(E15*F15) -> 0
B16: 10 | E16: 0 | F16: 0 | G16: =SUM(E16*F16) -> 0
B17: 11 | E17: 0 | F17: 0 | G17: =SUM(E17*F17) -> 0
B18: 12 | E18: 0 | F18: 0 | G18: =SUM(E18*F18) -> 0
... B46: 40 | E46: 0 | F46: 0 | G46: =SUM(E46*F46) -> 0
B47: Total Miscellaneous Costs (excluding VAT) | G47: =SUM(G7:G46) -> 0
