Workbook

Sheet Cover
A1: #VALUE!
A2: National Barrier Mitigation Programme
A4: PRICING DOCUMENT
A5: Engineering & Environmental Consultancy Services Lot 6 - Integrated Consultancy Services
B7: Tenderer Name
B10: Signature of person authorised to sign Tenders on behalf of the Tenderer
B13: Date:
A16: Document Verification Sheet
A17: Project Title: | C17: 0814010 Ballyragget Weir Barrier Mitigation
A18: Document Title: | C18: Pricing Document
A19: File Reference: | C19: NBMP_0814010.01.01.02.01.004
A20: Date: | C20: 46267 | D20: Issue No.: | E20: I01
A22: Revision | B22: Date | C22: Description | D22: Tender Issue
A23: I01 | B23: 46267 | C23: Prepared by | D23: Checked by | E23: Approved by
C24: R McGloin | D24: J Horan | E24: D.Felloni
A25: Revision | B25: Date | C25: Description
C26: Prepared by | D26: Checked by | E26: Approved by
A28: Revision | B28: Date | C28: Description
C29: Prepared by | D29: Checked by | E29: Approved by
A31: Revision | B31: Date | C31: Description
C32: Prepared by | D32: Checked by | E32: Approved by
A34: Revision | B34: Date | C34: Description
C35: Prepared by | D35: Checked by | E35: Approved by
A37: Revision | B37: Date | C37: Description
C38: Prepared by | D38: Checked by | E38: Approved by
A40: Revision | B40: Date | C40: Description
C41: Prepared by | D41: Checked by | E41: Approved by

Sheet Table of rates
A1: Note: Rates used in Pricing Document must be in accordance with Framework Rates. Any tender containing rates higher than those outlined at the time of the Framework Agreement or agreed with the Contracting Authority following any subsequent Review Date maybe excluded from consideration for the Services Contract; Lower rates may be used. | E1: Tender Cost Summary
A3: Role Lot | B3: Rates Lot 6 | C3: Name of Person Lot 6 | E3: Phase | G3: Site 1_Toorlestraun Total
A4: Project Director | B4: 0 | C4: Insert Name 1 | E4: Phase 1 Feasibility Study & Option Selection | G4: ='0814010 Ballyragget'!X20 -> 0
A5: Project Manager | B5: 0 | C5: Insert Name 2 | E5: Phase 2 Preliminary Design | G5: ='0814010 Ballyragget'!X42 -> 0
A6: Project Supervisor Design Process | B6: 0 | C6: Insert Name 3 | E6: Phase 3 Statutory Process | G6: ='0814010 Ballyragget'!X59 -> 0
A7: Civil Design Team Lead/Senior Engineer | B7: 0 | C7: Insert Name 4 | E7: Site Total | G7: =SUM(G4:G6) -> 0
A8: Structures Design Team Lead/Senior Engineer | B8: 0 | C8: Insert Name 5
A9: Hydraulics/Hydrology Team Lead/Senior Hydraulic Engineer/Hydrologist | B9: 0 | C9: Insert Name 6
A10: Project Engineer | B10: 0 | C10: Insert Name 9
A11: Graduate Engineer | B11: 0 | C11: Insert Name 10 | E11: Tender Total | G11: =SUM(G7:G7) -> 0
A12: Senior Technician | B12: 0 | C12: Insert Name 11 | E12: VAT at | F12: 0.23 | G12: =G11*F12 -> 0
A13: Junior Technician | B13: 0 | C13: Insert Name 12 | E13: Grand Total | G13: =G11+G12 -> 0
A15: Note: Tenderers are to Complete the Rates and Names in the cells highlighted orange in the table above. The rates and names should automatically transfer to the Time sheet. Tenderer are required to insert the hours associated with each team member for each activity. Totals should automatically total for each activity, team member, phase and Tender total. If a Tender identifies any errors they shall immediately notify the contracting authority.

Sheet 0814010 Ballyragget
A1: Project Role | C1: Project Director | E1: Project Manager | G1: Project Supervisor Design Process | I1: Civil Design Team Lead/Senior Engineer | K1: Structures Design Team Lead/Senior Engineer | M1: Hydraulics/Hydrology Team Lead/Senior Hydraulic Engineer/Hydrologist | O1: Project Engineer | Q1: Graduate Engineer | S1: Senior Technician | U1: Junior Technician | W1: Total Hours | X1: Item Total
A2: Note: Rates used in Pricing Document must be in accordance with Framework Rates. Any tender containing rates higher than those outlined at the time of the Framework Agreement or agreed with the Contracting Authority following any subsequent Review Date maybe excluded from consideration for the Services Contract; Lower rates may be used. | C2: ='Table of rates'!C4 -> Insert Name 1 | E2: ='Table of rates'!C5 -> Insert Name 2 | G2: ='Table of rates'!C6 -> Insert Name 3 | I2: ='Table of rates'!C7 -> Insert Name 4 | K2: ='Table of rates'!C8 -> Insert Name 5 | M2: ='Table of rates'!C9 -> Insert Name 6 | O2: ='Table of rates'!C10 -> Insert Name 9 | Q2: ='Table of rates'!C11 -> Insert Name 10 | S2: ='Table of rates'!C12 -> Insert Name 11 | U2: ='Table of rates'!C13 -> Insert Name 12
C3: No. Hours | D3: ='Table of rates'!B4 -> 0 | E3: No. Hours | F3: ='Table of rates'!B5 -> 0 | G3: No. Hours | H3: ='Table of rates'!B6 -> 0 | I3: No. Hours | J3: ='Table of rates'!B7 -> 0 | K3: No. Hours | L3: ='Table of rates'!B8 -> 0 | M3: No. Hours | N3: ='Table of rates'!B9 -> 0 | O3: No. Hours | P3: ='Table of rates'!B10 -> 0 | Q3: No. Hours | R3: ='Table of rates'!B11 -> 0 | S3: No. Hours | T3: ='Table of rates'!B12 -> 0 | U3: No. Hours | V3: ='Table of rates'!B13 -> 0
A4: Phase 1 | B4: Feasibility Study & Option Selection
A5: A | B5: General Service Requirements
B6: Project Management | C6: 0 | D6: =(C6*D$3) -> 0 | E6: 0 | F6: =(E6*F$3) -> 0 | G6: 0 | H6: =(G6*H$3) -> 0 | I6: 0 | J6: =(I6*J$3) -> 0 | K6: 0 | L6: =(K6*L$3) -> 0 | M6: 0 | N6: =(M6*N$3) -> 0 | O6: 0 | P6: =(O6*P$3) -> 0 | Q6: 0 | R6: =(Q6*R$3) -> 0 | S6: 0 | T6: =(S6*T$3) -> 0 | U6: 0 | V6: =(U6*V$3) -> 0 | W6: =SUM(C6,E6,G6,I6,K6,M6,O6,Q6,S6,U6) -> 0 | X6: =SUM(D6,F6,H6,J6,L6,N6,P6,R6,T6,V6) -> 0
B7: Project Meetings | C7: 0 | D7: =(C7*D$3) -> 0 | E7: 0 | F7: =(E7*F$3) -> 0 | G7: 0 | H7: =(G7*H$3) -> 0 | I7: 0 | J7: =(I7*J$3) -> 0 | K7: 0 | L7: =(K7*L$3) -> 0 | M7: 0 | N7: =(M7*N$3) -> 0 | O7: 0 | P7: =(O7*P$3) -> 0 | Q7: 0 | R7: =(Q7*R$3) -> 0 | S7: 0 | T7: =(S7*T$3) -> 0 | U7: 0 | V7: =(U7*V$3) -> 0 | W7: =SUM(C7,E7,G7,I7,K7,M7,O7,Q7,S7,U7) -> 0 | X7: =SUM(D7,F7,H7,J7,L7,N7,P7,R7,T7,V7) -> 0
B8: Progress Reports | C8: 0 | D8: =(C8*D$3) -> 0 | E8: 0 | F8: =(E8*F$3) -> 0 | G8: 0 | H8: =(G8*H$3) -> 0 | I8: 0 | J8: =(I8*J$3) -> 0 | K8: 0 | L8: =(K8*L$3) -> 0 | M8: 0 | N8: =(M8*N$3) -> 0 | O8: 0 | P8: =(O8*P$3) -> 0 | Q8: 0 | R8: =(Q8*R$3) -> 0 | S8: 0 | T8: =(S8*T$3) -> 0 | U8: 0 | V8: =(U8*V$3) -> 0 | W8: =SUM(C8,E8,G8,I8,K8,M8,O8,Q8,S8,U8) -> 0 | X8: =SUM(D8,F8,H8,J8,L8,N8,P8,R8,T8,V8) -> 0
B9: Cost & Risk Management Plan | C9: 0 | D9: =(C9*D$3) -> 0 | E9: 0 | F9: =(E9*F$3) -> 0 | G9: 0 | H9: =(G9*H$3) -> 0 | I9: 0 | J9: =(I9*J$3) -> 0 | K9: 0 | L9: =(K9*L$3) -> 0 | M9: 0 | N9: =(M9*N$3) -> 0 | O9: 0 | P9: =(O9*P$3) -> 0 | Q9: 0 | R9: =(Q9*R$3) -> 0 | S9: 0 | T9: =(S9*T$3) -> 0 | U9: 0 | V9: =(U9*V$3) -> 0 | W9: =SUM(C9,E9,G9,I9,K9,M9,O9,Q9,S9,U9) -> 0 | X9: =SUM(D9,F9,H9,J9,L9,N9,P9,R9,T9,V9) -> 0
B10: Stakeholder Consultation | C10: 0 | D10: =(C10*D$3) -> 0 | E10: 0 | F10: =(E10*F$3) -> 0 | G10: 0 | H10: =(G10*H$3) -> 0 | I10: 0 | J10: =(I10*J$3) -> 0 | K10: 0 | L10: =(K10*L$3) -> 0 | M10: 0 | N10: =(M10*N$3) -> 0 | O10: 0 | P10: =(O10*P$3) -> 0 | Q10: 0 | R10: =(Q10*R$3) -> 0 | S10: 0 | T10: =(S10*T$3) -> 0 | U10: 0 | V10: =(U10*V$3) -> 0 | W10: =SUM(C10,E10,G10,I10,K10,M10,O10,Q10,S10,U10) -> 0 | X10: =SUM(D10,F10,H10,J10,L10,N10,P10,R10,T10,V10) -> 0
B11: Preliminary Business Case | C11: 0 | D11: =(C11*D$3) -> 0 | E11: 0 | F11: =(E11*F$3) -> 0 | G11: 0 | H11: =(G11*H$3) -> 0 | I11: 0 | J11: =(I11*J$3) -> 0 | K11: 0 | L11: =(K11*L$3) -> 0 | M11: 0 | N11: =(M11*N$3) -> 0 | O11: 0 | P11: =(O11*P$3) -> 0 | Q11: 0 | R11: =(Q11*R$3) -> 0 | S11: 0 | T11: =(S11*T$3) -> 0 | U11: 0 | V11: =(U11*V$3) -> 0 | W11: =SUM(C11,E11,G11,I11,K11,M11,O11,Q11,S11,U11) -> 0 | X11: =SUM(D11,F11,H11,J11,L11,N11,P11,R11,T11,V11) -> 0
A12: B | B12: Health & Safety
B13: Safety & Health Duties (General) | C13: 0 | D13: =(C13*D$3) -> 0 | E13: 0 | F13: =(E13*F$3) -> 0 | G13: 0 | H13: =(G13*H$3) -> 0 | I13: 0 | J13: =(I13*J$3) -> 0 | K13: 0 | L13: =(K13*L$3) -> 0 | M13: 0 | N13: =(M13*N$3) -> 0 | O13: 0 | P13: =(O13*P$3) -> 0 | Q13: 0 | R13: =(Q13*R$3) -> 0 | S13: 0 | T13: =(S13*T$3) -> 0 | U13: 0 | V13: =(U13*V$3) -> 0 | W13: =SUM(C13,E13,G13,I13,K13,M13,O13,Q13,S13,U13) -> 0 | X13: =SUM(D13,F13,H13,J13,L13,N13,P13,R13,T13,V13) -> 0
B14: PSDP (All Duties & Reports) | C14: 0 | D14: =(C14*D$3) -> 0 | E14: 0 | F14: =(E14*F$3) -> 0 | G14: 0 | H14: =(G14*H$3) -> 0 | I14: 0 | J14: =(I14*J$3) -> 0 | K14: 0 | L14: =(K14*L$3) -> 0 | M14: 0 | N14: =(M14*N$3) -> 0 | O14: 0 | P14: =(O14*P$3) -> 0 | Q14: 0 | R14: =(Q14*R$3) -> 0 | S14: 0 | T14: =(S14*T$3) -> 0 | U14: 0 | V14: =(U14*V$3) -> 0 | W14: =SUM(C14,E14,G14,I14,K14,M14,O14,Q14,S14,U14) -> 0 | X14: =SUM(D14,F14,H14,J14,L14,N14,P14,R14,T14,V14) -> 0
A15: C | B15: Fesability - Options
B16: Feasibility Study and Option Selection Report | C16: 0 | D16: =(C16*D$3) -> 0 | E16: 0 | F16: =(E16*F$3) -> 0 | G16: 0 | H16: =(G16*H$3) -> 0 | I16: 0 | J16: =(I16*J$3) -> 0 | K16: 0 | L16: =(K16*L$3) -> 0 | M16: 0 | N16: =(M16*N$3) -> 0 | O16: 0 | P16: =(O16*P$3) -> 0 | Q16: 0 | R16: =(Q16*R$3) -> 0 | S16: 0 | T16: =(S16*T$3) -> 0 | U16: 0 | V16: =(U16*V$3) -> 0 | W16: =SUM(C16,E16,G16,I16,K16,M16,O16,Q16,S16,U16) -> 0 | X16: =SUM(D16,F16,H16,J16,L16,N16,P16,R16,T16,V16) -> 0
A17: D | B17: Surveys & Studies
B18: Preliminary Ecological Assessment Report (PEAR) | C18: 0 | D18: =(C18*D$3) -> 0 | E18: 0 | F18: =(E18*F$3) -> 0 | G18: 0 | H18: =(G18*H$3) -> 0 | I18: 0 | J18: =(I18*J$3) -> 0 | K18: 0 | L18: =(K18*L$3) -> 0 | M18: 0 | N18: =(M18*N$3) -> 0 | O18: 0 | P18: =(O18*P$3) -> 0 | Q18: 0 | R18: =(Q18*R$3) -> 0 | S18: 0 | T18: =(S18*T$3) -> 0 | U18: 0 | V18: =(U18*V$3) -> 0 | W18: =SUM(C18,E18,G18,I18,K18,M18,O18,Q18,S18,U18) -> 0 | X18: =SUM(D18,F18,H18,J18,L18,N18,P18,R18,T18,V18) -> 0
B19: Preliminary Archaeological, Architectural and Cultural Heritage Assessment & Report | C19: 0 | D19: =(C19*D$3) -> 0 | E19: 0 | F19: =(E19*F$3) -> 0 | G19: 0 | H19: =(G19*H$3) -> 0 | I19: 0 | J19: =(I19*J$3) -> 0 | K19: 0 | L19: =(K19*L$3) -> 0 | M19: 0 | N19: =(M19*N$3) -> 0 | O19: 0 | P19: =(O19*P$3) -> 0 | Q19: 0 | R19: =(Q19*R$3) -> 0 | S19: 0 | T19: =(S19*T$3) -> 0 | U19: 0 | V19: =(U19*V$3) -> 0 | W19: =SUM(C19,E19,G19,I19,K19,M19,O19,Q19,S19,U19) -> 0 | X19: =SUM(D19,F19,H19,J19,L19,N19,P19,R19,T19,V19) -> 0
A20: Phase 1 Total | C20: =SUM(C6:C11,C13:C14,C16:C16,C18:C19) -> 0 | D20: =SUM(D6:D11,D13:D14,D16:D16,D18:D19) -> 0 | E20: =SUM(E6:E11,E13:E14,E16:E16,E18:E19) -> 0 | F20: =SUM(F6:F11,F13:F14,F16:F16,F18:F19) -> 0 | G20: =SUM(G6:G11,G13:G14,G16:G16,G18:G19) -> 0 | H20: =SUM(H6:H11,H13:H14,H16:H16,H18:H19) -> 0 | I20: =SUM(I6:I11,I13:I14,I16:I16,I18:I19) -> 0 | J20: =SUM(J6:J11,J13:J14,J16:J16,J18:J19) -> 0 | ... X20: =SUM(X6:X11,X13:X14,X16:X16,X18:X19) -> 0
A22: Phase 2 | B22: Preliminary Design
A23: A | B23: General Service Requirements
B24: Project Management | C24: 0 | D24: =(C24*D$3) -> 0 | E24: 0 | F24: =(E24*F$3) -> 0 | G24: 0 | H24: =(G24*H$3) -> 0 | I24: 0 | J24: =(I24*J$3) -> 0 | K24: 0 | L24: =(K24*L$3) -> 0 | M24: 0 | N24: =(M24*N$3) -> 0 | O24: 0 | P24: =(O24*P$3) -> 0 | Q24: 0 | R24: =(Q24*R$3) -> 0 | S24: 0 | T24: =(S24*T$3) -> 0 | U24: 0 | V24: =(U24*V$3) -> 0 | W24: =SUM(C24,E24,G24,I24,K24,M24,O24,Q24,S24,U24) -> 0 | X24: =SUM(D24,F24,H24,J24,L24,N24,P24,R24,T24,V24) -> 0
B25: Project Meetings | C25: 0 | D25: =(C25*D$3) -> 0 | E25: 0 | F25: =(E25*F$3) -> 0 | G25: 0 | H25: =(G25*H$3) -> 0 | I25: 0 | J25: =(I25*J$3) -> 0 | K25: 0 | L25: =(K25*L$3) -> 0 | M25: 0 | N25: =(M25*N$3) -> 0 | O25: 0 | P25: =(O25*P$3) -> 0 | Q25: 0 | R25: =(Q25*R$3) -> 0 | S25: 0 | T25: =(S25*T$3) -> 0 | U25: 0 | V25: =(U25*V$3) -> 0 | W25: =SUM(C25,E25,G25,I25,K25,M25,O25,Q25,S25,U25) -> 0 | X25: =SUM(D25,F25,H25,J25,L25,N25,P25,R25,T25,V25) -> 0
B26: Progress Reports | C26: 0 | D26: =(C26*D$3) -> 0 | E26: 0 | F26: =(E26*F$3) -> 0 | G26: 0 | H26: =(G26*H$3) -> 0 | I26: 0 | J26: =(I26*J$3) -> 0 | K26: 0 | L26: =(K26*L$3) -> 0 | M26: 0 | N26: =(M26*N$3) -> 0 | O26: 0 | P26: =(O26*P$3) -> 0 | Q26: 0 | R26: =(Q26*R$3) -> 0 | S26: 0 | T26: =(S26*T$3) -> 0 | U26: 0 | V26: =(U26*V$3) -> 0 | W26: =SUM(C26,E26,G26,I26,K26,M26,O26,Q26,S26,U26) -> 0 | X26: =SUM(D26,F26,H26,J26,L26,N26,P26,R26,T26,V26) -> 0
B27: Co-ordination/Data Sharing with External Enviornmental Consultant | C27: 0 | D27: =(C27*D$3) -> 0 | E27: 0 | F27: =(E27*F$3) -> 0 | G27: 0 | H27: =(G27*H$3) -> 0 | I27: 0 | J27: =(I27*J$3) -> 0 | K27: 0 | L27: =(K27*L$3) -> 0 | M27: 0 | N27: =(M27*N$3) -> 0 | O27: 0 | P27: =(O27*P$3) -> 0 | Q27: 0 | R27: =(Q27*R$3) -> 0 | S27: 0 | T27: =(S27*T$3) -> 0 | U27: 0 | V27: =(U27*V$3) -> 0 | W27: =SUM(C27,E27,G27,I27,K27,M27,O27,Q27,S27,U27) -> 0 | X27: =SUM(D27,F27,H27,J27,L27,N27,P27,R27,T27,V27) -> 0
B28: Cost & Risk Management Plan | C28: 0 | D28: =(C28*D$3) -> 0 | E28: 0 | F28: =(E28*F$3) -> 0 | G28: 0 | H28: =(G28*H$3) -> 0 | I28: 0 | J28: =(I28*J$3) -> 0 | K28: 0 | L28: =(K28*L$3) -> 0 | M28: 0 | N28: =(M28*N$3) -> 0 | O28: 0 | P28: =(O28*P$3) -> 0 | Q28: 0 | R28: =(Q28*R$3) -> 0 | S28: 0 | T28: =(S28*T$3) -> 0 | U28: 0 | V28: =(U28*V$3) -> 0 | W28: =SUM(C28,E28,G28,I28,K28,M28,O28,Q28,S28,U28) -> 0 | X28: =SUM(D28,F28,H28,J28,L28,N28,P28,R28,T28,V28) -> 0
B29: Stakeholder Consultation | C29: 0 | D29: =(C29*D$3) -> 0 | E29: 0 | F29: =(E29*F$3) -> 0 | G29: 0 | H29: =(G29*H$3) -> 0 | I29: 0 | J29: =(I29*J$3) -> 0 | K29: 0 | L29: =(K29*L$3) -> 0 | M29: 0 | N29: =(M29*N$3) -> 0 | O29: 0 | P29: =(O29*P$3) -> 0 | Q29: 0 | R29: =(Q29*R$3) -> 0 | S29: 0 | T29: =(S29*T$3) -> 0 | U29: 0 | V29: =(U29*V$3) -> 0 | W29: =SUM(C29,E29,G29,I29,K29,M29,O29,Q29,S29,U29) -> 0 | X29: =SUM(D29,F29,H29,J29,L29,N29,P29,R29,T29,V29) -> 0
A30: B | B30: Health & Safety
B31: Safety & Health Duties (General) | C31: 0 | D31: =(C31*D$3) -> 0 | E31: 0 | F31: =(E31*F$3) -> 0 | G31: 0 | H31: =(G31*H$3) -> 0 | I31: 0 | J31: =(I31*J$3) -> 0 | K31: 0 | L31: =(K31*L$3) -> 0 | M31: 0 | N31: =(M31*N$3) -> 0 | O31: 0 | P31: =(O31*P$3) -> 0 | Q31: 0 | R31: =(Q31*R$3) -> 0 | S31: 0 | T31: =(S31*T$3) -> 0 | U31: 0 | V31: =(U31*V$3) -> 0 | W31: =SUM(C31,E31,G31,I31,K31,M31,O31,Q31,S31,U31) -> 0 | X31: =SUM(D31,F31,H31,J31,L31,N31,P31,R31,T31,V31) -> 0
B32: PSDP (All Duties & Reports) | C32: 0 | D32: =(C32*D$3) -> 0 | E32: 0 | F32: =(E32*F$3) -> 0 | G32: 0 | H32: =(G32*H$3) -> 0 | I32: 0 | J32: =(I32*J$3) -> 0 | K32: 0 | L32: =(K32*L$3) -> 0 | M32: 0 | N32: =(M32*N$3) -> 0 | O32: 0 | P32: =(O32*P$3) -> 0 | Q32: 0 | R32: =(Q32*R$3) -> 0 | S32: 0 | T32: =(S32*T$3) -> 0 | U32: 0 | V32: =(U32*V$3) -> 0 | W32: =SUM(C32,E32,G32,I32,K32,M32,O32,Q32,S32,U32) -> 0 | X32: =SUM(D32,F32,H32,J32,L32,N32,P32,R32,T32,V32) -> 0
A33: C | B33: Preliminary Design
B34: Civil and Structural Design | C34: 0 | D34: =(C34*D$3) -> 0 | E34: 0 | F34: =(E34*F$3) -> 0 | G34: 0 | H34: =(G34*H$3) -> 0 | I34: 0 | J34: =(I34*J$3) -> 0 | K34: 0 | L34: =(K34*L$3) -> 0 | M34: 0 | N34: =(M34*N$3) -> 0 | O34: 0 | P34: =(O34*P$3) -> 0 | Q34: 0 | R34: =(Q34*R$3) -> 0 | S34: 0 | T34: =(S34*T$3) -> 0 | U34: 0 | V34: =(U34*V$3) -> 0 | W34: =SUM(C34,E34,G34,I34,K34,M34,O34,Q34,S34,U34) -> 0 | X34: =SUM(D34,F34,H34,J34,L34,N34,P34,R34,T34,V34) -> 0
B35: Ground Investigation (Scoping, Tender & Management of) | C35: 0 | D35: =(C35*D$3) -> 0 | E35: 0 | F35: =(E35*F$3) -> 0 | G35: 0 | H35: =(G35*H$3) -> 0 | I35: 0 | J35: =(I35*J$3) -> 0 | K35: 0 | L35: =(K35*L$3) -> 0 | M35: 0 | N35: =(M35*N$3) -> 0 | O35: 0 | P35: =(O35*P$3) -> 0 | Q35: 0 | R35: =(Q35*R$3) -> 0 | S35: 0 | T35: =(S35*T$3) -> 0 | U35: 0 | V35: =(U35*V$3) -> 0 | W35: =SUM(C35,E35,G35,I35,K35,M35,O35,Q35,S35,U35) -> 0 | X35: =SUM(D35,F35,H35,J35,L35,N35,P35,R35,T35,V35) -> 0
B36: Geotechnical Design | C36: 0 | D36: =(C36*D$3) -> 0 | E36: 0 | F36: =(E36*F$3) -> 0 | G36: 0 | H36: =(G36*H$3) -> 0 | I36: 0 | J36: =(I36*J$3) -> 0 | K36: 0 | L36: =(K36*L$3) -> 0 | M36: 0 | N36: =(M36*N$3) -> 0 | O36: 0 | P36: =(O36*P$3) -> 0 | Q36: 0 | R36: =(Q36*R$3) -> 0 | S36: 0 | T36: =(S36*T$3) -> 0 | U36: 0 | V36: =(U36*V$3) -> 0 | W36: =SUM(C36,E36,G36,I36,K36,M36,O36,Q36,S36,U36) -> 0 | X36: =SUM(D36,F36,H36,J36,L36,N36,P36,R36,T36,V36) -> 0
B37: Hydrology and Flood Risk Assessment | C37: 0 | D37: =(C37*D$3) -> 0 | E37: 0 | F37: =(E37*F$3) -> 0 | G37: 0 | H37: =(G37*H$3) -> 0 | I37: 0 | J37: =(I37*J$3) -> 0 | K37: 0 | L37: =(K37*L$3) -> 0 | M37: 0 | N37: =(M37*N$3) -> 0 | O37: 0 | P37: =(O37*P$3) -> 0 | Q37: 0 | R37: =(Q37*R$3) -> 0 | S37: 0 | T37: =(S37*T$3) -> 0 | U37: 0 | V37: =(U37*V$3) -> 0 | W37: =SUM(C37,E37,G37,I37,K37,M37,O37,Q37,S37,U37) -> 0 | X37: =SUM(D37,F37,H37,J37,L37,N37,P37,R37,T37,V37) -> 0
B38: Hydraulic Modelling (2D) | C38: 0 | D38: =(C38*D$3) -> 0 | E38: 0 | F38: =(E38*F$3) -> 0 | G38: 0 | H38: =(G38*H$3) -> 0 | I38: 0 | J38: =(I38*J$3) -> 0 | K38: 0 | L38: =(K38*L$3) -> 0 | M38: 0 | N38: =(M38*N$3) -> 0 | O38: 0 | P38: =(O38*P$3) -> 0 | Q38: 0 | R38: =(Q38*R$3) -> 0 | S38: 0 | T38: =(S38*T$3) -> 0 | U38: 0 | V38: =(U38*V$3) -> 0 | W38: =SUM(C38,E38,G38,I38,K38,M38,O38,Q38,S38,U38) -> 0 | X38: =SUM(D38,F38,H38,J38,L38,N38,P38,R38,T38,V38) -> 0
B39: Section 47 Approval | C39: 0 | D39: =(C39*D$3) -> 0 | E39: 0 | F39: =(E39*F$3) -> 0 | G39: 0 | H39: =(G39*H$3) -> 0 | I39: 0 | J39: =(I39*J$3) -> 0 | K39: 0 | L39: =(K39*L$3) -> 0 | M39: 0 | N39: =(M39*N$3) -> 0 | O39: 0 | P39: =(O39*P$3) -> 0 | Q39: 0 | R39: =(Q39*R$3) -> 0 | S39: 0 | T39: =(S39*T$3) -> 0 | U39: 0 | V39: =(U39*V$3) -> 0 | W39: =SUM(C39,E39,G39,I39,K39,M39,O39,Q39,S39,U39) -> 0 | X39: =SUM(D39,F39,H39,J39,L39,N39,P39,R39,T39,V39) -> 0
B40: Preliminary Design Report/Planning Report | C40: 0 | D40: =(C40*D$3) -> 0 | E40: 0 | F40: =(E40*F$3) -> 0 | G40: 0 | H40: =(G40*H$3) -> 0 | I40: 0 | J40: =(I40*J$3) -> 0 | K40: 0 | L40: =(K40*L$3) -> 0 | M40: 0 | N40: =(M40*N$3) -> 0 | O40: 0 | P40: =(O40*P$3) -> 0 | Q40: 0 | R40: =(Q40*R$3) -> 0 | S40: 0 | T40: =(S40*T$3) -> 0 | U40: 0 | V40: =(U40*V$3) -> 0 | W40: =SUM(C40,E40,G40,I40,K40,M40,O40,Q40,S40,U40) -> 0 | X40: =SUM(D40,F40,H40,J40,L40,N40,P40,R40,T40,V40) -> 0
B41: Preliminary CEMP | C41: 0 | D41: =(C41*D$3) -> 0 | E41: 0 | F41: =(E41*F$3) -> 0 | G41: 0 | H41: =(G41*H$3) -> 0 | I41: 0 | J41: =(I41*J$3) -> 0 | K41: 0 | L41: =(K41*L$3) -> 0 | M41: 0 | N41: =(M41*N$3) -> 0 | O41: 0 | P41: =(O41*P$3) -> 0 | Q41: 0 | R41: =(Q41*R$3) -> 0 | S41: 0 | T41: =(S41*T$3) -> 0 | U41: 0 | V41: =(U41*V$3) -> 0 | W41: =SUM(C41,E41,G41,I41,K41,M41,O41,Q41,S41,U41) -> 0 | X41: =SUM(D41,F41,H41,J41,L41,N41,P41,R41,T41,V41) -> 0
...
