Workbook

Sheet Bill PART 1 - PRELIMINARIES
A1: PART 1 - PRELIMINARIES
A2: Ref | B2: Description | C2: Qty | D2: Unit | E2: Rate | F2: Amount | G2: BQIndex | H2: InputNo
B4: CC-RMP-00100 PRELIMINARIES
B6: TEMPORARY ACCOMMODATION
A8: 1 | B8: Erection of Principal Offices for the Employer's Representative | C8: 1 | D8: item | F8: =IF(OR(ISBLANK(C8), ISBLANK(E8)), "", IF(ISNUMBER(E8), ROUND(C8 * E8, 2), E8)) | G8: 1/1/1 | H8: 7
A10: 2 | B10: Erection of Offices and Messes for the Contractor | C10: 1 | D10: item | F10: =IF(OR(ISBLANK(C10), ISBLANK(E10)), "", IF(ISNUMBER(E10), ROUND(C10 * E10, 2), E10)) | G10: 1/1/2 | H10: 9
A12: 3 | B12: Erection of Stores and Workshops for the Contractor | C12: 1 | D12: item | F12: =IF(OR(ISBLANK(C12), ISBLANK(E12)), "", IF(ISNUMBER(E12), ROUND(C12 * E12, 2), E12)) | G12: 1/1/3 | H12: 10
A14: 4 | B14: Servicing of Principal Offices for the Employer's Representative until 3 months following substantial completion of the Works | C14: 1 | D14: item | F14: =IF(OR(ISBLANK(C14), ISBLANK(E14)), "", IF(ISNUMBER(E14), ROUND(C14 * E14, 2), E14)) | G14: 1/1/4 | H14: 8
A16: 5 | B16: Servicing of Offices and Messes for the Contractor until completion of the Works | C16: 1 | D16: item | F16: =IF(OR(ISBLANK(C16), ISBLANK(E16)), "", IF(ISNUMBER(E16), ROUND(C16 * E16, 2), E16)) | G16: 1/1/5 | H16: 11
A18: 6 | B18: Servicing of Stores and Workshops for the Contractor until completion of the Works | C18: 1 | D18: item | F18: =IF(OR(ISBLANK(C18), ISBLANK(E18)), "", IF(ISNUMBER(E18), ROUND(C18 * E18, 2), E18)) | G18: 1/1/6 | H18: 12
A20: 7 | B20: Dismantling of Principal Offices for the Employer's Representative 3 months after substantial completion of the Works | C20: 1 | D20: item | F20: =IF(OR(ISBLANK(C20), ISBLANK(E20)), "", IF(ISNUMBER(E20), ROUND(C20 * E20, 2), E20)) | G20: 1/1/7 | H20: 13
A22: 8 | B22: Dismantling of Offices and Messes for the Contractor upon completion of the Works | C22: 1 | D22: item | F22: =IF(OR(ISBLANK(C22), ISBLANK(E22)), "", IF(ISNUMBER(E22), ROUND(C22 * E22, 2), E22)) | G22: 1/1/8 | H22: 14
A24: 9 | B24: Dismantling of Stores and Workshops for the Contractor upon completion of the Works | C24: 1 | D24: item | F24: =IF(OR(ISBLANK(C24), ISBLANK(E24)), "", IF(ISNUMBER(E24), ROUND(C24 * E24, 2), E24)) | G24: 1/1/9 | H24: 15
B26: TRAFFIC SAFETY AND MANAGEMENT
A28: 10 | B28: Traffic safety and management | C28: 1 | D28: item | F28: =IF(OR(ISBLANK(C28), ISBLANK(E28)), "", IF(ISNUMBER(E28), ROUND(C28 * E28, 2), E28)) | G28: 1/1/10 | H28: 769
A30: 11 | B30: VMS Hire and Placement | C30: 1 | D30: item | F30: =IF(OR(ISBLANK(C30), ISBLANK(E30)), "", IF(ISNUMBER(E30), ROUND(C30 * E30, 2), E30)) | G30: 1/1/11 | H30: 1358
B32: TEMPORARY DIVERSION FOR TRAFFIC
A34: 12 | B34: Taking measures for the construction of temporary diversions for traffic at locations proposed by the Contractor | C34: 1 | D34: item | F34: =IF(OR(ISBLANK(C34), ISBLANK(E34)), "", IF(ISNUMBER(E34), ROUND(C34 * E34, 2), E34)) | G34: 1/1/12 | H34: 771
A36: 13 | B36: Maintenance of measures for or construction of temporary diversions for traffic at locations proposed by the Contractor | C36: 1 | D36: item | F36: =IF(OR(ISBLANK(C36), ISBLANK(E36)), "", IF(ISNUMBER(E36), ROUND(C36 * E36, 2), E36)) | G36: 1/1/13 | H36: 772
A38: 14 | B38: Removal of measures for or construction of temporary diversions for traffic at locations proposed by the Contractor | C38: 1 | D38: item | F38: =IF(OR(ISBLANK(C38), ISBLANK(E38)), "", IF(ISNUMBER(E38), ROUND(C38 * E38, 2), E38)) | G38: 1/1/14 | H38: 773
B40: RECOVERY VEHICLES FOR BREAKDOWNS
A42: 15 | B42: Recovery Vehicles for Breakdowns as per Appendix 1/20 | C42: 1 | D42: item | F42: =IF(OR(ISBLANK(C42), ISBLANK(E42)), "", IF(ISNUMBER(E42), ROUND(C42 * E42, 2), E42)) | G42: 1/1/15 | H42: 1262
B44: PROGRESS PHOTOGRAPHS
A46: 16 | B46: Set of ground based progress photographic records in accordance with the specification appendix 1/22. | C46: 12 | D46: no | F46: =IF(OR(ISBLANK(C46), ISBLANK(E46)), "", IF(ISNUMBER(E46), ROUND(C46 * E46, 2), E46)) | G46: 1/1/16 | H46: 21
A48: P24-112 | C48: Page: 1 / 1 | E48: To Collection | F48: =SUM(F3:F47) -> 0
A49: PART 1 - PRELIMINARIES
A50: Ref | B50: Description | C50: Qty | D50: Unit | E50: Rate | F50: Amount | G50: BQIndex | H50: InputNo
B52: CC-RMP-00100 PRELIMINARIES (Cont'd)
B54: PROGRESS PHOTOGRAPHS (Cont'd)
A56: 17 | B56: Set of aerial photographic records in accordance with the specification appendix 1/22. | C56: 12 | D56: no | F56: =IF(OR(ISBLANK(C56), ISBLANK(E56)), "", IF(ISNUMBER(E56), ROUND(C56 * E56, 2), E56)) | G56: 1/2/17 | H56: 758
A58: 18 | B58: Set of aerial video records in accordance with the specification appendix 1/22. | C58: 12 | D58: no | F58: =IF(OR(ISBLANK(C58), ISBLANK(E58)), "", IF(ISNUMBER(E58), ROUND(C58 * E58, 2), E58)) | G58: 1/2/18 | H58: 1263
B60: ROAD SWEEPING AND CLEANING
A62: 19 | B62: Road sweeping and cleaning | C62: 1 | D62: item | F62: =IF(OR(ISBLANK(C62), ISBLANK(E62)), "", IF(ISNUMBER(E62), ROUND(C62 * E62, 2), E62)) | G62: 1/2/19 | H62: 23
B64: FACILITIES FOR LOCAL AUTHORITY, PUBLIC OR PRIVATE UTILITY UNDERTAKERS AND OTHER CONTRACTORS
A66: 20 | B66: Facilities for the ESB | C66: 1 | D66: item | F66: =IF(OR(ISBLANK(C66), ISBLANK(E66)), "", IF(ISNUMBER(E66), ROUND(C66 * E66, 2), E66)) | G66: 1/2/20 | H66: 760
A68: 21 | B68: Facilities for EIR | C68: 1 | D68: item | F68: =IF(OR(ISBLANK(C68), ISBLANK(E68)), "", IF(ISNUMBER(E68), ROUND(C68 * E68, 2), E68)) | G68: 1/2/21 | H68: 761
A70: 22 | B70: Facilities for Wexford County Council | C70: 1 | D70: item | F70: =IF(OR(ISBLANK(C70), ISBLANK(E70)), "", IF(ISNUMBER(E70), ROUND(C70 * E70, 2), E70)) | G70: 1/2/22 | H70: 762
A72: 23 | B72: Facilities for Kilkenny County Council | C72: 1 | D72: item | F72: =IF(OR(ISBLANK(C72), ISBLANK(E72)), "", IF(ISNUMBER(E72), ROUND(C72 * E72, 2), E72)) | G72: 1/2/23 | H72: 763
A74: 24 | B74: Facilities for Gas Networks Ireland | C74: 1 | D74: item | F74: =IF(OR(ISBLANK(C74), ISBLANK(E74)), "", IF(ISNUMBER(E74), ROUND(C74 * E74, 2), E74)) | G74: 1/2/24 | H74: 1200
A76: 25 | B76: Facilities for Irish Water | C76: 1 | D76: item | F76: =IF(OR(ISBLANK(C76), ISBLANK(E76)), "", IF(ISNUMBER(E76), ROUND(C76 * E76, 2), E76)) | G76: 1/2/25 | H76: 1201
...

Sheet Bill PART 2 - ROADWORKS
A1: PART 2 - ROADWORKS
A2: Ref | B2: Description | C2: Qty | D2: Unit | E2: Rate | F2: Amount | G2: BQIndex | H2: InputNo
B4: ROADWORKS GENERAL
B6: CC-RMP-00200 SITE CLEARANCE
B8: SITE CLEARANCE
A10: 1 | B10: General site clearance | C10: 2.9 | D10: ha | F10: =IF(OR(ISBLANK(C10), ISBLANK(E10)), "", IF(ISNUMBER(E10), ROUND(C10 * E10, 2), E10)) | G10: 2/1/1 | H10: 61
B12: TAKE UP OR DOWN AND SET ASIDE FOR REUSE OR REMOVE TO STORE OR TIP OFF SITE
A14: 2 | B14: Take up or down and remove to tip off site Metal gate | C14: 3 | D14: no | F14: =IF(OR(ISBLANK(C14), ISBLANK(E14)), "", IF(ISNUMBER(E14), ROUND(C14 * E14, 2), E14)) | G14: 2/1/2 | H14: 799
A16: 3 | B16: Take up or down and set aside for reuse Metal gate | C16: 2 | D16: no | F16: =IF(OR(ISBLANK(C16), ISBLANK(E16)), "", IF(ISNUMBER(E16), ROUND(C16 * E16, 2), E16)) | G16: 2/1/3 | H16: 1203
B18: TREE FELLING
A20: 4 | B20: Tree Felling | C20: 25 | D20: no | F20: =IF(OR(ISBLANK(C20), ISBLANK(E20)), "", IF(ISNUMBER(E20), ROUND(C20 * E20, 2), E20)) | G20: 2/1/4 | H20: 947
A54: P24-112 | C54: Page: 2 / 1 | E54: To Collection | F54: =SUM(F3:F53) -> 0
A55: PART 2 - ROADWORKS
A56: Ref | B56: Description | C56: Qty | D56: Unit | E56: Rate | F56: Amount | G56: BQIndex | H56: InputNo
B58: ROADWORKS GENERAL (Cont'd)
B60: CC-RMP-00300 FENCING AND ENVIRONMENTAL NOISE BARRIERS
B62: FENCING, GATES AND STILES
A64: 5 | B64: Timber post and rail fence in accordance with CC-SCD- 00301. With Chainlink mesh. 1.4m Height | C64: 586 | D64: m | F64: =IF(OR(ISBLANK(C64), ISBLANK(E64)), "", IF(ISNUMBER(E64), ROUND(C64 * E64, 2), E64)) | G64: 2/2/5 | H64: 37
A66: 6 | B66: Concrete Footing to timber post and rail fence. | C66: 47 | D66: no | F66: =IF(OR(ISBLANK(C66), ISBLANK(E66)), "", IF(ISNUMBER(E66), ROUND(C66 * E66, 2), E66)) | G66: 2/2/6 | H66: 802
A68: 7 | B68: 2.4m High Lockable Palisade Security Gates with pedestrian access and designed by Contractor, To Be Fitted Between Abutments On Existing R700 Bridge With Palisade Details As Per Drawing P24112-FT-FN-L4- DR-CE-0004. | C68: 1 | D68: no | F68: =IF(OR(ISBLANK(C68), ISBLANK(E68)), "", IF(ISNUMBER(E68), ROUND(C68 * E68, 2), E68)) | G68: 2/2/7 | H68: 279
A70: 8 | B70: Steel Single Field Gate Type 2 to CC-SCD-00309. (4000x1255mm) | C70: 3 | D70: no | F70: =IF(OR(ISBLANK(C70), ISBLANK(E70)), "", IF(ISNUMBER(E70), ROUND(C70 * E70, 2), E70)) | G70: 2/2/8 | H70: 286
B72: REMOVE FROM STORE AND RE-ERECT FENCING, GATES AND STILES
A74: 9 | B74: Remove from store and re-erect Metal gates | C74: 2 | D74: no | F74: =IF(OR(ISBLANK(C74), ISBLANK(E74)), "", IF(ISNUMBER(E74), ROUND(C74 * E74, 2), E74)) | G74: 2/2/9 | H74: 1206
A101: P24-112 | C101: Page: 2 / 2 | E101: To Collection | F101: =SUM(F57:F100) -> 0
A102: PART 2 - ROADWORKS
A103: Ref | B103: Description | C103: Qty | D103: Unit | E103: Rate | F103: Amount | G103: BQIndex | H103: InputNo
B105: ROADWORKS GENERAL (Cont'd)
B107: CC-RMP-00500 DRAINAGE AND SERVICE DUCTS
B109: DRAINS, SEWERS, PIPED CULVERTS AND SERVICE DUCTS (EXCLUDING FILTER DRAINS, NARROW FILTER DRAINS & FIN DRAINS)
A111: 10 | B111: Drains 225mm internal diameter Depths to invert not exceeding 2 metres average depth 1.85 metres Drainage - Surface Water Drains - Trench and Bedding Details - (CC-SCD-00521) Type S Construction to trench | C111: 79 | D111: m | F111: =IF(OR(ISBLANK(C111), ISBLANK(E111)), "", IF(ISNUMBER(E111), ROUND(C111 * E111, 2), E111)) | G111: 2/3/10 | H111: 1056
A113: 11 | B113: Adjustment rate on the last item for each 25mm of difference in excess of 150mm from average depth of 1.85 metres | C113: XXXX | D113: item | F113: XXXX | G113: 2/3/11 | H113: 1314
A115: 12 | B115: Drains 225mm internal diameter Depths to invert exceeding 2 metres but not exceeding 4 metres average depth 3 metres Drainage - Surface Water Drains - Trench and Bedding Details - (CC-SCD-00521) Type S Construction to trench | C115: 31 | D115: m | F115: =IF(OR(ISBLANK(C115), ISBLANK(E115)), "", IF(ISNUMBER(E115), ROUND(C115 * E115, 2), E115)) | G115: 2/3/12 | H115: 1085
A117: 13 | B117: Adjustment rate on the last item for each 25mm of difference in excess of 150mm from average depth of 3 metres | C117: XXXX | D117: item | F117: XXXX | G117: 2/3/13 | H117: 1318
A119: 14 | B119: Drains 300mm internal diameter Depths to invert not exceeding 2 metres average depth 1.85 metres Drainage - Surface Water Drains - Trench and Bedding Details - (CC-SCD-00521) Type S Construction to trench | C119: 73 | D119: m | F119: =IF(OR(ISBLANK(C119), ISBLANK(E119)), "", IF(ISNUMBER(E119), ROUND(C119 * E119, 2), E119)) | G119: 2/3/14 | H119: 292
A121: 15 | B121: Adjustment rate on the last item for each 25mm of difference in excess of 150mm from average depth of 1.85 metres | C121: XXXX | D121: item | F121: XXXX | G121: 2/3/15 | H121: 1319
A123: 16 | B123: Drains 300mm internal diameter Depths to invert exceeding 2 metres but not exceeding 4 metres average depth 3 metres Drainage - Surface Water Drains - Trench and Bedding Details - (CC-SCD-00521) Type S Construction to trench | C123: 12 | D123: m | F123: =IF(OR(ISBLANK(C123), ISBLANK(E123)), "", IF(ISNUMBER(E123), ROUND(C123 * E123, 2), E123)) | G123: 2/3/16 | H123: 1087
A125: 17 | B125: Adjustment rate on the last item for each 25mm of difference in excess of 150mm from average depth of 3 metres | C125: XXXX | D125: item | F125: XXXX | G125: 2/3/17 | H125: 1320
A127: 18 | B127: Drains 375mm internal diameter Depths to invert not exceeding 2 metres average depth 1.85 metres Drainage - Surface Water Drains - Trench and Bedding Details - (CC-SCD-00521) Type Z Construction to trench | C127: 7 | D127: m | F127: =IF(OR(ISBLANK(C127), ISBLANK(E127)), "", IF(ISNUMBER(E127), ROUND(C127 * E127, 2), E127)) | G127: 2/3/18 | H127: 1055
A129: 19 | B129: Adjustment rate on the last item for each 25mm of difference in excess of 150mm from average depth of 1.85 metre | C129: XXXX | D129: item | F129: XXXX | G129: 2/3/19 | H129: 1321
A131: P24-112 | C131: Page: 2 / 3 | E131: To Collection | F131: =SUM(F104:F130) -> 0
...

Sheet Bill PART 3 - ST01 RED BRIDGE
A1: PART 3 - ST01 RED BRIDGE
A2: Ref | B2: Description | C2: Qty | D2: Unit | E2: Rate | F2: Amount | G2: BQIndex | H2: InputNo
B4: SPECIAL PRELIMINARIES
B6: CC-RMP-00100 PRELIMINARIES
B8: RED BRIDGE TEMPORARY WORKS STRUCTURES DESIGNED BY THE CONTRACTOR
A10: 1 | B10: Erection of Red Bridge Temporary Works Structure designed by the Contractor in accordance with Appendix 1/11 | C10: 1 | D10: item | F10: =IF(OR(ISBLANK(C10), ISBLANK(E10)), "", IF(ISNUMBER(E10), ROUND(C10 * E10, 2), E10)) | G10: 3/1/1 | H10: 1020
A12: 2 | B12: Maintenance of Red Bridge Temporary Works Structure designed by the Contractor in accordance with Appendix 1/11, until completion of works | C12: 1 | D12: item | F12: =IF(OR(ISBLANK(C12), ISBLANK(E12)), "", IF(ISNUMBER(E12), ROUND(C12 * E12, 2), E12)) | G12: 3/1/2 | H12: 1021
A14: 3 | B14: Dismantling of Red Bridge Temporary Works Structure designed by the Contractor in accordance with Appendix 1/11, upon completion of the works | C14: 1 | D14: item | F14: =IF(OR(ISBLANK(C14), ISBLANK(E14)), "", IF(ISNUMBER(E14), ROUND(C14 * E14, 2), E14)) | G14: 3/1/3 | H14: 1022
A48: P24-112 | C48: Page: 3 / 1 | E48: To Collection | F48: =SUM(F3:F47) -> 0
A49: PART 3 - ST01 RED BRIDGE
A50: Ref | B50: Description | C50: Qty | D50: Unit | E50: Rate | F50: Amount | G50: BQIndex | H50: InputNo
B52: SUBSTRUCTURE
B54: CC-RMP-00200 SITE CLEARANCE
B56: SITE CLEARANCE
A58: 4 | B58: Partial demolition of individual structures, demolition of pier bracing steelwork as shown in drawing series P24112-FT-ST01-L4-DR-SE-0003 to P24112-FT-ST01-L4- DR-SE-0009. Allow for phased removal in conjunction with the installation of the new bracing steelwork. | C58: 1 | D58: item | F58: =IF(OR(ISBLANK(C58), ISBLANK(E58)), "", IF(ISNUMBER(E58), ROUND(C58 * E58, 2), E58)) | G58: 3/2/4 | H58: 954
A60: 5 | B60: Partial demolition of individual structures, concrete retaining wall behind the south abutment with dimensions 6m (wide) x 1.8m (height) x 1.0m (Thick). Refer also to Note No. 11 on Drawing P24112-FT-ST01- L4-DR-SE-0025. | C60: 1 | D60: item | F60: =IF(OR(ISBLANK(C60), ISBLANK(E60)), "", IF(ISNUMBER(E60), ROUND(C60 * E60, 2), E60)) | G60: 3/2/5 | H60: 1040
A95: P24-112 | C95: Page: 3 / 2 | E95: To Collection | F95: =SUM(F51:F94) -> 0
A96: PART 3 - ST01 RED BRIDGE
A97: Ref | B97: Description | C97: Qty | D97: Unit | E97: Rate | F97: Amount | G97: BQIndex | H97: InputNo
B99: SUBSTRUCTURE (Cont'd)
B101: CC-RMP-00500 DRAINAGE AND SERVICE DUCTS
B103: DRAINAGE AND SERVICE DUCTS IN STRUCTURES (INCLUDING REINFORCED EARTH STRUCTURES AND ANCHORED EARTH STRUCTURES)
A105: 6 | B105: Drainage, Substructures - End Supports. Include for back of wall drainage, headwalls, outfall pipe and openings through concrete wingwalls at both abutments. | C105: 1 | D105: item | F105: =IF(OR(ISBLANK(C105), ISBLANK(E105)), "", IF(ISNUMBER(E105), ROUND(C105 * E105, 2), E105)) | G105: 3/3/6 | H105: 1107
A107: 7 | B107: Service Ducts, Substructures - End Supports. Include for ducting, openings through concrete walls and two draw pits at both abutments. | C107: 1 | D107: item | F107: =IF(OR(ISBLANK(C107), ISBLANK(E107)), "", IF(ISNUMBER(E107), ROUND(C107 * E107, 2), E107)) | G107: 3/3/7 | H107: 1110
A143: P24-112 | C143: Page: 3 / 3 | E143: To Collection | F143: =SUM(F98:F142) -> 0
A144: PART 3 - ST01 RED BRIDGE
A145: Ref | B145: Description | C145: Qty | D145: Unit | E145: Rate | F145: Amount | G145: BQIndex | H145: InputNo
B147: SUBSTRUCTURE (Cont'd)
B149: CC-RMP-00600 EARTHWORKS
B151: EXCAVATION
A153: 8 | B153: Excavation of non-compliant material in structural foundations 0 metres to 3 metres in depth. | C153: 72 | D153: m3 | F153: =IF(OR(ISBLANK(C153), ISBLANK(E153)), "", IF(ISNUMBER(E153), ROUND(C153 * E153, 2), E153)) | G153: 3/4/8 | H153: 881
B155: DISPOSAL OF MATERIAL
A157: 9 | B157: Disposal of non-compliant excavated material | C157: 72 | D157: m3 | F157: =IF(OR(ISBLANK(C157), ISBLANK(E157)), "", IF(ISNUMBER(E157), ROUND(C157 * E157, 2), E157)) | G157: 3/4/9 | H157: 883
B159: IMPORTED FILL
A161: 10 | B161: Import compliant material Class 6N/6P fill above structural foundations | C161: 40 | D161: m3 | F161: =IF(OR(ISBLANK(C161), ISBLANK(E161)), "", IF(ISNUMBER(E161), ROUND(C161 * E161, 2), E161)) | G161: 3/4/10 | H161: 1309
A163: 11 | B163: Import compliant material Class 6N/6P fill to structures | C163: 32 | D163: m3 | F163: =IF(OR(ISBLANK(C163), ISBLANK(E163)), "", IF(ISNUMBER(E163), ROUND(C163 * E163, 2), E163)) | G163: 3/4/11 | H163: 885
B165: COMPACTION OF FILL
A167: 12 | B167: Compaction of compliant material Class 6N/6P fill above structural foundations | C167: 40 | D167: m3 | F167: =IF(OR(ISBLANK(C167), ISBLANK(E167)), "", IF(ISNUMBER(E167), ROUND(C167 * E167, 2), E167)) | G167: 3/4/12 | H167: 1310
A169: 13 | B169: Compaction of compliant material Class 6N/6P fill to structures | C169: 32 | D169: m3 | F169: =IF(OR(ISBLANK(C169), ISBLANK(E169)), "", IF(ISNUMBER(E169), ROUND(C169 * E169, 2), E169)) | G169: 3/4/13 | H169: 887
A194: P24-112 | C194: Page: 3 / 4 | E194: To Collection | F194: =SUM(F146:F193) -> 0
...

Sheet Bill PART 4 - ST02 MOUNT ELLIOT
A1: PART 4 - ST02 MOUNT ELLIOTT LANE BRIDGE
A2: Ref | B2: Description | C2: Qty | D2: Unit | E2: Rate | F2: Amount | G2: BQIndex | H2: InputNo
B4: PILING
B6: CC-RMP-01600 PILING AND EMBEDDED RETAINING WALLS
B8: PILING PLANT
A10: 1 | B10: Establishment of piling plant for 600mm dia. Bored cast-in-place piles in preliminary piling | C10: 1 | D10: item | F10: =IF(OR(ISBLANK(C10), ISBLANK(E10)), "", IF(ISNUMBER(E10), ROUND(C10 * E10, 2), E10)) | G10: 4/1/1 | H10: 851
A12: 2 | B12: Establishment of piling plant for 600mm dia. bored cast-in-place piles in main piling | C12: 1 | D12: item | F12: =IF(OR(ISBLANK(C12), ISBLANK(E12)), "", IF(ISNUMBER(E12), ROUND(C12 * E12, 2), E12)) | G12: 4/1/2 | H12: 104
A14: 3 | B14: Moving piling plant for 600mm dia. bored cast-in-place piles in main piling | C14: 6 | D14: no | F14: =IF(OR(ISBLANK(C14), ISBLANK(E14)), "", IF(ISNUMBER(E14), ROUND(C14 * E14, 2), E14)) | G14: 4/1/3 | H14: 105
B16: CAST-IN-PLACE PILES
A18: 4 | B18: Cast in place piles to pile shafts, Vertical 600mm dia. C32/40 GGBS concrete bored cast-in-place Pile shafts exceeding 10 m in length but not exceeding 15 m in length in preliminary piling | C18: 15 | D18: m | F18: =IF(OR(ISBLANK(C18), ISBLANK(E18)), "", IF(ISNUMBER(E18), ROUND(C18 * E18, 2), E18)) | G18: 4/1/4 | H18: 801
A20: 5 | B20: Cast in place piles to pile shafts, Vertical 600mm dia. C32/40 GGBS concrete bored cast-in-place Pile shafts exceeding 10 m in length but not exceeding 15 m in length in main piling | C20: 90 | D20: m | F20: =IF(OR(ISBLANK(C20), ISBLANK(E20)), "", IF(ISNUMBER(E20), ROUND(C20 * E20, 2), E20)) | G20: 4/1/5 | H20: 106
B22: REINFORCEMENT FOR CAST-IN-PLACE PILES
A24: 6 | B24: Bar reinforcement Nominal size 16 millimetres and under Grade B500B Bars not exceeding 12 metres in length | C24: 1.73 | D24: t | F24: =IF(OR(ISBLANK(C24), ISBLANK(E24)), "", IF(ISNUMBER(E24), ROUND(C24 * E24, 2), E24)) | G24: 4/1/6 | H24: 353
A26: 7 | B26: Helical reinforcement Nominal size 16 millimetres and under Grade B500B Bars not exceeding 12 metres in length | C26: 0.82 | D26: t | F26: =IF(OR(ISBLANK(C26), ISBLANK(E26)), "", IF(ISNUMBER(E26), ROUND(C26 * E26, 2), E26)) | G26: 4/1/7 | H26: 108
B28: PROOF LOADING OF PILES
A30: 8 | B30: Establishment of proof loading equipment 600mm dia. bored cast-in-place piles preliminary piles maintained vertical load | C30: 1 | D30: item | F30: =IF(OR(ISBLANK(C30), ISBLANK(E30)), "", IF(ISNUMBER(E30), ROUND(C30 * E30, 2), E30)) | G30: 4/1/8 | H30: 120
A32: 9 | B32: Establishment of proof loading equipment 600mm dia. bored cast-in-place piles main piles dynamic load vertical | C32: 1 | D32: item | F32: =IF(OR(ISBLANK(C32), ISBLANK(E32)), "", IF(ISNUMBER(E32), ROUND(C32 * E32, 2), E32)) | G32: 4/1/9 | H32: 121
A34: 10 | B34: Proof loading of piles 600mm dia. bored cast-in-place piles preliminary piles maintained load vertical | C34: 1 | D34: no | F34: =IF(OR(ISBLANK(C34), ISBLANK(E34)), "", IF(ISNUMBER(E34), ROUND(C34 * E34, 2), E34)) | G34: 4/1/10 | H34: 122
A36: 11 | B36: Integrity testing of piles, 600mm dia. bored cast-in- place main piles | C36: 6 | D36: no | F36: =IF(OR(ISBLANK(C36), ISBLANK(E36)), "", IF(ISNUMBER(E36), ROUND(C36 * E36, 2), E36)) | G36: 4/1/11 | H36: 986
A38: 12 | B38: Proof loading of piles 600mm dia. bored cast-in-place piles main piles dynamic load vertical | C38: 1 | D38: no | F38: =IF(OR(ISBLANK(C38), ISBLANK(E38)), "", IF(ISNUMBER(E38), ROUND(C38 * E38, 2), E38)) | G38: 4/1/12 | H38: 123
A40: P24-112 | C40: Page: 4 / 1 | E40: To Collection | F40: =SUM(F3:F39) -> 0
A41: PART 4 - ST02 MOUNT ELLIOTT LANE BRIDGE
A42: Ref | B42: Description | C42: Qty | D42: Unit | E42: Rate | F42: Amount | G42: BQIndex | H42: InputNo
B44: SUBSTRUCTURE
B46: CC-RMP-00200 SITE CLEARANCE
B48: TAKE UP OR DOWN AND SET ASIDE FOR REUSE OR REMOVE TO STORE OR TIP OFF SITE
A50: 13 | B50: Take up or down and set aside for reuse Stonework | C50: 6 | D50: m3 | F50: =IF(OR(ISBLANK(C50), ISBLANK(E50)), "", IF(ISNUMBER(E50), ROUND(C50 * E50, 2), E50)) | G50: 4/2/13 | H50: 798
A52: 14 | B52: Take up or down and remove to tip off site Stonework | C52: 14 | D52: m3 | F52: =IF(OR(ISBLANK(C52), ISBLANK(E52)), "", IF(ISNUMBER(E52), ROUND(C52 * E52, 2), E52)) | G52: 4/2/14 | H52: 854
A94: P24-112 | C94: Page: 4 / 2 | E94: To Collection | F94: =SUM(F43:F93) -> 0
A95: PART 4 - ST02 MOUNT ELLIOTT LANE BRIDGE
A96: Ref | B96: Description | C96: Qty | D96: Unit | E96: Rate | F96: Amount | G96: BQIndex | H96: InputNo
B98: SUBSTRUCTURE (Cont'd)
B100: CC-RMP-00500 DRAINAGE AND SERVICE DUCTS
B102: DRAINAGE AND SERVICE DUCTS IN STRUCTURES
A104: 15 | B104: Drainage of the two abutments - end supports as shown in drawings. Include for back of wall drainage, Rodding Eye, Manhole and outfall pipe | C104: 1 | D104: item | F104: =IF(OR(ISBLANK(C104), ISBLANK(E104)), "", IF(ISNUMBER(E104), ROUND(C104 * E104, 2), E104)) | G104: 4/3/15 | H104: 957
A147: P24-112 | C147: Page: 4 / 3 | E147: To Collection | F147: =SUM(F97:F146) -> 0
A148: PART 4 - ST02 MOUNT ELLIOTT LANE BRIDGE
A149: Ref | B149: Description | C149: Qty | D149: Unit | E149: Rate | F149: Amount | G149: BQIndex | H149: InputNo
B151: SUBSTRUCTURE (Cont'd)
B153: CC-RMP-00600 EARTHWORKS
...

Sheet Bill PART 5 - ST03 MOUNT ELLIOT
A1: PART 5 - ST03 MOUNT ELLIOTT TUNNEL
A2: Ref | B2: Description | C2: Qty | D2: Unit | E2: Rate | F2: Amount | G2: BQIndex | H2: InputNo
B4: MAIN CONSTRUCTION
B6: CC-RMP-00100 PRELIMINARIES
B8: OPERATIVES FOR THE EMPLOYER'S REPRESENTATIVE
A10: 1 | B10: Operative for Employers Representative, including provision of MEWP or appropriate working platform to inspect rubble above arch barrels at ends of lined sections in tunnel. | C10: 6 | D10: day | F10: =IF(OR(ISBLANK(C10), ISBLANK(E10)), "", IF(ISNUMBER(E10), ROUND(C10 * E10, 2), E10)) | G10: 5/1/1 | H10: 1103
A51: P24-112 | C51: Page: 5 / 1 | E51: To Collection | F51: =SUM(F3:F50) -> 0
A52: PART 5 - ST03 MOUNT ELLIOTT TUNNEL
A53: Ref | B53: Description | C53: Qty | D53: Unit | E53: Rate | F53: Amount | G53: BQIndex | H53: InputNo
B55: MAIN CONSTRUCTION (Cont'd)
B57: CC-RMP-00200 SITE CLEARANCE
B59: CLEANING OF MOUNT ELLIOTT TUNNEL
A61: 2 | B61: Cleaning of Tunnel using Power Washing | C61: 6600 | D61: m2 | F61: =IF(OR(ISBLANK(C61), ISBLANK(E61)), "", IF(ISNUMBER(E61), ROUND(C61 * E61, 2), E61)) | G61: 5/2/2 | H61: 1005
A63: 3 | B63: Cleaning of Tunnel using Steam Cleaning or Mild Abrasive Cleaning | C63: 2240 | D63: m2 | F63: =IF(OR(ISBLANK(C63), ISBLANK(E63)), "", IF(ISNUMBER(E63), ROUND(C63 * E63, 2), E63)) | G63: 5/2/3 | H63: 1006
A65: 4 | B65: Structure Vegetation Clearance at entrance and above portals of tunnel | C65: 628 | D65: m2 | F65: =IF(OR(ISBLANK(C65), ISBLANK(E65)), "", IF(ISNUMBER(E65), ROUND(C65 * E65, 2), E65)) | G65: 5/2/4 | H65: 1002
A104: P24-112 | C104: Page: 5 / 2 | E104: To Collection | F104: =SUM(F54:F103) -> 0
A105: PART 5 - ST03 MOUNT ELLIOTT TUNNEL
A106: Ref | B106: Description | C106: Qty | D106: Unit | E106: Rate | F106: Amount | G106: BQIndex | H106: InputNo
B108: MAIN CONSTRUCTION (Cont'd)
B110: CC-RMP-01500 MOTORWAY COMMUNICATIONS
B112: COMMUNICATIONS EQUIPMENT
A114: 5 | B114: Communications Equipment, Tunnel Emergency Telephone System Designed by Contractor as outlined in the Works Specification, at two locations as indicated on Drawings P24112-FT-ST03-L4-DR-SE-0002 - 0004 | C114: 1 | D114: no | F114: =IF(OR(ISBLANK(C114), ISBLANK(E114)), "", IF(ISNUMBER(E114), ROUND(C114 * E114, 2), E114)) | G114: 5/3/5 | H114: 1009
A156: P24-112 | C156: Page: 5 / 3 | E156: To Collection | F156: =SUM(F107:F155) -> 0
A157: PART 5 - ST03 MOUNT ELLIOTT TUNNEL
A158: Ref | B158: Description | C158: Qty | D158: Unit | E158: Rate | F158: Amount | G158: BQIndex | H158: InputNo
B160: MAIN CONSTRUCTION (Cont'd)
B162: CC-RMP-01700 STRUCTURAL CONCRETE
B164: STRUCTURAL CONCRETE REPAIRS
A166: 6 | B166: Structurak Concrete Repairs to Concrete Walls of Lined Section of Tunnel , including breaking back of defective concrete (approx. max 100mm deep) using a Class R4 mortar and finish to match with existing | C166: 3 | D166: m2 | F166: =IF(OR(ISBLANK(C166), ISBLANK(E166)), "", IF(ISNUMBER(E166), ROUND(C166 * E166, 2), E166)) | G166: 5/4/6 | H166: 993
B168: IN SITU CONCRETE
A170: 7 | B170: In situ concrete C32/40 for Foundations to Barrier at end of Masonry Lined Sections of Tunnel | C170: 3 | D170: m3 | F170: =IF(OR(ISBLANK(C170), ISBLANK(E170)), "", IF(ISNUMBER(E170), ROUND(C170 * E170, 2), E170)) | G170: 5/4/7 | H170: 1015
A207: P24-112 | C207: Page: 5 / 4 | E207: To Collection | F207: =SUM(F159:F206) -> 0
A208: PART 5 - ST03 MOUNT ELLIOTT TUNNEL
A209: Ref | B209: Description | C209: Qty | D209: Unit | E209: Rate | F209: Amount | G209: BQIndex | H209: InputNo
B211: MAIN CONSTRUCTION (Cont'd)
B213: CC-RMP-01800 STRUCTURAL STEELWORK
B215: FABRICATION AND ERECTION OF STEELWORK
A217: 8 | B217: Cutting and Erection of Reclaimed Rail Sections from Red Bridge for use as Barriers at End of Masonry Sections as per Elevation 4 on Drawing P24112-FT- ST03-L4-DR-SE-0007 and the Works Specification at the locations indicated on Drawings P24112-FT-ST03-L4- DR-SE-0002 - 0004 | C217: 3.59 | D217: t | F217: =IF(OR(ISBLANK(C217), ISBLANK(E217)), "", IF(ISNUMBER(E217), ROUND(C217 * E217, 2), E217)) | G217: 5/5/8 | H217: 1018
A257: P24-112 | C257: Page: 5 / 5 | E257: To Collection | F257: =SUM(F210:F256) -> 0
A258: PART 5 - ST03 MOUNT ELLIOTT TUNNEL
...

Sheet Bill PART 6 - PEDESTRIAN RAMP
A1: PART 6 - PEDESTRIAN RAMP
A2: Ref | B2: Description | C2: Qty | D2: Unit | E2: Rate | F2: Amount | G2: BQIndex | H2: InputNo
B4: MAIN CONSTRUCTION
B6: CC-RMP-00500 DRAINAGE AND SERVICE DUCTS
B8: DRAINAGE AND SERVICE DUCTS IN STRUCTURES
A10: 1 | B10: Drainage of the three retaining walls as shown in drawings. Include for back of wall drainage, Rodding Eyes, Manholes and outfall pipe | C10: 1 | D10: item | F10: =IF(OR(ISBLANK(C10), ISBLANK(E10)), "", IF(ISNUMBER(E10), ROUND(C10 * E10, 2), E10)) | G10: 6/1/1 | H10: 958
A53: P24-112 | C53: Page: 6 / 1 | E53: To Collection | F53: =SUM(F3:F52) -> 0
A54: PART 6 - PEDESTRIAN RAMP
A55: Ref | B55: Description | C55: Qty | D55: Unit | E55: Rate | F55: Amount | G55: BQIndex | H55: InputNo
B57: MAIN CONSTRUCTION (Cont'd)
B59: CC-RMP-00600 EARTHWORKS
B61: IMPORTED FILL
A63: 2 | B63: Imported compliant material Class 6N Fill to structures | C63: 282 | D63: m3 | F63: =IF(OR(ISBLANK(C63), ISBLANK(E63)), "", IF(ISNUMBER(E63), ROUND(C63 * E63, 2), E63)) | G63: 6/2/2 | H63: 141
B65: COMPACTION OF FILL
A67: 3 | B67: Compaction of compliant material Class 6N Fill to structures | C67: 282 | D67: m3 | F67: =IF(OR(ISBLANK(C67), ISBLANK(E67)), "", IF(ISNUMBER(E67), ROUND(C67 * E67, 2), E67)) | G67: 6/2/3 | H67: 147
A107: P24-112 | C107: Page: 6 / 2 | E107: To Collection | F107: =SUM(F56:F106) -> 0
A108: PART 6 - PEDESTRIAN RAMP
A109: Ref | B109: Description | C109: Qty | D109: Unit | E109: Rate | F109: Amount | G109: BQIndex | H109: InputNo
B111: MAIN CONSTRUCTION (Cont'd)
B113: CC-RMP-01700 STRUCTURAL CONCRETE
B115: IN SITU CONCRETE
A117: 4 | B117: In situ concrete Grade ST2 Blinding concrete 75mm or less in thickness | C117: 6 | D117: m3 | F117: =IF(OR(ISBLANK(C117), ISBLANK(E117)), "", IF(ISNUMBER(E117), ROUND(C117 * E117, 2), E117)) | G117: 6/3/4 | H117: 126
A119: 5 | B119: In situ concrete Grade ST4 to mass concrete infill | C119: 46 | D119: m3 | F119: =IF(OR(ISBLANK(C119), ISBLANK(E119)), "", IF(ISNUMBER(E119), ROUND(C119 * E119, 2), E119)) | G119: 6/3/5 | H119: 871
A121: 6 | B121: In situ concrete C40/50 GGBS | C121: 99 | D121: m3 | F121: =IF(OR(ISBLANK(C121), ISBLANK(E121)), "", IF(ISNUMBER(E121), ROUND(C121 * E121, 2), E121)) | G121: 6/3/6 | H121: 127
B123: SURFACE FINISH OF CONCRETE - FORMWORK
A125: 7 | B125: Formwork Vertical more than 300mm wide F1 | C125: 353 | D125: m2 | F125: =IF(OR(ISBLANK(C125), ISBLANK(E125)), "", IF(ISNUMBER(E125), ROUND(C125 * E125, 2), E125)) | G125: 6/3/7 | H125: 1286
A127: 8 | B127: Formwork Vertical more than 300mm wide F3 | C127: 45 | D127: m2 | F127: =IF(OR(ISBLANK(C127), ISBLANK(E127)), "", IF(ISNUMBER(E127), ROUND(C127 * E127, 2), E127)) | G127: 6/3/8 | H127: 1287
A129: 9 | B129: Formwork Horizontal more than 300mm wide F1 | C129: 79 | D129: m2 | F129: =IF(OR(ISBLANK(C129), ISBLANK(E129)), "", IF(ISNUMBER(E129), ROUND(C129 * E129, 2), E129)) | G129: 6/3/9 | H129: 1288
B131: STEEL REINFORCEMENT FOR STRUCTURES
A133: 10 | B133: Bar reinforcement nominal size of 16 mm and under Grade B500B not exceeding 12 metres in length | C133: 6.53 | D133: t | F133: =IF(OR(ISBLANK(C133), ISBLANK(E133)), "", IF(ISNUMBER(E133), ROUND(C133 * E133, 2), E133)) | G133: 6/3/10 | H133: 356
A135: 11 | B135: Dowels 1m x 20mm dia. min Stainless Steel | C135: 16 | D135: no | F135: =IF(OR(ISBLANK(C135), ISBLANK(E135)), "", IF(ISNUMBER(E135), ROUND(C135 * E135, 2), E135)) | G135: 6/3/11 | H135: 872
A160: P24-112 | C160: Page: 6 / 3 | E160: To Collection | F160: =SUM(F110:F159) -> 0
A161: PART 6 - PEDESTRIAN RAMP
A162: Ref | B162: Description | C162: Qty | D162: Unit | E162: Rate | F162: Amount | G162: BQIndex | H162: InputNo
B164: MAIN CONSTRUCTION (Cont'd)
B166: CC-RMP-02000 WATERPROOFING FOR STRUCTURES
B168: WATERPROOFING
A170: 12 | B170: Waterproofing Epoxy resin waterproofing more than 300mm wide at any inclination more than 30° up to and including 90° to the horizontal | C170: 231 | D170: m2 | F170: =IF(OR(ISBLANK(C170), ISBLANK(E170)), "", IF(ISNUMBER(E170), ROUND(C170 * E170, 2), E170)) | G170: 6/4/12 | H170: 1298
A172: 13 | B172: Waterproofing Epoxy resin waterproofing more than 300mm wide horizontal or at any inclination up to and including 30° to the horizontal | C172: 79 | D172: m2 | F172: =IF(OR(ISBLANK(C172), ISBLANK(E172)), "", IF(ISNUMBER(E172), ROUND(C172 * E172, 2), E172)) | G172: 6/4/13 | H172: 1299
B174: SURFACE IMPREGNATION AND COATINGS OF CONCRETE
...

Sheet Summary
A2: Bill | B2: Description | F2: Amount | G2: BQIndex | H2: InputNo
A4: 1 | B4: PART 1 - PRELIMINARIES | F4: ='Bill PART 1 - PRELIMINARIES'!F208 -> 0
A6: 2 | B6: PART 2 - ROADWORKS | F6: ='Bill PART 2 - ROADWORKS'!F792 -> 0
A8: 3 | B8: PART 3 - ST01 RED BRIDGE | F8: ='Bill PART 3 - ST01 RED BRIDGE'!F881 -> 0
A10: 4 | B10: PART 4 - ST02 MOUNT ELLIOTT LANE BRIDGE | F10: ='Bill PART 4 - ST02 MOUNT ELLIOT'!F709 -> 0
A12: 5 | B12: PART 5 - ST03 MOUNT ELLIOTT TUNNEL | F12: ='Bill PART 5 - ST03 MOUNT ELLIOT'!F458 -> 0
A14: 6 | B14: PART 6 - PEDESTRIAN RAMP | F14: ='Bill PART 6 - PEDESTRIAN RAMP'!F414 -> 0
A55: P24-112 | C55: Page: S/1 | F55: =SUM(F3:F54) -> 0
