Workbook

Sheet Bill PART 1 - PRELIMINARIES
A1: PART 1 - PRELIMINARIES
A2: Ref | B2: Description | C2: Qty | D2: Unit | E2: Rate | F2: Amount | G2: BQIndex | H2: InputNo
B4: CC-RMP-00100 PRELIMINARIES
B6: TEMPORARY ACCOMMODATION
A8: 1 | B8: Erection of Principal Offices for the Employer's Representative | C8: 1 | D8: item | F8: =IF(OR(ISBLANK(C8), ISBLANK(E8)), "", IF(ISNUMBER(E8), ROUND(C8 * E8, 2), E8)) | G8: 1/1/1 | H8: 7
A10: 2 | B10: Erection of Offices and Messes for the Contractor | C10: 1 | D10: item | F10: =IF(OR(ISBLANK(C10), ISBLANK(E10)), "", IF(ISNUMBER(E10), ROUND(C10 * E10, 2), E10)) | G10: 1/1/2 | H10: 9
A12: 3 | B12: Erection of Stores and Workshops for the Contractor | C12: 1 | D12: item | F12: =IF(OR(ISBLANK(C12), ISBLANK(E12)), "", IF(ISNUMBER(E12), ROUND(C12 * E12, 2), E12)) | G12: 1/1/3 | H12: 10
A14: 4 | B14: Servicing of Principal Offices for the Employer's Representative until 3 months following substantial completion of the Works | C14: 1 | D14: item | F14: =IF(OR(ISBLANK(C14), ISBLANK(E14)), "", IF(ISNUMBER(E14), ROUND(C14 * E14, 2), E14)) | G14: 1/1/4 | H14: 8
A16: 5 | B16: Servicing of Offices and Messes for the Contractor until completion of the Works | C16: 1 | D16: item | F16: =IF(OR(ISBLANK(C16), ISBLANK(E16)), "", IF(ISNUMBER(E16), ROUND(C16 * E16, 2), E16)) | G16: 1/1/5 | H16: 11
A18: 6 | B18: Servicing of Stores and Workshops for the Contractor until completion of the Works | C18: 1 | D18: item | F18: =IF(OR(ISBLANK(C18), ISBLANK(E18)), "", IF(ISNUMBER(E18), ROUND(C18 * E18, 2), E18)) | G18: 1/1/6 | H18: 12
A20: 7 | B20: Dismantling of Principal Offices for the Employer's Representative 3 months after substantial completion of the Works | C20: 1 | D20: item | F20: =IF(OR(ISBLANK(C20), ISBLANK(E20)), "", IF(ISNUMBER(E20), ROUND(C20 * E20, 2), E20)) | G20: 1/1/7 | H20: 13
A22: 8 | B22: Dismantling of Offices and Messes for the Contractor upon completion of the Works | C22: 1 | D22: item | F22: =IF(OR(ISBLANK(C22), ISBLANK(E22)), "", IF(ISNUMBER(E22), ROUND(C22 * E22, 2), E22)) | G22: 1/1/8 | H22: 14
A24: 9 | B24: Dismantling of Stores and Workshops for the Contractor upon completion of the Works | C24: 1 | D24: item | F24: =IF(OR(ISBLANK(C24), ISBLANK(E24)), "", IF(ISNUMBER(E24), ROUND(C24 * E24, 2), E24)) | G24: 1/1/9 | H24: 15
B26: TRAFFIC SAFETY AND MANAGEMENT
A28: 10 | B28: Traffic safety and management | C28: 1 | D28: item | F28: =IF(OR(ISBLANK(C28), ISBLANK(E28)), "", IF(ISNUMBER(E28), ROUND(C28 * E28, 2), E28)) | G28: 1/1/10 | H28: 769
A30: 11 | B30: VMS Hire and Placement | C30: 1 | D30: item | F30: =IF(OR(ISBLANK(C30), ISBLANK(E30)), "", IF(ISNUMBER(E30), ROUND(C30 * E30, 2), E30)) | G30: 1/1/11 | H30: 1358
B32: TEMPORARY DIVERSION FOR TRAFFIC
A34: 12 | B34: Taking measures for the construction of temporary diversions for traffic at locations proposed by the Contractor | C34: 1 | D34: item | F34: =IF(OR(ISBLANK(C34), ISBLANK(E34)), "", IF(ISNUMBER(E34), ROUND(C34 * E34, 2), E34)) | G34: 1/1/12 | H34: 771
A36: 13 | B36: Maintenance of measures for or construction of temporary diversions for traffic at locations proposed by the Contractor | C36: 1 | D36: item | F36: =IF(OR(ISBLANK(C36), ISBLANK(E36)), "", IF(ISNUMBER(E36), ROUND(C36 * E36, 2), E36)) | G36: 1/1/13 | H36: 772
A38: 14 | B38: Removal of measures for or construction of temporary diversions for traffic at locations proposed by the Contractor | C38: 1 | D38: item | F38: =IF(OR(ISBLANK(C38), ISBLANK(E38)), "", IF(ISNUMBER(E38), ROUND(C38 * E38, 2), E38)) | G38: 1/1/14 | H38: 773
B40: RECOVERY VEHICLES FOR BREAKDOWNS
A42: 15 | B42: Recovery Vehicles for Breakdowns as per Appendix 1/20 | C42: 1 | D42: item | F42: =IF(OR(ISBLANK(C42), ISBLANK(E42)), "", IF(ISNUMBER(E42), ROUND(C42 * E42, 2), E42)) | G42: 1/1/15 | H42: 1262
B44: PROGRESS PHOTOGRAPHS
A46: 16 | B46: Set of ground based progress photographic records in accordance with the specification appendix 1/22. | C46: 12 | D46: no | F46: =IF(OR(ISBLANK(C46), ISBLANK(E46)), "", IF(ISNUMBER(E46), ROUND(C46 * E46, 2), E46)) | G46: 1/1/16 | H46: 21
A48: P24-112 | C48: Page: 1 / 1 | E48: To Collection | F48: =SUM(F3:F47) -> 0
A49: PART 1 - PRELIMINARIES
A50: Ref | B50: Description | C50: Qty | D50: Unit | E50: Rate | F50: Amount | G50: BQIndex | H50: InputNo
B52: CC-RMP-00100 PRELIMINARIES (Cont'd)
B54: PROGRESS PHOTOGRAPHS (Cont'd)
A56: 17 | B56: Set of aerial photographic records in accordance with the specification appendix 1/22. | C56: 12 | D56: no | F56: =IF(OR(ISBLANK(C56), ISBLANK(E56)), "", IF(ISNUMBER(E56), ROUND(C56 * E56, 2), E56)) | G56: 1/2/17 | H56: 758
A58: 18 | B58: Set of aerial video records in accordance with the specification appendix 1/22. | C58: 12 | D58: no | F58: =IF(OR(ISBLANK(C58), ISBLANK(E58)), "", IF(ISNUMBER(E58), ROUND(C58 * E58, 2), E58)) | G58: 1/2/18 | H58: 1263
B60: ROAD SWEEPING AND CLEANING
A62: 19 | B62: Road sweeping and cleaning | C62: 1 | D62: item | F62: =IF(OR(ISBLANK(C62), ISBLANK(E62)), "", IF(ISNUMBER(E62), ROUND(C62 * E62, 2), E62)) | G62: 1/2/19 | H62: 23
B64: FACILITIES FOR LOCAL AUTHORITY, PUBLIC OR PRIVATE UTILITY UNDERTAKERS AND OTHER CONTRACTORS
A66: 20 | B66: Facilities for the ESB | C66: 1 | D66: item | F66: =IF(OR(ISBLANK(C66), ISBLANK(E66)), "", IF(ISNUMBER(E66), ROUND(C66 * E66, 2), E66)) | G66: 1/2/20 | H66: 760
A68: 21 | B68: Facilities for EIR | C68: 1 | D68: item | F68: =IF(OR(ISBLANK(C68), ISBLANK(E68)), "", IF(ISNUMBER(E68), ROUND(C68 * E68, 2), E68)) | G68: 1/2/21 | H68: 761
A70: 22 | B70: Facilities for Wexford County Council | C70: 1 | D70: item | F70: =IF(OR(ISBLANK(C70), ISBLANK(E70)), "", IF(ISNUMBER(E70), ROUND(C70 * E70, 2), E70)) | G70: 1/2/22 | H70: 762
A72: 23 | B72: Facilities for Kilkenny County Council | C72: 1 | D72: item | F72: =IF(OR(ISBLANK(C72), ISBLANK(E72)), "", IF(ISNUMBER(E72), ROUND(C72 * E72, 2), E72)) | G72: 1/2/23 | H72: 763
A74: 24 | B74: Facilities for Gas Networks Ireland | C74: 1 | D74: item | F74: =IF(OR(ISBLANK(C74), ISBLANK(E74)), "", IF(ISNUMBER(E74), ROUND(C74 * E74, 2), E74)) | G74: 1/2/24 | H74: 1200
A76: 25 | B76: Facilities for Irish Water | C76: 1 | D76: item | F76: =IF(OR(ISBLANK(C76), ISBLANK(E76)), "", IF(ISNUMBER(E76), ROUND(C76 * E76, 2), E76)) | G76: 1/2/25 | H76: 1201
A78: 26 | B78: Facilities for Aurora Telecom | C78: 1 | D78: item | F78: =IF(OR(ISBLANK(C78), ISBLANK(E78)), "", IF(ISNUMBER(E78), ROUND(C78 * E78, 2), E78)) | G78: 1/2/26 | H78: 1199
B80: PROJECT SUPERVISOR FOR THE CONSTRUCTION STAGE
A82: 27 | B82: Acceptance of Appointment as Project Supervisor for the Construction Stage | C82: 1 | D82: item | F82: =IF(OR(ISBLANK(C82), ISBLANK(E82)), "", IF(ISNUMBER(E82), ROUND(C82 * E82, 2), E82)) | G82: 1/2/27 | H82: 27
B84: SAFETY FILE
A86: 28 | B86: Safety File | C86: 1 | D86: item | F86: =IF(OR(ISBLANK(C86), ISBLANK(E86)), "", IF(ISNUMBER(E86), ROUND(C86 * E86, 2), E86)) | G86: 1/2/28 | H86: 29
B88: AS BUILT RECORDS
A90: 29 | B90: As Built Records | C90: 1 | D90: item | F90: =IF(OR(ISBLANK(C90), ISBLANK(E90)), "", IF(ISNUMBER(E90), ROUND(C90 * E90, 2), E90)) | G90: 1/2/29 | H90: 25
B92: CONSTRUCTION ENVIRONMENTAL MANAGEMENT PLAN
A94: 30 | B94: Preparation and implementation of Construction Environmental Management Plan. | C94: 1 | D94: item | F94: =IF(OR(ISBLANK(C94), ISBLANK(E94)), "", IF(ISNUMBER(E94), ROUND(C94 * E94, 2), E94)) | G94: 1/2/30 | H94: 776
B96: ROAD SAFETY AUDITS OF TEMPORARY TRAFFIC MANAGEMENT PLANS
A98: 31 | B98: Stage 2 Road Safety Audit of Temporary Traffic Management Plans | C98: 1 | D98: item | F98: =IF(OR(ISBLANK(C98), ISBLANK(E98)), "", IF(ISNUMBER(E98), ROUND(C98 * E98, 2), E98)) | G98: 1/2/31 | H98: 19
A100: 32 | B100: Stage 3 Road Safety Audit of Temporary Traffic Management Plans | C100: 1 | D100: item | F100: =IF(OR(ISBLANK(C100), ISBLANK(E100)), "", IF(ISNUMBER(E100), ROUND(C100 * E100, 2), E100)) | G100: 1/2/32 | H100: 774
A102: P24-112 | C102: Page: 1 / 2 | E102: To Collection | F102: =SUM(F51:F101) -> 0
A103: PART 1 - PRELIMINARIES
A104: Ref | B104: Description | C104: Qty | D104: Unit | E104: Rate | F104: Amount | G104: BQIndex | H104: InputNo
B106: CC-RMP-00100 PRELIMINARIES (Cont'd)
B108: PROPERTY CONDITION SURVEYS
A110: 33 | B110: Condition Surveys as per Appendix 1/72 | C110: 1 | D110: item | F110: =IF(OR(ISBLANK(C110), ISBLANK(E110)), "", IF(ISNUMBER(E110), ROUND(C110 * E110, 2), E110)) | G110: 1/3/33 | H110: 923
B112: WATERCOURSE MANAGEMENT
A114: 34 | B114: Watercourse Management as per Appendix 1/71 | C114: 1 | D114: item | F114: =IF(OR(ISBLANK(C114), ISBLANK(E114)), "", IF(ISNUMBER(E114), ROUND(C114 * E114, 2), E114)) | G114: 1/3/34 | H114: 925
B116: ENVIRONMENTAL MANAGEMENT
A118: 35 | B118: Environmental Management as per Appendix 1/71 | C118: 1 | D118: item | F118: =IF(OR(ISBLANK(C118), ISBLANK(E118)), "", IF(ISNUMBER(E118), ROUND(C118 * E118, 2), E118)) | G118: 1/3/35 | H118: 927
B120: BAT MITIGATION
A122: 36 | B122: Bat Mitigation as per Appendix 1/71 | C122: 1 | D122: item | F122: =IF(OR(ISBLANK(C122), ISBLANK(E122)), "", IF(ISNUMBER(E122), ROUND(C122 * E122, 2), E122)) | G122: 1/3/36 | H122: 1329
B124: INVASIVE SPECIES SURVEY
A126: 37 | B126: Pre-construction Invasive Species survey as per Appendix 1/71 | C126: 1 | D126: item | F126: =IF(OR(ISBLANK(C126), ISBLANK(E126)), "", IF(ISNUMBER(E126), ROUND(C126 * E126, 2), E126)) | G126: 1/3/37 | H126: 1331
B128: WATER QUALITY MEASURES AND WATER QUALITY MONITORING PROGRAMME
A130: 38 | B130: Water quality measures and water quality monitoring programme as per Appendix 1/71 | C130: 1 | D130: item | F130: =IF(OR(ISBLANK(C130), ISBLANK(E130)), "", IF(ISNUMBER(E130), ROUND(C130 * E130, 2), E130)) | G130: 1/3/38 | H130: 1333
B132: SUPPLY AND INSTALLATION OF BAT BRICK ROOSTS
A134: 39 | B134: Bat Brick Roosts as per Appendix 1/71 at Mountelliott Tunnel | C134: 2 | D134: no | F134: =IF(OR(ISBLANK(C134), ISBLANK(E134)), "", IF(ISNUMBER(E134), ROUND(C134 * E134, 2), E134)) | G134: 1/3/39 | H134: 1335
A153: P24-112 | C153: Page: 1 / 3 | E153: To Collection | F153: =SUM(F105:F152) -> 0
A154: PART 1 - PRELIMINARIES
B155: Description | F155: Amount | G155: BQIndex | H155: InputNo
B157: Page: 1 / 1 | F157: =F48 -> 0
B159: Page: 1 / 2 | F159: =F102 -> 0
B161: Page: 1 / 3 | F161: =F153 -> 0
A208: P24-112 | C208: Page: 1 / 4 | E208: To Summary | F208: =SUM(F156:F207) -> 0

Sheet Bill PART 2 - ROADWORKS
A1: PART 2 - ROADWORKS
A2: Ref | B2: Description | C2: Qty | D2: Unit | E2: Rate | F2: Amount | G2: BQIndex | H2: InputNo
B4: ROADWORKS GENERAL
B6: CC-RMP-00200 SITE CLEARANCE
B8: SITE CLEARANCE
A10: 1 | B10: General site clearance | C10: 2.9 | D10: ha | F10: =IF(OR(ISBLANK(C10), ISBLANK(E10)), "", IF(ISNUMBER(E10), ROUND(C10 * E10, 2), E10)) | G10: 2/1/1 | H10: 61
B12: TAKE UP OR DOWN AND SET ASIDE FOR REUSE OR REMOVE TO STORE OR TIP OFF SITE
A14: 2 | B14: Take up or down and remove to tip off site Metal gate | C14: 3 | D14: no | F14: =IF(OR(ISBLANK(C14), ISBLANK(E14)), "", IF(ISNUMBER(E14), ROUND(C14 * E14, 2), E14)) | G14: 2/1/2 | H14: 799
A16: 3 | B16: Take up or down and set aside for reuse Metal gate | C16: 2 | D16: no | F16: =IF(OR(ISBLANK(C16), ISBLANK(E16)), "", IF(ISNUMBER(E16), ROUND(C16 * E16, 2), E16)) | G16: 2/1/3 | H16: 1203
B18: TREE FELLING
A20: 4 | B20: Tree Felling | C20: 25 | D20: no | F20: =IF(OR(ISBLANK(C20), ISBLANK(E20)), "", IF(ISNUMBER(E20), ROUND(C20 * E20, 2), E20)) | G20: 2/1/4 | H20: 947
A54: P24-112 | C54: Page: 2 / 1 | E54: To Collection | F54: =SUM(F3:F53) -> 0
A55: PART 2 - ROADWORKS
A56: Ref | B56: Description | C56: Qty | D56: Unit | E56: Rate | F56: Amount | G56: BQIndex | H56: InputNo
B58: ROADWORKS GENERAL (Cont'd)
B60: CC-RMP-00300 FENCING AND ENVIRONMENTAL NOISE BARRIERS
B62: FENCING, GATES AND STILES
A64: 5 | B64: Timber post and rail fence in accordance with CC-SCD- 00301. With Chainlink mesh. 1.4m Height | C64: 586 | D64: m | F64: =IF(OR(ISBLANK(C64), ISBLANK(E64)), "", IF(ISNUMBER(E64), ROUND(C64 * E64, 2), E64)) | G64: 2/2/5 | H64: 37
A66: 6 | B66: Concrete Footing to timber post and rail fence. | C66: 47 | D66: no | F66: =IF(OR(ISBLANK(C66), ISBLANK(E66)), "", IF(ISNUMBER(E66), ROUND(C66 * E66, 2), E66)) | G66: 2/2/6 | H66: 802
A68: 7 | B68: 2.4m High Lockable Palisade Security Gates with pedestrian access and designed by Contractor, To Be Fitted Between Abutments On Existing R700 Bridge With Palisade Details As Per Drawing P24112-FT-FN-L4- DR-CE-0004. | C68: 1 | D68: no | F68: =IF(OR(ISBLANK(C68), ISBLANK(E68)), "", IF(ISNUMBER(E68), ROUND(C68 * E68, 2), E68)) | G68: 2/2/7 | H68: 279
A70: 8 | B70: Steel Single Field Gate Type 2 to CC-SCD-00309. (4000x1255mm) | C70: 3 | D70: no | F70: =IF(OR(ISBLANK(C70), ISBLANK(E70)), "", IF(ISNUMBER(E70), ROUND(C70 * E70, 2), E70)) | G70: 2/2/8 | H70: 286
B72: REMOVE FROM STORE AND RE-ERECT FENCING, GATES AND STILES
A74: 9 | B74: Remove from store and re-erect Metal gates | C74: 2 | D74: no | F74: =IF(OR(ISBLANK(C74), ISBLANK(E74)), "", IF(ISNUMBER(E74), ROUND(C74 * E74, 2), E74)) | G74: 2/2/9 | H74: 1206
A101: P24-112 | C101: Page: 2 / 2 | E101: To Collection | F101: =SUM(F57:F100) -> 0
A102: PART 2 - ROADWORKS
A103: Ref | B103: Description | C103: Qty | D103: Unit | E103: Rate | F103: Amount | G103: BQIndex | H103: InputNo
B105: ROADWORKS GENERAL (Cont'd)
B107: CC-RMP-00500 DRAINAGE AND SERVICE DUCTS
B109: DRAINS, SEWERS, PIPED CULVERTS AND SERVICE DUCTS (EXCLUDING FILTER DRAINS, NARROW FILTER DRAINS & FIN DRAINS)
A111: 10 | B111: Drains 225mm internal diameter Depths to invert not exceeding 2 metres average depth 1.85 metres Drainage - Surface Water Drains - Trench and Bedding Details - (CC-SCD-00521) Type S Construction to trench | C111: 79 | D111: m | F111: =IF(OR(ISBLANK(C111), ISBLANK(E111)), "", IF(ISNUMBER(E111), ROUND(C111 * E111, 2), E111)) | G111: 2/3/10 | H111: 1056
A113: 11 | B113: Adjustment rate on the last item for each 25mm of difference in excess of 150mm from average depth of 1.85 metres | C113: XXXX | D113: item | F113: XXXX | G113: 2/3/11 | H113: 1314
A115: 12 | B115: Drains 225mm internal diameter Depths to invert exceeding 2 metres but not exceeding 4 metres average depth 3 metres Drainage - Surface Water Drains - Trench and Bedding Details - (CC-SCD-00521) Type S Construction to trench | C115: 31 | D115: m | F115: =IF(OR(ISBLANK(C115), ISBLANK(E115)), "", IF(ISNUMBER(E115), ROUND(C115 * E115, 2), E115)) | G115: 2/3/12 | H115: 1085
A117: 13 | B117: Adjustment rate on the last item for each 25mm of difference in excess of 150mm from average depth of 3 metres | C117: XXXX | D117: item | F117: XXXX | G117: 2/3/13 | H117: 1318
A119: 14 | B119: Drains 300mm internal diameter Depths to invert not exceeding 2 metres average depth 1.85 metres Drainage - Surface Water Drains - Trench and Bedding Details - (CC-SCD-00521) Type S Construction to trench | C119: 73 | D119: m | F119: =IF(OR(ISBLANK(C119), ISBLANK(E119)), "", IF(ISNUMBER(E119), ROUND(C119 * E119, 2), E119)) | G119: 2/3/14 | H119: 292
A121: 15 | B121: Adjustment rate on the last item for each 25mm of difference in excess of 150mm from average depth of 1.85 metres | C121: XXXX | D121: item | F121: XXXX | G121: 2/3/15 | H121: 1319
A123: 16 | B123: Drains 300mm internal diameter Depths to invert exceeding 2 metres but not exceeding 4 metres average depth 3 metres Drainage - Surface Water Drains - Trench and Bedding Details - (CC-SCD-00521) Type S Construction to trench | C123: 12 | D123: m | F123: =IF(OR(ISBLANK(C123), ISBLANK(E123)), "", IF(ISNUMBER(E123), ROUND(C123 * E123, 2), E123)) | G123: 2/3/16 | H123: 1087
A125: 17 | B125: Adjustment rate on the last item for each 25mm of difference in excess of 150mm from average depth of 3 metres | C125: XXXX | D125: item | F125: XXXX | G125: 2/3/17 | H125: 1320
A127: 18 | B127: Drains 375mm internal diameter Depths to invert not exceeding 2 metres average depth 1.85 metres Drainage - Surface Water Drains - Trench and Bedding Details - (CC-SCD-00521) Type Z Construction to trench | C127: 7 | D127: m | F127: =IF(OR(ISBLANK(C127), ISBLANK(E127)), "", IF(ISNUMBER(E127), ROUND(C127 * E127, 2), E127)) | G127: 2/3/18 | H127: 1055
A129: 19 | B129: Adjustment rate on the last item for each 25mm of difference in excess of 150mm from average depth of 1.85 metre | C129: XXXX | D129: item | F129: XXXX | G129: 2/3/19 | H129: 1321
A131: P24-112 | C131: Page: 2 / 3 | E131: To Collection | F131: =SUM(F104:F130) -> 0
A132: PART 2 - ROADWORKS
A133: Ref | B133: Description | C133: Qty | D133: Unit | E133: Rate | F133: Amount | G133: BQIndex | H133: InputNo
B135: ROADWORKS GENERAL (Cont'd)
B137: CC-RMP-00500 DRAINAGE AND SERVICE DUCTS (Cont'd)
B139: FILTER DRAINS
A141: 20 | B141: Filter Drains 225mm internal diameter Depths to invert exceeding 2 metres but not exceeding 4 metres average depth 3 metres Drainage - Filter Drains Trench and Bedding Details - (CC-SCD-00520 ) TYPE H | C141: 43 | D141: m | F141: =IF(OR(ISBLANK(C141), ISBLANK(E141)), "", IF(ISNUMBER(E141), ROUND(C141 * E141, 2), E141)) | G141: 2/4/20 | H141: 1086
A143: 21 | B143: Adjustment rate on the last item for each 25mm of difference in excess of 150mm from average depth of 3 metre | C143: XXXX | D143: item | F143: XXXX | G143: 2/4/21 | H143: 1322
A145: 22 | B145: Filter Drains 225 mm internal diameter Depths to invert not exceeding 2 metres average depth 1.85 metres Drainage - Filter Drains Trench and Bedding Details - (CC-SCD-00520) TYPE H | C145: 697 | D145: m | F145: =IF(OR(ISBLANK(C145), ISBLANK(E145)), "", IF(ISNUMBER(E145), ROUND(C145 * E145, 2), E145)) | G145: 2/4/22 | H145: 1052
A147: 23 | B147: Adjustment rate on the last item for each 25mm of difference in excess of 150mm from average depth of 1.85 metres | C147: XXXX | D147: item | F147: XXXX | G147: 2/4/23 | H147: 1325
A149: 24 | B149: Filter Drains 300 mm internal diameter Depths to invert not exceeding 2 metres average depth 1.85 metres Drainage - Filter Drains Trench and Bedding Details - (CC-SCD-00520) TYPE H | C149: 135 | D149: m | F149: =IF(OR(ISBLANK(C149), ISBLANK(E149)), "", IF(ISNUMBER(E149), ROUND(C149 * E149, 2), E149)) | G149: 2/4/24 | H149: 1053
A151: 25 | B151: Adjustment rate on the last item for each 25mm of difference in excess of 150mm from average depth of 1.85 metre | C151: XXXX | D151: item | F151: XXXX | G151: 2/4/25 | H151: 1336
A153: 26 | B153: Filter Drains 375 mm internal diameter Depths to invert not exceeding 2 metres average depth 1.85 metres Drainage - Filter Drains Trench and Bedding Details - (CC-SCD-00520) TYPE H | C153: 23 | D153: m | F153: =IF(OR(ISBLANK(C153), ISBLANK(E153)), "", IF(ISNUMBER(E153), ROUND(C153 * E153, 2), E153)) | G153: 2/4/26 | H153: 1054
A155: 27 | B155: Adjustment rate on the last item for each 25mm of difference in excess of 150mm from average depth of 1 .85 metres | C155: XXXX | D155: item | F155: XXXX | G155: 2/4/27 | H155: 1327
B157: FIN DRAINS AND NARROW FILTER DRAINS
A159: 28 | B159: Narrow filter drains Drainage - Edge of Pavement Drains - Installation of Narrow Filter Drains - (CC-SCD- 00540 Type 8 ) Depth not exceeding 1.5 metres | C159: 957 | D159: m | F159: =IF(OR(ISBLANK(C159), ISBLANK(E159)), "", IF(ISNUMBER(E159), ROUND(C159 * E159, 2), E159)) | G159: 2/4/28 | H159: 213
B161: CHAMBERS AND GULLIES
A163: 29 | B163: 300x300mm duct access chamber with D400 Grade Rectangular Cover for tunnel lights in accordance with Detail on Drawing P24112-FT-LT-L4-DR-CE-0006 | C163: 68 | D163: no | F163: =IF(OR(ISBLANK(C163), ISBLANK(E163)), "", IF(ISNUMBER(E163), ROUND(C163 * E163, 2), E163)) | G163: 2/4/29 | H163: 1078
A165: 30 | B165: 300x300mm duct access chamber with D400 Grade Rectangular Cover for future CCTV Installations in accordance with Detail on Drawing P24112-FT-LT-L4- DR-CE-0006 | C165: 8 | D165: no | F165: =IF(OR(ISBLANK(C165), ISBLANK(E165)), "", IF(ISNUMBER(E165), ROUND(C165 * E165, 2), E165)) | G165: 2/4/30 | H165: 1079
A167: P24-112 | C167: Page: 2 / 4 | E167: To Collection | F167: =SUM(F134:F166) -> 0
A168: PART 2 - ROADWORKS
A169: Ref | B169: Description | C169: Qty | D169: Unit | E169: Rate | F169: Amount | G169: BQIndex | H169: InputNo
B171: ROADWORKS GENERAL (Cont'd)
B173: CC-RMP-00500 DRAINAGE AND SERVICE DUCTS (Cont'd)
B175: CHAMBERS AND GULLIES (Cont'd)
A177: 31 | B177: Comms Chamber Type 1 to CC-SCD-01515 with D400 Grade Rectangular Cover | C177: 2 | D177: no | F177: =IF(OR(ISBLANK(C177), ISBLANK(E177)), "", IF(ISNUMBER(E177), ROUND(C177 * E177, 2), E177)) | G177: 2/5/31 | H177: 1140
A179: 32 | B179: Comms Chamber Type 2 to CC-SCD-01517 with D400 Grade Rectangular Cover | C179: 17 | D179: no | F179: =IF(OR(ISBLANK(C179), ISBLANK(E179)), "", IF(ISNUMBER(E179), ROUND(C179 * E179, 2), E179)) | G179: 2/5/32 | H179: 1141
A181: 33 | B181: Chamber Drainage - Chamber Type F (Precast Catchpit) - (CC-SCD-00509), Cover Grade D400 Depth not exceeding 1 metre | C181: 9 | D181: no | F181: =IF(OR(ISBLANK(C181), ISBLANK(E181)), "", IF(ISNUMBER(E181), ROUND(C181 * E181, 2), E181)) | G181: 2/5/33 | H181: 293
A183: 34 | B183: Chamber Drainage - Chamber Type F (Precast Catchpit) (CC-SCD-00509) Cover Grade D400 Depths to invert exceeding 1 metre but not exceeding 2 metres | C183: 14 | D183: no | F183: =IF(OR(ISBLANK(C183), ISBLANK(E183)), "", IF(ISNUMBER(E183), ROUND(C183 * E183, 2), E183)) | G183: 2/5/34 | H183: 1089
A185: 35 | B185: Chamber Drainage - Chamber Type G (Precast Catchpit) (CC-SCD-00509) Cover Grade D400 Depths to invert exceeding 1 metre but not exceeding 2 metres | C185: 1 | D185: no | F185: =IF(OR(ISBLANK(C185), ISBLANK(E185)), "", IF(ISNUMBER(E185), ROUND(C185 * E185, 2), E185)) | G185: 2/5/35 | H185: 1306
A187: 36 | B187: Chamber Drainage - Chamber Type G (Precast Catchpit) (CC-SCD-00509) Cover Grade D400 Depths to invert exceeding 2 metre but not exceeding 3 metres | C187: 2 | D187: no | F187: =IF(OR(ISBLANK(C187), ISBLANK(E187)), "", IF(ISNUMBER(E187), ROUND(C187 * E187, 2), E187)) | G187: 2/5/36 | H187: 1091
A189: 37 | B189: Chamber Rodding Eye in accordance with Drawing no. P24112-FT-DR-L4-DR-CE-0004 | C189: 43 | D189: no | F189: =IF(OR(ISBLANK(C189), ISBLANK(E189)), "", IF(ISNUMBER(E189), ROUND(C189 * E189, 2), E189)) | G189: 2/5/37 | H189: 295
A191: 38 | B191: Cable Chamber, 600x600mm Internal Dimensions with D400 Grade Rectangular Cover in accordance with P24112-FT-LT-L4-DR-CE-0005 | C191: 6 | D191: no | F191: =IF(OR(ISBLANK(C191), ISBLANK(E191)), "", IF(ISNUMBER(E191), ROUND(C191 * E191, 2), E191)) | G191: 2/5/38 | H191: 278
B193: HEADWALLS AND REVETMENTS
A195: 39 | B195: Headwalls in accordance with CC-SCD-00553 for Pipe exceeding 100 mm but not exceeding 300mm internal diameter | C195: 1 | D195: no | F195: =IF(OR(ISBLANK(C195), ISBLANK(E195)), "", IF(ISNUMBER(E195), ROUND(C195 * E195, 2), E195)) | G195: 2/5/39 | H195: 219
A197: 40 | B197: Headwalls in accordance with CC-SCD-00553 for Pipe exceeding 300 mm but not exceeding 600mm internal diameter | C197: 1 | D197: no | F197: =IF(OR(ISBLANK(C197), ISBLANK(E197)), "", IF(ISNUMBER(E197), ROUND(C197 * E197, 2), E197)) | G197: 2/5/40 | H197: 1139
A199: 41 | B199: Stone revetments to drainage ditch in accordance with Detail on Drawing P24112-FT-DR-L4-DR-CE-0004 | C199: 1 | D199: no | F199: =IF(OR(ISBLANK(C199), ISBLANK(E199)), "", IF(ISNUMBER(E199), ROUND(C199 * E199, 2), E199)) | G199: 2/5/41 | H199: 1138
B201: EXCAVATION IN HARD MATERIAL
A203: 42 | B203: Extra over excavation for excavation in hard material in drainage, Trenches | C203: 15 | D203: m3 | F203: =IF(OR(ISBLANK(C203), ISBLANK(E203)), "", IF(ISNUMBER(E203), ROUND(C203 * E203, 2), E203)) | G203: 2/5/42 | H203: 1050
A205: 43 | B205: Extra over excavation for excavation in hard material in drainage, Chambers | C205: 5 | D205: m3 | F205: =IF(OR(ISBLANK(C205), ISBLANK(E205)), "", IF(ISNUMBER(E205), ROUND(C205 * E205, 2), E205)) | G205: 2/5/43 | H205: 1051
B207: SERVICE DUCTS
A209: 44 | B209: Galvanised steel conduit, 30mm dia., complete with all fixings and accessories, to tunnel lights. | C209: 125 | D209: m | F209: =IF(OR(ISBLANK(C209), ISBLANK(E209)), "", IF(ISNUMBER(E209), ROUND(C209 * E209, 2), E209)) | G209: 2/5/44 | H209: 1243
A211: P24-112 | C211: Page: 2 / 5 | E211: To Collection | F211: =SUM(F170:F210) -> 0
A212: PART 2 - ROADWORKS
A213: Ref | B213: Description | C213: Qty | D213: Unit | E213: Rate | F213: Amount | G213: BQIndex | H213: InputNo
B215: ROADWORKS GENERAL (Cont'd)
B217: CC-RMP-00500 DRAINAGE AND SERVICE DUCTS (Cont'd)
B219: SERVICE DUCTS (Cont'd)
A221: 45 | B221: Service ducts Two number 100mm internal diameter UPVC Ducts with Depths to invert not exceeding 1.5 metres and average depth 0.5 metres Ducts in accordacne with CC-SCD-01510 | C221: 422 | D221: m | F221: =IF(OR(ISBLANK(C221), ISBLANK(E221)), "", IF(ISNUMBER(E221), ROUND(C221 * E221, 2), E221)) | G221: 2/6/45 | H221: 1074
A223: 46 | B223: Service ducts Four number 100mm internal diameter UPVC Ducts with Depths to invert not exceeding 1.5 metres average depth 0.5 metres. Concrete Surround 300mm Thk x 800mm Wide to ducts through tunnel as per Detail on P24112-FT-ST03-L4-DR-SE-0006 | C223: 700 | D223: m | F223: =IF(OR(ISBLANK(C223), ISBLANK(E223)), "", IF(ISNUMBER(E223), ROUND(C223 * E223, 2), E223)) | G223: 2/6/46 | H223: 1164
A225: 47 | B225: Service ducts Four number 100mm internal diameter UPVC Ducts with Depths to invert not exceeding 1.5 metres and average depth 0.5 metres Ducts in accordacne with CC-SCD-01510 | C225: 57 | D225: m | F225: =IF(OR(ISBLANK(C225), ISBLANK(E225)), "", IF(ISNUMBER(E225), ROUND(C225 * E225, 2), E225)) | G225: 2/6/47 | H225: 1075
A255: P24-112 | C255: Page: 2 / 6 | E255: To Collection | F255: =SUM(F214:F254) -> 0
A256: PART 2 - ROADWORKS
A257: Ref | B257: Description | C257: Qty | D257: Unit | E257: Rate | F257: Amount | G257: BQIndex | H257: InputNo
B259: ROADWORKS GENERAL (Cont'd)
B261: CC-RMP-00600 EARTHWORKS
B263: EXCAVATION
A265: 48 | B265: Excavation of non-compliant material, in cutting and other excavation | C265: 3317 | D265: m3 | F265: =IF(OR(ISBLANK(C265), ISBLANK(E265)), "", IF(ISNUMBER(E265), ROUND(C265 * E265, 2), E265)) | G265: 2/7/48 | H265: 1094
A267: 49 | B267: Excavation of compliant material excluding class 5A removal of surcharge | C267: 2500 | D267: m3 | F267: =IF(OR(ISBLANK(C267), ISBLANK(E267)), "", IF(ISNUMBER(E267), ROUND(C267 * E267, 2), E267)) | G267: 2/7/49 | H267: 955
B269: EXCAVATION IN HARD MATERIAL
A271: 50 | B271: Extra over excavation for excavation in hard material in cuttings and other excavation. | C271: 2630 | D271: m3 | F271: =IF(OR(ISBLANK(C271), ISBLANK(E271)), "", IF(ISNUMBER(E271), ROUND(C271 * E271, 2), E271)) | G271: 2/7/50 | H271: 840
...

Sheet Bill PART 3 - ST01 RED BRIDGE
A1: PART 3 - ST01 RED BRIDGE
A2: Ref | B2: Description | C2: Qty | D2: Unit | E2: Rate | F2: Amount | G2: BQIndex | H2: InputNo
B4: SPECIAL PRELIMINARIES
B6: CC-RMP-00100 PRELIMINARIES
B8: RED BRIDGE TEMPORARY WORKS STRUCTURES DESIGNED BY THE CONTRACTOR
A10: 1 | B10: Erection of Red Bridge Temporary Works Structure designed by the Contractor in accordance with Appendix 1/11 | C10: 1 | D10: item | F10: =IF(OR(ISBLANK(C10), ISBLANK(E10)), "", IF(ISNUMBER(E10), ROUND(C10 * E10, 2), E10)) | G10: 3/1/1 | H10: 1020
A12: 2 | B12: Maintenance of Red Bridge Temporary Works Structure designed by the Contractor in accordance with Appendix 1/11, until completion of works | C12: 1 | D12: item | F12: =IF(OR(ISBLANK(C12), ISBLANK(E12)), "", IF(ISNUMBER(E12), ROUND(C12 * E12, 2), E12)) | G12: 3/1/2 | H12: 1021
A14: 3 | B14: Dismantling of Red Bridge Temporary Works Structure designed by the Contractor in accordance with Appendix 1/11, upon completion of the works | C14: 1 | D14: item | F14: =IF(OR(ISBLANK(C14), ISBLANK(E14)), "", IF(ISNUMBER(E14), ROUND(C14 * E14, 2), E14)) | G14: 3/1/3 | H14: 1022
A48: P24-112 | C48: Page: 3 / 1 | E48: To Collection | F48: =SUM(F3:F47) -> 0
A49: PART 3 - ST01 RED BRIDGE
A50: Ref | B50: Description | C50: Qty | D50: Unit | E50: Rate | F50: Amount | G50: BQIndex | H50: InputNo
B52: SUBSTRUCTURE
B54: CC-RMP-00200 SITE CLEARANCE
B56: SITE CLEARANCE
A58: 4 | B58: Partial demolition of individual structures, demolition of pier bracing steelwork as shown in drawing series P24112-FT-ST01-L4-DR-SE-0003 to P24112-FT-ST01-L4- DR-SE-0009. Allow for phased removal in conjunction with the installation of the new bracing steelwork. | C58: 1 | D58: item | F58: =IF(OR(ISBLANK(C58), ISBLANK(E58)), "", IF(ISNUMBER(E58), ROUND(C58 * E58, 2), E58)) | G58: 3/2/4 | H58: 954
A60: 5 | B60: Partial demolition of individual structures, concrete retaining wall behind the south abutment with dimensions 6m (wide) x 1.8m (height) x 1.0m (Thick). Refer also to Note No. 11 on Drawing P24112-FT-ST01- L4-DR-SE-0025. | C60: 1 | D60: item | F60: =IF(OR(ISBLANK(C60), ISBLANK(E60)), "", IF(ISNUMBER(E60), ROUND(C60 * E60, 2), E60)) | G60: 3/2/5 | H60: 1040
A95: P24-112 | C95: Page: 3 / 2 | E95: To Collection | F95: =SUM(F51:F94) -> 0
A96: PART 3 - ST01 RED BRIDGE
A97: Ref | B97: Description | C97: Qty | D97: Unit | E97: Rate | F97: Amount | G97: BQIndex | H97: InputNo
B99: SUBSTRUCTURE (Cont'd)
B101: CC-RMP-00500 DRAINAGE AND SERVICE DUCTS
B103: DRAINAGE AND SERVICE DUCTS IN STRUCTURES (INCLUDING REINFORCED EARTH STRUCTURES AND ANCHORED EARTH STRUCTURES)
A105: 6 | B105: Drainage, Substructures - End Supports. Include for back of wall drainage, headwalls, outfall pipe and openings through concrete wingwalls at both abutments. | C105: 1 | D105: item | F105: =IF(OR(ISBLANK(C105), ISBLANK(E105)), "", IF(ISNUMBER(E105), ROUND(C105 * E105, 2), E105)) | G105: 3/3/6 | H105: 1107
A107: 7 | B107: Service Ducts, Substructures - End Supports. Include for ducting, openings through concrete walls and two draw pits at both abutments. | C107: 1 | D107: item | F107: =IF(OR(ISBLANK(C107), ISBLANK(E107)), "", IF(ISNUMBER(E107), ROUND(C107 * E107, 2), E107)) | G107: 3/3/7 | H107: 1110
A143: P24-112 | C143: Page: 3 / 3 | E143: To Collection | F143: =SUM(F98:F142) -> 0
A144: PART 3 - ST01 RED BRIDGE
A145: Ref | B145: Description | C145: Qty | D145: Unit | E145: Rate | F145: Amount | G145: BQIndex | H145: InputNo
B147: SUBSTRUCTURE (Cont'd)
B149: CC-RMP-00600 EARTHWORKS
B151: EXCAVATION
A153: 8 | B153: Excavation of non-compliant material in structural foundations 0 metres to 3 metres in depth. | C153: 72 | D153: m3 | F153: =IF(OR(ISBLANK(C153), ISBLANK(E153)), "", IF(ISNUMBER(E153), ROUND(C153 * E153, 2), E153)) | G153: 3/4/8 | H153: 881
B155: DISPOSAL OF MATERIAL
A157: 9 | B157: Disposal of non-compliant excavated material | C157: 72 | D157: m3 | F157: =IF(OR(ISBLANK(C157), ISBLANK(E157)), "", IF(ISNUMBER(E157), ROUND(C157 * E157, 2), E157)) | G157: 3/4/9 | H157: 883
B159: IMPORTED FILL
A161: 10 | B161: Import compliant material Class 6N/6P fill above structural foundations | C161: 40 | D161: m3 | F161: =IF(OR(ISBLANK(C161), ISBLANK(E161)), "", IF(ISNUMBER(E161), ROUND(C161 * E161, 2), E161)) | G161: 3/4/10 | H161: 1309
A163: 11 | B163: Import compliant material Class 6N/6P fill to structures | C163: 32 | D163: m3 | F163: =IF(OR(ISBLANK(C163), ISBLANK(E163)), "", IF(ISNUMBER(E163), ROUND(C163 * E163, 2), E163)) | G163: 3/4/11 | H163: 885
B165: COMPACTION OF FILL
A167: 12 | B167: Compaction of compliant material Class 6N/6P fill above structural foundations | C167: 40 | D167: m3 | F167: =IF(OR(ISBLANK(C167), ISBLANK(E167)), "", IF(ISNUMBER(E167), ROUND(C167 * E167, 2), E167)) | G167: 3/4/12 | H167: 1310
A169: 13 | B169: Compaction of compliant material Class 6N/6P fill to structures | C169: 32 | D169: m3 | F169: =IF(OR(ISBLANK(C169), ISBLANK(E169)), "", IF(ISNUMBER(E169), ROUND(C169 * E169, 2), E169)) | G169: 3/4/13 | H169: 887
A194: P24-112 | C194: Page: 3 / 4 | E194: To Collection | F194: =SUM(F146:F193) -> 0
A195: PART 3 - ST01 RED BRIDGE
A196: Ref | B196: Description | C196: Qty | D196: Unit | E196: Rate | F196: Amount | G196: BQIndex | H196: InputNo
B198: SUBSTRUCTURE (Cont'd)
B200: CC-RMP-01700 STRUCTURAL CONCRETE
B202: IN SITU CONCRETE
A204: 14 | B204: In situ concrete C40/50 with 50% GGBS for abutment walls and foundations | C204: 17 | D204: m3 | F204: =IF(OR(ISBLANK(C204), ISBLANK(E204)), "", IF(ISNUMBER(E204), ROUND(C204 * E204, 2), E204)) | G204: 3/5/14 | H204: 319
A206: 15 | B206: In situ concrete Blinding concrete 75mm or less in thickness | C206: 2 | D206: m3 | F206: =IF(OR(ISBLANK(C206), ISBLANK(E206)), "", IF(ISNUMBER(E206), ROUND(C206 * E206, 2), E206)) | G206: 3/5/15 | H206: 877
B208: SURFACE FINISH OF CONCRETE - FORMWORK
A210: 16 | B210: Formwork 300mm wide or less at any inclination. Class F1. | C210: 12 | D210: m2 | F210: =IF(OR(ISBLANK(C210), ISBLANK(E210)), "", IF(ISNUMBER(E210), ROUND(C210 * E210, 2), E210)) | G210: 3/5/16 | H210: 899
A212: 17 | B212: Formwork 300mm wide or less at any inclination. Class F3. | C212: 12 | D212: m2 | F212: =IF(OR(ISBLANK(C212), ISBLANK(E212)), "", IF(ISNUMBER(E212), ROUND(C212 * E212, 2), E212)) | G212: 3/5/17 | H212: 1111
A214: 18 | B214: Formwork vertical more than 300mm wide. Class F1. | C214: 60 | D214: m2 | F214: =IF(OR(ISBLANK(C214), ISBLANK(E214)), "", IF(ISNUMBER(E214), ROUND(C214 * E214, 2), E214)) | G214: 3/5/18 | H214: 900
B216: STEEL REINFORCEMENT FOR STRUCTURES
A218: 19 | B218: Bar reinforcement Nominal size of 16 mm and under | C218: 2.3 | D218: t | F218: =IF(OR(ISBLANK(C218), ISBLANK(E218)), "", IF(ISNUMBER(E218), ROUND(C218 * E218, 2), E218)) | G218: 3/5/19 | H218: 902
A220: 20 | B220: Installation of HILTI M24 dia anchors post-installed embedment depth of 220 mm, using mortar of type HIT-RE 500V4+ HAS-U | C220: 42 | D220: no | F220: =IF(OR(ISBLANK(C220), ISBLANK(E220)), "", IF(ISNUMBER(E220), ROUND(C220 * E220, 2), E220)) | G220: 3/5/20 | H220: 903
A243: P24-112 | C243: Page: 3 / 5 | E243: To Collection | F243: =SUM(F197:F242) -> 0
A244: PART 3 - ST01 RED BRIDGE
A245: Ref | B245: Description | C245: Qty | D245: Unit | E245: Rate | F245: Amount | G245: BQIndex | H245: InputNo
B247: SUBSTRUCTURE (Cont'd)
B249: CC-RMP-01800 STRUCTURAL STEELWORK
B251: FABRICATION AND ERECTION OF STEELWORK
A253: 21 | B253: Fabrication of Subsidiary Steelwork, rolled sections, grade S355 steel | C253: 8.5 | D253: t | F253: =IF(OR(ISBLANK(C253), ISBLANK(E253)), "", IF(ISNUMBER(E253), ROUND(C253 * E253, 2), E253)) | G253: 3/6/21 | H253: 876
A255: 22 | B255: Permanent erection of substructure pier bracing. Allow for phased installation in conjunction with the removal of the existing bracing steelwork. | C255: 8.5 | D255: t | F255: =IF(OR(ISBLANK(C255), ISBLANK(E255)), "", IF(ISNUMBER(E255), ROUND(C255 * E255, 2), E255)) | G255: 3/6/22 | H255: 1112
A295: P24-112 | C295: Page: 3 / 6 | E295: To Collection | F295: =SUM(F246:F294) -> 0
A296: PART 3 - ST01 RED BRIDGE
A297: Ref | B297: Description | C297: Qty | D297: Unit | E297: Rate | F297: Amount | G297: BQIndex | H297: InputNo
B299: SUBSTRUCTURE (Cont'd)
B301: CC-RMP-01900 PROTECTION OF STEELWORK AGAINST CORROSION
B303: PROTECTIVE SYSTEM
A305: 23 | B305: Corrosion protection system, Type II, to substructure steelworks | C305: 220 | D305: m2 | F305: =IF(OR(ISBLANK(C305), ISBLANK(E305)), "", IF(ISNUMBER(E305), ROUND(C305 * E305, 2), E305)) | G305: 3/7/23 | H305: 910
A348: P24-112 | C348: Page: 3 / 7 | E348: To Collection | F348: =SUM(F298:F347) -> 0
A349: PART 3 - ST01 RED BRIDGE
A350: Ref | B350: Description | C350: Qty | D350: Unit | E350: Rate | F350: Amount | G350: BQIndex | H350: InputNo
B352: SUBSTRUCTURE (Cont'd)
B354: CC-RMP-02000 WATERPROOFING FOR STRUCTURES
B356: WATERPROOFING
A358: 24 | B358: Two coats of epoxy resin waterproofing paint, more than 300mm wide horizontal or at any inclination up to and including 30deg to the horizontal. | C358: 17 | D358: m2 | F358: =IF(OR(ISBLANK(C358), ISBLANK(E358)), "", IF(ISNUMBER(E358), ROUND(C358 * E358, 2), E358)) | G358: 3/8/24 | H358: 1114
A360: 25 | B360: Two coats of epoxy resin waterproofing paint, more than 300mm wide at any inclination more than 30deg up to and including 90deg to the horizontal. | C360: 60 | D360: m2 | F360: =IF(OR(ISBLANK(C360), ISBLANK(E360)), "", IF(ISNUMBER(E360), ROUND(C360 * E360, 2), E360)) | G360: 3/8/25 | H360: 1115
A362: 26 | B362: Two coats of epoxy resin waterproofing paint, 300mm wide or less at any inclination. | C362: 12 | D362: m2 | F362: =IF(OR(ISBLANK(C362), ISBLANK(E362)), "", IF(ISNUMBER(E362), ROUND(C362 * E362, 2), E362)) | G362: 3/8/26 | H362: 1116
A398: P24-112 | C398: Page: 3 / 8 | E398: To Collection | F398: =SUM(F351:F397) -> 0
A399: PART 3 - ST01 RED BRIDGE
A400: Ref | B400: Description | C400: Qty | D400: Unit | E400: Rate | F400: Amount | G400: BQIndex | H400: InputNo
B402: SUPERSTRUCTURE
B404: CC-RMP-00200 SITE CLEARANCE
B406: SITE CLEARANCE
A408: 27 | B408: Partial demolition of individual structures, demolition of track support steelwork as shown in drawing series P24112-FT-ST01-L4-DR-SE-0003 to P24112-FT-ST01-L4- DR-SE-0009. | C408: 1 | D408: item | F408: =IF(OR(ISBLANK(C408), ISBLANK(E408)), "", IF(ISNUMBER(E408), ROUND(C408 * E408, 2), E408)) | G408: 3/9/27 | H408: 1106
A410: 28 | B410: Partial demolition of individual structures, removal and replacement of existing channel sections P24112-FT- ST01-L4-DR-SE-0003 to P24112-FT-ST01-L4-DR-SE- 0009 | C410: 1 | D410: item | F410: =IF(OR(ISBLANK(C410), ISBLANK(E410)), "", IF(ISNUMBER(E410), ROUND(C410 * E410, 2), E410)) | G410: 3/9/28 | H410: 1244
A412: 29 | B412: Partial demolition of individual structures, demolition of existing handrails and supports as shown in drawing series P24112-FT-ST01-L4-DR-SE-0003 to P24112-FT- ST01-L4-DR-SE-0009. | C412: 1 | D412: item | F412: =IF(OR(ISBLANK(C412), ISBLANK(E412)), "", IF(ISNUMBER(E412), ROUND(C412 * E412, 2), E412)) | G412: 3/9/29 | H412: 1245
B414: TAKE UP OR DOWN AND SET ASIDE FOR REUSE OR REMOVE TO STORE OR TIP OFF SITE
A416: 30 | B416: Take up or down and set aside for reuse, existing rail track. Rails to be reused in the barrier structure at the ends of the masonry lining within Mount Elliott Tunnelway. | C416: 363 | D416: m | F416: =IF(OR(ISBLANK(C416), ISBLANK(E416)), "", IF(ISNUMBER(E416), ROUND(C416 * E416, 2), E416)) | G416: 3/9/30 | H416: 1105
A440: P24-112 | C440: Page: 3 / 9 | E440: To Collection | F440: =SUM(F401:F439) -> 0
A441: PART 3 - ST01 RED BRIDGE
A442: Ref | B442: Description | C442: Qty | D442: Unit | E442: Rate | F442: Amount | G442: BQIndex | H442: InputNo
B444: SUPERSTRUCTURE (Cont'd)
B446: CC-RMP-00500 DRAINAGE AND SERVICE DUCTS
B448: DRAINAGE AND SERVICE DUCTS IN STRUCTURES
A450: 31 | B450: Service Ducts, Superstructure. Galvanised steel conduit, 30 mm. diameter, complete with all fixings and accessories for connection to lighting fixtures. | C450: 1 | D450: item | F450: =IF(OR(ISBLANK(C450), ISBLANK(E450)), "", IF(ISNUMBER(E450), ROUND(C450 * E450, 2), E450)) | G450: 3/10/31 | H450: 988
A452: 32 | B452: Service Ducts, Superstructure. Include for four 100 mm Dia. UPVC ducts underslung below the bridge deck with required supports and connection to substructure ducting at abutments. | C452: 1 | D452: item | F452: =IF(OR(ISBLANK(C452), ISBLANK(E452)), "", IF(ISNUMBER(E452), ROUND(C452 * E452, 2), E452)) | G452: 3/10/32 | H452: 1117
A490: P24-112 | C490: Page: 3 / 10 | E490: To Collection | F490: =SUM(F443:F489) -> 0
A491: PART 3 - ST01 RED BRIDGE
A492: Ref | B492: Description | C492: Qty | D492: Unit | E492: Rate | F492: Amount | G492: BQIndex | H492: InputNo
...

Sheet Bill PART 4 - ST02 MOUNT ELLIOT
A1: PART 4 - ST02 MOUNT ELLIOTT LANE BRIDGE
A2: Ref | B2: Description | C2: Qty | D2: Unit | E2: Rate | F2: Amount | G2: BQIndex | H2: InputNo
B4: PILING
B6: CC-RMP-01600 PILING AND EMBEDDED RETAINING WALLS
B8: PILING PLANT
A10: 1 | B10: Establishment of piling plant for 600mm dia. Bored cast-in-place piles in preliminary piling | C10: 1 | D10: item | F10: =IF(OR(ISBLANK(C10), ISBLANK(E10)), "", IF(ISNUMBER(E10), ROUND(C10 * E10, 2), E10)) | G10: 4/1/1 | H10: 851
A12: 2 | B12: Establishment of piling plant for 600mm dia. bored cast-in-place piles in main piling | C12: 1 | D12: item | F12: =IF(OR(ISBLANK(C12), ISBLANK(E12)), "", IF(ISNUMBER(E12), ROUND(C12 * E12, 2), E12)) | G12: 4/1/2 | H12: 104
A14: 3 | B14: Moving piling plant for 600mm dia. bored cast-in-place piles in main piling | C14: 6 | D14: no | F14: =IF(OR(ISBLANK(C14), ISBLANK(E14)), "", IF(ISNUMBER(E14), ROUND(C14 * E14, 2), E14)) | G14: 4/1/3 | H14: 105
B16: CAST-IN-PLACE PILES
A18: 4 | B18: Cast in place piles to pile shafts, Vertical 600mm dia. C32/40 GGBS concrete bored cast-in-place Pile shafts exceeding 10 m in length but not exceeding 15 m in length in preliminary piling | C18: 15 | D18: m | F18: =IF(OR(ISBLANK(C18), ISBLANK(E18)), "", IF(ISNUMBER(E18), ROUND(C18 * E18, 2), E18)) | G18: 4/1/4 | H18: 801
A20: 5 | B20: Cast in place piles to pile shafts, Vertical 600mm dia. C32/40 GGBS concrete bored cast-in-place Pile shafts exceeding 10 m in length but not exceeding 15 m in length in main piling | C20: 90 | D20: m | F20: =IF(OR(ISBLANK(C20), ISBLANK(E20)), "", IF(ISNUMBER(E20), ROUND(C20 * E20, 2), E20)) | G20: 4/1/5 | H20: 106
B22: REINFORCEMENT FOR CAST-IN-PLACE PILES
A24: 6 | B24: Bar reinforcement Nominal size 16 millimetres and under Grade B500B Bars not exceeding 12 metres in length | C24: 1.73 | D24: t | F24: =IF(OR(ISBLANK(C24), ISBLANK(E24)), "", IF(ISNUMBER(E24), ROUND(C24 * E24, 2), E24)) | G24: 4/1/6 | H24: 353
A26: 7 | B26: Helical reinforcement Nominal size 16 millimetres and under Grade B500B Bars not exceeding 12 metres in length | C26: 0.82 | D26: t | F26: =IF(OR(ISBLANK(C26), ISBLANK(E26)), "", IF(ISNUMBER(E26), ROUND(C26 * E26, 2), E26)) | G26: 4/1/7 | H26: 108
B28: PROOF LOADING OF PILES
A30: 8 | B30: Establishment of proof loading equipment 600mm dia. bored cast-in-place piles preliminary piles maintained vertical load | C30: 1 | D30: item | F30: =IF(OR(ISBLANK(C30), ISBLANK(E30)), "", IF(ISNUMBER(E30), ROUND(C30 * E30, 2), E30)) | G30: 4/1/8 | H30: 120
A32: 9 | B32: Establishment of proof loading equipment 600mm dia. bored cast-in-place piles main piles dynamic load vertical | C32: 1 | D32: item | F32: =IF(OR(ISBLANK(C32), ISBLANK(E32)), "", IF(ISNUMBER(E32), ROUND(C32 * E32, 2), E32)) | G32: 4/1/9 | H32: 121
A34: 10 | B34: Proof loading of piles 600mm dia. bored cast-in-place piles preliminary piles maintained load vertical | C34: 1 | D34: no | F34: =IF(OR(ISBLANK(C34), ISBLANK(E34)), "", IF(ISNUMBER(E34), ROUND(C34 * E34, 2), E34)) | G34: 4/1/10 | H34: 122
A36: 11 | B36: Integrity testing of piles, 600mm dia. bored cast-in- place main piles | C36: 6 | D36: no | F36: =IF(OR(ISBLANK(C36), ISBLANK(E36)), "", IF(ISNUMBER(E36), ROUND(C36 * E36, 2), E36)) | G36: 4/1/11 | H36: 986
A38: 12 | B38: Proof loading of piles 600mm dia. bored cast-in-place piles main piles dynamic load vertical | C38: 1 | D38: no | F38: =IF(OR(ISBLANK(C38), ISBLANK(E38)), "", IF(ISNUMBER(E38), ROUND(C38 * E38, 2), E38)) | G38: 4/1/12 | H38: 123
A40: P24-112 | C40: Page: 4 / 1 | E40: To Collection | F40: =SUM(F3:F39) -> 0
A41: PART 4 - ST02 MOUNT ELLIOTT LANE BRIDGE
A42: Ref | B42: Description | C42: Qty | D42: Unit | E42: Rate | F42: Amount | G42: BQIndex | H42: InputNo
B44: SUBSTRUCTURE
B46: CC-RMP-00200 SITE CLEARANCE
B48: TAKE UP OR DOWN AND SET ASIDE FOR REUSE OR REMOVE TO STORE OR TIP OFF SITE
A50: 13 | B50: Take up or down and set aside for reuse Stonework | C50: 6 | D50: m3 | F50: =IF(OR(ISBLANK(C50), ISBLANK(E50)), "", IF(ISNUMBER(E50), ROUND(C50 * E50, 2), E50)) | G50: 4/2/13 | H50: 798
A52: 14 | B52: Take up or down and remove to tip off site Stonework | C52: 14 | D52: m3 | F52: =IF(OR(ISBLANK(C52), ISBLANK(E52)), "", IF(ISNUMBER(E52), ROUND(C52 * E52, 2), E52)) | G52: 4/2/14 | H52: 854
A94: P24-112 | C94: Page: 4 / 2 | E94: To Collection | F94: =SUM(F43:F93) -> 0
A95: PART 4 - ST02 MOUNT ELLIOTT LANE BRIDGE
A96: Ref | B96: Description | C96: Qty | D96: Unit | E96: Rate | F96: Amount | G96: BQIndex | H96: InputNo
B98: SUBSTRUCTURE (Cont'd)
B100: CC-RMP-00500 DRAINAGE AND SERVICE DUCTS
B102: DRAINAGE AND SERVICE DUCTS IN STRUCTURES
A104: 15 | B104: Drainage of the two abutments - end supports as shown in drawings. Include for back of wall drainage, Rodding Eye, Manhole and outfall pipe | C104: 1 | D104: item | F104: =IF(OR(ISBLANK(C104), ISBLANK(E104)), "", IF(ISNUMBER(E104), ROUND(C104 * E104, 2), E104)) | G104: 4/3/15 | H104: 957
A147: P24-112 | C147: Page: 4 / 3 | E147: To Collection | F147: =SUM(F97:F146) -> 0
A148: PART 4 - ST02 MOUNT ELLIOTT LANE BRIDGE
A149: Ref | B149: Description | C149: Qty | D149: Unit | E149: Rate | F149: Amount | G149: BQIndex | H149: InputNo
B151: SUBSTRUCTURE (Cont'd)
B153: CC-RMP-00600 EARTHWORKS
B155: EXCAVATION
A157: 16 | B157: Excavation of non-compliant material, in cutting and other excavation. | C157: 120 | D157: m3 | F157: =IF(OR(ISBLANK(C157), ISBLANK(E157)), "", IF(ISNUMBER(E157), ROUND(C157 * E157, 2), E157)) | G157: 4/4/16 | H157: 165
B159: DISPOSAL OF MATERIAL
A161: 17 | B161: Disposal of non-compliant excavated material | C161: 120 | D161: m3 | F161: =IF(OR(ISBLANK(C161), ISBLANK(E161)), "", IF(ISNUMBER(E161), ROUND(C161 * E161, 2), E161)) | G161: 4/4/17 | H161: 850
A201: P24-112 | C201: Page: 4 / 4 | E201: To Collection | F201: =SUM(F150:F200) -> 0
A202: PART 4 - ST02 MOUNT ELLIOTT LANE BRIDGE
A203: Ref | B203: Description | C203: Qty | D203: Unit | E203: Rate | F203: Amount | G203: BQIndex | H203: InputNo
B205: SUBSTRUCTURE (Cont'd)
B207: CC-RMP-01700 STRUCTURAL CONCRETE
B209: IN SITU CONCRETE
A211: 18 | B211: In situ concrete C40/50 GGBS | C211: 32 | D211: m3 | F211: =IF(OR(ISBLANK(C211), ISBLANK(E211)), "", IF(ISNUMBER(E211), ROUND(C211 * E211, 2), E211)) | G211: 4/5/18 | H211: 749
B213: SURFACE FINISH OF CONCRETE - FORMWORK
A215: 19 | B215: Formwork Vertical more than 300mm wide F1 | C215: 54 | D215: m2 | F215: =IF(OR(ISBLANK(C215), ISBLANK(E215)), "", IF(ISNUMBER(E215), ROUND(C215 * E215, 2), E215)) | G215: 4/5/19 | H215: 112
B217: SURFACE FINISH OF CONCRETE - PATTERNED PROFILE FORMWORK
A219: 20 | B219: Patterned and profile work Vertical Pattern profile finish | C219: 65 | D219: m2 | F219: =IF(OR(ISBLANK(C219), ISBLANK(E219)), "", IF(ISNUMBER(E219), ROUND(C219 * E219, 2), E219)) | G219: 4/5/20 | H219: 118
B221: STEEL REINFORCEMENT FOR STRUCTURES
A223: 21 | B223: Bar reinforcement nominal size of 16 mm and under Grade B500B not exceeding 12 metres in length | C223: 3.95 | D223: t | F223: =IF(OR(ISBLANK(C223), ISBLANK(E223)), "", IF(ISNUMBER(E223), ROUND(C223 * E223, 2), E223)) | G223: 4/5/21 | H223: 1254
A225: 22 | B225: Bar reinforcement Nominal size of 20 mm and over Grade B500B not exceeding 12 metres in length | C225: 1.27 | D225: t | F225: =IF(OR(ISBLANK(C225), ISBLANK(E225)), "", IF(ISNUMBER(E225), ROUND(C225 * E225, 2), E225)) | G225: 4/5/22 | H225: 1258
A253: P24-112 | C253: Page: 4 / 5 | E253: To Collection | F253: =SUM(F204:F252) -> 0
A254: PART 4 - ST02 MOUNT ELLIOTT LANE BRIDGE
A255: Ref | B255: Description | C255: Qty | D255: Unit | E255: Rate | F255: Amount | G255: BQIndex | H255: InputNo
B257: SUBSTRUCTURE (Cont'd)
B259: CC-RMP-02000 WATERPROOFING FOR STRUCTURES
B261: WATERPROOFING
A263: 23 | B263: Waterproofing surface impregnation of concrete, hydrophobic pore liner | C263: 54 | D263: m2 | F263: =IF(OR(ISBLANK(C263), ISBLANK(E263)), "", IF(ISNUMBER(E263), ROUND(C263 * E263, 2), E263)) | G263: 4/6/23 | H263: 1259
A265: 24 | B265: Waterproofing 2 coats Epoxy resin waterproof paint More than 300mm wide at any inclination more than 30° up to and including 90° to the horizontal | C265: 54 | D265: m2 | F265: =IF(OR(ISBLANK(C265), ISBLANK(E265)), "", IF(ISNUMBER(E265), ROUND(C265 * E265, 2), E265)) | G265: 4/6/24 | H265: 202
A305: P24-112 | C305: Page: 4 / 6 | E305: To Collection | F305: =SUM(F256:F304) -> 0
A306: PART 4 - ST02 MOUNT ELLIOTT LANE BRIDGE
A307: Ref | B307: Description | C307: Qty | D307: Unit | E307: Rate | F307: Amount | G307: BQIndex | H307: InputNo
B309: SUBSTRUCTURE (Cont'd)
B311: CC-RMP-02400 BRICKWORK, BLOCKWORK AND STONEWORK
B313: BLOCKWORK AND STONEWORK
A315: 25 | B315: Copings, stonework of different sizes | C315: 30 | D315: m | F315: =IF(OR(ISBLANK(C315), ISBLANK(E315)), "", IF(ISNUMBER(E315), ROUND(C315 * E315, 2), E315)) | G315: 4/7/25 | H315: 853
B317: CLEANING AND REMOVAL OF VEGETATION AND DEBRIS FROM MASONRY OR CONCRETE
A319: 26 | B319: Cleaning and removal of vegetation and debris from masonry or concrete vertical surfaces | C319: 113 | D319: m2 | F319: =IF(OR(ISBLANK(C319), ISBLANK(E319)), "", IF(ISNUMBER(E319), ROUND(C319 * E319, 2), E319)) | G319: 4/7/26 | H319: 856
B321: REPLACEMENT OF MISSING AND DEFECTIVE STONEWORK
A323: 27 | B323: Removal and replacement of defective stonework in piers and abutments | C323: 2 | D323: m3 | F323: =IF(OR(ISBLANK(C323), ISBLANK(E323)), "", IF(ISNUMBER(E323), ROUND(C323 * E323, 2), E323)) | G323: 4/7/27 | H323: 1282
A325: 28 | B325: Removal and replacement of defective stonework in spandrel walls | C325: 3 | D325: m3 | F325: =IF(OR(ISBLANK(C325), ISBLANK(E325)), "", IF(ISNUMBER(E325), ROUND(C325 * E325, 2), E325)) | G325: 4/7/28 | H325: 1283
B327: MASONRY REPOINTING
A329: 29 | B329: Masonry repointing of historic structures, granite stonework with NHL 2 Lime mortar, joint thickness 15- 40mm, finish and joint preparation in accordance with CC-SPW-02400 in walls | C329: 57 | D329: m2 | F329: =IF(OR(ISBLANK(C329), ISBLANK(E329)), "", IF(ISNUMBER(E329), ROUND(C329 * E329, 2), E329)) | G329: 4/7/29 | H329: 757
A351: P24-112 | C351: Page: 4 / 7 | E351: To Collection | F351: =SUM(F308:F350) -> 0
A352: PART 4 - ST02 MOUNT ELLIOTT LANE BRIDGE
A353: Ref | B353: Description | C353: Qty | D353: Unit | E353: Rate | F353: Amount | G353: BQIndex | H353: InputNo
B355: SUBSTRUCTURE (Cont'd)
B357: CC-RMP-02500 SPECIAL STRUCTURES
B359: SPECIAL STRUCTURES DESIGNED BY THE CONTRACTOR
A361: 30 | B361: Reinforced soil embankments on north and south approach to the structure | C361: 1 | D361: item | F361: =IF(OR(ISBLANK(C361), ISBLANK(E361)), "", IF(ISNUMBER(E361), ROUND(C361 * E361, 2), E361)) | G361: 4/8/30 | H361: 1154
A404: P24-112 | C404: Page: 4 / 8 | E404: To Collection | F404: =SUM(F354:F403) -> 0
A405: PART 4 - ST02 MOUNT ELLIOTT LANE BRIDGE
A406: Ref | B406: Description | C406: Qty | D406: Unit | E406: Rate | F406: Amount | G406: BQIndex | H406: InputNo
B408: SUPERSTRUCTURE
B410: CC-RMP-00500 DRAINAGE AND SERVICE DUCTS
B412: DRAINAGE AND SERVICE DUCTS IN STRUCTURES (INCLUDING REINFORCED EARTH STRUCTURES AND ANCHORED EARTH STRUCTURES)
A414: 31 | B414: Service Ducts Two number 100mm internal diameter Type C UPVC in each concrete verge on superstructure | C414: 1 | D414: item | F414: =IF(OR(ISBLANK(C414), ISBLANK(E414)), "", IF(ISNUMBER(E414), ROUND(C414 * E414, 2), E414)) | G414: 4/9/31 | H414: 1179
A456: P24-112 | C456: Page: 4 / 9 | E456: To Collection | F456: =SUM(F407:F455) -> 0
A457: PART 4 - ST02 MOUNT ELLIOTT LANE BRIDGE
A458: Ref | B458: Description | C458: Qty | D458: Unit | E458: Rate | F458: Amount | G458: BQIndex | H458: InputNo
B460: SUPERSTRUCTURE (Cont'd)
B462: CC-RMP-01100 KERBS, FOOTWAYS AND PAVED AREAS
B464: KERBS, CHANNELS, EDGINGS, COMBINED DRAINAGE AND KERB BLOCKS AND LINEAR DRAINAGE CHANNEL SYSTEMS
...

Sheet Bill PART 5 - ST03 MOUNT ELLIOT
A1: PART 5 - ST03 MOUNT ELLIOTT TUNNEL
A2: Ref | B2: Description | C2: Qty | D2: Unit | E2: Rate | F2: Amount | G2: BQIndex | H2: InputNo
B4: MAIN CONSTRUCTION
B6: CC-RMP-00100 PRELIMINARIES
B8: OPERATIVES FOR THE EMPLOYER'S REPRESENTATIVE
A10: 1 | B10: Operative for Employers Representative, including provision of MEWP or appropriate working platform to inspect rubble above arch barrels at ends of lined sections in tunnel. | C10: 6 | D10: day | F10: =IF(OR(ISBLANK(C10), ISBLANK(E10)), "", IF(ISNUMBER(E10), ROUND(C10 * E10, 2), E10)) | G10: 5/1/1 | H10: 1103
A51: P24-112 | C51: Page: 5 / 1 | E51: To Collection | F51: =SUM(F3:F50) -> 0
A52: PART 5 - ST03 MOUNT ELLIOTT TUNNEL
A53: Ref | B53: Description | C53: Qty | D53: Unit | E53: Rate | F53: Amount | G53: BQIndex | H53: InputNo
B55: MAIN CONSTRUCTION (Cont'd)
B57: CC-RMP-00200 SITE CLEARANCE
B59: CLEANING OF MOUNT ELLIOTT TUNNEL
A61: 2 | B61: Cleaning of Tunnel using Power Washing | C61: 6600 | D61: m2 | F61: =IF(OR(ISBLANK(C61), ISBLANK(E61)), "", IF(ISNUMBER(E61), ROUND(C61 * E61, 2), E61)) | G61: 5/2/2 | H61: 1005
A63: 3 | B63: Cleaning of Tunnel using Steam Cleaning or Mild Abrasive Cleaning | C63: 2240 | D63: m2 | F63: =IF(OR(ISBLANK(C63), ISBLANK(E63)), "", IF(ISNUMBER(E63), ROUND(C63 * E63, 2), E63)) | G63: 5/2/3 | H63: 1006
A65: 4 | B65: Structure Vegetation Clearance at entrance and above portals of tunnel | C65: 628 | D65: m2 | F65: =IF(OR(ISBLANK(C65), ISBLANK(E65)), "", IF(ISNUMBER(E65), ROUND(C65 * E65, 2), E65)) | G65: 5/2/4 | H65: 1002
A104: P24-112 | C104: Page: 5 / 2 | E104: To Collection | F104: =SUM(F54:F103) -> 0
A105: PART 5 - ST03 MOUNT ELLIOTT TUNNEL
A106: Ref | B106: Description | C106: Qty | D106: Unit | E106: Rate | F106: Amount | G106: BQIndex | H106: InputNo
B108: MAIN CONSTRUCTION (Cont'd)
B110: CC-RMP-01500 MOTORWAY COMMUNICATIONS
B112: COMMUNICATIONS EQUIPMENT
A114: 5 | B114: Communications Equipment, Tunnel Emergency Telephone System Designed by Contractor as outlined in the Works Specification, at two locations as indicated on Drawings P24112-FT-ST03-L4-DR-SE-0002 - 0004 | C114: 1 | D114: no | F114: =IF(OR(ISBLANK(C114), ISBLANK(E114)), "", IF(ISNUMBER(E114), ROUND(C114 * E114, 2), E114)) | G114: 5/3/5 | H114: 1009
A156: P24-112 | C156: Page: 5 / 3 | E156: To Collection | F156: =SUM(F107:F155) -> 0
A157: PART 5 - ST03 MOUNT ELLIOTT TUNNEL
A158: Ref | B158: Description | C158: Qty | D158: Unit | E158: Rate | F158: Amount | G158: BQIndex | H158: InputNo
B160: MAIN CONSTRUCTION (Cont'd)
B162: CC-RMP-01700 STRUCTURAL CONCRETE
B164: STRUCTURAL CONCRETE REPAIRS
A166: 6 | B166: Structurak Concrete Repairs to Concrete Walls of Lined Section of Tunnel , including breaking back of defective concrete (approx. max 100mm deep) using a Class R4 mortar and finish to match with existing | C166: 3 | D166: m2 | F166: =IF(OR(ISBLANK(C166), ISBLANK(E166)), "", IF(ISNUMBER(E166), ROUND(C166 * E166, 2), E166)) | G166: 5/4/6 | H166: 993
B168: IN SITU CONCRETE
A170: 7 | B170: In situ concrete C32/40 for Foundations to Barrier at end of Masonry Lined Sections of Tunnel | C170: 3 | D170: m3 | F170: =IF(OR(ISBLANK(C170), ISBLANK(E170)), "", IF(ISNUMBER(E170), ROUND(C170 * E170, 2), E170)) | G170: 5/4/7 | H170: 1015
A207: P24-112 | C207: Page: 5 / 4 | E207: To Collection | F207: =SUM(F159:F206) -> 0
A208: PART 5 - ST03 MOUNT ELLIOTT TUNNEL
A209: Ref | B209: Description | C209: Qty | D209: Unit | E209: Rate | F209: Amount | G209: BQIndex | H209: InputNo
B211: MAIN CONSTRUCTION (Cont'd)
B213: CC-RMP-01800 STRUCTURAL STEELWORK
B215: FABRICATION AND ERECTION OF STEELWORK
A217: 8 | B217: Cutting and Erection of Reclaimed Rail Sections from Red Bridge for use as Barriers at End of Masonry Sections as per Elevation 4 on Drawing P24112-FT- ST03-L4-DR-SE-0007 and the Works Specification at the locations indicated on Drawings P24112-FT-ST03-L4- DR-SE-0002 - 0004 | C217: 3.59 | D217: t | F217: =IF(OR(ISBLANK(C217), ISBLANK(E217)), "", IF(ISNUMBER(E217), ROUND(C217 * E217, 2), E217)) | G217: 5/5/8 | H217: 1018
A257: P24-112 | C257: Page: 5 / 5 | E257: To Collection | F257: =SUM(F210:F256) -> 0
A258: PART 5 - ST03 MOUNT ELLIOTT TUNNEL
A259: Ref | B259: Description | C259: Qty | D259: Unit | E259: Rate | F259: Amount | G259: BQIndex | H259: InputNo
B261: MAIN CONSTRUCTION (Cont'd)
B263: CC-RMP-02400 BRICKWORK, BLOCKWORK AND STONEWORK
B265: REPLACEMENT OF MISSING AND DEFECTIVE STONEWORK
A267: 9 | B267: Removal and replacement of defective stonework in arch soffits and barrels, existing coping above Tunnel Entrance Portals | C267: 5 | D267: m3 | F267: =IF(OR(ISBLANK(C267), ISBLANK(E267)), "", IF(ISNUMBER(E267), ROUND(C267 * E267, 2), E267)) | G267: 5/6/9 | H267: 1305
B269: MASONRY REPOINTING
A271: 10 | B271: Repointing brickwork clay bricks with NHL 3.5 Mortar, lamp black, typical joint thickness 15-30mm in arches | C271: 116 | D271: m2 | F271: =IF(OR(ISBLANK(C271), ISBLANK(E271)), "", IF(ISNUMBER(E271), ROUND(C271 * E271, 2), E271)) | G271: 5/6/10 | H271: 190
A273: 11 | B273: Repointing stonework with NHL 3.5 Mortar, lamp black, typical joint thickness 10-25mm in walls | C273: 65 | D273: m2 | F273: =IF(OR(ISBLANK(C273), ISBLANK(E273)), "", IF(ISNUMBER(E273), ROUND(C273 * E273, 2), E273)) | G273: 5/6/11 | H273: 994
B275: MASONRY STITCHING
A277: 12 | B277: Masonry Stitching with 4.5mm Helifix Stainless Steel HeliBar or similar, Cracks not exceeding 2 metres in length, at every 4th course. Fixed using Helifix HeliBond grout or similar. | C277: 16 | D277: m | F277: =IF(OR(ISBLANK(C277), ISBLANK(E277)), "", IF(ISNUMBER(E277), ROUND(C277 * E277, 2), E277)) | G277: 5/6/12 | H277: 996
A303: P24-112 | C303: Page: 5 / 6 | E303: To Collection | F303: =SUM(F260:F302) -> 0
A304: PART 5 - ST03 MOUNT ELLIOTT TUNNEL
A305: Ref | B305: Description | C305: Qty | D305: Unit | E305: Rate | F305: Amount | G305: BQIndex | H305: InputNo
B307: MAIN CONSTRUCTION (Cont'd)
B309: CC-RMP-02500 SPECIAL STRUCTURES
B311: SPECIAL STRUCTURES
A313: 13 | B313: Special Structure, Tensile Fabric Duopitch Canopy Designed by Contractor in accordance with the Works Specifcation and Drawing P24112-FT-ST03-L4-DR-SE- 0008 at 2 locations as indicated in Drawings P24112-FT- ST03-L4-DR-SE-0002 and P24112-FT-ST03-L4-DR-SE- 0003 | C313: 1 | D313: item | F313: =IF(OR(ISBLANK(C313), ISBLANK(E313)), "", IF(ISNUMBER(E313), ROUND(C313 * E313, 2), E313)) | G313: 5/7/13 | H313: 1012
A353: P24-112 | C353: Page: 5 / 7 | E353: To Collection | F353: =SUM(F306:F352) -> 0
A354: PART 5 - ST03 MOUNT ELLIOTT TUNNEL
A355: Ref | B355: Description | C355: Qty | D355: Unit | E355: Rate | F355: Amount | G355: BQIndex | H355: InputNo
B357: FINISHES
B359: CC-RMP-01200 TRAFFIC SIGNS AND ROAD MARKINGS
B361: TRAFFIC SIGNS
A363: 14 | B363: Permanent Direction / Travel to Exit Signs,Retroflective, 450 x 150mm, Fixed to Tunnel Wall in accordance with the Works Specifcation and Drawing P24112-FT-ST03- L4-DR-SE-0008 at locations as indicated in Drawings P24112-FT-ST03-L4-DR-SE-0002 - 0004 | C363: 12 | D363: no | F363: =IF(OR(ISBLANK(C363), ISBLANK(E363)), "", IF(ISNUMBER(E363), ROUND(C363 * E363, 2), E363)) | G363: 5/8/14 | H363: 990
A403: P24-112 | C403: Page: 5 / 8 | E403: To Collection | F403: =SUM(F356:F402) -> 0
A404: PART 5 - ST03 MOUNT ELLIOTT TUNNEL
B405: Description | F405: Amount | G405: BQIndex | H405: InputNo
B407: Page: 5 / 1 | F407: =F51 -> 0
B409: Page: 5 / 2 | F409: =F104 -> 0
B411: Page: 5 / 3 | F411: =F156 -> 0
B413: Page: 5 / 4 | F413: =F207 -> 0
B415: Page: 5 / 5 | F415: =F257 -> 0
B417: Page: 5 / 6 | F417: =F303 -> 0
B419: Page: 5 / 7 | F419: =F353 -> 0
B421: Page: 5 / 8 | F421: =F403 -> 0
A458: P24-112 | C458: Page: 5 / 9 | E458: To Summary | F458: =SUM(F406:F457) -> 0

Sheet Bill PART 6 - PEDESTRIAN RAMP
A1: PART 6 - PEDESTRIAN RAMP
A2: Ref | B2: Description | C2: Qty | D2: Unit | E2: Rate | F2: Amount | G2: BQIndex | H2: InputNo
B4: MAIN CONSTRUCTION
B6: CC-RMP-00500 DRAINAGE AND SERVICE DUCTS
B8: DRAINAGE AND SERVICE DUCTS IN STRUCTURES
A10: 1 | B10: Drainage of the three retaining walls as shown in drawings. Include for back of wall drainage, Rodding Eyes, Manholes and outfall pipe | C10: 1 | D10: item | F10: =IF(OR(ISBLANK(C10), ISBLANK(E10)), "", IF(ISNUMBER(E10), ROUND(C10 * E10, 2), E10)) | G10: 6/1/1 | H10: 958
A53: P24-112 | C53: Page: 6 / 1 | E53: To Collection | F53: =SUM(F3:F52) -> 0
A54: PART 6 - PEDESTRIAN RAMP
A55: Ref | B55: Description | C55: Qty | D55: Unit | E55: Rate | F55: Amount | G55: BQIndex | H55: InputNo
B57: MAIN CONSTRUCTION (Cont'd)
B59: CC-RMP-00600 EARTHWORKS
B61: IMPORTED FILL
A63: 2 | B63: Imported compliant material Class 6N Fill to structures | C63: 282 | D63: m3 | F63: =IF(OR(ISBLANK(C63), ISBLANK(E63)), "", IF(ISNUMBER(E63), ROUND(C63 * E63, 2), E63)) | G63: 6/2/2 | H63: 141
B65: COMPACTION OF FILL
A67: 3 | B67: Compaction of compliant material Class 6N Fill to structures | C67: 282 | D67: m3 | F67: =IF(OR(ISBLANK(C67), ISBLANK(E67)), "", IF(ISNUMBER(E67), ROUND(C67 * E67, 2), E67)) | G67: 6/2/3 | H67: 147
A107: P24-112 | C107: Page: 6 / 2 | E107: To Collection | F107: =SUM(F56:F106) -> 0
A108: PART 6 - PEDESTRIAN RAMP
A109: Ref | B109: Description | C109: Qty | D109: Unit | E109: Rate | F109: Amount | G109: BQIndex | H109: InputNo
B111: MAIN CONSTRUCTION (Cont'd)
B113: CC-RMP-01700 STRUCTURAL CONCRETE
B115: IN SITU CONCRETE
A117: 4 | B117: In situ concrete Grade ST2 Blinding concrete 75mm or less in thickness | C117: 6 | D117: m3 | F117: =IF(OR(ISBLANK(C117), ISBLANK(E117)), "", IF(ISNUMBER(E117), ROUND(C117 * E117, 2), E117)) | G117: 6/3/4 | H117: 126
A119: 5 | B119: In situ concrete Grade ST4 to mass concrete infill | C119: 46 | D119: m3 | F119: =IF(OR(ISBLANK(C119), ISBLANK(E119)), "", IF(ISNUMBER(E119), ROUND(C119 * E119, 2), E119)) | G119: 6/3/5 | H119: 871
A121: 6 | B121: In situ concrete C40/50 GGBS | C121: 99 | D121: m3 | F121: =IF(OR(ISBLANK(C121), ISBLANK(E121)), "", IF(ISNUMBER(E121), ROUND(C121 * E121, 2), E121)) | G121: 6/3/6 | H121: 127
B123: SURFACE FINISH OF CONCRETE - FORMWORK
A125: 7 | B125: Formwork Vertical more than 300mm wide F1 | C125: 353 | D125: m2 | F125: =IF(OR(ISBLANK(C125), ISBLANK(E125)), "", IF(ISNUMBER(E125), ROUND(C125 * E125, 2), E125)) | G125: 6/3/7 | H125: 1286
A127: 8 | B127: Formwork Vertical more than 300mm wide F3 | C127: 45 | D127: m2 | F127: =IF(OR(ISBLANK(C127), ISBLANK(E127)), "", IF(ISNUMBER(E127), ROUND(C127 * E127, 2), E127)) | G127: 6/3/8 | H127: 1287
A129: 9 | B129: Formwork Horizontal more than 300mm wide F1 | C129: 79 | D129: m2 | F129: =IF(OR(ISBLANK(C129), ISBLANK(E129)), "", IF(ISNUMBER(E129), ROUND(C129 * E129, 2), E129)) | G129: 6/3/9 | H129: 1288
B131: STEEL REINFORCEMENT FOR STRUCTURES
A133: 10 | B133: Bar reinforcement nominal size of 16 mm and under Grade B500B not exceeding 12 metres in length | C133: 6.53 | D133: t | F133: =IF(OR(ISBLANK(C133), ISBLANK(E133)), "", IF(ISNUMBER(E133), ROUND(C133 * E133, 2), E133)) | G133: 6/3/10 | H133: 356
A135: 11 | B135: Dowels 1m x 20mm dia. min Stainless Steel | C135: 16 | D135: no | F135: =IF(OR(ISBLANK(C135), ISBLANK(E135)), "", IF(ISNUMBER(E135), ROUND(C135 * E135, 2), E135)) | G135: 6/3/11 | H135: 872
A160: P24-112 | C160: Page: 6 / 3 | E160: To Collection | F160: =SUM(F110:F159) -> 0
A161: PART 6 - PEDESTRIAN RAMP
A162: Ref | B162: Description | C162: Qty | D162: Unit | E162: Rate | F162: Amount | G162: BQIndex | H162: InputNo
B164: MAIN CONSTRUCTION (Cont'd)
B166: CC-RMP-02000 WATERPROOFING FOR STRUCTURES
B168: WATERPROOFING
A170: 12 | B170: Waterproofing Epoxy resin waterproofing more than 300mm wide at any inclination more than 30° up to and including 90° to the horizontal | C170: 231 | D170: m2 | F170: =IF(OR(ISBLANK(C170), ISBLANK(E170)), "", IF(ISNUMBER(E170), ROUND(C170 * E170, 2), E170)) | G170: 6/4/12 | H170: 1298
A172: 13 | B172: Waterproofing Epoxy resin waterproofing more than 300mm wide horizontal or at any inclination up to and including 30° to the horizontal | C172: 79 | D172: m2 | F172: =IF(OR(ISBLANK(C172), ISBLANK(E172)), "", IF(ISNUMBER(E172), ROUND(C172 * E172, 2), E172)) | G172: 6/4/13 | H172: 1299
B174: SURFACE IMPREGNATION AND COATINGS OF CONCRETE
A176: 14 | B176: Surface impregnation of concrete hydrophobic pore liner | C176: 93 | D176: m2 | F176: =IF(OR(ISBLANK(C176), ISBLANK(E176)), "", IF(ISNUMBER(E176), ROUND(C176 * E176, 2), E176)) | G176: 6/4/14 | H176: 1296
A209: P24-112 | C209: Page: 6 / 4 | E209: To Collection | F209: =SUM(F163:F208) -> 0
A210: PART 6 - PEDESTRIAN RAMP
A211: Ref | B211: Description | C211: Qty | D211: Unit | E211: Rate | F211: Amount | G211: BQIndex | H211: InputNo
B213: MAIN CONSTRUCTION (Cont'd)
B215: CC-RMP-02300 BRIDGE EXPANSION JOINTS AND SEALING OF GAPS
B217: SEALING OF GAPS
A219: 15 | B219: Joint filler Closed cell polyethylene low load transfer 20mm thick | C219: 18 | D219: m2 | F219: =IF(OR(ISBLANK(C219), ISBLANK(E219)), "", IF(ISNUMBER(E219), ROUND(C219 * E219, 2), E219)) | G219: 6/5/15 | H219: 1189
A221: 16 | B221: Joint sealant Two-part grey polysulphide sealant | C221: 54 | D221: m | F221: =IF(OR(ISBLANK(C221), ISBLANK(E221)), "", IF(ISNUMBER(E221), ROUND(C221 * E221, 2), E221)) | G221: 6/5/16 | H221: 1190
A262: P24-112 | C262: Page: 6 / 5 | E262: To Collection | F262: =SUM(F212:F261) -> 0
A263: PART 6 - PEDESTRIAN RAMP
A264: Ref | B264: Description | C264: Qty | D264: Unit | E264: Rate | F264: Amount | G264: BQIndex | H264: InputNo
B266: MAIN CONSTRUCTION (Cont'd)
B268: CC-RMP-02400 BRICKWORK, BLOCKWORK AND STONEWORK
B270: BLOCKWORK AND STONEWORK
A272: 17 | B272: Blockwork 440x215x100mm (7.5N) Solid Block. 10mm thick M6 mortar, Finish in accordance with CC-SPW- 02400 In facework to concrete below ground | C272: 6 | D272: m3 | F272: =IF(OR(ISBLANK(C272), ISBLANK(E272)), "", IF(ISNUMBER(E272), ROUND(C272 * E272, 2), E272)) | G272: 6/6/17 | H272: 321
A274: 18 | B274: Stonework Random rubble masonry colour to match adjacent rock cuttings, recessed pointing with M6 mortar In facework to concrete | C274: 8 | D274: m3 | F274: =IF(OR(ISBLANK(C274), ISBLANK(E274)), "", IF(ISNUMBER(E274), ROUND(C274 * E274, 2), E274)) | G274: 6/6/18 | H274: 152
A312: P24-112 | C312: Page: 6 / 6 | E312: To Collection | F312: =SUM(F265:F311) -> 0
A313: PART 6 - PEDESTRIAN RAMP
A314: Ref | B314: Description | C314: Qty | D314: Unit | E314: Rate | F314: Amount | G314: BQIndex | H314: InputNo
B316: FINISHES
B318: CC-RMP-00400 ROAD RESTRAINT SYSTEMS (VEHICLE AND PEDESTRIAN)
B320: PEDESTRIAN PARAPETS, PEDESTRIAN GUARDRAILS AND HANDRAILS
A322: 19 | B322: Pedestrian guardrails, 1450mm high galvanised steel guardrail to retaining wall. Include for connections to concrete wall. | C322: 95 | D322: m | F322: =IF(OR(ISBLANK(C322), ISBLANK(E322)), "", IF(ISNUMBER(E322), ROUND(C322 * E322, 2), E322)) | G322: 6/7/19 | H322: 324
A324: 20 | B324: Handrails, stainless steel handrail at 1100mm, DW Windsor or similar approved to accommodate lighting | C324: 95 | D324: m | F324: =IF(OR(ISBLANK(C324), ISBLANK(E324)), "", IF(ISNUMBER(E324), ROUND(C324 * E324, 2), E324)) | G324: 6/7/20 | H324: 1267
A326: 21 | B326: Pedestrian guardrails Pedestrian Guardrail (CC-SCD- 00401) 1000mm in height at edge of R700 footway opposite ramp exit, straight or curved exceeding 50 metres radius | C326: 12 | D326: m | F326: =IF(OR(ISBLANK(C326), ISBLANK(E326)), "", IF(ISNUMBER(E326), ROUND(C326 * E326, 2), E326)) | G326: 6/7/21 | H326: 1363
A359: P24-112 | C359: Page: 6 / 7 | E359: To Collection | F359: =SUM(F315:F358) -> 0
A360: PART 6 - PEDESTRIAN RAMP
B361: Description | F361: Amount | G361: BQIndex | H361: InputNo
B363: Page: 6 / 1 | F363: =F53 -> 0
B365: Page: 6 / 2 | F365: =F107 -> 0
B367: Page: 6 / 3 | F367: =F160 -> 0
B369: Page: 6 / 4 | F369: =F209 -> 0
B371: Page: 6 / 5 | F371: =F262 -> 0
B373: Page: 6 / 6 | F373: =F312 -> 0
B375: Page: 6 / 7 | F375: =F359 -> 0
A414: P24-112 | C414: Page: 6 / 8 | E414: To Summary | F414: =SUM(F362:F413) -> 0

Sheet Summary
A2: Bill | B2: Description | F2: Amount | G2: BQIndex | H2: InputNo
A4: 1 | B4: PART 1 - PRELIMINARIES | F4: ='Bill PART 1 - PRELIMINARIES'!F208 -> 0
A6: 2 | B6: PART 2 - ROADWORKS | F6: ='Bill PART 2 - ROADWORKS'!F792 -> 0
A8: 3 | B8: PART 3 - ST01 RED BRIDGE | F8: ='Bill PART 3 - ST01 RED BRIDGE'!F881 -> 0
A10: 4 | B10: PART 4 - ST02 MOUNT ELLIOTT LANE BRIDGE | F10: ='Bill PART 4 - ST02 MOUNT ELLIOT'!F709 -> 0
A12: 5 | B12: PART 5 - ST03 MOUNT ELLIOTT TUNNEL | F12: ='Bill PART 5 - ST03 MOUNT ELLIOT'!F458 -> 0
A14: 6 | B14: PART 6 - PEDESTRIAN RAMP | F14: ='Bill PART 6 - PEDESTRIAN RAMP'!F414 -> 0
A55: P24-112 | C55: Page: S/1 | F55: =SUM(F3:F54) -> 0
