Workbook
Name _Toc175864254: 'Lot 2 - DeMobilisation'!#REF!
Name _Toc175864254: 'Lot 2 - Mobilisation'!#REF!
Name _Toc175864254: 'Lot 2 - Operations'!#REF!
Name _Toc175864254: 'Lot 2 - Tender Fee'!#REF!

Sheet Instructions
B2: Tender Pricing Form
B4: To evaluate price, the following Tender Pricing Model must be completed
B6: GUIDELINES FOR THE COMPLETION OF THE TENDER PRICING FORM
B8: The price evaluation will be evaluated in accordance with the methodology set out in the RFT (Request for Tender).
B10: All mandatory input cells must be completed. Where a Tenderer intends to enter a zero to a charge line, a '0' must be entered into the cell. Blank cells for mandatory inputs are not permitted.
B12: Please ensure you provide pricing for all editable cells (shown in orange) in the key below.
B14: KEY
D15: Mandatory Cells

Sheet Lot 2 - Tender Fee
B2: Tender Pricing Summary
B4: Total Numbers
D6: Mobilisation (Familiarity) Week
D7: Vehicles | E7: Staffing | K7: Fuel | L7: Stabling
C8: Column1 | D8: Vehicles | E8: Drivers | F8: Marshalling Staff | G8: Coordinators | H8: Other Staff | I8: No of Staff (Meals) | J8: No. of Rooms | K8: Fuel | L8: No. of stabled vehicles
B9: PARK & RIDE - Lot 2 Note: Composed of Limerick Colbert Railway Station (T&R) | D9: =SUM('Lot 2 - Mobilisation'!K13:Q13) -> 0 | E9: =SUM('Lot 2 - Mobilisation'!K20:Q20) -> 0 | F9: =SUM('Lot 2 - Mobilisation'!K23:Q23) -> 0 | G9: =SUM('Lot 2 - Mobilisation'!K26:Q26) -> 0 | I9: =SUM('Lot 2 - Mobilisation'!K39:Q39) -> 0 | J9: =SUM('Lot 2 - Mobilisation'!K42:Q42) -> 0
B10: Total | D10: =SUM(D9:D9) -> 0 | E10: =SUM(E9:E9) -> 0 | F10: =SUM(F9:F9) -> 0 | G10: =SUM(G9:G9) -> 0 | I10: =SUM(I9:I9) -> 0 | J10: =SUM(J9:J9) -> 0
D12: Event Week
D13: Vehicles | E13: Staffing | K13: Fuel | L13: Stabling
C14: Column1 | D14: Vehicles | E14: Drivers | F14: Marshalling Staff | G14: Coordinators | H14: Other Staff | I14: No of Staff (Meals) | J14: No. of Rooms | K14: Fuel | L14: No. of stabled vehicles
B15: PARK & RIDE - Lot 2 Note: Composed of Limerick Colbert Railway Station (T&R) | D15: =SUM('Lot 2 - Operations'!E14:J14) -> 0 | E15: =SUM('Lot 2 - Operations'!E21:J21) -> 0 | F15: =SUM('Lot 2 - Operations'!E24:J24) -> 0 | G15: =SUM('Lot 2 - Operations'!E27:J27) -> 0 | I15: =SUM('Lot 2 - Operations'!E42:J42) -> 0 | J15: =SUM('Lot 2 - Operations'!E45:J45) -> 0
B16: Total | D16: =SUM(D15:D15) -> 0 | E16: =SUM(E15:E15) -> 0 | F16: =SUM(F15:F15) -> 0 | G16: =SUM(G15:G15) -> 0 | I16: =SUM(I15:I15) -> 0 | J16: =SUM(J15:J15) -> 0
B19: Total Costs
C21: Mobilisation | D21: Event Week | N21: De-Mobilisation | O21: Total
D22: Vehicles | E22: Staffing | K22: Fuel | L22: Stabling | M22: Additional costs
D23: Vehicles | E23: Drivers | F23: Marshalling Staff | G23: Coordinators | H23: Other Staff | I23: Meals | J23: Cost of Rooms | K23: Fuel | L23: Cost of Opertor Vehicle Facility | M23: Column1
B24: PARK & RIDE - Lot 2 Note: Composed of Limerick Colbert Railway Station (T&R) | C24: ='Lot 2 - Mobilisation'!D40 -> 0 | D24: ='Lot 2 - Operations'!K20 -> 0 | E24: ='Lot 2 - Operations'!K23 -> 0 | F24: ='Lot 2 - Operations'!K26 -> 0 | G24: ='Lot 2 - Operations'!K29 -> 0 | H24: ='Lot 2 - Operations'!K41 -> 0 | I24: ='Lot 2 - Operations'!K44 -> 0 | J24: ='Lot 2 - Operations'!K47 -> 0 | K24: ='Lot 2 - Operations'!K49 -> 0 | L24: ='Lot 2 - Operations'!K54 -> 0 | M24: =SUM('Lot 2 - Operations'!E60:J60) -> 0 | N24: ='Lot 2 - DeMobilisation'!E15 -> 0 | O24: =SUM(C24:N24) -> 0
B25: Total | C25: =SUM(C24:C24) -> 0 | D25: =SUM(D24:D24) -> 0 | E25: =SUM(E24:E24) -> 0 | F25: =SUM(F24:F24) -> 0 | G25: =SUM(G24:G24) -> 0 | H25: =SUM(H24:H24) -> 0 | I25: =SUM(I24:I24) -> 0 | J25: =SUM(J24:J24) -> 0 | ... M25: =SUM(M24:M24) -> 0
B29: Tender Fee | C29: =O24 -> 0

Sheet Lot 2 - Mobilisation
B2: PARK & RIDE - Lot 2 Note: Composed of Limerick Colbert Railway Station (T&R)
B4: NOTE TO TENDERERS: ONLY COSTS ASSOCIATED WITH THE MOBILISATION STAGE ARE TO BE INCLDUED IN THIS WORKSHEET. ENTER ZERO AGAINST ANY ITEM THAT DOES NOT APPLY.
K6: On-Site Mobilisation (Familiarity Week)
K7: 46637 | L7: 46638 | M7: 46639 | N7: 46640 | O7: 46641 | P7: 46642 | Q7: 46643
B8: Vehicles | C8: Single-deck bus | H8: Vehicles | J8: No. of Single-deck Buses
C9: Double-deck bus | J9: No. of Double-decker Buses
C10: Single-deck Coach | J10: No. of Single-deck Coaches
C11: Double-deck Coach | J11: No. of Double-deck Coaches
C12: Tow Trucks | J12: No. of Tow Trucks (min. of 1 truck per site)
C13: Vehicle Licences | J13: Total number of vehicles | K13: =SUM(K8:K12) -> 0 | L13: =SUM(L8:L12) -> 0 | M13: =SUM(M8:M12) -> 0 | N13: =SUM(N8:N12) -> 0 | O13: =SUM(O8:O12) -> 0 | P13: =SUM(P8:P12) -> 0 | Q13: =SUM(Q8:Q12) -> 0
C14: Mobilisation of Vehicles | D14: =SUM(D8:D12) -> 0 | J14: Daily Rate per Single-deck Bus
B15: Overheads | C15: General Office Expenses | J15: Daily Rate per Double-deck Bus
C16: Operator's Vehicle Control System | J16: Daily Rate per Single-deck Coach
C17: Operator Communication System (radios, phones) | J17: Daily Rate per Double-deck Coach
C18: Cybersecurity systems | J18: Daily rate for Tow Trucks
C19: Other IT Systems | J19: Total price of Vehicles per day | K19: =SUMPRODUCT(K8:K12,K14:K18) -> 0 | L19: =SUMPRODUCT(L8:L12,L14:L18) -> 0 | M19: =SUMPRODUCT(M8:M12,M14:M18) -> 0 | N19: =SUMPRODUCT(N8:N12,N14:N18) -> 0 | O19: =SUMPRODUCT(O8:O12,O14:O18) -> 0 | P19: =SUMPRODUCT(P8:P12,P14:P18) -> 0 | Q19: =SUMPRODUCT(Q8:Q12,Q14:Q18) -> 0
C20: Project Management Services | H20: Operator Staff | I20: Drivers | J20: No. of Drivers
C21: Other Staffing Costs | J21: Daily Rate per Individual
C22: Insurances | J22: Total price of Drivers per day | K22: =K21*K20 -> 0 | L22: =L21*L20 -> 0 | M22: =M21*M20 -> 0 | N22: =N21*N20 -> 0 | O22: =O21*O20 -> 0 | P22: =P21*P20 -> 0 | Q22: =Q21*Q20 -> 0
C23: General Overheads | D23: =SUM(D15:D22) -> 0 | I23: Marshalling staff | J23: No. of P&R based Staff
B24: Staffing | C24: Staff Recruitment | J24: Daily Rate per Individual
C25: Staff Training | J25: Total price of Marshalling Staff per day | K25: =K24*K23 -> 0 | L25: =L24*L23 -> 0 | M25: =M24*M23 -> 0 | N25: =N24*N23 -> 0 | O25: =O24*O23 -> 0 | P25: =P24*P23 -> 0 | Q25: =Q24*Q23 -> 0
C26: Staff Accommodation | I26: Coordinators | J26: No. of Operation Coordinators
C27: Staff Transport | J27: Daily Rate per Individual
C28: Staffing Costs | D28: =SUM(D24:D26) -> 0 | J28: Total price of Coodinating Staff per day | K28: =K27*K26 -> 0 | L28: =L27*L26 -> 0 | M28: =M27*M26 -> 0 | N28: =N27*N26 -> 0 | O28: =O27*O26 -> 0 | P28: =P27*P26 -> 0 | Q28: =Q27*Q26 -> 0
B29: Operator Vehicle Facility | C29: Operator Vehicle Facilties | I29: Other Staff/ Operational Staff | J29: Safety Manager
C30: Facility Equipment | J30: Operations manager
C31: Total Costs of Operator Vehicle Facilities | D31: =D30+D29 -> 0 | J31: Management Staff Charges
B32: Familiarity Week | C32: Total Cost of Familiarity Week | D32: =Q54 -> 0 | J32: Event Control Room Staff
B33: Additional costs (to be specified) | C33: Please write a description below for each Additional Cost | J33: Operators Representative
J34: Maintenance Staff
J35: Administration Staff
J36: Fleet Cleaning Staff
J37: Staff Travel
J38: Total price of Other Staff per day | K38: =SUM(K29:K37) -> 0 | L38: =SUM(L29:L37) -> 0 | M38: =SUM(M29:M37) -> 0 | N38: =SUM(N29:N37) -> 0 | O38: =SUM(O29:O37) -> 0 | P38: =SUM(P29:P37) -> 0 | Q38: =SUM(Q29:Q37) -> 0
C39: Total Additional Costs | D39: =SUM(D34:D38) -> 0 | I39: Staff Meals | J39: No. of Staff
C40: Total Mobilisation Fee | D40: =+D39+D32+D31+D28+D23+D14 -> 0 | J40: Food and Beverages rate for staff per Day
J41: Total price of Staff Meals per day | K41: =K40*K39 -> 0 | L41: =L40*L39 -> 0 | M41: =M40*M39 -> 0 | N41: =N40*N39 -> 0 | O41: =O40*O39 -> 0 | P41: =P40*P39 -> 0 | Q41: =Q40*Q39 -> 0
I42: Staff Accommodation | J42: No. of Rooms
J43: Room Rate per night
...

Sheet Lot 2 - Operations
B2: PARK & RIDE - Lot 2 Note: Composed of Limerick Colbert Railway Station (T&R)
B5: NOTE TO TENDERERS: ONLY COSTS ASSOCIATED WITH THE OPERATION STAGE ARE TO BE INCLDUED IN THIS WORKSHEET. ENTER ZERO AGAINST ANY ITEM THAT DOES NOT APPLY.
E6: Event Week | K6: Subtotal
E7: Practice Days | G7: Opening Day | H7: Championship Days | J7: Final Day
E8: 46644 | F8: 46645 | G8: 46646 | H8: 46647 | I8: 46648 | J8: 46649
B9: Vehicles | D9: No. of Single-deck Buses | K9: =SUM(E9:J9) -> 0
D10: No. of Double-decker Buses | K10: =SUM(E10:J10) -> 0
D11: No. of Single-deck Coaches | K11: =SUM(E11:J11) -> 0
D12: No. of Double-deck Coaches | K12: =SUM(E12:J12) -> 0
D13: No. of Tow Trucks (min. of 1 truck per site) | K13: =SUM(E13:J13) -> 0
D14: Total number of vehicles | E14: =SUM(E9:E13) -> 0 | F14: =SUM(F9:F13) -> 0 | G14: =SUM(G9:G13) -> 0 | H14: =SUM(H9:H13) -> 0 | I14: =SUM(I9:I13) -> 0 | J14: =SUM(J9:J13) -> 0 | K14: =SUM(E14:J14) -> 0
D15: Daily Rate per Single-deck Bus
D16: Daily Rate per Double-deck Bus
D17: Daily Rate per Single-deck Coach
D18: Daily Rate per Double-deck Coach
D19: Daily rate for Tow Trucks
D20: Total price of Vehicles per day | E20: =SUMPRODUCT(E9:E13,E15:E19) -> 0 | F20: =SUMPRODUCT(F9:F13,F15:F19) -> 0 | G20: =SUMPRODUCT(G9:G13,G15:G19) -> 0 | H20: =SUMPRODUCT(H9:H13,H15:H19) -> 0 | I20: =SUMPRODUCT(I9:I13,I15:I19) -> 0 | J20: =SUMPRODUCT(J9:J13,J15:J19) -> 0 | K20: =SUM(E20:J20) -> 0
B21: Operator Staff | C21: Drivers | D21: No. of Drivers | K21: =SUM(E21:J21) -> 0
D22: Daily Rate per Individual | K22: =SUM(E22:J22) -> 0
D23: Total price of Drivers per day | E23: =E22*E21 -> 0 | F23: =F22*F21 -> 0 | G23: =G22*G21 -> 0 | H23: =H22*H21 -> 0 | I23: =I22*I21 -> 0 | J23: =J22*J21 -> 0 | K23: =SUM(E23:J23) -> 0
C24: Marshalling staff | D24: No. of P&R based Staff | K24: =SUM(E24:J24) -> 0
D25: Daily Rate per Individual | K25: =SUM(E25:J25) -> 0
D26: Total price of Marshalling staff per day | E26: =E25*E24 -> 0 | F26: =F25*F24 -> 0 | G26: =G25*G24 -> 0 | H26: =H25*H24 -> 0 | I26: =I25*I24 -> 0 | J26: =J25*J24 -> 0 | K26: =SUM(E26:J26) -> 0
C27: Coordinators | D27: No. of Operation Coordinators | K27: =SUM(E27:J27) -> 0
D28: Daily Rate per Individual | K28: =SUM(E28:J28) -> 0
D29: Total Price for Coodinating Staff per day | E29: =E28*E27 -> 0 | F29: =F28*F27 -> 0 | G29: =G28*G27 -> 0 | H29: =H28*H27 -> 0 | I29: =I28*I27 -> 0 | J29: =J28*J27 -> 0 | K29: =SUM(E29:J29) -> 0
C30: Other Staff/ Operational Staff | D30: Safety Manager | K30: =SUM(E30:J30) -> 0
D31: Operations manager | K31: =SUM(E31:J31) -> 0
D32: Other staff Costs (to be itemised) | K32: =SUM(E32:J32) -> 0
D33: Management Staff | K33: =SUM(E33:J33) -> 0
D34: Event Control Room Staff | K34: =SUM(E34:J34) -> 0
D35: Operators Representative | K35: =SUM(E35:J35) -> 0
D36: Maintenance Manager | K36: =SUM(E36:J36) -> 0
D37: Administration Staff | K37: =SUM(E37:J37) -> 0
D38: Maintenance Staff | K38: =SUM(E38:J38) -> 0
D39: Fleet Cleaning | K39: =SUM(E39:J39) -> 0
D40: Staff Travel | K40: =SUM(E40:J40) -> 0
D41: Total price per day | E41: =SUM(E30:E40) -> 0 | F41: =SUM(F30:F40) -> 0 | G41: =SUM(G30:G40) -> 0 | H41: =SUM(H30:H40) -> 0 | I41: =SUM(I30:I40) -> 0 | J41: =SUM(J30:J40) -> 0 | K41: =SUM(E41:J41) -> 0
C42: Staff Meals | D42: No. of Staff | K42: =SUM(E42:J42) -> 0
D43: Food and Beverages rate for staff per Day | K43: =SUM(E43:J43) -> 0
...

Sheet Lot 2 - DeMobilisation
B2: PARK & RIDE - Lot 2 Note: Composed of Limerick Colbert Railway Station (T&R)
B5: NOTE TO TENDERERS: ONLY COSTS ASSOCIATED WITH THE DE-MOBILSIATION STAGE ARE TO BE INCLDUED IN THIS WORKSHEET. ENTER ZERO AGAINST ANY ITEM THAT DOES NOT APPLY.
E7: De-Mobilisation
B10: Demobilisation costs (to be specified) | C10: Cost 1 (add description in column D)
C11: Cost 2 (add description in column D)
C12: Cost 3 (add description in column D)
C13: Cost 4 (add description in column D)
C14: Cost 5 (add description in column D)
D15: Total Demobilisation Costs | E15: =SUM(E10:E14) -> 0

Sheet Glossary
A2: Term | B2: Description
A4: Drivers | B4: Qualified bus or coach drivers responsible for operating transport services.
A5: Event Site | B5: Primary location where the event takes place. All visitors are transported to and from this site. Located in Adare
A6: Low Floor | B6: Vehicles with low-floor access designed to accommodate accessible users, including wheelchair users and those with reduced mobility.
A7: Marshalling Staff | B7: Staff responsible for managing on-site transport operations. Activities may include coordinating cars, buses, coaches, and visitors; managing vehicle capacity; and acting as a point of contact between Park & Ride sites.
A8: Shuttles | B8: Smaller vehicles suitable for transporting groups, primariliy passengers requiring accessible services.
A9: Operational Staff | B9: Additional staff required to support marshalling staff, drivers, and visitors, including general assistance and operational support roles.
A10: Overall Site Management | B10: Management staff responsible for overseeing operations across all sites, ensuring coordination between locations and smooth day-to-day running.
A11: P&R | B11: Designated Park and Ride site where visitors park vehicles and transfer to event transport services.
A12: T&R | B12: Train Stations which requires shuttle services to Ryder Cup Event
A13: Spares | B13: Backup buses readily available to become operational quickly in the event of a vehicle breakdown or service issue.
A14: Tow Truck | B14: On-call recovery vehicle used to assist or remove buses in the event of a breakdown or incident.
