Workbook

Sheet Cover
A1: #VALUE!
A2: National Barrier Mitigation Programme
A4: PRICING DOCUMENT
A5: Engineering & Environmental Consultancy Services
B7: Tenderer Name
B10: Signature of person authorised to sign Tenders on behalf of the Tenderer
B13: Date:
A16: Document Verification Sheet
A17: Project Title: | C17: Cahernahallia Bridge and Blackboy Weir Barrier Mitigation Project
A18: Document Title: | C18: Pricing Document
A19: File Reference: | C19: NBMP_0832002.01.01.02.01.002
A20: Date: | C20: 46262 | D20: Issue No.: | E20: I01
A22: Revision | B22: Date | C22: Description
A23: D01 | B23: 46228 | C23: Prepared by | D23: Checked by | E23: Approved by
C24: R McGloin | D24: P Glynn
A25: Revision | B25: Date | C25: Description
A26: I01 | B26: 46262 | C26: Prepared by | D26: Checked by | E26: Approved by
C27: P Glynn | D27: M Murphy | E27: M Murphy
A28: Revision | B28: Date | C28: Description
C29: Prepared by | D29: Checked by | E29: Approved by
A31: Revision | B31: Date | C31: Description
C32: Prepared by | D32: Checked by | E32: Approved by
A34: Revision | B34: Date | C34: Description
C35: Prepared by | D35: Checked by | E35: Approved by

Sheet Rates
E1: Tender Cost Summary
A3: Role | B3: Rate | C3: Name of Person | E3: Phase | G3: Total
A4: Project Director | B4: 0 | C4: Insert Name 1 | E4: General Duties | G4: ='Project General Duties'!AH34 -> 0
A5: Project Manager | B5: 0 | C5: Insert Name 2 | E5: Phase 1 Feasibility Study & Option Selection | G5: =Cahernahallia!AH9 -> 0
A6: Associate/Principal Ecologist/Senior Environmental Consultant | B6: 0 | C6: Insert Name 3 | E6: Phase 2 Preliminary Design | G6: =Cahernahallia!AH41 -> 0
A7: Project Supervisor Design Process | B7: 0 | C7: Insert Name 4 | E7: Phase 3 Statutory Process | G7: =Cahernahallia!AH50 -> 0
A8: Civil Design Team Lead/Senior Engineer | B8: 0 | C8: Insert Name 5 | E8: Tender Total | G8: =SUM(G5:G7) -> 0
A9: Structures Design Team Lead/Senior Engineer | B9: 0 | C9: Insert Name 6 | E9: VAT at | F9: 0.23 | G9: =G8*F9 -> 0
A10: Hydraulics/Hydrology Team Lead/Senior Hydraulic Engineer/Hydrologist | B10: 0 | C10: Insert Name 7 | E10: Grand Total | G10: =G8+G9 -> 0
A11: Senior Ecologist | B11: 0 | C11: Insert Name 8
A12: Engineer | B12: 0 | C12: Insert Name 9
A13: Ecologist/ Environmental Consultant | B13: 0 | C13: Insert Name 10
A14: Graduate Engineer | B14: 0 | C14: Insert Name 11
A15: Senior Technician | B15: 0 | C15: Insert Name 12
A16: Junior Technician | B16: 0 | C16: Insert Name 13
A17: Resident Engineer | B17: 0 | C17: Insert Name 14
A18: Employer's Representative | B18: 0 | C18: Insert Name 15
A20: Note: Tenderers are to Complete the Rates and Names in the cells highlighted orange in the table above. The rates and names should automatically transfer to the Time sheet. Tenderer are required to insert the hours associated with each team member for each activity. Totals should automatically total for each activity, team member, phase and Tender total. If a Tender identifies any errors they shall immediately notify the contracting authority.

Sheet Project General Duties
A1: Project Role | C1: =Rates!A4 -> Project Director | E1: =Rates!A5 -> Project Manager | G1: =Rates!A6 -> Associate/Principal Ecologist/Senior Environmental Consultant | I1: =Rates!A7 -> Project Supervisor Design Process | K1: =Rates!A8 -> Civil Design Team Lead/Senior Engineer | M1: =Rates!A9 -> Structures Design Team Lead/Senior Engineer | O1: =Rates!A10 -> Hydraulics/Hydrology Team Lead/Senior Hydraulic Engineer/Hydrologist | Q1: =Rates!A11 -> Senior Ecologist | S1: =Rates!A12 -> Engineer | U1: =Rates!A13 -> Ecologist/ Environmental Consultant | W1: =Rates!A14 -> Graduate Engineer | Y1: =Rates!A15 -> Senior Technician | AA1: =Rates!A16 -> Junior Technician | AC1: =Rates!A17 -> Resident Engineer | AE1: =Rates!A18 -> Employer's Representative | AG1: Total Hours | AH1: Item Total
C2: =Rates!C4 -> Insert Name 1 | E2: =Rates!C5 -> Insert Name 2 | G2: =Rates!C6 -> Insert Name 3 | I2: =Rates!C7 -> Insert Name 4 | K2: =Rates!C8 -> Insert Name 5 | M2: =Rates!C9 -> Insert Name 6 | O2: =Rates!C10 -> Insert Name 7 | Q2: =Rates!C11 -> Insert Name 8 | S2: =Rates!C12 -> Insert Name 9 | U2: =Rates!C13 -> Insert Name 10 | W2: =Rates!C14 -> Insert Name 11 | Y2: =Rates!C15 -> Insert Name 12 | AA2: =Rates!C16 -> Insert Name 13 | AC2: =Rates!C17 -> Insert Name 14 | AE2: =Rates!C18 -> Insert Name 15
C3: No. Hours | D3: =Rates!B4 -> 0 | E3: No. Hours | F3: =Rates!B5 -> 0 | G3: No. Hours | H3: =Rates!B6 -> 0 | I3: No. Hours | J3: =Rates!B7 -> 0 | K3: No. Hours | L3: =Rates!B8 -> 0 | M3: No. Hours | N3: =Rates!B9 -> 0 | O3: No. Hours | P3: =Rates!B10 -> 0 | Q3: No. Hours | R3: =Rates!B11 -> 0 | S3: No. Hours | T3: =Rates!B12 -> 0 | U3: No. Hours | V3: =Rates!B13 -> 0 | W3: No. Hours | X3: =Rates!B14 -> 0 | Y3: No. Hours | Z3: =Rates!B15 -> 0 | AA3: No. Hours | AB3: =Rates!B16 -> 0 | AC3: No. Hours | AD3: =Rates!B17 -> 0 | AE3: No. Hours | AF3: =Rates!B18 -> 0
B4: Project Initiation
A5: A | B5: General Service Requirements
B6: Progress Report Template | C6: 0 | D6: =(C6*D$3) -> 0 | E6: 0 | F6: =(E6*F$3) -> 0 | G6: 0 | H6: =$H$3*G6 -> 0 | I6: 0 | J6: =(I6*J$3) -> 0 | K6: 0 | L6: =(K6*L$3) -> 0 | M6: 0 | N6: =(M6*N$3) -> 0 | O6: 0 | P6: =(O6*P$3) -> 0 | Q6: 0 | R6: =(Q6*R$3) -> 0 | S6: 0 | T6: =(S6*T$3) -> 0 | U6: 0 | V6: =(U6*V$3) -> 0 | W6: 0 | X6: =(W6*X$3) -> 0 | Y6: 0 | Z6: =(Y6*Z$3) -> 0 | AA6: 0 | AB6: =(AA6*AB$3) -> 0 | AC6: 0 | AD6: =(AC6*AD$3) -> 0 | AE6: 0 | AF6: =(AE6*AF$3) -> 0 | AG6: =SUM(C6,E6,I6,K6,M6,O6,Q6,S6,U6,W6,Y6,AA6,AC6,AE6) -> 0 | AH6: =SUM(D6,F6,J6,L6,N6,P6,R6,T6,V6,X6,Z6,AB6,AD6,AF6) -> 0
B7: Cost & Risk Management System Plan | C7: 0 | D7: =(C7*D$3) -> 0 | E7: 0 | F7: =(E7*F$3) -> 0 | G7: 0 | H7: =$H$3*G7 -> 0 | I7: 0 | J7: =(I7*J$3) -> 0 | K7: 0 | L7: =(K7*L$3) -> 0 | M7: 0 | N7: =(M7*N$3) -> 0 | O7: 0 | P7: =(O7*P$3) -> 0 | Q7: 0 | R7: =(Q7*R$3) -> 0 | S7: 0 | T7: =(S7*T$3) -> 0 | U7: 0 | V7: =(U7*V$3) -> 0 | W7: 0 | X7: =(W7*X$3) -> 0 | Y7: 0 | Z7: =(Y7*Z$3) -> 0 | AA7: 0 | AB7: =(AA7*AB$3) -> 0 | AC7: 0 | AD7: =(AC7*AD$3) -> 0 | AE7: 0 | AF7: =(AE7*AF$3) -> 0 | AG7: =SUM(C7,E7,I7,K7,M7,O7,Q7,S7,U7,W7,Y7,AA7,AC7,AE7) -> 0 | AH7: =SUM(D7,F7,J7,L7,N7,P7,R7,T7,V7,X7,Z7,AB7,AD7,AF7) -> 0
B8: Commission/Project Execution Plan | C8: 0 | D8: =(C8*D$3) -> 0 | E8: 0 | F8: =(E8*F$3) -> 0 | G8: 0 | H8: =$H$3*G8 -> 0 | I8: 0 | J8: =(I8*J$3) -> 0 | K8: 0 | L8: =(K8*L$3) -> 0 | M8: 0 | N8: =(M8*N$3) -> 0 | O8: 0 | P8: =(O8*P$3) -> 0 | Q8: 0 | R8: =(Q8*R$3) -> 0 | S8: 0 | T8: =(S8*T$3) -> 0 | U8: 0 | V8: =(U8*V$3) -> 0 | W8: 0 | X8: =(W8*X$3) -> 0 | Y8: 0 | Z8: =(Y8*Z$3) -> 0 | AA8: 0 | AB8: =(AA8*AB$3) -> 0 | AC8: 0 | AD8: =(AC8*AD$3) -> 0 | AE8: 0 | AF8: =(AE8*AF$3) -> 0 | AG8: =SUM(C8,E8,I8,K8,M8,O8,Q8,S8,U8,W8,Y8,AA8,AC8,AE8) -> 0 | AH8: =SUM(D8,F8,J8,L8,N8,P8,R8,T8,V8,X8,Z8,AB8,AD8,AF8) -> 0
B9: Detailed Commission Programme | C9: 0 | D9: =(C9*D$3) -> 0 | E9: 0 | F9: =(E9*F$3) -> 0 | G9: 0 | H9: =$H$3*G9 -> 0 | I9: 0 | J9: =(I9*J$3) -> 0 | K9: 0 | L9: =(K9*L$3) -> 0 | M9: 0 | N9: =(M9*N$3) -> 0 | O9: 0 | P9: =(O9*P$3) -> 0 | Q9: 0 | R9: =(Q9*R$3) -> 0 | S9: 0 | T9: =(S9*T$3) -> 0 | U9: 0 | V9: =(U9*V$3) -> 0 | W9: 0 | X9: =(W9*X$3) -> 0 | Y9: 0 | Z9: =(Y9*Z$3) -> 0 | AA9: 0 | AB9: =(AA9*AB$3) -> 0 | AC9: 0 | AD9: =(AC9*AD$3) -> 0 | AE9: 0 | AF9: =(AE9*AF$3) -> 0 | AG9: =SUM(C9,E9,I9,K9,M9,O9,Q9,S9,U9,W9,Y9,AA9,AC9,AE9) -> 0 | AH9: =SUM(D9,F9,J9,L9,N9,P9,R9,T9,V9,X9,Z9,AB9,AD9,AF9) -> 0
B10: Commission Risk Register Template | C10: 0 | D10: =(C10*D$3) -> 0 | E10: 0 | F10: =(E10*F$3) -> 0 | G10: 0 | H10: =$H$3*G10 -> 0 | I10: 0 | J10: =(I10*J$3) -> 0 | K10: 0 | L10: =(K10*L$3) -> 0 | M10: 0 | N10: =(M10*N$3) -> 0 | O10: 0 | P10: =(O10*P$3) -> 0 | Q10: 0 | R10: =(Q10*R$3) -> 0 | S10: 0 | T10: =(S10*T$3) -> 0 | U10: 0 | V10: =(U10*V$3) -> 0 | W10: 0 | X10: =(W10*X$3) -> 0 | Y10: 0 | Z10: =(Y10*Z$3) -> 0 | AA10: 0 | AB10: =(AA10*AB$3) -> 0 | AC10: 0 | AD10: =(AC10*AD$3) -> 0 | AE10: 0 | AF10: =(AE10*AF$3) -> 0 | AG10: =SUM(C10,E10,I10,K10,M10,O10,Q10,S10,U10,W10,Y10,AA10,AC10,AE10) -> 0 | AH10: =SUM(D10,F10,J10,L10,N10,P10,R10,T10,V10,X10,Z10,AB10,AD10,AF10) -> 0
B11: Consultation & Stakeholder Engagement Plan | C11: 0 | D11: =(C11*D$3) -> 0 | E11: 0 | F11: =(E11*F$3) -> 0 | G11: 0 | H11: =$H$3*G11 -> 0 | I11: 0 | J11: =(I11*J$3) -> 0 | K11: 0 | L11: =(K11*L$3) -> 0 | M11: 0 | N11: =(M11*N$3) -> 0 | O11: 0 | P11: =(O11*P$3) -> 0 | Q11: 0 | R11: =(Q11*R$3) -> 0 | S11: 0 | T11: =(S11*T$3) -> 0 | U11: 0 | V11: =(U11*V$3) -> 0 | W11: 0 | X11: =(W11*X$3) -> 0 | Y11: 0 | Z11: =(Y11*Z$3) -> 0 | AA11: 0 | AB11: =(AA11*AB$3) -> 0 | AC11: 0 | AD11: =(AC11*AD$3) -> 0 | AE11: 0 | AF11: =(AE11*AF$3) -> 0 | AG11: =SUM(C11,E11,I11,K11,M11,O11,Q11,S11,U11,W11,Y11,AA11,AC11,AE11) -> 0 | AH11: =SUM(D11,F11,J11,L11,N11,P11,R11,T11,V11,X11,Z11,AB11,AD11,AF11) -> 0
A12: B | B12: Health & Safety
B13: Safety & Health Duties (General) | C13: 0 | D13: =(C13*D$3) -> 0 | E13: 0 | F13: =(E13*F$3) -> 0 | G13: 0 | H13: =G13*H$3 -> 0 | I13: 0 | J13: =(I13*J$3) -> 0 | K13: 0 | L13: =(K13*L$3) -> 0 | M13: 0 | N13: =(M13*N$3) -> 0 | O13: 0 | P13: =(O13*P$3) -> 0 | Q13: 0 | R13: =(Q13*R$3) -> 0 | S13: 0 | T13: =(S13*T$3) -> 0 | U13: 0 | V13: =(U13*V$3) -> 0 | W13: 0 | X13: =(W13*X$3) -> 0 | Y13: 0 | Z13: =(Y13*Z$3) -> 0 | AA13: 0 | AB13: =(AA13*AB$3) -> 0 | AC13: 0 | AD13: =(AC13*AD$3) -> 0 | AE13: 0 | AF13: =(AE13*AF$3) -> 0 | AG13: =SUM(C13,E13,I13,K13,M13,O13,Q13,S13,U13,W13,Y13,AA13,AC13,AE13) -> 0 | AH13: =SUM(D13,F13,J13,L13,N13,P13,R13,T13,V13,X13,Z13,AB13,AD13,AF13) -> 0
B14: Preliminary Safety and Health Plan | C14: 0 | D14: =(C14*D$3) -> 0 | E14: 0 | F14: =(E14*F$3) -> 0 | G14: 0 | H14: =G14*H$3 -> 0 | I14: 0 | J14: =(I14*J$3) -> 0 | K14: 0 | L14: =(K14*L$3) -> 0 | M14: 0 | N14: =(M14*N$3) -> 0 | O14: 0 | P14: =(O14*P$3) -> 0 | Q14: 0 | R14: =(Q14*R$3) -> 0 | S14: 0 | T14: =(S14*T$3) -> 0 | U14: 0 | V14: =(U14*V$3) -> 0 | W14: 0 | X14: =(W14*X$3) -> 0 | Y14: 0 | Z14: =(Y14*Z$3) -> 0 | AA14: 0 | AB14: =(AA14*AB$3) -> 0 | AC14: 0 | AD14: =(AC14*AD$3) -> 0 | AE14: 0 | AF14: =(AE14*AF$3) -> 0 | AG14: =SUM(C14,E14,I14,K14,M14,O14,Q14,S14,U14,W14,Y14,AA14,AC14,AE14) -> 0 | AH14: =SUM(D14,F14,J14,L14,N14,P14,R14,T14,V14,X14,Z14,AB14,AD14,AF14) -> 0
B15: PSDP (All Duties & Reports) | C15: 0 | D15: =(C15*D$3) -> 0 | E15: 0 | F15: =(E15*F$3) -> 0 | G15: 0 | H15: =G15*H$3 -> 0 | I15: 0 | J15: =(I15*J$3) -> 0 | K15: 0 | L15: =(K15*L$3) -> 0 | M15: 0 | N15: =(M15*N$3) -> 0 | O15: 0 | P15: =(O15*P$3) -> 0 | Q15: 0 | R15: =(Q15*R$3) -> 0 | S15: 0 | T15: =(S15*T$3) -> 0 | U15: 0 | V15: =(U15*V$3) -> 0 | W15: 0 | X15: =(W15*X$3) -> 0 | Y15: 0 | Z15: =(Y15*Z$3) -> 0 | AA15: 0 | AB15: =(AA15*AB$3) -> 0 | AC15: 0 | AD15: =(AC15*AD$3) -> 0 | AE15: 0 | AF15: =(AE15*AF$3) -> 0 | AG15: =SUM(C15,E15,I15,K15,M15,O15,Q15,S15,U15,W15,Y15,AA15,AC15,AE15) -> 0 | AH15: =SUM(D15,F15,J15,L15,N15,P15,R15,T15,V15,X15,Z15,AB15,AD15,AF15) -> 0
B16: Safety & Health Duties - Designer Register Template | C16: 0 | D16: =(C16*D$3) -> 0 | E16: 0 | F16: =(E16*F$3) -> 0 | G16: 0 | H16: =G16*H$3 -> 0 | I16: 0 | J16: =(I16*J$3) -> 0 | K16: 0 | L16: =(K16*L$3) -> 0 | M16: 0 | N16: =(M16*N$3) -> 0 | O16: 0 | P16: =(O16*P$3) -> 0 | Q16: 0 | R16: =(Q16*R$3) -> 0 | S16: 0 | T16: =(S16*T$3) -> 0 | U16: 0 | V16: =(U16*V$3) -> 0 | W16: 0 | X16: =(W16*X$3) -> 0 | Y16: 0 | Z16: =(Y16*Z$3) -> 0 | AA16: 0 | AB16: =(AA16*AB$3) -> 0 | AC16: 0 | AD16: =(AC16*AD$3) -> 0 | AE16: 0 | AF16: =(AE16*AF$3) -> 0 | AG16: =SUM(C16,E16,I16,K16,M16,O16,Q16,S16,U16,W16,Y16,AA16,AC16,AE16) -> 0 | AH16: =SUM(D16,F16,J16,L16,N16,P16,R16,T16,V16,X16,Z16,AB16,AD16,AF16) -> 0
A17: Project Initiation Total | C17: =SUM(C6:C11,C13:C16) -> 0 | D17: =SUM(D6:D11,D13:D16) -> 0 | E17: =SUM(E6:E11,E13:E16) -> 0 | F17: =SUM(F6:F11,F13:F16) -> 0 | G17: =SUM(G6:G11,G13:G16) -> 0 | H17: =SUM(H6:H11,H13:H16) -> 0 | I17: =SUM(I6:I11,I13:I16) -> 0 | J17: =SUM(J6:J11,J13:J16) -> 0 | ... AH17: =SUM(AH6:AH11,AH13:AH16) -> 0
A19: Phase 1 - 3 | B19: Project Duration
A20: A | B20: General Service Requirements
B21: Commission Management | C21: 0 | D21: =(C21*D$3) -> 0 | E21: 0 | F21: =(E21*F$3) -> 0 | G21: 0 | H21: =H$3*G21 -> 0 | I21: 0 | J21: =(I21*J$3) -> 0 | K21: 0 | L21: =(K21*L$3) -> 0 | M21: 0 | N21: =(M21*N$3) -> 0 | O21: 0 | P21: =(O21*P$3) -> 0 | Q21: 0 | R21: =(Q21*R$3) -> 0 | S21: 0 | T21: =(S21*T$3) -> 0 | U21: 0 | V21: =(U21*V$3) -> 0 | W21: 0 | X21: =(W21*X$3) -> 0 | Y21: 0 | Z21: =(Y21*Z$3) -> 0 | AA21: 0 | AB21: =(AA21*AB$3) -> 0 | AC21: 0 | AD21: =(AC21*AD$3) -> 0 | AE21: 0 | AF21: =(AE21*AF$3) -> 0 | AG21: =SUM(C21,E21,I21,K21,M21,O21,Q21,S21,U21,W21,Y21,AA21,AC21,AE21) -> 0 | AH21: =SUM(D21,F21,J21,L21,N21,P21,R21,T21,V21,X21,Z21,AB21,AD21,AF21) -> 0
B22: Project Meeting Attendance & Minutes | C22: 0 | D22: =(C22*D$3) -> 0 | E22: 0 | F22: =(E22*F$3) -> 0 | G22: 0 | H22: =H$3*G22 -> 0 | I22: 0 | J22: =(I22*J$3) -> 0 | K22: 0 | L22: =(K22*L$3) -> 0 | M22: 0 | N22: =(M22*N$3) -> 0 | O22: 0 | P22: =(O22*P$3) -> 0 | Q22: 0 | R22: =(Q22*R$3) -> 0 | S22: 0 | T22: =(S22*T$3) -> 0 | U22: 0 | V22: =(U22*V$3) -> 0 | W22: 0 | X22: =(W22*X$3) -> 0 | Y22: 0 | Z22: =(Y22*Z$3) -> 0 | AA22: 0 | AB22: =(AA22*AB$3) -> 0 | AC22: 0 | AD22: =(AC22*AD$3) -> 0 | AE22: 0 | AF22: =(AE22*AF$3) -> 0 | AG22: =SUM(C22,E22,I22,K22,M22,O22,Q22,S22,U22,W22,Y22,AA22,AC22,AE22) -> 0 | AH22: =SUM(D22,F22,J22,L22,N22,P22,R22,T22,V22,X22,Z22,AB22,AD22,AF22) -> 0
B23: Monthly Progress Reports | C23: 0 | D23: =(C23*D$3) -> 0 | E23: 0 | F23: =(E23*F$3) -> 0 | G23: 0 | H23: =H$3*G23 -> 0 | I23: 0 | J23: =(I23*J$3) -> 0 | K23: 0 | L23: =(K23*L$3) -> 0 | M23: 0 | N23: =(M23*N$3) -> 0 | O23: 0 | P23: =(O23*P$3) -> 0 | Q23: 0 | R23: =(Q23*R$3) -> 0 | S23: 0 | T23: =(S23*T$3) -> 0 | U23: 0 | V23: =(U23*V$3) -> 0 | W23: 0 | X23: =(W23*X$3) -> 0 | Y23: 0 | Z23: =(Y23*Z$3) -> 0 | AA23: 0 | AB23: =(AA23*AB$3) -> 0 | AC23: 0 | AD23: =(AC23*AD$3) -> 0 | AE23: 0 | AF23: =(AE23*AF$3) -> 0 | AG23: =SUM(C23,E23,I23,K23,M23,O23,Q23,S23,U23,W23,Y23,AA23,AC23,AE23) -> 0 | AH23: =SUM(D23,F23,J23,L23,N23,P23,R23,T23,V23,X23,Z23,AB23,AD23,AF23) -> 0
B24: Maintain Cost & Risk Management System | C24: 0 | D24: =(C24*D$3) -> 0 | E24: 0 | F24: =(E24*F$3) -> 0 | G24: 0 | H24: =H$3*G24 -> 0 | I24: 0 | J24: =(I24*J$3) -> 0 | K24: 0 | L24: =(K24*L$3) -> 0 | M24: 0 | N24: =(M24*N$3) -> 0 | O24: 0 | P24: =(O24*P$3) -> 0 | Q24: 0 | R24: =(Q24*R$3) -> 0 | S24: 0 | T24: =(S24*T$3) -> 0 | U24: 0 | V24: =(U24*V$3) -> 0 | W24: 0 | X24: =(W24*X$3) -> 0 | Y24: 0 | Z24: =(Y24*Z$3) -> 0 | AA24: 0 | AB24: =(AA24*AB$3) -> 0 | AC24: 0 | AD24: =(AC24*AD$3) -> 0 | AE24: 0 | AF24: =(AE24*AF$3) -> 0 | AG24: =SUM(C24,E24,I24,K24,M24,O24,Q24,S24,U24,W24,Y24,AA24,AC24,AE24) -> 0 | AH24: =SUM(D24,F24,J24,L24,N24,P24,R24,T24,V24,X24,Z24,AB24,AD24,AF24) -> 0
B25: Maintain Commission Execution Plan | C25: 0 | D25: =(C25*D$3) -> 0 | E25: 0 | F25: =(E25*F$3) -> 0 | G25: 0 | H25: =H$3*G25 -> 0 | I25: 0 | J25: =(I25*J$3) -> 0 | K25: 0 | L25: =(K25*L$3) -> 0 | M25: 0 | N25: =(M25*N$3) -> 0 | O25: 0 | P25: =(O25*P$3) -> 0 | Q25: 0 | R25: =(Q25*R$3) -> 0 | S25: 0 | T25: =(S25*T$3) -> 0 | U25: 0 | V25: =(U25*V$3) -> 0 | W25: 0 | X25: =(W25*X$3) -> 0 | Y25: 0 | Z25: =(Y25*Z$3) -> 0 | AA25: 0 | AB25: =(AA25*AB$3) -> 0 | AC25: 0 | AD25: =(AC25*AD$3) -> 0 | AE25: 0 | AF25: =(AE25*AF$3) -> 0 | AG25: =SUM(C25,E25,I25,K25,M25,O25,Q25,S25,U25,W25,Y25,AA25,AC25,AE25) -> 0 | AH25: =SUM(D25,F25,J25,L25,N25,P25,R25,T25,V25,X25,Z25,AB25,AD25,AF25) -> 0
B26: Maintain Commission Programme | C26: 0 | D26: =(C26*D$3) -> 0 | E26: 0 | F26: =(E26*F$3) -> 0 | G26: 0 | H26: =H$3*G26 -> 0 | I26: 0 | J26: =(I26*J$3) -> 0 | K26: 0 | L26: =(K26*L$3) -> 0 | M26: 0 | N26: =(M26*N$3) -> 0 | O26: 0 | P26: =(O26*P$3) -> 0 | Q26: 0 | R26: =(Q26*R$3) -> 0 | S26: 0 | T26: =(S26*T$3) -> 0 | U26: 0 | V26: =(U26*V$3) -> 0 | W26: 0 | X26: =(W26*X$3) -> 0 | Y26: 0 | Z26: =(Y26*Z$3) -> 0 | AA26: 0 | AB26: =(AA26*AB$3) -> 0 | AC26: 0 | AD26: =(AC26*AD$3) -> 0 | AE26: 0 | AF26: =(AE26*AF$3) -> 0 | AG26: =SUM(C26,E26,I26,K26,M26,O26,Q26,S26,U26,W26,Y26,AA26,AC26,AE26) -> 0 | AH26: =SUM(D26,F26,J26,L26,N26,P26,R26,T26,V26,X26,Z26,AB26,AD26,AF26) -> 0
B27: Maintain Consultation & Stakeholder Engagement Plan | C27: 0 | D27: =(C27*D$3) -> 0 | E27: 0 | F27: =(E27*F$3) -> 0 | G27: 0 | H27: =H$3*G27 -> 0 | I27: 0 | J27: =(I27*J$3) -> 0 | K27: 0 | L27: =(K27*L$3) -> 0 | M27: 0 | N27: =(M27*N$3) -> 0 | O27: 0 | P27: =(O27*P$3) -> 0 | Q27: 0 | R27: =(Q27*R$3) -> 0 | S27: 0 | T27: =(S27*T$3) -> 0 | U27: 0 | V27: =(U27*V$3) -> 0 | W27: 0 | X27: =(W27*X$3) -> 0 | Y27: 0 | Z27: =(Y27*Z$3) -> 0 | AA27: 0 | AB27: =(AA27*AB$3) -> 0 | AC27: 0 | AD27: =(AC27*AD$3) -> 0 | AE27: 0 | AF27: =(AE27*AF$3) -> 0 | AG27: =SUM(C27,E27,I27,K27,M27,O27,Q27,S27,U27,W27,Y27,AA27,AC27,AE27) -> 0 | AH27: =SUM(D27,F27,J27,L27,N27,P27,R27,T27,V27,X27,Z27,AB27,AD27,AF27) -> 0
B28: Safety & Health Duties - Maintain Designer Register | C28: 0 | D28: =(C28*D$3) -> 0 | E28: 0 | F28: =(E28*F$3) -> 0 | G28: 0 | H28: =H$3*G28 -> 0 | I28: 0 | J28: =(I28*J$3) -> 0 | K28: 0 | L28: =(K28*L$3) -> 0 | M28: 0 | N28: =(M28*N$3) -> 0 | O28: 0 | P28: =(O28*P$3) -> 0 | Q28: 0 | R28: =(Q28*R$3) -> 0 | S28: 0 | T28: =(S28*T$3) -> 0 | U28: 0 | V28: =(U28*V$3) -> 0 | W28: 0 | X28: =(W28*X$3) -> 0 | Y28: 0 | Z28: =(Y28*Z$3) -> 0 | AA28: 0 | AB28: =(AA28*AB$3) -> 0 | AC28: 0 | AD28: =(AC28*AD$3) -> 0 | AE28: 0 | AF28: =(AE28*AF$3) -> 0 | AG28: =SUM(C28,E28,I28,K28,M28,O28,Q28,S28,U28,W28,Y28,AA28,AC28,AE28) -> 0 | AH28: =SUM(D28,F28,J28,L28,N28,P28,R28,T28,V28,X28,Z28,AB28,AD28,AF28) -> 0
B29: Maintain Preliminary Safety and Health Plan | C29: 0 | D29: =(C29*D$3) -> 0 | E29: 0 | F29: =(E29*F$3) -> 0 | G29: 0 | H29: =H$3*G29 -> 0 | I29: 0 | J29: =(I29*J$3) -> 0 | K29: 0 | L29: =(K29*L$3) -> 0 | M29: 0 | N29: =(M29*N$3) -> 0 | O29: 0 | P29: =(O29*P$3) -> 0 | Q29: 0 | R29: =(Q29*R$3) -> 0 | S29: 0 | T29: =(S29*T$3) -> 0 | U29: 0 | V29: =(U29*V$3) -> 0 | W29: 0 | X29: =(W29*X$3) -> 0 | Y29: 0 | Z29: =(Y29*Z$3) -> 0 | AA29: 0 | AB29: =(AA29*AB$3) -> 0 | AC29: 0 | AD29: =(AC29*AD$3) -> 0 | AE29: 0 | AF29: =(AE29*AF$3) -> 0 | AG29: =SUM(C29,E29,I29,K29,M29,O29,Q29,S29,U29,W29,Y29,AA29,AC29,AE29) -> 0 | AH29: =SUM(D29,F29,J29,L29,N29,P29,R29,T29,V29,X29,Z29,AB29,AD29,AF29) -> 0
B30: Other relevant duties as described in the Project Brief | C30: 0 | D30: =(C30*D$3) -> 0 | E30: 0 | F30: =(E30*F$3) -> 0 | G30: 0 | H30: =H$3*G30 -> 0 | I30: 0 | J30: =(I30*J$3) -> 0 | K30: 0 | L30: =(K30*L$3) -> 0 | M30: 0 | N30: =(M30*N$3) -> 0 | O30: 0 | P30: =(O30*P$3) -> 0 | Q30: 0 | R30: =(Q30*R$3) -> 0 | S30: 0 | T30: =(S30*T$3) -> 0 | U30: 0 | V30: =(U30*V$3) -> 0 | W30: 0 | X30: =(W30*X$3) -> 0 | Y30: 0 | Z30: =(Y30*Z$3) -> 0 | AA30: 0 | AB30: =(AA30*AB$3) -> 0 | AC30: 0 | AD30: =(AC30*AD$3) -> 0 | AE30: 0 | AF30: =(AE30*AF$3) -> 0 | AG30: =SUM(C30,E30,I30,K30,M30,O30,Q30,S30,U30,W30,Y30,AA30,AC30,AE30) -> 0 | AH30: =SUM(D30,F30,J30,L30,N30,P30,R30,T30,V30,X30,Z30,AB30,AD30,AF30) -> 0
B31: Preliminary Business Case | C31: 0 | D31: =(C31*D$3) -> 0 | E31: 0 | F31: =(E31*F$3) -> 0 | G31: 0 | H31: =H$3*G31 -> 0 | I31: 0 | J31: =(I31*J$3) -> 0 | K31: 0 | L31: =(K31*L$3) -> 0 | M31: 0 | N31: =(M31*N$3) -> 0 | O31: 0 | P31: =(O31*P$3) -> 0 | Q31: 0 | R31: =(Q31*R$3) -> 0 | S31: 0 | T31: =(S31*T$3) -> 0 | U31: 0 | V31: =(U31*V$3) -> 0 | W31: 0 | X31: =(W31*X$3) -> 0 | Y31: 0 | Z31: =(Y31*Z$3) -> 0 | AA31: 0 | AB31: =(AA31*AB$3) -> 0 | AC31: 0 | AD31: =(AC31*AD$3) -> 0 | AE31: 0 | AF31: =(AE31*AF$3) -> 0 | AG31: =SUM(C31,E31,I31,K31,M31,O31,Q31,S31,U31,W31,Y31,AA31,AC31,AE31) -> 0 | AH31: =SUM(D31,F31,J31,L31,N31,P31,R31,T31,V31,X31,Z31,AB31,AD31,AF31) -> 0
A32: Project Duration Total | C32: =SUM(C27:C31,C25:C26,C21:C24) -> 0 | D32: =SUM(D27:D31,D25:D26,D21:D24) -> 0 | E32: =SUM(E27:E31,E25:E26,E21:E24) -> 0 | F32: =SUM(F27:F31,F25:F26,F21:F24) -> 0 | G32: =SUM(G21:G31) -> 0 | H32: =SUM(H21:H31) -> 0 | I32: =SUM(I27:I31,I25:I26,I21:I24) -> 0 | J32: =SUM(J27:J31,J25:J26,J21:J24) -> 0 | K32: =SUM(K27:K31,K25:K26,K21:K24) -> 0 | L32: =SUM(L27:L31,L25:L26,L21:L24) -> 0 | M32: =SUM(M27:M31,M25:M26,M21:M24) -> 0 | N32: =SUM(N27:N31,N25:N26,N21:N24) -> 0 | O32: =SUM(O27:O31,O25:O26,O21:O24) -> 0 | P32: =SUM(P27:P31,P25:P26,P21:P24) -> 0 | ... AF32: =SUM(AF27:AF31,AF25:AF26,AF21:AF24) -> 0 | AG32: =SUM(AG21:AG31,) -> 0 | AH32: =SUM(AH21:AH31) -> 0
A34: Totals | C34: =SUM(C17,C32) -> 0 | D34: =SUM(D17,D32) -> 0 | E34: =SUM(E17,E32) -> 0 | F34: =SUM(F17,F32) -> 0 | G34: =SUM(G17,G32) -> 0 | H34: =SUM(H17,H32) -> 0 | I34: =SUM(I17,I32) -> 0 | J34: =SUM(J17,J32) -> 0 | ... AH34: =SUM(AH17,AH32) -> 0

Sheet Cahernahallia
A1: Project Role | C1: =Rates!A4 -> Project Director | E1: =Rates!A5 -> Project Manager | G1: =Rates!A6 -> Associate/Principal Ecologist/Senior Environmental Consultant | I1: =Rates!A7 -> Project Supervisor Design Process | K1: =Rates!A8 -> Civil Design Team Lead/Senior Engineer | M1: =Rates!A9 -> Structures Design Team Lead/Senior Engineer | O1: =Rates!A10 -> Hydraulics/Hydrology Team Lead/Senior Hydraulic Engineer/Hydrologist | Q1: =Rates!A11 -> Senior Ecologist | S1: =Rates!A12 -> Engineer | U1: =Rates!A13 -> Ecologist/ Environmental Consultant | W1: =Rates!A14 -> Graduate Engineer | Y1: =Rates!A15 -> Senior Technician | AA1: =Rates!A16 -> Junior Technician | AC1: =Rates!A17 -> Resident Engineer | AE1: =Rates!A18 -> Employer's Representative | AG1: Total Hours | AH1: Item Total
C2: =Rates!C4 -> Insert Name 1 | E2: =Rates!C5 -> Insert Name 2 | G2: =Rates!C6 -> Insert Name 3 | I2: =Rates!C7 -> Insert Name 4 | K2: =Rates!C8 -> Insert Name 5 | M2: =Rates!C9 -> Insert Name 6 | O2: =Rates!C10 -> Insert Name 7 | Q2: =Rates!C11 -> Insert Name 8 | S2: =Rates!C12 -> Insert Name 9 | U2: =Rates!C13 -> Insert Name 10 | W2: =Rates!C14 -> Insert Name 11 | Y2: =Rates!C15 -> Insert Name 12 | AA2: =Rates!C16 -> Insert Name 13 | AC2: =Rates!C17 -> Insert Name 14 | AE2: =Rates!C18 -> Insert Name 15
C3: No. Hours | D3: =Rates!B4 -> 0 | E3: No. Hours | F3: =Rates!B5 -> 0 | G3: No. Hours | H3: =Rates!B6 -> 0 | I3: No. Hours | J3: =Rates!B7 -> 0 | K3: No. Hours | L3: =Rates!B8 -> 0 | M3: No. Hours | N3: =Rates!B9 -> 0 | O3: No. Hours | P3: =Rates!B10 -> 0 | Q3: No. Hours | R3: =Rates!B11 -> 0 | S3: No. Hours | T3: =Rates!B12 -> 0 | U3: No. Hours | V3: =Rates!B13 -> 0 | W3: No. Hours | X3: =Rates!B14 -> 0 | Y3: No. Hours | Z3: =Rates!B15 -> 0 | AA3: No. Hours | AB3: =Rates!B16 -> 0 | AC3: No. Hours | AD3: =Rates!B17 -> 0 | AE3: No. Hours | AF3: =Rates!B18 -> 0
A4: Phase 1 | B4: Feasibility Study & Option Selection
A5: A | B5: Fesability - Options
B6: Feasibility Study and Option Selection Report | C6: 0 | D6: =(C6*D$3) -> 0 | E6: 0 | F6: =(E6*F$3) -> 0 | G6: 0 | H6: =(G6*H$3) -> 0 | I6: 0 | J6: =(I6*J$3) -> 0 | K6: 0 | L6: =(K6*L$3) -> 0 | M6: 0 | N6: =(M6*N$3) -> 0 | O6: 0 | P6: =(O6*P$3) -> 0 | Q6: 0 | R6: =(Q6*R$3) -> 0 | S6: 0 | T6: =(S6*T$3) -> 0 | U6: 0 | V6: =(U6*V$3) -> 0 | W6: 0 | X6: =(W6*X$3) -> 0 | Y6: 0 | Z6: =(Y6*Z$3) -> 0 | AA6: 0 | AB6: =(AA6*AB$3) -> 0 | AC6: 0 | AD6: =(AC6*AD$3) -> 0 | AE6: 0 | AF6: =(AE6*AF$3) -> 0 | AG6: =SUM(C6,E6,G6,I6,K6,M6,O6,Q6,S6,U6,W6,Y6,AA6,AC6,AE6) -> 0 | AH6: =SUM(D6,F6,H6,J6,L6,N6,P6,R6,T6,V6,X6,Z6,AB6,AD6,AF6) -> 0
A7: B | B7: Surveys & Studies
B8: Preliminary Ecological Assessment Report (PEAR), Scoping of Assessments and Surveys for the next phase of the project. | C8: 0 | D8: =(C8*D$3) -> 0 | E8: 0 | F8: =(E8*F$3) -> 0 | G8: 0 | H8: =(G8*H$3) -> 0 | I8: 0 | J8: =(I8*J$3) -> 0 | K8: 0 | L8: =(K8*L$3) -> 0 | M8: 0 | N8: =(M8*N$3) -> 0 | O8: 0 | P8: =(O8*P$3) -> 0 | Q8: 0 | R8: =(Q8*R$3) -> 0 | S8: 0 | T8: =(S8*T$3) -> 0 | U8: 0 | V8: =(U8*V$3) -> 0 | W8: 0 | X8: =(W8*X$3) -> 0 | Z8: =(Y8*Z$3) -> 0 | AA8: 0 | AB8: =(AA8*AB$3) -> 0 | AC8: 0 | AD8: =(AC8*AD$3) -> 0 | AE8: 0 | AF8: =(AE8*AF$3) -> 0 | AG8: =SUM(C8,E8,G8,I8,K8,M8,O8,Q8,S8,U8,W8,Y8,AA8,AC8,AE8) -> 0 | AH8: =SUM(D8,F8,H8,J8,L8,N8,P8,R8,T8,V8,X8,Z8,AB8,AD8,AF8) -> 0
A9: Phase 1 Total | C9: =SUM(C6:C6,C8:C8) -> 0 | D9: =SUM(D6:D6,D8:D8) -> 0 | E9: =SUM(E6:E6,E8:E8) -> 0 | F9: =SUM(F6:F6,F8:F8) -> 0 | G9: =SUM(G6:G6,G8:G8) -> 0 | H9: =SUM(H6:H6,H8:H8) -> 0 | I9: =SUM(I6:I6,I8:I8) -> 0 | J9: =SUM(J6:J6,J8:J8) -> 0 | ... AH9: =SUM(AH6:AH6,AH8:AH8) -> 0
A11: Phase 2 | B11: Preliminary Design
A12: A | B12: Preliminary Design
B13: Civil and Structural Design | C13: 0 | D13: =(C13*D$3) -> 0 | E13: 0 | F13: =(E13*F$3) -> 0 | G13: 0 | H13: =(G13*H$3) -> 0 | I13: 0 | J13: =(I13*J$3) -> 0 | K13: 0 | L13: =(K13*L$3) -> 0 | M13: 0 | N13: =(M13*N$3) -> 0 | O13: 0 | P13: =(O13*P$3) -> 0 | Q13: 0 | R13: =(Q13*R$3) -> 0 | S13: 0 | T13: =(S13*T$3) -> 0 | U13: 0 | V13: =(U13*V$3) -> 0 | W13: 0 | X13: =(W13*X$3) -> 0 | Y13: 0 | Z13: =(Y13*Z$3) -> 0 | AA13: 0 | AB13: =(AA13*AB$3) -> 0 | AC13: 0 | AD13: =(AC13*AD$3) -> 0 | AE13: 0 | AF13: =(AE13*AF$3) -> 0 | AG13: =SUM(C13,E13,G13,I13,K13,M13,O13,Q13,S13,U13,W13,Y13,AA13,AC13,AE13) -> 0 | AH13: =SUM(D13,F13,H13,J13,L13,N13,P13,R13,T13,V13,X13,Z13,AB13,AD13,AF13) -> 0
B14: Ground Investigation (Scoping, Tender & Management of) | C14: 0 | D14: =(C14*D$3) -> 0 | E14: 0 | F14: =(E14*F$3) -> 0 | G14: 0 | H14: =(G14*H$3) -> 0 | I14: 0 | J14: =(I14*J$3) -> 0 | K14: 0 | L14: =(K14*L$3) -> 0 | M14: 0 | N14: =(M14*N$3) -> 0 | O14: 0 | P14: =(O14*P$3) -> 0 | Q14: 0 | R14: =(Q14*R$3) -> 0 | S14: 0 | T14: =(S14*T$3) -> 0 | U14: 0 | V14: =(U14*V$3) -> 0 | W14: 0 | X14: =(W14*X$3) -> 0 | Y14: 0 | Z14: =(Y14*Z$3) -> 0 | AA14: 0 | AB14: =(AA14*AB$3) -> 0 | AC14: 0 | AD14: =(AC14*AD$3) -> 0 | AE14: 0 | AF14: =(AE14*AF$3) -> 0 | AG14: =SUM(C14,E14,G14,I14,K14,M14,O14,Q14,S14,U14,W14,Y14,AA14,AC14,AE14) -> 0 | AH14: =SUM(D14,F14,H14,J14,L14,N14,P14,R14,T14,V14,X14,Z14,AB14,AD14,AF14) -> 0
B15: Hydrology and Flood Risk Assessment | C15: 0 | D15: =(C15*D$3) -> 0 | E15: 0 | F15: =(E15*F$3) -> 0 | G15: 0 | H15: =(G15*H$3) -> 0 | I15: 0 | J15: =(I15*J$3) -> 0 | K15: 0 | L15: =(K15*L$3) -> 0 | M15: 0 | N15: =(M15*N$3) -> 0 | O15: 0 | P15: =(O15*P$3) -> 0 | Q15: 0 | R15: =(Q15*R$3) -> 0 | S15: 0 | T15: =(S15*T$3) -> 0 | U15: 0 | V15: =(U15*V$3) -> 0 | W15: 0 | X15: =(W15*X$3) -> 0 | Y15: 0 | Z15: =(Y15*Z$3) -> 0 | AA15: 0 | AB15: =(AA15*AB$3) -> 0 | AC15: 0 | AD15: =(AC15*AD$3) -> 0 | AE15: 0 | AF15: =(AE15*AF$3) -> 0 | AG15: =SUM(C15,E15,G15,I15,K15,M15,O15,Q15,S15,U15,W15,Y15,AA15,AC15,AE15) -> 0 | AH15: =SUM(D15,F15,H15,J15,L15,N15,P15,R15,T15,V15,X15,Z15,AB15,AD15,AF15) -> 0
B16: Hydraulic Modelling and Flood Risk Assessment Report | C16: 0 | D16: =(C16*D$3) -> 0 | E16: 0 | F16: =(E16*F$3) -> 0 | G16: 0 | H16: =(G16*H$3) -> 0 | I16: 0 | J16: =(I16*J$3) -> 0 | K16: 0 | L16: =(K16*L$3) -> 0 | M16: 0 | N16: =(M16*N$3) -> 0 | O16: 0 | P16: =(O16*P$3) -> 0 | Q16: 0 | R16: =(Q16*R$3) -> 0 | S16: 0 | T16: =(S16*T$3) -> 0 | U16: 0 | V16: =(U16*V$3) -> 0 | W16: 0 | X16: =(W16*X$3) -> 0 | Y16: 0 | Z16: =(Y16*Z$3) -> 0 | AA16: 0 | AB16: =(AA16*AB$3) -> 0 | AC16: 0 | AD16: =(AC16*AD$3) -> 0 | AE16: 0 | AF16: =(AE16*AF$3) -> 0 | AG16: =SUM(C16,E16,G16,I16,K16,M16,O16,Q16,S16,U16,W16,Y16,AA16,AC16,AE16) -> 0 | AH16: =SUM(D16,F16,H16,J16,L16,N16,P16,R16,T16,V16,X16,Z16,AB16,AD16,AF16) -> 0
B17: OPW Section 50 Report and application | C17: 0 | D17: =(C17*D$3) -> 0 | E17: 0 | F17: =(E17*F$3) -> 0 | G17: 0 | H17: =(G17*H$3) -> 0 | I17: 0 | J17: =(I17*J$3) -> 0 | K17: 0 | L17: =(K17*L$3) -> 0 | M17: 0 | N17: =(M17*N$3) -> 0 | O17: 0 | P17: =(O17*P$3) -> 0 | Q17: 0 | R17: =(Q17*R$3) -> 0 | S17: 0 | T17: =(S17*T$3) -> 0 | U17: 0 | V17: =(U17*V$3) -> 0 | W17: 0 | X17: =(W17*X$3) -> 0 | Y17: 0 | Z17: =(Y17*Z$3) -> 0 | AA17: 0 | AB17: =(AA17*AB$3) -> 0 | AC17: 0 | AD17: =(AC17*AD$3) -> 0 | AE17: 0 | AF17: =(AE17*AF$3) -> 0 | AG17: =SUM(C17,E17,G17,I17,K17,M17,O17,Q17,S17,U17,W17,Y17,AA17,AC17,AE17) -> 0 | AH17: =SUM(D17,F17,H17,J17,L17,N17,P17,R17,T17,V17,X17,Z17,AB17,AD17,AF17) -> 0
B18: Geomorphology Report | C18: 0 | D18: =(C18*D$3) -> 0 | E18: 0 | F18: =(E18*F$3) -> 0 | G18: 0 | H18: =(G18*H$3) -> 0 | I18: 0 | J18: =(I18*J$3) -> 0 | K18: 0 | L18: =(K18*L$3) -> 0 | M18: 0 | N18: =(M18*N$3) -> 0 | O18: 0 | P18: =(O18*P$3) -> 0 | Q18: 0 | R18: =(Q18*R$3) -> 0 | S18: 0 | T18: =(S18*T$3) -> 0 | U18: 0 | V18: =(U18*V$3) -> 0 | W18: 0 | X18: =(W18*X$3) -> 0 | Y18: 0 | Z18: =(Y18*Z$3) -> 0 | AA18: 0 | AB18: =(AA18*AB$3) -> 0 | AC18: 0 | AD18: =(AC18*AD$3) -> 0 | AE18: 0 | AF18: =(AE18*AF$3) -> 0 | AG18: =SUM(C18,E18,G18,I18,K18,M18,O18,Q18,S18,U18,W18,Y18,AA18,AC18,AE18) -> 0 | AH18: =SUM(D18,F18,H18,J18,L18,N18,P18,R18,T18,V18,X18,Z18,AB18,AD18,AF18) -> 0
B19: Cultural Heritage Assessment | C19: 0 | D19: =(C19*D$3) -> 0 | E19: 0 | F19: =(E19*F$3) -> 0 | G19: 0 | H19: =(G19*H$3) -> 0 | I19: 0 | J19: =(I19*J$3) -> 0 | K19: 0 | L19: =(K19*L$3) -> 0 | M19: 0 | N19: =(M19*N$3) -> 0 | O19: 0 | P19: =(O19*P$3) -> 0 | Q19: 0 | R19: =(Q19*R$3) -> 0 | S19: 0 | T19: =(S19*T$3) -> 0 | U19: 0 | V19: =(U19*V$3) -> 0 | W19: 0 | X19: =(W19*X$3) -> 0 | Y19: 0 | Z19: =(Y19*Z$3) -> 0 | AA19: 0 | AB19: =(AA19*AB$3) -> 0 | AC19: 0 | AD19: =(AC19*AD$3) -> 0 | AE19: 0 | AF19: =(AE19*AF$3) -> 0 | AG19: =SUM(C19,E19,G19,I19,K19,M19,O19,Q19,S19,U19,W19,Y19,AA19,AC19,AE19) -> 0 | AH19: =SUM(D19,F19,H19,J19,L19,N19,P19,R19,T19,V19,X19,Z19,AB19,AD19,AF19) -> 0
B20: Design Report | C20: 0 | D20: =(C20*D$3) -> 0 | E20: 0 | F20: =(E20*F$3) -> 0 | G20: 0 | H20: =(G20*H$3) -> 0 | I20: 0 | J20: =(I20*J$3) -> 0 | K20: 0 | L20: =(K20*L$3) -> 0 | M20: 0 | N20: =(M20*N$3) -> 0 | O20: 0 | P20: =(O20*P$3) -> 0 | Q20: 0 | R20: =(Q20*R$3) -> 0 | S20: 0 | T20: =(S20*T$3) -> 0 | U20: 0 | V20: =(U20*V$3) -> 0 | W20: 0 | X20: =(W20*X$3) -> 0 | Y20: 0 | Z20: =(Y20*Z$3) -> 0 | AA20: 0 | AB20: =(AA20*AB$3) -> 0 | AC20: 0 | AD20: =(AC20*AD$3) -> 0 | AE20: 0 | AF20: =(AE20*AF$3) -> 0 | AG20: =SUM(C20,E20,G20,I20,K20,M20,O20,Q20,S20,U20,W20,Y20,AA20,AC20,AE20) -> 0 | AH20: =SUM(D20,F20,H20,J20,L20,N20,P20,R20,T20,V20,X20,Z20,AB20,AD20,AF20) -> 0
B21: Waste Management & Circular Economy | C21: 0 | D21: =(C21*D$3) -> 0 | E21: 0 | F21: =(E21*F$3) -> 0 | G21: 0 | H21: =(G21*H$3) -> 0 | I21: 0 | J21: =(I21*J$3) -> 0 | K21: 0 | L21: =(K21*L$3) -> 0 | M21: 0 | N21: =(M21*N$3) -> 0 | O21: 0 | P21: =(O21*P$3) -> 0 | Q21: 0 | R21: =(Q21*R$3) -> 0 | S21: 0 | T21: =(S21*T$3) -> 0 | U21: 0 | V21: =(U21*V$3) -> 0 | W21: 0 | X21: =(W21*X$3) -> 0 | Y21: 0 | Z21: =(Y21*Z$3) -> 0 | AA21: 0 | AB21: =(AA21*AB$3) -> 0 | AC21: 0 | AD21: =(AC21*AD$3) -> 0 | AE21: 0 | AF21: =(AE21*AF$3) -> 0 | AG21: =SUM(C21,E21,G21,I21,K21,M21,O21,Q21,S21,U21,W21,Y21,AA21,AC21,AE21) -> 0 | AH21: =SUM(D21,F21,H21,J21,L21,N21,P21,R21,T21,V21,X21,Z21,AB21,AD21,AF21) -> 0
B22: River Restoration Design | C22: 0 | D22: =(C22*D$3) -> 0 | E22: 0 | F22: =(E22*F$3) -> 0 | G22: 0 | H22: =(G22*H$3) -> 0 | I22: 0 | J22: =(I22*J$3) -> 0 | K22: 0 | L22: =(K22*L$3) -> 0 | M22: 0 | N22: =(M22*N$3) -> 0 | O22: 0 | P22: =(O22*P$3) -> 0 | Q22: 0 | R22: =(Q22*R$3) -> 0 | S22: 0 | T22: =(S22*T$3) -> 0 | U22: 0 | V22: =(U22*V$3) -> 0 | W22: 0 | X22: =(W22*X$3) -> 0 | Y22: 0 | Z22: =(Y22*Z$3) -> 0 | AA22: 0 | AB22: =(AA22*AB$3) -> 0 | AC22: 0 | AD22: =(AC22*AD$3) -> 0 | AE22: 0 | AF22: =(AE22*AF$3) -> 0 | AG22: =SUM(C22,E22,G22,I22,K22,M22,O22,Q22,S22,U22,W22,Y22,AA22,AC22,AE22) -> 0 | AH22: =SUM(D22,F22,H22,J22,L22,N22,P22,R22,T22,V22,X22,Z22,AB22,AD22,AF22) -> 0
B23: Constructability Assessment | C23: 0 | D23: =(C23*D$3) -> 0 | E23: 0 | F23: =(E23*F$3) -> 0 | G23: 0 | H23: =(G23*H$3) -> 0 | I23: 0 | J23: =(I23*J$3) -> 0 | K23: 0 | L23: =(K23*L$3) -> 0 | M23: 0 | N23: =(M23*N$3) -> 0 | O23: 0 | P23: =(O23*P$3) -> 0 | Q23: 0 | R23: =(Q23*R$3) -> 0 | S23: 0 | T23: =(S23*T$3) -> 0 | U23: 0 | V23: =(U23*V$3) -> 0 | W23: 0 | X23: =(W23*X$3) -> 0 | Y23: 0 | Z23: =(Y23*Z$3) -> 0 | AA23: 0 | AB23: =(AA23*AB$3) -> 0 | AC23: 0 | AD23: =(AC23*AD$3) -> 0 | AE23: 0 | AF23: =(AE23*AF$3) -> 0 | AG23: =SUM(C23,E23,G23,I23,K23,M23,O23,Q23,S23,U23,W23,Y23,AA23,AC23,AE23) -> 0 | AH23: =SUM(D23,F23,H23,J23,L23,N23,P23,R23,T23,V23,X23,Z23,AB23,AD23,AF23) -> 0
B24: Cost, Value and Risk Management | C24: 0 | D24: =(C24*D$3) -> 0 | E24: 0 | F24: =(E24*F$3) -> 0 | G24: 0 | H24: =(G24*H$3) -> 0 | I24: 0 | J24: =(I24*J$3) -> 0 | K24: 0 | L24: =(K24*L$3) -> 0 | M24: 0 | N24: =(M24*N$3) -> 0 | O24: 0 | P24: =(O24*P$3) -> 0 | Q24: 0 | R24: =(Q24*R$3) -> 0 | S24: 0 | T24: =(S24*T$3) -> 0 | U24: 0 | V24: =(U24*V$3) -> 0 | W24: 0 | X24: =(W24*X$3) -> 0 | Y24: 0 | Z24: =(Y24*Z$3) -> 0 | AA24: 0 | AB24: =(AA24*AB$3) -> 0 | AC24: 0 | AD24: =(AC24*AD$3) -> 0 | AE24: 0 | AF24: =(AE24*AF$3) -> 0 | AG24: =SUM(C24,E24,G24,I24,K24,M24,O24,Q24,S24,U24,W24,Y24,AA24,AC24,AE24) -> 0 | AH24: =SUM(D24,F24,H24,J24,L24,N24,P24,R24,T24,V24,X24,Z24,AB24,AD24,AF24) -> 0
... B26: Landscape Design | C26: 0 | D26: =(C26*D$3) -> 0 | E26: 0 | F26: =(E26*F$3) -> 0 | G26: 0 | H26: =(G26*H$3) -> 0 | I26: 0 | J26: =(I26*J$3) -> 0 | K26: 0 | L26: =(K26*L$3) -> 0 | M26: 0 | N26: =(M26*N$3) -> 0 | O26: 0 | P26: =(O26*P$3) -> 0 | Q26: 0 | R26: =(Q26*R$3) -> 0 | S26: 0 | T26: =(S26*T$3) -> 0 | U26: 0 | V26: =(U26*V$3) -> 0 | W26: 0 | X26: =(W26*X$3) -> 0 | Y26: 0 | Z26: =(Y26*Z$3) -> 0 | AA26: 0 | AB26: =(AA26*AB$3) -> 0 | AC26: 0 | AD26: =(AC26*AD$3) -> 0 | AE26: 0 | AF26: =(AE26*AF$3) -> 0 | AG26: =SUM(C26,E26,G26,I26,K26,M26,O26,Q26,S26,U26,W26,Y26,AA26,AC26,AE26) -> 0 | AH26: =SUM(D26,F26,H26,J26,L26,N26,P26,R26,T26,V26,X26,Z26,AB26,AD26,AF26) -> 0
A27: B | B27: Ecology Surveys
B28: Fossitt Habitat Survey | C28: 0 | D28: =(C28*D$3) -> 0 | E28: 0 | F28: =(E28*F$3) -> 0 | G28: 0 | H28: =(G28*H$3) -> 0 | I28: 0 | J28: =(I28*J$3) -> 0 | K28: 0 | L28: =(K28*L$3) -> 0 | M28: 0 | N28: =(M28*N$3) -> 0 | O28: 0 | P28: =(O28*P$3) -> 0 | Q28: 0 | R28: =(Q28*R$3) -> 0 | S28: 0 | T28: =(S28*T$3) -> 0 | U28: 0 | V28: =(U28*V$3) -> 0 | W28: 0 | X28: =(W28*X$3) -> 0 | Y28: 0 | Z28: =(Y28*Z$3) -> 0 | AA28: 0 | AB28: =(AA28*AB$3) -> 0 | AC28: 0 | AD28: =(AC28*AD$3) -> 0 | AE28: 0 | AF28: =(AE28*AF$3) -> 0 | AG28: =SUM(C28,E28,G28,I28,K28,M28,O28,Q28,S28,U28,W28,Y28,AA28,AC28,AE28) -> 0 | AH28: =SUM(D28,F28,H28,J28,L28,N28,P28,R28,T28,V28,X28,Z28,AB28,AD28,AF28) -> 0
B29: Invasive and Non-Native Species Survey (INNS) | C29: 0 | D29: =(C29*D$3) -> 0 | E29: 0 | F29: =(E29*F$3) -> 0 | G29: 0 | H29: =(G29*H$3) -> 0 | I29: 0 | J29: =(I29*J$3) -> 0 | K29: 0 | L29: =(K29*L$3) -> 0 | M29: 0 | N29: =(M29*N$3) -> 0 | O29: 0 | P29: =(O29*P$3) -> 0 | Q29: 0 | R29: =(Q29*R$3) -> 0 | S29: 0 | T29: =(S29*T$3) -> 0 | U29: 0 | V29: =(U29*V$3) -> 0 | W29: 0 | X29: =(W29*X$3) -> 0 | Y29: 0 | Z29: =(Y29*Z$3) -> 0 | AA29: 0 | AB29: =(AA29*AB$3) -> 0 | AC29: 0 | AD29: =(AC29*AD$3) -> 0 | AE29: 0 | AF29: =(AE29*AF$3) -> 0 | AG29: =SUM(C29,E29,G29,I29,K29,M29,O29,Q29,S29,U29,W29,Y29,AA29,AC29,AE29) -> 0 | AH29: =SUM(D29,F29,H29,J29,L29,N29,P29,R29,T29,V29,X29,Z29,AB29,AD29,AF29) -> 0
B30: Fish Spawning and Nursery Habitat Survey | C30: 0 | D30: =(C30*D$3) -> 0 | E30: 0 | F30: =(E30*F$3) -> 0 | G30: 0 | H30: =(G30*H$3) -> 0 | I30: 0 | J30: =(I30*J$3) -> 0 | K30: 0 | L30: =(K30*L$3) -> 0 | M30: 0 | N30: =(M30*N$3) -> 0 | O30: 0 | P30: =(O30*P$3) -> 0 | Q30: 0 | R30: =(Q30*R$3) -> 0 | S30: 0 | T30: =(S30*T$3) -> 0 | U30: 0 | V30: =(U30*V$3) -> 0 | W30: 0 | X30: =(W30*X$3) -> 0 | Y30: 0 | Z30: =(Y30*Z$3) -> 0 | AA30: 0 | AB30: =(AA30*AB$3) -> 0 | AC30: 0 | AD30: =(AC30*AD$3) -> 0 | AE30: 0 | AF30: =(AE30*AF$3) -> 0 | AG30: =SUM(C30,E30,G30,I30,K30,M30,O30,Q30,S30,U30,W30,Y30,AA30,AC30,AE30) -> 0 | AH30: =SUM(D30,F30,H30,J30,L30,N30,P30,R30,T30,V30,X30,Z30,AB30,AD30,AF30) -> 0
B31: Breeding and Nesting Bird Survey | C31: 0 | D31: =(C31*D$3) -> 0 | E31: 0 | F31: =(E31*F$3) -> 0 | G31: 0 | H31: =(G31*H$3) -> 0 | I31: 0 | J31: =(I31*J$3) -> 0 | K31: 0 | L31: =(K31*L$3) -> 0 | M31: 0 | N31: =(M31*N$3) -> 0 | O31: 0 | P31: =(O31*P$3) -> 0 | Q31: 0 | R31: =(Q31*R$3) -> 0 | S31: 0 | T31: =(S31*T$3) -> 0 | U31: 0 | V31: =(U31*V$3) -> 0 | W31: 0 | X31: =(W31*X$3) -> 0 | Y31: 0 | Z31: =(Y31*Z$3) -> 0 | AA31: 0 | AB31: =(AA31*AB$3) -> 0 | AC31: 0 | AD31: =(AC31*AD$3) -> 0 | AE31: 0 | AF31: =(AE31*AF$3) -> 0 | AG31: =SUM(C31,E31,G31,I31,K31,M31,O31,Q31,S31,U31,W31,Y31,AA31,AC31,AE31) -> 0 | AH31: =SUM(D31,F31,H31,J31,L31,N31,P31,R31,T31,V31,X31,Z31,AB31,AD31,AF31) -> 0
B32: Mammal Survey | C32: 0 | D32: =(C32*D$3) -> 0 | E32: 0 | F32: =(E32*F$3) -> 0 | G32: 0 | H32: =(G32*H$3) -> 0 | I32: 0 | J32: =(I32*J$3) -> 0 | K32: 0 | L32: =(K32*L$3) -> 0 | M32: 0 | N32: =(M32*N$3) -> 0 | O32: 0 | P32: =(O32*P$3) -> 0 | Q32: 0 | R32: =(Q32*R$3) -> 0 | S32: 0 | T32: =(S32*T$3) -> 0 | U32: 0 | V32: =(U32*V$3) -> 0 | W32: 0 | X32: =(W32*X$3) -> 0 | Y32: 0 | Z32: =(Y32*Z$3) -> 0 | AA32: 0 | AB32: =(AA32*AB$3) -> 0 | AC32: 0 | AD32: =(AC32*AD$3) -> 0 | AE32: 0 | AF32: =(AE32*AF$3) -> 0 | AG32: =SUM(C32,E32,G32,I32,K32,M32,O32,Q32,S32,U32,W32,Y32,AA32,AC32,AE32) -> 0 | AH32: =SUM(D32,F32,H32,J32,L32,N32,P32,R32,T32,V32,X32,Z32,AB32,AD32,AF32) -> 0
B33: Bat Survey | C33: 0 | D33: =(C33*D$3) -> 0 | E33: 0 | F33: =(E33*F$3) -> 0 | G33: 0 | H33: =(G33*H$3) -> 0 | I33: 0 | J33: =(I33*J$3) -> 0 | K33: 0 | L33: =(K33*L$3) -> 0 | M33: 0 | N33: =(M33*N$3) -> 0 | O33: 0 | P33: =(O33*P$3) -> 0 | Q33: 0 | R33: =(Q33*R$3) -> 0 | S33: 0 | T33: =(S33*T$3) -> 0 | U33: 0 | V33: =(U33*V$3) -> 0 | W33: 0 | X33: =(W33*X$3) -> 0 | Y33: 0 | Z33: =(Y33*Z$3) -> 0 | AA33: 0 | AB33: =(AA33*AB$3) -> 0 | AC33: 0 | AD33: =(AC33*AD$3) -> 0 | AE33: 0 | AF33: =(AE33*AF$3) -> 0 | AG33: =SUM(C33,E33,G33,I33,K33,M33,O33,Q33,S33,U33,W33,Y33,AA33,AC33,AE33) -> 0 | AH33: =SUM(D33,F33,H33,J33,L33,N33,P33,R33,T33,V33,X33,Z33,AB33,AD33,AF33) -> 0
A34: C | B34: Environmental Studies & Reports
B35: AA Screening Report(s) (Ground Investigation & environmental reporting) | C35: 0 | D35: =(C35*D$3) -> 0 | E35: 0 | F35: =(E35*F$3) -> 0 | G35: 0 | H35: =(G35*H$3) -> 0 | I35: 0 | J35: =(I35*J$3) -> 0 | K35: 0 | L35: =(K35*L$3) -> 0 | M35: 0 | N35: =(M35*N$3) -> 0 | O35: 0 | P35: =(O35*P$3) -> 0 | Q35: 0 | R35: =(Q35*R$3) -> 0 | S35: 0 | T35: =(S35*T$3) -> 0 | U35: 0 | V35: =(U35*V$3) -> 0 | W35: 0 | X35: =(W35*X$3) -> 0 | Y35: 0 | Z35: =(Y35*Z$3) -> 0 | AA35: 0 | AB35: =(AA35*AB$3) -> 0 | AC35: 0 | AD35: =(AC35*AD$3) -> 0 | AE35: 0 | AF35: =(AE35*AF$3) -> 0 | AG35: =SUM(C35,E35,G35,I35,K35,M35,O35,Q35,S35,U35,W35,Y35,AA35,AC35,AE35) -> 0 | AH35: =SUM(D35,F35,H35,J35,L35,N35,P35,R35,T35,V35,X35,Z35,AB35,AD35,AF35) -> 0
B36: Natura Impact Statement or Article 6(2) Report as necessary | C36: 0 | D36: =(C36*D$3) -> 0 | E36: 0 | F36: =(E36*F$3) -> 0 | G36: 0 | H36: =(G36*H$3) -> 0 | I36: 0 | J36: =(I36*J$3) -> 0 | K36: 0 | L36: =(K36*L$3) -> 0 | M36: 0 | N36: =(M36*N$3) -> 0 | O36: 0 | P36: =(O36*P$3) -> 0 | Q36: 0 | R36: =(Q36*R$3) -> 0 | S36: 0 | T36: =(S36*T$3) -> 0 | U36: 0 | V36: =(U36*V$3) -> 0 | W36: 0 | X36: =(W36*X$3) -> 0 | Y36: 0 | Z36: =(Y36*Z$3) -> 0 | AA36: 0 | AB36: =(AA36*AB$3) -> 0 | AC36: 0 | AD36: =(AC36*AD$3) -> 0 | AE36: 0 | AF36: =(AE36*AF$3) -> 0 | AG36: =SUM(C36,E36,G36,I36,K36,M36,O36,Q36,S36,U36,W36,Y36,AA36,AC36,AE36) -> 0 | AH36: =SUM(D36,F36,H36,J36,L36,N36,P36,R36,T36,V36,X36,Z36,AB36,AD36,AF36) -> 0
B37: Ecological Impact Assessment Report (EcIA) | C37: 0 | D37: =(C37*D$3) -> 0 | E37: 0 | F37: =(E37*F$3) -> 0 | G37: 0 | H37: =(G37*H$3) -> 0 | I37: 0 | J37: =(I37*J$3) -> 0 | K37: 0 | L37: =(K37*L$3) -> 0 | M37: 0 | N37: =(M37*N$3) -> 0 | O37: 0 | P37: =(O37*P$3) -> 0 | Q37: 0 | R37: =(Q37*R$3) -> 0 | S37: 0 | T37: =(S37*T$3) -> 0 | U37: 0 | V37: =(U37*V$3) -> 0 | W37: 0 | X37: =(W37*X$3) -> 0 | Y37: 0 | Z37: =(Y37*Z$3) -> 0 | AA37: 0 | AB37: =(AA37*AB$3) -> 0 | AC37: 0 | AD37: =(AC37*AD$3) -> 0 | AE37: 0 | AF37: =(AE37*AF$3) -> 0 | AG37: =SUM(C37,E37,G37,I37,K37,M37,O37,Q37,S37,U37,W37,Y37,AA37,AC37,AE37) -> 0 | AH37: =SUM(D37,F37,H37,J37,L37,N37,P37,R37,T37,V37,X37,Z37,AB37,AD37,AF37) -> 0
B38: WFD Screening Report | C38: 0 | D38: =(C38*D$3) -> 0 | E38: 0 | F38: =(E38*F$3) -> 0 | G38: 0 | H38: =(G38*H$3) -> 0 | I38: 0 | J38: =(I38*J$3) -> 0 | K38: 0 | L38: =(K38*L$3) -> 0 | M38: 0 | N38: =(M38*N$3) -> 0 | O38: 0 | P38: =(O38*P$3) -> 0 | Q38: 0 | R38: =(Q38*R$3) -> 0 | S38: 0 | T38: =(S38*T$3) -> 0 | U38: 0 | V38: =(U38*V$3) -> 0 | W38: 0 | X38: =(W38*X$3) -> 0 | Y38: 0 | Z38: =(Y38*Z$3) -> 0 | AA38: 0 | AB38: =(AA38*AB$3) -> 0 | AC38: 0 | AD38: =(AC38*AD$3) -> 0 | AE38: 0 | AF38: =(AE38*AF$3) -> 0 | AG38: =SUM(C38,E38,G38,I38,K38,M38,O38,Q38,S38,U38,W38,Y38,AA38,AC38,AE38) -> 0 | AH38: =SUM(D38,F38,H38,J38,L38,N38,P38,R38,T38,V38,X38,Z38,AB38,AD38,AF38) -> 0
B39: EIA Screening Report | C39: 0 | D39: =(C39*D$3) -> 0 | E39: 0 | F39: =(E39*F$3) -> 0 | G39: 0 | H39: =(G39*H$3) -> 0 | I39: 0 | J39: =(I39*J$3) -> 0 | K39: 0 | L39: =(K39*L$3) -> 0 | M39: 0 | N39: =(M39*N$3) -> 0 | O39: 0 | P39: =(O39*P$3) -> 0 | Q39: 0 | R39: =(Q39*R$3) -> 0 | S39: 0 | T39: =(S39*T$3) -> 0 | U39: 0 | V39: =(U39*V$3) -> 0 | W39: 0 | X39: =(W39*X$3) -> 0 | Y39: 0 | Z39: =(Y39*Z$3) -> 0 | AA39: 0 | AB39: =(AA39*AB$3) -> 0 | AC39: 0 | AD39: =(AC39*AD$3) -> 0 | AE39: 0 | AF39: =(AE39*AF$3) -> 0 | AG39: =SUM(C39,E39,G39,I39,K39,M39,O39,Q39,S39,U39,W39,Y39,AA39,AC39,AE39) -> 0 | AH39: =SUM(D39,F39,H39,J39,L39,N39,P39,R39,T39,V39,X39,Z39,AB39,AD39,AF39) -> 0
B40: Preliminary CEMP | C40: 0 | D40: =(C40*D$3) -> 0 | E40: 0 | F40: =(E40*F$3) -> 0 | G40: 0 | H40: =(G40*H$3) -> 0 | I40: 0 | J40: =(I40*J$3) -> 0 | K40: 0 | L40: =(K40*L$3) -> 0 | M40: 0 | N40: =(M40*N$3) -> 0 | O40: 0 | P40: =(O40*P$3) -> 0 | Q40: 0 | R40: =(Q40*R$3) -> 0 | S40: 0 | T40: =(S40*T$3) -> 0 | U40: 0 | V40: =(U40*V$3) -> 0 | W40: 0 | X40: =(W40*X$3) -> 0 | Y40: 0 | Z40: =(Y40*Z$3) -> 0 | AA40: 0 | AB40: =(AA40*AB$3) -> 0 | AC40: 0 | AD40: =(AC40*AD$3) -> 0 | AE40: 0 | AF40: =(AE40*AF$3) -> 0 | AG40: =SUM(C40,E40,G40,I40,K40,M40,O40,Q40,S40,U40,W40,Y40,AA40,AC40,AE40) -> 0 | AH40: =SUM(D40,F40,H40,J40,L40,N40,P40,R40,T40,V40,X40,Z40,AB40,AD40,AF40) -> 0
A41: Phase 2 Total | C41: =SUM(C35:C40,C28:C33,C13:C26) -> 0 | D41: =SUM(D35:D40,D28:D33,D13:D26) -> 0 | E41: =SUM(E35:E40,E28:E33,E13:E26) -> 0 | F41: =SUM(F35:F40,F28:F33,F13:F26) -> 0 | G41: =SUM(G35:G40,G28:G33,G13:G26) -> 0 | H41: =SUM(H35:H40,H28:H33,H13:H26) -> 0 | I41: =SUM(I35:I40,I28:I33,I13:I26) -> 0 | J41: =SUM(J35:J40,J28:J33,J13:J26) -> 0 | ... AH41: =SUM(AH35:AH40,AH28:AH33,AH13:AH26) -> 0
A43: Phase 3 | B43: Statutory Process
...

Sheet Blackboy Weir
A1: Project Role | C1: =Rates!A4 -> Project Director | E1: =Rates!A5 -> Project Manager | G1: =Rates!A6 -> Associate/Principal Ecologist/Senior Environmental Consultant | I1: =Rates!A7 -> Project Supervisor Design Process | K1: =Rates!A8 -> Civil Design Team Lead/Senior Engineer | M1: =Rates!A9 -> Structures Design Team Lead/Senior Engineer | O1: =Rates!A10 -> Hydraulics/Hydrology Team Lead/Senior Hydraulic Engineer/Hydrologist | Q1: =Rates!A11 -> Senior Ecologist | S1: =Rates!A12 -> Engineer | U1: =Rates!A13 -> Ecologist/ Environmental Consultant | W1: =Rates!A14 -> Graduate Engineer | Y1: =Rates!A15 -> Senior Technician | AA1: =Rates!A16 -> Junior Technician | AC1: =Rates!A17 -> Resident Engineer | AE1: =Rates!A18 -> Employer's Representative | AG1: Total Hours | AH1: Item Total
C2: =Rates!C4 -> Insert Name 1 | E2: =Rates!C5 -> Insert Name 2 | G2: =Rates!C6 -> Insert Name 3 | I2: =Rates!C7 -> Insert Name 4 | K2: =Rates!C8 -> Insert Name 5 | M2: =Rates!C9 -> Insert Name 6 | O2: =Rates!C10 -> Insert Name 7 | Q2: =Rates!C11 -> Insert Name 8 | S2: =Rates!C12 -> Insert Name 9 | U2: =Rates!C13 -> Insert Name 10 | W2: =Rates!C14 -> Insert Name 11 | Y2: =Rates!C15 -> Insert Name 12 | AA2: =Rates!C16 -> Insert Name 13 | AC2: =Rates!C17 -> Insert Name 14 | AE2: =Rates!C18 -> Insert Name 15
C3: No. Hours | D3: =Rates!B4 -> 0 | E3: No. Hours | F3: =Rates!B5 -> 0 | G3: No. Hours | H3: =Rates!B6 -> 0 | I3: No. Hours | J3: =Rates!B7 -> 0 | K3: No. Hours | L3: =Rates!B8 -> 0 | M3: No. Hours | N3: =Rates!B9 -> 0 | O3: No. Hours | P3: =Rates!B10 -> 0 | Q3: No. Hours | R3: =Rates!B11 -> 0 | S3: No. Hours | T3: =Rates!B12 -> 0 | U3: No. Hours | V3: =Rates!B13 -> 0 | W3: No. Hours | X3: =Rates!B14 -> 0 | Y3: No. Hours | Z3: =Rates!B15 -> 0 | AA3: No. Hours | AB3: =Rates!B16 -> 0 | AC3: No. Hours | AD3: =Rates!B17 -> 0 | AE3: No. Hours | AF3: =Rates!B18 -> 0
A4: Phase 1 | B4: Feasibility Study & Option Selection
A5: A | B5: Fesability - Options
B6: Feasibility Study and Option Selection Report | C6: 0 | D6: =(C6*D$3) -> 0 | E6: 0 | F6: =(E6*F$3) -> 0 | G6: 0 | H6: =(G6*H$3) -> 0 | I6: 0 | J6: =(I6*J$3) -> 0 | K6: 0 | L6: =(K6*L$3) -> 0 | M6: 0 | N6: =(M6*N$3) -> 0 | O6: 0 | P6: =(O6*P$3) -> 0 | Q6: 0 | R6: =(Q6*R$3) -> 0 | S6: 0 | T6: =(S6*T$3) -> 0 | U6: 0 | V6: =(U6*V$3) -> 0 | W6: 0 | X6: =(W6*X$3) -> 0 | Y6: 0 | Z6: =(Y6*Z$3) -> 0 | AA6: 0 | AB6: =(AA6*AB$3) -> 0 | AC6: 0 | AD6: =(AC6*AD$3) -> 0 | AE6: 0 | AF6: =(AE6*AF$3) -> 0 | AG6: =SUM(C6,E6,G6,I6,K6,M6,O6,Q6,S6,U6,W6,Y6,AA6,AC6,AE6) -> 0 | AH6: =SUM(D6,F6,H6,J6,L6,N6,P6,R6,T6,V6,X6,Z6,AB6,AD6,AF6) -> 0
A7: B | B7: Surveys & Studies
B8: Preliminary Ecological Assessment Report (PEAR), Scoping of Assessments and Surveys for the next phase of the project. | C8: 0 | D8: =(C8*D$3) -> 0 | E8: 0 | F8: =(E8*F$3) -> 0 | G8: 0 | H8: =(G8*H$3) -> 0 | I8: 0 | J8: =(I8*J$3) -> 0 | K8: 0 | L8: =(K8*L$3) -> 0 | M8: 0 | N8: =(M8*N$3) -> 0 | O8: 0 | P8: =(O8*P$3) -> 0 | Q8: 0 | R8: =(Q8*R$3) -> 0 | S8: 0 | T8: =(S8*T$3) -> 0 | U8: 0 | V8: =(U8*V$3) -> 0 | W8: 0 | X8: =(W8*X$3) -> 0 | Z8: =(Y8*Z$3) -> 0 | AA8: 0 | AB8: =(AA8*AB$3) -> 0 | AC8: 0 | AD8: =(AC8*AD$3) -> 0 | AE8: 0 | AF8: =(AE8*AF$3) -> 0 | AG8: =SUM(C8,E8,G8,I8,K8,M8,O8,Q8,S8,U8,W8,Y8,AA8,AC8,AE8) -> 0 | AH8: =SUM(D8,F8,H8,J8,L8,N8,P8,R8,T8,V8,X8,Z8,AB8,AD8,AF8) -> 0
A9: Phase 1 Total | C9: =SUM(C6:C6,C8:C8) -> 0 | D9: =SUM(D6:D6,D8:D8) -> 0 | E9: =SUM(E6:E6,E8:E8) -> 0 | F9: =SUM(F6:F6,F8:F8) -> 0 | G9: =SUM(G6:G6,G8:G8) -> 0 | H9: =SUM(H6:H6,H8:H8) -> 0 | I9: =SUM(I6:I6,I8:I8) -> 0 | J9: =SUM(J6:J6,J8:J8) -> 0 | ... AH9: =SUM(AH6:AH6,AH8:AH8) -> 0
A11: Phase 2 | B11: Preliminary Design
A12: A | B12: Preliminary Design
B13: Civil and Structural Design | C13: 0 | D13: =(C13*D$3) -> 0 | E13: 0 | F13: =(E13*F$3) -> 0 | G13: 0 | H13: =(G13*H$3) -> 0 | I13: 0 | J13: =(I13*J$3) -> 0 | K13: 0 | L13: =(K13*L$3) -> 0 | M13: 0 | N13: =(M13*N$3) -> 0 | O13: 0 | P13: =(O13*P$3) -> 0 | Q13: 0 | R13: =(Q13*R$3) -> 0 | S13: 0 | T13: =(S13*T$3) -> 0 | U13: 0 | V13: =(U13*V$3) -> 0 | W13: 0 | X13: =(W13*X$3) -> 0 | Y13: 0 | Z13: =(Y13*Z$3) -> 0 | AA13: 0 | AB13: =(AA13*AB$3) -> 0 | AC13: 0 | AD13: =(AC13*AD$3) -> 0 | AE13: 0 | AF13: =(AE13*AF$3) -> 0 | AG13: =SUM(C13,E13,G13,I13,K13,M13,O13,Q13,S13,U13,W13,Y13,AA13,AC13,AE13) -> 0 | AH13: =SUM(D13,F13,H13,J13,L13,N13,P13,R13,T13,V13,X13,Z13,AB13,AD13,AF13) -> 0
B14: Ground Investigation (Scoping, Tender & Management of) | C14: 0 | D14: =(C14*D$3) -> 0 | E14: 0 | F14: =(E14*F$3) -> 0 | G14: 0 | H14: =(G14*H$3) -> 0 | I14: 0 | J14: =(I14*J$3) -> 0 | K14: 0 | L14: =(K14*L$3) -> 0 | M14: 0 | N14: =(M14*N$3) -> 0 | O14: 0 | P14: =(O14*P$3) -> 0 | Q14: 0 | R14: =(Q14*R$3) -> 0 | S14: 0 | T14: =(S14*T$3) -> 0 | U14: 0 | V14: =(U14*V$3) -> 0 | W14: 0 | X14: =(W14*X$3) -> 0 | Y14: 0 | Z14: =(Y14*Z$3) -> 0 | AA14: 0 | AB14: =(AA14*AB$3) -> 0 | AC14: 0 | AD14: =(AC14*AD$3) -> 0 | AE14: 0 | AF14: =(AE14*AF$3) -> 0 | AG14: =SUM(C14,E14,G14,I14,K14,M14,O14,Q14,S14,U14,W14,Y14,AA14,AC14,AE14) -> 0 | AH14: =SUM(D14,F14,H14,J14,L14,N14,P14,R14,T14,V14,X14,Z14,AB14,AD14,AF14) -> 0
B15: Hydrology and Flood Risk Assessment | C15: 0 | D15: =(C15*D$3) -> 0 | E15: 0 | F15: =(E15*F$3) -> 0 | G15: 0 | H15: =(G15*H$3) -> 0 | I15: 0 | J15: =(I15*J$3) -> 0 | K15: 0 | L15: =(K15*L$3) -> 0 | M15: 0 | N15: =(M15*N$3) -> 0 | O15: 0 | P15: =(O15*P$3) -> 0 | Q15: 0 | R15: =(Q15*R$3) -> 0 | S15: 0 | T15: =(S15*T$3) -> 0 | U15: 0 | V15: =(U15*V$3) -> 0 | W15: 0 | X15: =(W15*X$3) -> 0 | Y15: 0 | Z15: =(Y15*Z$3) -> 0 | AA15: 0 | AB15: =(AA15*AB$3) -> 0 | AC15: 0 | AD15: =(AC15*AD$3) -> 0 | AE15: 0 | AF15: =(AE15*AF$3) -> 0 | AG15: =SUM(C15,E15,G15,I15,K15,M15,O15,Q15,S15,U15,W15,Y15,AA15,AC15,AE15) -> 0 | AH15: =SUM(D15,F15,H15,J15,L15,N15,P15,R15,T15,V15,X15,Z15,AB15,AD15,AF15) -> 0
B16: Hydraulic Modelling and Flood Risk Assessment Report | C16: 0 | D16: =(C16*D$3) -> 0 | E16: 0 | F16: =(E16*F$3) -> 0 | G16: 0 | H16: =(G16*H$3) -> 0 | I16: 0 | J16: =(I16*J$3) -> 0 | K16: 0 | L16: =(K16*L$3) -> 0 | M16: 0 | N16: =(M16*N$3) -> 0 | O16: 0 | P16: =(O16*P$3) -> 0 | Q16: 0 | R16: =(Q16*R$3) -> 0 | S16: 0 | T16: =(S16*T$3) -> 0 | U16: 0 | V16: =(U16*V$3) -> 0 | W16: 0 | X16: =(W16*X$3) -> 0 | Y16: 0 | Z16: =(Y16*Z$3) -> 0 | AA16: 0 | AB16: =(AA16*AB$3) -> 0 | AC16: 0 | AD16: =(AC16*AD$3) -> 0 | AE16: 0 | AF16: =(AE16*AF$3) -> 0 | AG16: =SUM(C16,E16,G16,I16,K16,M16,O16,Q16,S16,U16,W16,Y16,AA16,AC16,AE16) -> 0 | AH16: =SUM(D16,F16,H16,J16,L16,N16,P16,R16,T16,V16,X16,Z16,AB16,AD16,AF16) -> 0
B17: OPW Section 47 Report | C17: 0 | D17: =(C17*D$3) -> 0 | E17: 0 | F17: =(E17*F$3) -> 0 | G17: 0 | H17: =(G17*H$3) -> 0 | I17: 0 | J17: =(I17*J$3) -> 0 | K17: 0 | L17: =(K17*L$3) -> 0 | M17: 0 | N17: =(M17*N$3) -> 0 | O17: 0 | P17: =(O17*P$3) -> 0 | Q17: 0 | R17: =(Q17*R$3) -> 0 | S17: 0 | T17: =(S17*T$3) -> 0 | U17: 0 | V17: =(U17*V$3) -> 0 | W17: 0 | X17: =(W17*X$3) -> 0 | Y17: 0 | Z17: =(Y17*Z$3) -> 0 | AA17: 0 | AB17: =(AA17*AB$3) -> 0 | AC17: 0 | AD17: =(AC17*AD$3) -> 0 | AE17: 0 | AF17: =(AE17*AF$3) -> 0 | AG17: =SUM(C17,E17,G17,I17,K17,M17,O17,Q17,S17,U17,W17,Y17,AA17,AC17,AE17) -> 0 | AH17: =SUM(D17,F17,H17,J17,L17,N17,P17,R17,T17,V17,X17,Z17,AB17,AD17,AF17) -> 0
B18: Geomorphology Report | C18: 0 | D18: =(C18*D$3) -> 0 | E18: 0 | F18: =(E18*F$3) -> 0 | G18: 0 | H18: =(G18*H$3) -> 0 | I18: 0 | J18: =(I18*J$3) -> 0 | K18: 0 | L18: =(K18*L$3) -> 0 | M18: 0 | N18: =(M18*N$3) -> 0 | O18: 0 | P18: =(O18*P$3) -> 0 | Q18: 0 | R18: =(Q18*R$3) -> 0 | S18: 0 | T18: =(S18*T$3) -> 0 | U18: 0 | V18: =(U18*V$3) -> 0 | W18: 0 | X18: =(W18*X$3) -> 0 | Y18: 0 | Z18: =(Y18*Z$3) -> 0 | AA18: 0 | AB18: =(AA18*AB$3) -> 0 | AC18: 0 | AD18: =(AC18*AD$3) -> 0 | AE18: 0 | AF18: =(AE18*AF$3) -> 0 | AG18: =SUM(C18,E18,G18,I18,K18,M18,O18,Q18,S18,U18,W18,Y18,AA18,AC18,AE18) -> 0 | AH18: =SUM(D18,F18,H18,J18,L18,N18,P18,R18,T18,V18,X18,Z18,AB18,AD18,AF18) -> 0
B19: Sediment Sampling & Analysis | C19: 0 | D19: =(C19*D$3) -> 0 | E19: 0 | F19: =(E19*F$3) -> 0 | G19: 0 | H19: =(G19*H$3) -> 0 | I19: 0 | J19: =(I19*J$3) -> 0 | K19: 0 | L19: =(K19*L$3) -> 0 | M19: 0 | N19: =(M19*N$3) -> 0 | O19: 0 | P19: =(O19*P$3) -> 0 | Q19: 0 | R19: =(Q19*R$3) -> 0 | S19: 0 | T19: =(S19*T$3) -> 0 | U19: 0 | V19: =(U19*V$3) -> 0 | W19: 0 | X19: =(W19*X$3) -> 0 | Y19: 0 | Z19: =(Y19*Z$3) -> 0 | AA19: 0 | AB19: =(AA19*AB$3) -> 0 | AC19: 0 | AD19: =(AC19*AD$3) -> 0 | AE19: 0 | AF19: =(AE19*AF$3) -> 0 | AG19: =SUM(C19,E19,G19,I19,K19,M19,O19,Q19,S19,U19,W19,Y19,AA19,AC19,AE19) -> 0 | AH19: =SUM(D19,F19,H19,J19,L19,N19,P19,R19,T19,V19,X19,Z19,AB19,AD19,AF19) -> 0
B20: Sediment Modelling | C20: 0 | D20: =(C20*D$3) -> 0 | E20: 0 | F20: =(E20*F$3) -> 0 | G20: 0 | H20: =(G20*H$3) -> 0 | I20: 0 | J20: =(I20*J$3) -> 0 | K20: 0 | L20: =(K20*L$3) -> 0 | M20: 0 | N20: =(M20*N$3) -> 0 | O20: 0 | P20: =(O20*P$3) -> 0 | Q20: 0 | R20: =(Q20*R$3) -> 0 | S20: 0 | T20: =(S20*T$3) -> 0 | U20: 0 | V20: =(U20*V$3) -> 0 | W20: 0 | X20: =(W20*X$3) -> 0 | Y20: 0 | Z20: =(Y20*Z$3) -> 0 | AA20: 0 | AB20: =(AA20*AB$3) -> 0 | AC20: 0 | AD20: =(AC20*AD$3) -> 0 | AE20: 0 | AF20: =(AE20*AF$3) -> 0 | AG20: =SUM(C20,E20,G20,I20,K20,M20,O20,Q20,S20,U20,W20,Y20,AA20,AC20,AE20) -> 0 | AH20: =SUM(D20,F20,H20,J20,L20,N20,P20,R20,T20,V20,X20,Z20,AB20,AD20,AF20) -> 0
B21: Architectural and Cultural Heritage Assessment | C21: 0 | D21: =(C21*D$3) -> 0 | E21: 0 | F21: =(E21*F$3) -> 0 | G21: 0 | H21: =(G21*H$3) -> 0 | I21: 0 | J21: =(I21*J$3) -> 0 | K21: 0 | L21: =(K21*L$3) -> 0 | M21: 0 | N21: =(M21*N$3) -> 0 | O21: 0 | P21: =(O21*P$3) -> 0 | Q21: 0 | R21: =(Q21*R$3) -> 0 | S21: 0 | T21: =(S21*T$3) -> 0 | U21: 0 | V21: =(U21*V$3) -> 0 | W21: 0 | X21: =(W21*X$3) -> 0 | Y21: 0 | Z21: =(Y21*Z$3) -> 0 | AA21: 0 | AB21: =(AA21*AB$3) -> 0 | AC21: 0 | AD21: =(AC21*AD$3) -> 0 | AE21: 0 | AF21: =(AE21*AF$3) -> 0 | AG21: =SUM(C21,E21,G21,I21,K21,M21,O21,Q21,S21,U21,W21,Y21,AA21,AC21,AE21) -> 0 | AH21: =SUM(D21,F21,H21,J21,L21,N21,P21,R21,T21,V21,X21,Z21,AB21,AD21,AF21) -> 0
B22: Design Report | C22: 0 | D22: =(C22*D$3) -> 0 | E22: 0 | F22: =(E22*F$3) -> 0 | G22: 0 | H22: =(G22*H$3) -> 0 | I22: 0 | J22: =(I22*J$3) -> 0 | K22: 0 | L22: =(K22*L$3) -> 0 | M22: 0 | N22: =(M22*N$3) -> 0 | O22: 0 | P22: =(O22*P$3) -> 0 | Q22: 0 | R22: =(Q22*R$3) -> 0 | S22: 0 | T22: =(S22*T$3) -> 0 | U22: 0 | V22: =(U22*V$3) -> 0 | W22: 0 | X22: =(W22*X$3) -> 0 | Y22: 0 | Z22: =(Y22*Z$3) -> 0 | AA22: 0 | AB22: =(AA22*AB$3) -> 0 | AC22: 0 | AD22: =(AC22*AD$3) -> 0 | AE22: 0 | AF22: =(AE22*AF$3) -> 0 | AG22: =SUM(C22,E22,G22,I22,K22,M22,O22,Q22,S22,U22,W22,Y22,AA22,AC22,AE22) -> 0 | AH22: =SUM(D22,F22,H22,J22,L22,N22,P22,R22,T22,V22,X22,Z22,AB22,AD22,AF22) -> 0
B23: Waste Management & Circular Economy | C23: 0 | D23: =(C23*D$3) -> 0 | E23: 0 | F23: =(E23*F$3) -> 0 | G23: 0 | H23: =(G23*H$3) -> 0 | I23: 0 | J23: =(I23*J$3) -> 0 | K23: 0 | L23: =(K23*L$3) -> 0 | M23: 0 | N23: =(M23*N$3) -> 0 | O23: 0 | P23: =(O23*P$3) -> 0 | Q23: 0 | R23: =(Q23*R$3) -> 0 | S23: 0 | T23: =(S23*T$3) -> 0 | U23: 0 | V23: =(U23*V$3) -> 0 | W23: 0 | X23: =(W23*X$3) -> 0 | Y23: 0 | Z23: =(Y23*Z$3) -> 0 | AA23: 0 | AB23: =(AA23*AB$3) -> 0 | AC23: 0 | AD23: =(AC23*AD$3) -> 0 | AE23: 0 | AF23: =(AE23*AF$3) -> 0 | AG23: =SUM(C23,E23,G23,I23,K23,M23,O23,Q23,S23,U23,W23,Y23,AA23,AC23,AE23) -> 0 | AH23: =SUM(D23,F23,H23,J23,L23,N23,P23,R23,T23,V23,X23,Z23,AB23,AD23,AF23) -> 0
B24: River Restoration Design | C24: 0 | D24: =(C24*D$3) -> 0 | E24: 0 | F24: =(E24*F$3) -> 0 | G24: 0 | H24: =(G24*H$3) -> 0 | I24: 0 | J24: =(I24*J$3) -> 0 | K24: 0 | L24: =(K24*L$3) -> 0 | M24: 0 | N24: =(M24*N$3) -> 0 | O24: 0 | P24: =(O24*P$3) -> 0 | Q24: 0 | R24: =(Q24*R$3) -> 0 | S24: 0 | T24: =(S24*T$3) -> 0 | U24: 0 | V24: =(U24*V$3) -> 0 | W24: 0 | X24: =(W24*X$3) -> 0 | Y24: 0 | Z24: =(Y24*Z$3) -> 0 | AA24: 0 | AB24: =(AA24*AB$3) -> 0 | AC24: 0 | AD24: =(AC24*AD$3) -> 0 | AE24: 0 | AF24: =(AE24*AF$3) -> 0 | AG24: =SUM(C24,E24,G24,I24,K24,M24,O24,Q24,S24,U24,W24,Y24,AA24,AC24,AE24) -> 0 | AH24: =SUM(D24,F24,H24,J24,L24,N24,P24,R24,T24,V24,X24,Z24,AB24,AD24,AF24) -> 0
... B28: Landscape Design | C28: 0 | D28: =(C28*D$3) -> 0 | E28: 0 | F28: =(E28*F$3) -> 0 | G28: 0 | H28: =(G28*H$3) -> 0 | I28: 0 | J28: =(I28*J$3) -> 0 | K28: 0 | L28: =(K28*L$3) -> 0 | M28: 0 | N28: =(M28*N$3) -> 0 | O28: 0 | P28: =(O28*P$3) -> 0 | Q28: 0 | R28: =(Q28*R$3) -> 0 | S28: 0 | T28: =(S28*T$3) -> 0 | U28: 0 | V28: =(U28*V$3) -> 0 | W28: 0 | X28: =(W28*X$3) -> 0 | Y28: 0 | Z28: =(Y28*Z$3) -> 0 | AA28: 0 | AB28: =(AA28*AB$3) -> 0 | AC28: 0 | AD28: =(AC28*AD$3) -> 0 | AE28: 0 | AF28: =(AE28*AF$3) -> 0 | AG28: =SUM(C28,E28,G28,I28,K28,M28,O28,Q28,S28,U28,W28,Y28,AA28,AC28,AE28) -> 0 | AH28: =SUM(D28,F28,H28,J28,L28,N28,P28,R28,T28,V28,X28,Z28,AB28,AD28,AF28) -> 0
A29: B | B29: Ecology Surveys
B30: Fossitt Habitat Survey | C30: 0 | D30: =(C30*D$3) -> 0 | E30: 0 | F30: =(E30*F$3) -> 0 | G30: 0 | H30: =(G30*H$3) -> 0 | I30: 0 | J30: =(I30*J$3) -> 0 | K30: 0 | L30: =(K30*L$3) -> 0 | M30: 0 | N30: =(M30*N$3) -> 0 | O30: 0 | P30: =(O30*P$3) -> 0 | Q30: 0 | R30: =(Q30*R$3) -> 0 | S30: 0 | T30: =(S30*T$3) -> 0 | U30: 0 | V30: =(U30*V$3) -> 0 | W30: 0 | X30: =(W30*X$3) -> 0 | Y30: 0 | Z30: =(Y30*Z$3) -> 0 | AA30: 0 | AB30: =(AA30*AB$3) -> 0 | AC30: 0 | AD30: =(AC30*AD$3) -> 0 | AE30: 0 | AF30: =(AE30*AF$3) -> 0 | AG30: =SUM(C30,E30,G30,I30,K30,M30,O30,Q30,S30,U30,W30,Y30,AA30,AC30,AE30) -> 0 | AH30: =SUM(D30,F30,H30,J30,L30,N30,P30,R30,T30,V30,X30,Z30,AB30,AD30,AF30) -> 0
B31: Invasive and Non-Native Species Survey (INNS) | C31: 0 | D31: =(C31*D$3) -> 0 | E31: 0 | F31: =(E31*F$3) -> 0 | G31: 0 | H31: =(G31*H$3) -> 0 | I31: 0 | J31: =(I31*J$3) -> 0 | K31: 0 | L31: =(K31*L$3) -> 0 | M31: 0 | N31: =(M31*N$3) -> 0 | O31: 0 | P31: =(O31*P$3) -> 0 | Q31: 0 | R31: =(Q31*R$3) -> 0 | S31: 0 | T31: =(S31*T$3) -> 0 | U31: 0 | V31: =(U31*V$3) -> 0 | W31: 0 | X31: =(W31*X$3) -> 0 | Y31: 0 | Z31: =(Y31*Z$3) -> 0 | AA31: 0 | AB31: =(AA31*AB$3) -> 0 | AC31: 0 | AD31: =(AC31*AD$3) -> 0 | AE31: 0 | AF31: =(AE31*AF$3) -> 0 | AG31: =SUM(C31,E31,G31,I31,K31,M31,O31,Q31,S31,U31,W31,Y31,AA31,AC31,AE31) -> 0 | AH31: =SUM(D31,F31,H31,J31,L31,N31,P31,R31,T31,V31,X31,Z31,AB31,AD31,AF31) -> 0
B32: Fish Spawning and Nursery Habitat Survey | C32: 0 | D32: =(C32*D$3) -> 0 | E32: 0 | F32: =(E32*F$3) -> 0 | G32: 0 | H32: =(G32*H$3) -> 0 | I32: 0 | J32: =(I32*J$3) -> 0 | K32: 0 | L32: =(K32*L$3) -> 0 | M32: 0 | N32: =(M32*N$3) -> 0 | O32: 0 | P32: =(O32*P$3) -> 0 | Q32: 0 | R32: =(Q32*R$3) -> 0 | S32: 0 | T32: =(S32*T$3) -> 0 | U32: 0 | V32: =(U32*V$3) -> 0 | W32: 0 | X32: =(W32*X$3) -> 0 | Y32: 0 | Z32: =(Y32*Z$3) -> 0 | AA32: 0 | AB32: =(AA32*AB$3) -> 0 | AC32: 0 | AD32: =(AC32*AD$3) -> 0 | AE32: 0 | AF32: =(AE32*AF$3) -> 0 | AG32: =SUM(C32,E32,G32,I32,K32,M32,O32,Q32,S32,U32,W32,Y32,AA32,AC32,AE32) -> 0 | AH32: =SUM(D32,F32,H32,J32,L32,N32,P32,R32,T32,V32,X32,Z32,AB32,AD32,AF32) -> 0
B33: Breeding and Nesting Bird Survey | C33: 0 | D33: =(C33*D$3) -> 0 | E33: 0 | F33: =(E33*F$3) -> 0 | G33: 0 | H33: =(G33*H$3) -> 0 | I33: 0 | J33: =(I33*J$3) -> 0 | K33: 0 | L33: =(K33*L$3) -> 0 | M33: 0 | N33: =(M33*N$3) -> 0 | O33: 0 | P33: =(O33*P$3) -> 0 | Q33: 0 | R33: =(Q33*R$3) -> 0 | S33: 0 | T33: =(S33*T$3) -> 0 | U33: 0 | V33: =(U33*V$3) -> 0 | W33: 0 | X33: =(W33*X$3) -> 0 | Y33: 0 | Z33: =(Y33*Z$3) -> 0 | AA33: 0 | AB33: =(AA33*AB$3) -> 0 | AC33: 0 | AD33: =(AC33*AD$3) -> 0 | AE33: 0 | AF33: =(AE33*AF$3) -> 0 | AG33: =SUM(C33,E33,G33,I33,K33,M33,O33,Q33,S33,U33,W33,Y33,AA33,AC33,AE33) -> 0 | AH33: =SUM(D33,F33,H33,J33,L33,N33,P33,R33,T33,V33,X33,Z33,AB33,AD33,AF33) -> 0
B34: Bat Survey | C34: 0 | D34: 0 | E34: 0 | F34: 0 | G34: 0 | H34: 0 | I34: 0 | J34: 0 | K34: 0 | L34: 0 | M34: 0 | N34: 0 | O34: 0 | P34: 0 | Q34: 0 | R34: 0
B35: Mammal Survey | C35: 0 | D35: =(C35*D$3) -> 0 | E35: 0 | F35: =(E35*F$3) -> 0 | G35: 0 | H35: =(G35*H$3) -> 0 | I35: 0 | J35: =(I35*J$3) -> 0 | K35: 0 | L35: =(K35*L$3) -> 0 | M35: 0 | N35: =(M35*N$3) -> 0 | O35: 0 | P35: =(O35*P$3) -> 0 | Q35: 0 | R35: =(Q35*R$3) -> 0 | S35: 0 | T35: =(S35*T$3) -> 0 | U35: 0 | V35: =(U35*V$3) -> 0 | W35: 0 | X35: =(W35*X$3) -> 0 | Y35: 0 | Z35: =(Y35*Z$3) -> 0 | AA35: 0 | AB35: =(AA35*AB$3) -> 0 | AC35: 0 | AD35: =(AC35*AD$3) -> 0 | AE35: 0 | AF35: =(AE35*AF$3) -> 0 | AG35: =SUM(C35,E35,G35,I35,K35,M35,O35,Q35,S35,U35,W35,Y35,AA35,AC35,AE35) -> 0 | AH35: =SUM(D35,F35,H35,J35,L35,N35,P35,R35,T35,V35,X35,Z35,AB35,AD35,AF35) -> 0
A36: C | B36: Environmental Studies & Reports
B37: AA Screening Report(s) (Ground Investigation & environmental reporting) | C37: 0 | D37: =(C37*D$3) -> 0 | E37: 0 | F37: =(E37*F$3) -> 0 | G37: 0 | H37: =(G37*H$3) -> 0 | I37: 0 | J37: =(I37*J$3) -> 0 | K37: 0 | L37: =(K37*L$3) -> 0 | M37: 0 | N37: =(M37*N$3) -> 0 | O37: 0 | P37: =(O37*P$3) -> 0 | Q37: 0 | R37: =(Q37*R$3) -> 0 | S37: 0 | T37: =(S37*T$3) -> 0 | U37: 0 | V37: =(U37*V$3) -> 0 | W37: 0 | X37: =(W37*X$3) -> 0 | Y37: 0 | Z37: =(Y37*Z$3) -> 0 | AA37: 0 | AB37: =(AA37*AB$3) -> 0 | AC37: 0 | AD37: =(AC37*AD$3) -> 0 | AE37: 0 | AF37: =(AE37*AF$3) -> 0 | AG37: =SUM(C37,E37,G37,I37,K37,M37,O37,Q37,S37,U37,W37,Y37,AA37,AC37,AE37) -> 0 | AH37: =SUM(D37,F37,H37,J37,L37,N37,P37,R37,T37,V37,X37,Z37,AB37,AD37,AF37) -> 0
B38: Natura Impact Statement or Article 6(2) Report as necessary | C38: 0 | D38: =(C38*D$3) -> 0 | E38: 0 | F38: =(E38*F$3) -> 0 | G38: 0 | H38: =(G38*H$3) -> 0 | I38: 0 | J38: =(I38*J$3) -> 0 | K38: 0 | L38: =(K38*L$3) -> 0 | M38: 0 | N38: =(M38*N$3) -> 0 | O38: 0 | P38: =(O38*P$3) -> 0 | Q38: 0 | R38: =(Q38*R$3) -> 0 | S38: 0 | T38: =(S38*T$3) -> 0 | U38: 0 | V38: =(U38*V$3) -> 0 | W38: 0 | X38: =(W38*X$3) -> 0 | Y38: 0 | Z38: =(Y38*Z$3) -> 0 | AA38: 0 | AB38: =(AA38*AB$3) -> 0 | AC38: 0 | AD38: =(AC38*AD$3) -> 0 | AE38: 0 | AF38: =(AE38*AF$3) -> 0 | AG38: =SUM(C38,E38,G38,I38,K38,M38,O38,Q38,S38,U38,W38,Y38,AA38,AC38,AE38) -> 0 | AH38: =SUM(D38,F38,H38,J38,L38,N38,P38,R38,T38,V38,X38,Z38,AB38,AD38,AF38) -> 0
