Workbook

Sheet Cover
A1: #VALUE!
A2: National Barrier Mitigation Programme
A4: PRICING DOCUMENT
A5: Engineering & Environmental Consultancy Services
B7: Tenderer Name
B10: Signature of person authorised to sign Tenders on behalf of the Tenderer
B13: Date:
A16: Document Verification Sheet
A17: Project Title: | C17: Cahernahallia Bridge and Blackboy Weir Barrier Mitigation Project
A18: Document Title: | C18: Pricing Document
A19: File Reference: | C19: NBMP_0832002.01.01.02.01.002
A20: Date: | C20: 46262 | D20: Issue No.: | E20: I01
A22: Revision | B22: Date | C22: Description
A23: D01 | B23: 46228 | C23: Prepared by | D23: Checked by | E23: Approved by
C24: R McGloin | D24: P Glynn
A25: Revision | B25: Date | C25: Description
A26: I01 | B26: 46262 | C26: Prepared by | D26: Checked by | E26: Approved by
C27: P Glynn | D27: M Murphy | E27: M Murphy
A28: Revision | B28: Date | C28: Description
C29: Prepared by | D29: Checked by | E29: Approved by
A31: Revision | B31: Date | C31: Description
C32: Prepared by | D32: Checked by | E32: Approved by
A34: Revision | B34: Date | C34: Description
C35: Prepared by | D35: Checked by | E35: Approved by

Sheet Rates
E1: Tender Cost Summary
A3: Role | B3: Rate | C3: Name of Person | E3: Phase | G3: Total
A4: Project Director | B4: 0 | C4: Insert Name 1 | E4: General Duties | G4: ='Project General Duties'!AH34 -> 0
A5: Project Manager | B5: 0 | C5: Insert Name 2 | E5: Phase 1 Feasibility Study & Option Selection | G5: =Cahernahallia!AH9 -> 0
A6: Associate/Principal Ecologist/Senior Environmental Consultant | B6: 0 | C6: Insert Name 3 | E6: Phase 2 Preliminary Design | G6: =Cahernahallia!AH41 -> 0
A7: Project Supervisor Design Process | B7: 0 | C7: Insert Name 4 | E7: Phase 3 Statutory Process | G7: =Cahernahallia!AH50 -> 0
A8: Civil Design Team Lead/Senior Engineer | B8: 0 | C8: Insert Name 5 | E8: Tender Total | G8: =SUM(G5:G7) -> 0
A9: Structures Design Team Lead/Senior Engineer | B9: 0 | C9: Insert Name 6 | E9: VAT at | F9: 0.23 | G9: =G8*F9 -> 0
A10: Hydraulics/Hydrology Team Lead/Senior Hydraulic Engineer/Hydrologist | B10: 0 | C10: Insert Name 7 | E10: Grand Total | G10: =G8+G9 -> 0
A11: Senior Ecologist | B11: 0 | C11: Insert Name 8
A12: Engineer | B12: 0 | C12: Insert Name 9
A13: Ecologist/ Environmental Consultant | B13: 0 | C13: Insert Name 10
A14: Graduate Engineer | B14: 0 | C14: Insert Name 11
A15: Senior Technician | B15: 0 | C15: Insert Name 12
A16: Junior Technician | B16: 0 | C16: Insert Name 13
A17: Resident Engineer | B17: 0 | C17: Insert Name 14
A18: Employer's Representative | B18: 0 | C18: Insert Name 15
A20: Note: Tenderers are to Complete the Rates and Names in the cells highlighted orange in the table above. The rates and names should automatically transfer to the Time sheet. Tenderer are required to insert the hours associated with each team member for each activity. Totals should automatically total for each activity, team member, phase and Tender total. If a Tender identifies any errors they shall immediately notify the contracting authority.

Sheet Project General Duties
A1: Project Role | C1: =Rates!A4 -> Project Director | E1: =Rates!A5 -> Project Manager | G1: =Rates!A6 -> Associate/Principal Ecologist/Senior Environmental Consultant | I1: =Rates!A7 -> Project Supervisor Design Process | K1: =Rates!A8 -> Civil Design Team Lead/Senior Engineer | M1: =Rates!A9 -> Structures Design Team Lead/Senior Engineer | O1: =Rates!A10 -> Hydraulics/Hydrology Team Lead/Senior Hydraulic Engineer/Hydrologist | Q1: =Rates!A11 -> Senior Ecologist | S1: =Rates!A12 -> Engineer | U1: =Rates!A13 -> Ecologist/ Environmental Consultant | W1: =Rates!A14 -> Graduate Engineer | Y1: =Rates!A15 -> Senior Technician | AA1: =Rates!A16 -> Junior Technician | AC1: =Rates!A17 -> Resident Engineer | AE1: =Rates!A18 -> Employer's Representative | AG1: Total Hours | AH1: Item Total
C2: =Rates!C4 -> Insert Name 1 | E2: =Rates!C5 -> Insert Name 2 | G2: =Rates!C6 -> Insert Name 3 | I2: =Rates!C7 -> Insert Name 4 | K2: =Rates!C8 -> Insert Name 5 | M2: =Rates!C9 -> Insert Name 6 | O2: =Rates!C10 -> Insert Name 7 | Q2: =Rates!C11 -> Insert Name 8 | S2: =Rates!C12 -> Insert Name 9 | U2: =Rates!C13 -> Insert Name 10 | W2: =Rates!C14 -> Insert Name 11 | Y2: =Rates!C15 -> Insert Name 12 | AA2: =Rates!C16 -> Insert Name 13 | AC2: =Rates!C17 -> Insert Name 14 | AE2: =Rates!C18 -> Insert Name 15
C3: No. Hours | D3: =Rates!B4 -> 0 | E3: No. Hours | F3: =Rates!B5 -> 0 | G3: No. Hours | H3: =Rates!B6 -> 0 | I3: No. Hours | J3: =Rates!B7 -> 0 | K3: No. Hours | L3: =Rates!B8 -> 0 | M3: No. Hours | N3: =Rates!B9 -> 0 | O3: No. Hours | P3: =Rates!B10 -> 0 | Q3: No. Hours | R3: =Rates!B11 -> 0 | S3: No. Hours | T3: =Rates!B12 -> 0 | U3: No. Hours | V3: =Rates!B13 -> 0 | W3: No. Hours | X3: =Rates!B14 -> 0 | Y3: No. Hours | Z3: =Rates!B15 -> 0 | AA3: No. Hours | AB3: =Rates!B16 -> 0 | AC3: No. Hours | AD3: =Rates!B17 -> 0 | AE3: No. Hours | AF3: =Rates!B18 -> 0
B4: Project Initiation
A5: A | B5: General Service Requirements
B6: Progress Report Template | C6: 0 | D6: =(C6*D$3) -> 0 | E6: 0 | F6: =(E6*F$3) -> 0 | G6: 0 | H6: =$H$3*G6 -> 0 | I6: 0 | J6: =(I6*J$3) -> 0 | K6: 0 | L6: =(K6*L$3) -> 0 | M6: 0 | N6: =(M6*N$3) -> 0 | O6: 0 | P6: =(O6*P$3) -> 0 | Q6: 0 | R6: =(Q6*R$3) -> 0 | S6: 0 | T6: =(S6*T$3) -> 0 | U6: 0 | V6: =(U6*V$3) -> 0 | W6: 0 | X6: =(W6*X$3) -> 0 | Y6: 0 | Z6: =(Y6*Z$3) -> 0 | AA6: 0 | AB6: =(AA6*AB$3) -> 0 | AC6: 0 | AD6: =(AC6*AD$3) -> 0 | AE6: 0 | AF6: =(AE6*AF$3) -> 0 | AG6: =SUM(C6,E6,I6,K6,M6,O6,Q6,S6,U6,W6,Y6,AA6,AC6,AE6) -> 0 | AH6: =SUM(D6,F6,J6,L6,N6,P6,R6,T6,V6,X6,Z6,AB6,AD6,AF6) -> 0
B7: Cost & Risk Management System Plan | C7: 0 | D7: =(C7*D$3) -> 0 | E7: 0 | F7: =(E7*F$3) -> 0 | G7: 0 | H7: =$H$3*G7 -> 0 | I7: 0 | J7: =(I7*J$3) -> 0 | K7: 0 | L7: =(K7*L$3) -> 0 | M7: 0 | N7: =(M7*N$3) -> 0 | O7: 0 | P7: =(O7*P$3) -> 0 | Q7: 0 | R7: =(Q7*R$3) -> 0 | S7: 0 | T7: =(S7*T$3) -> 0 | U7: 0 | V7: =(U7*V$3) -> 0 | W7: 0 | X7: =(W7*X$3) -> 0 | Y7: 0 | Z7: =(Y7*Z$3) -> 0 | AA7: 0 | AB7: =(AA7*AB$3) -> 0 | AC7: 0 | AD7: =(AC7*AD$3) -> 0 | AE7: 0 | AF7: =(AE7*AF$3) -> 0 | AG7: =SUM(C7,E7,I7,K7,M7,O7,Q7,S7,U7,W7,Y7,AA7,AC7,AE7) -> 0 | AH7: =SUM(D7,F7,J7,L7,N7,P7,R7,T7,V7,X7,Z7,AB7,AD7,AF7) -> 0
B8: Commission/Project Execution Plan | C8: 0 | D8: =(C8*D$3) -> 0 | E8: 0 | F8: =(E8*F$3) -> 0 | G8: 0 | H8: =$H$3*G8 -> 0 | I8: 0 | J8: =(I8*J$3) -> 0 | K8: 0 | L8: =(K8*L$3) -> 0 | M8: 0 | N8: =(M8*N$3) -> 0 | O8: 0 | P8: =(O8*P$3) -> 0 | Q8: 0 | R8: =(Q8*R$3) -> 0 | S8: 0 | T8: =(S8*T$3) -> 0 | U8: 0 | V8: =(U8*V$3) -> 0 | W8: 0 | X8: =(W8*X$3) -> 0 | Y8: 0 | Z8: =(Y8*Z$3) -> 0 | AA8: 0 | AB8: =(AA8*AB$3) -> 0 | AC8: 0 | AD8: =(AC8*AD$3) -> 0 | AE8: 0 | AF8: =(AE8*AF$3) -> 0 | AG8: =SUM(C8,E8,I8,K8,M8,O8,Q8,S8,U8,W8,Y8,AA8,AC8,AE8) -> 0 | AH8: =SUM(D8,F8,J8,L8,N8,P8,R8,T8,V8,X8,Z8,AB8,AD8,AF8) -> 0
B9: Detailed Commission Programme | C9: 0 | D9: =(C9*D$3) -> 0 | E9: 0 | F9: =(E9*F$3) -> 0 | G9: 0 | H9: =$H$3*G9 -> 0 | I9: 0 | J9: =(I9*J$3) -> 0 | K9: 0 | L9: =(K9*L$3) -> 0 | M9: 0 | N9: =(M9*N$3) -> 0 | O9: 0 | P9: =(O9*P$3) -> 0 | Q9: 0 | R9: =(Q9*R$3) -> 0 | S9: 0 | T9: =(S9*T$3) -> 0 | U9: 0 | V9: =(U9*V$3) -> 0 | W9: 0 | X9: =(W9*X$3) -> 0 | Y9: 0 | Z9: =(Y9*Z$3) -> 0 | AA9: 0 | AB9: =(AA9*AB$3) -> 0 | AC9: 0 | AD9: =(AC9*AD$3) -> 0 | AE9: 0 | AF9: =(AE9*AF$3) -> 0 | AG9: =SUM(C9,E9,I9,K9,M9,O9,Q9,S9,U9,W9,Y9,AA9,AC9,AE9) -> 0 | AH9: =SUM(D9,F9,J9,L9,N9,P9,R9,T9,V9,X9,Z9,AB9,AD9,AF9) -> 0
B10: Commission Risk Register Template | C10: 0 | D10: =(C10*D$3) -> 0 | E10: 0 | F10: =(E10*F$3) -> 0 | G10: 0 | H10: =$H$3*G10 -> 0 | I10: 0 | J10: =(I10*J$3) -> 0 | K10: 0 | L10: =(K10*L$3) -> 0 | M10: 0 | N10: =(M10*N$3) -> 0 | O10: 0 | P10: =(O10*P$3) -> 0 | Q10: 0 | R10: =(Q10*R$3) -> 0 | S10: 0 | T10: =(S10*T$3) -> 0 | U10: 0 | V10: =(U10*V$3) -> 0 | W10: 0 | X10: =(W10*X$3) -> 0 | Y10: 0 | Z10: =(Y10*Z$3) -> 0 | AA10: 0 | AB10: =(AA10*AB$3) -> 0 | AC10: 0 | AD10: =(AC10*AD$3) -> 0 | AE10: 0 | AF10: =(AE10*AF$3) -> 0 | AG10: =SUM(C10,E10,I10,K10,M10,O10,Q10,S10,U10,W10,Y10,AA10,AC10,AE10) -> 0 | AH10: =SUM(D10,F10,J10,L10,N10,P10,R10,T10,V10,X10,Z10,AB10,AD10,AF10) -> 0
B11: Consultation & Stakeholder Engagement Plan | C11: 0 | D11: =(C11*D$3) -> 0 | E11: 0 | F11: =(E11*F$3) -> 0 | G11: 0 | H11: =$H$3*G11 -> 0 | I11: 0 | J11: =(I11*J$3) -> 0 | K11: 0 | L11: =(K11*L$3) -> 0 | M11: 0 | N11: =(M11*N$3) -> 0 | O11: 0 | P11: =(O11*P$3) -> 0 | Q11: 0 | R11: =(Q11*R$3) -> 0 | S11: 0 | T11: =(S11*T$3) -> 0 | U11: 0 | V11: =(U11*V$3) -> 0 | W11: 0 | X11: =(W11*X$3) -> 0 | Y11: 0 | Z11: =(Y11*Z$3) -> 0 | AA11: 0 | AB11: =(AA11*AB$3) -> 0 | AC11: 0 | AD11: =(AC11*AD$3) -> 0 | AE11: 0 | AF11: =(AE11*AF$3) -> 0 | AG11: =SUM(C11,E11,I11,K11,M11,O11,Q11,S11,U11,W11,Y11,AA11,AC11,AE11) -> 0 | AH11: =SUM(D11,F11,J11,L11,N11,P11,R11,T11,V11,X11,Z11,AB11,AD11,AF11) -> 0
A12: B | B12: Health & Safety
B13: Safety & Health Duties (General) | C13: 0 | D13: =(C13*D$3) -> 0 | E13: 0 | F13: =(E13*F$3) -> 0 | G13: 0 | H13: =G13*H$3 -> 0 | I13: 0 | J13: =(I13*J$3) -> 0 | K13: 0 | L13: =(K13*L$3) -> 0 | M13: 0 | N13: =(M13*N$3) -> 0 | O13: 0 | P13: =(O13*P$3) -> 0 | Q13: 0 | R13: =(Q13*R$3) -> 0 | S13: 0 | T13: =(S13*T$3) -> 0 | U13: 0 | V13: =(U13*V$3) -> 0 | W13: 0 | X13: =(W13*X$3) -> 0 | Y13: 0 | Z13: =(Y13*Z$3) -> 0 | AA13: 0 | AB13: =(AA13*AB$3) -> 0 | AC13: 0 | AD13: =(AC13*AD$3) -> 0 | AE13: 0 | AF13: =(AE13*AF$3) -> 0 | AG13: =SUM(C13,E13,I13,K13,M13,O13,Q13,S13,U13,W13,Y13,AA13,AC13,AE13) -> 0 | AH13: =SUM(D13,F13,J13,L13,N13,P13,R13,T13,V13,X13,Z13,AB13,AD13,AF13) -> 0
B14: Preliminary Safety and Health Plan | C14: 0 | D14: =(C14*D$3) -> 0 | E14: 0 | F14: =(E14*F$3) -> 0 | G14: 0 | H14: =G14*H$3 -> 0 | I14: 0 | J14: =(I14*J$3) -> 0 | K14: 0 | L14: =(K14*L$3) -> 0 | M14: 0 | N14: =(M14*N$3) -> 0 | O14: 0 | P14: =(O14*P$3) -> 0 | Q14: 0 | R14: =(Q14*R$3) -> 0 | S14: 0 | T14: =(S14*T$3) -> 0 | U14: 0 | V14: =(U14*V$3) -> 0 | W14: 0 | X14: =(W14*X$3) -> 0 | Y14: 0 | Z14: =(Y14*Z$3) -> 0 | AA14: 0 | AB14: =(AA14*AB$3) -> 0 | AC14: 0 | AD14: =(AC14*AD$3) -> 0 | AE14: 0 | AF14: =(AE14*AF$3) -> 0 | AG14: =SUM(C14,E14,I14,K14,M14,O14,Q14,S14,U14,W14,Y14,AA14,AC14,AE14) -> 0 | AH14: =SUM(D14,F14,J14,L14,N14,P14,R14,T14,V14,X14,Z14,AB14,AD14,AF14) -> 0
B15: PSDP (All Duties & Reports) | C15: 0 | D15: =(C15*D$3) -> 0 | E15: 0 | F15: =(E15*F$3) -> 0 | G15: 0 | H15: =G15*H$3 -> 0 | I15: 0 | J15: =(I15*J$3) -> 0 | K15: 0 | L15: =(K15*L$3) -> 0 | M15: 0 | N15: =(M15*N$3) -> 0 | O15: 0 | P15: =(O15*P$3) -> 0 | Q15: 0 | R15: =(Q15*R$3) -> 0 | S15: 0 | T15: =(S15*T$3) -> 0 | U15: 0 | V15: =(U15*V$3) -> 0 | W15: 0 | X15: =(W15*X$3) -> 0 | Y15: 0 | Z15: =(Y15*Z$3) -> 0 | AA15: 0 | AB15: =(AA15*AB$3) -> 0 | AC15: 0 | AD15: =(AC15*AD$3) -> 0 | AE15: 0 | AF15: =(AE15*AF$3) -> 0 | AG15: =SUM(C15,E15,I15,K15,M15,O15,Q15,S15,U15,W15,Y15,AA15,AC15,AE15) -> 0 | AH15: =SUM(D15,F15,J15,L15,N15,P15,R15,T15,V15,X15,Z15,AB15,AD15,AF15) -> 0
B16: Safety & Health Duties - Designer Register Template | C16: 0 | D16: =(C16*D$3) -> 0 | E16: 0 | F16: =(E16*F$3) -> 0 | G16: 0 | H16: =G16*H$3 -> 0 | I16: 0 | J16: =(I16*J$3) -> 0 | K16: 0 | L16: =(K16*L$3) -> 0 | M16: 0 | N16: =(M16*N$3) -> 0 | O16: 0 | P16: =(O16*P$3) -> 0 | Q16: 0 | R16: =(Q16*R$3) -> 0 | S16: 0 | T16: =(S16*T$3) -> 0 | U16: 0 | V16: =(U16*V$3) -> 0 | W16: 0 | X16: =(W16*X$3) -> 0 | Y16: 0 | Z16: =(Y16*Z$3) -> 0 | AA16: 0 | AB16: =(AA16*AB$3) -> 0 | AC16: 0 | AD16: =(AC16*AD$3) -> 0 | AE16: 0 | AF16: =(AE16*AF$3) -> 0 | AG16: =SUM(C16,E16,I16,K16,M16,O16,Q16,S16,U16,W16,Y16,AA16,AC16,AE16) -> 0 | AH16: =SUM(D16,F16,J16,L16,N16,P16,R16,T16,V16,X16,Z16,AB16,AD16,AF16) -> 0
A17: Project Initiation Total | C17: =SUM(C6:C11,C13:C16) -> 0 | D17: =SUM(D6:D11,D13:D16) -> 0 | E17: =SUM(E6:E11,E13:E16) -> 0 | F17: =SUM(F6:F11,F13:F16) -> 0 | G17: =SUM(G6:G11,G13:G16) -> 0 | H17: =SUM(H6:H11,H13:H16) -> 0 | I17: =SUM(I6:I11,I13:I16) -> 0 | J17: =SUM(J6:J11,J13:J16) -> 0 | ... AH17: =SUM(AH6:AH11,AH13:AH16) -> 0
A19: Phase 1 - 3 | B19: Project Duration
A20: A | B20: General Service Requirements
B21: Commission Management | C21: 0 | D21: =(C21*D$3) -> 0 | E21: 0 | F21: =(E21*F$3) -> 0 | G21: 0 | H21: =H$3*G21 -> 0 | I21: 0 | J21: =(I21*J$3) -> 0 | K21: 0 | L21: =(K21*L$3) -> 0 | M21: 0 | N21: =(M21*N$3) -> 0 | O21: 0 | P21: =(O21*P$3) -> 0 | Q21: 0 | R21: =(Q21*R$3) -> 0 | S21: 0 | T21: =(S21*T$3) -> 0 | U21: 0 | V21: =(U21*V$3) -> 0 | W21: 0 | X21: =(W21*X$3) -> 0 | Y21: 0 | Z21: =(Y21*Z$3) -> 0 | AA21: 0 | AB21: =(AA21*AB$3) -> 0 | AC21: 0 | AD21: =(AC21*AD$3) -> 0 | AE21: 0 | AF21: =(AE21*AF$3) -> 0 | AG21: =SUM(C21,E21,I21,K21,M21,O21,Q21,S21,U21,W21,Y21,AA21,AC21,AE21) -> 0 | AH21: =SUM(D21,F21,J21,L21,N21,P21,R21,T21,V21,X21,Z21,AB21,AD21,AF21) -> 0
B22: Project Meeting Attendance & Minutes | C22: 0 | D22: =(C22*D$3) -> 0 | E22: 0 | F22: =(E22*F$3) -> 0 | G22: 0 | H22: =H$3*G22 -> 0 | I22: 0 | J22: =(I22*J$3) -> 0 | K22: 0 | L22: =(K22*L$3) -> 0 | M22: 0 | N22: =(M22*N$3) -> 0 | O22: 0 | P22: =(O22*P$3) -> 0 | Q22: 0 | R22: =(Q22*R$3) -> 0 | S22: 0 | T22: =(S22*T$3) -> 0 | U22: 0 | V22: =(U22*V$3) -> 0 | W22: 0 | X22: =(W22*X$3) -> 0 | Y22: 0 | Z22: =(Y22*Z$3) -> 0 | AA22: 0 | AB22: =(AA22*AB$3) -> 0 | AC22: 0 | AD22: =(AC22*AD$3) -> 0 | AE22: 0 | AF22: =(AE22*AF$3) -> 0 | AG22: =SUM(C22,E22,I22,K22,M22,O22,Q22,S22,U22,W22,Y22,AA22,AC22,AE22) -> 0 | AH22: =SUM(D22,F22,J22,L22,N22,P22,R22,T22,V22,X22,Z22,AB22,AD22,AF22) -> 0
B23: Monthly Progress Reports | C23: 0 | D23: =(C23*D$3) -> 0 | E23: 0 | F23: =(E23*F$3) -> 0 | G23: 0 | H23: =H$3*G23 -> 0 | I23: 0 | J23: =(I23*J$3) -> 0 | K23: 0 | L23: =(K23*L$3) -> 0 | M23: 0 | N23: =(M23*N$3) -> 0 | O23: 0 | P23: =(O23*P$3) -> 0 | Q23: 0 | R23: =(Q23*R$3) -> 0 | S23: 0 | T23: =(S23*T$3) -> 0 | U23: 0 | V23: =(U23*V$3) -> 0 | W23: 0 | X23: =(W23*X$3) -> 0 | Y23: 0 | Z23: =(Y23*Z$3) -> 0 | AA23: 0 | AB23: =(AA23*AB$3) -> 0 | AC23: 0 | AD23: =(AC23*AD$3) -> 0 | AE23: 0 | AF23: =(AE23*AF$3) -> 0 | AG23: =SUM(C23,E23,I23,K23,M23,O23,Q23,S23,U23,W23,Y23,AA23,AC23,AE23) -> 0 | AH23: =SUM(D23,F23,J23,L23,N23,P23,R23,T23,V23,X23,Z23,AB23,AD23,AF23) -> 0
B24: Maintain Cost & Risk Management System | C24: 0 | D24: =(C24*D$3) -> 0 | E24: 0 | F24: =(E24*F$3) -> 0 | G24: 0 | H24: =H$3*G24 -> 0 | I24: 0 | J24: =(I24*J$3) -> 0 | K24: 0 | L24: =(K24*L$3) -> 0 | M24: 0 | N24: =(M24*N$3) -> 0 | O24: 0 | P24: =(O24*P$3) -> 0 | Q24: 0 | R24: =(Q24*R$3) -> 0 | S24: 0 | T24: =(S24*T$3) -> 0 | U24: 0 | V24: =(U24*V$3) -> 0 | W24: 0 | X24: =(W24*X$3) -> 0 | Y24: 0 | Z24: =(Y24*Z$3) -> 0 | AA24: 0 | AB24: =(AA24*AB$3) -> 0 | AC24: 0 | AD24: =(AC24*AD$3) -> 0 | AE24: 0 | AF24: =(AE24*AF$3) -> 0 | AG24: =SUM(C24,E24,I24,K24,M24,O24,Q24,S24,U24,W24,Y24,AA24,AC24,AE24) -> 0 | AH24: =SUM(D24,F24,J24,L24,N24,P24,R24,T24,V24,X24,Z24,AB24,AD24,AF24) -> 0
B25: Maintain Commission Execution Plan | C25: 0 | D25: =(C25*D$3) -> 0 | E25: 0 | F25: =(E25*F$3) -> 0 | G25: 0 | H25: =H$3*G25 -> 0 | I25: 0 | J25: =(I25*J$3) -> 0 | K25: 0 | L25: =(K25*L$3) -> 0 | M25: 0 | N25: =(M25*N$3) -> 0 | O25: 0 | P25: =(O25*P$3) -> 0 | Q25: 0 | R25: =(Q25*R$3) -> 0 | S25: 0 | T25: =(S25*T$3) -> 0 | U25: 0 | V25: =(U25*V$3) -> 0 | W25: 0 | X25: =(W25*X$3) -> 0 | Y25: 0 | Z25: =(Y25*Z$3) -> 0 | AA25: 0 | AB25: =(AA25*AB$3) -> 0 | AC25: 0 | AD25: =(AC25*AD$3) -> 0 | AE25: 0 | AF25: =(AE25*AF$3) -> 0 | AG25: =SUM(C25,E25,I25,K25,M25,O25,Q25,S25,U25,W25,Y25,AA25,AC25,AE25) -> 0 | AH25: =SUM(D25,F25,J25,L25,N25,P25,R25,T25,V25,X25,Z25,AB25,AD25,AF25) -> 0
B26: Maintain Commission Programme | C26: 0 | D26: =(C26*D$3) -> 0 | E26: 0 | F26: =(E26*F$3) -> 0 | G26: 0 | H26: =H$3*G26 -> 0 | I26: 0 | J26: =(I26*J$3) -> 0 | K26: 0 | L26: =(K26*L$3) -> 0 | M26: 0 | N26: =(M26*N$3) -> 0 | O26: 0 | P26: =(O26*P$3) -> 0 | Q26: 0 | R26: =(Q26*R$3) -> 0 | S26: 0 | T26: =(S26*T$3) -> 0 | U26: 0 | V26: =(U26*V$3) -> 0 | W26: 0 | X26: =(W26*X$3) -> 0 | Y26: 0 | Z26: =(Y26*Z$3) -> 0 | AA26: 0 | AB26: =(AA26*AB$3) -> 0 | AC26: 0 | AD26: =(AC26*AD$3) -> 0 | AE26: 0 | AF26: =(AE26*AF$3) -> 0 | AG26: =SUM(C26,E26,I26,K26,M26,O26,Q26,S26,U26,W26,Y26,AA26,AC26,AE26) -> 0 | AH26: =SUM(D26,F26,J26,L26,N26,P26,R26,T26,V26,X26,Z26,AB26,AD26,AF26) -> 0
B27: Maintain Consultation & Stakeholder Engagement Plan | C27: 0 | D27: =(C27*D$3) -> 0 | E27: 0 | F27: =(E27*F$3) -> 0 | G27: 0 | H27: =H$3*G27 -> 0 | I27: 0 | J27: =(I27*J$3) -> 0 | K27: 0 | L27: =(K27*L$3) -> 0 | M27: 0 | N27: =(M27*N$3) -> 0 | O27: 0 | P27: =(O27*P$3) -> 0 | Q27: 0 | R27: =(Q27*R$3) -> 0 | S27: 0 | T27: =(S27*T$3) -> 0 | U27: 0 | V27: =(U27*V$3) -> 0 | W27: 0 | X27: =(W27*X$3) -> 0 | Y27: 0 | Z27: =(Y27*Z$3) -> 0 | AA27: 0 | AB27: =(AA27*AB$3) -> 0 | AC27: 0 | AD27: =(AC27*AD$3) -> 0 | AE27: 0 | AF27: =(AE27*AF$3) -> 0 | AG27: =SUM(C27,E27,I27,K27,M27,O27,Q27,S27,U27,W27,Y27,AA27,AC27,AE27) -> 0 | AH27: =SUM(D27,F27,J27,L27,N27,P27,R27,T27,V27,X27,Z27,AB27,AD27,AF27) -> 0
B28: Safety & Health Duties - Maintain Designer Register | C28: 0 | D28: =(C28*D$3) -> 0 | E28: 0 | F28: =(E28*F$3) -> 0 | G28: 0 | H28: =H$3*G28 -> 0 | I28: 0 | J28: =(I28*J$3) -> 0 | K28: 0 | L28: =(K28*L$3) -> 0 | M28: 0 | N28: =(M28*N$3) -> 0 | O28: 0 | P28: =(O28*P$3) -> 0 | Q28: 0 | R28: =(Q28*R$3) -> 0 | S28: 0 | T28: =(S28*T$3) -> 0 | U28: 0 | V28: =(U28*V$3) -> 0 | W28: 0 | X28: =(W28*X$3) -> 0 | Y28: 0 | Z28: =(Y28*Z$3) -> 0 | AA28: 0 | AB28: =(AA28*AB$3) -> 0 | AC28: 0 | AD28: =(AC28*AD$3) -> 0 | AE28: 0 | AF28: =(AE28*AF$3) -> 0 | AG28: =SUM(C28,E28,I28,K28,M28,O28,Q28,S28,U28,W28,Y28,AA28,AC28,AE28) -> 0 | AH28: =SUM(D28,F28,J28,L28,N28,P28,R28,T28,V28,X28,Z28,AB28,AD28,AF28) -> 0
B29: Maintain Preliminary Safety and Health Plan | C29: 0 | D29: =(C29*D$3) -> 0 | E29: 0 | F29: =(E29*F$3) -> 0 | G29: 0 | H29: =H$3*G29 -> 0 | I29: 0 | J29: =(I29*J$3) -> 0 | K29: 0 | L29: =(K29*L$3) -> 0 | M29: 0 | N29: =(M29*N$3) -> 0 | O29: 0 | P29: =(O29*P$3) -> 0 | Q29: 0 | R29: =(Q29*R$3) -> 0 | S29: 0 | T29: =(S29*T$3) -> 0 | U29: 0 | V29: =(U29*V$3) -> 0 | W29: 0 | X29: =(W29*X$3) -> 0 | Y29: 0 | Z29: =(Y29*Z$3) -> 0 | AA29: 0 | AB29: =(AA29*AB$3) -> 0 | AC29: 0 | AD29: =(AC29*AD$3) -> 0 | AE29: 0 | AF29: =(AE29*AF$3) -> 0 | AG29: =SUM(C29,E29,I29,K29,M29,O29,Q29,S29,U29,W29,Y29,AA29,AC29,AE29) -> 0 | AH29: =SUM(D29,F29,J29,L29,N29,P29,R29,T29,V29,X29,Z29,AB29,AD29,AF29) -> 0
B30: Other relevant duties as described in the Project Brief | C30: 0 | D30: =(C30*D$3) -> 0 | E30: 0 | F30: =(E30*F$3) -> 0 | G30: 0 | H30: =H$3*G30 -> 0 | I30: 0 | J30: =(I30*J$3) -> 0 | K30: 0 | L30: =(K30*L$3) -> 0 | M30: 0 | N30: =(M30*N$3) -> 0 | O30: 0 | P30: =(O30*P$3) -> 0 | Q30: 0 | R30: =(Q30*R$3) -> 0 | S30: 0 | T30: =(S30*T$3) -> 0 | U30: 0 | V30: =(U30*V$3) -> 0 | W30: 0 | X30: =(W30*X$3) -> 0 | Y30: 0 | Z30: =(Y30*Z$3) -> 0 | AA30: 0 | AB30: =(AA30*AB$3) -> 0 | AC30: 0 | AD30: =(AC30*AD$3) -> 0 | AE30: 0 | AF30: =(AE30*AF$3) -> 0 | AG30: =SUM(C30,E30,I30,K30,M30,O30,Q30,S30,U30,W30,Y30,AA30,AC30,AE30) -> 0 | AH30: =SUM(D30,F30,J30,L30,N30,P30,R30,T30,V30,X30,Z30,AB30,AD30,AF30) -> 0
B31: Preliminary Business Case | C31: 0 | D31: =(C31*D$3) -> 0 | E31: 0 | F31: =(E31*F$3) -> 0 | G31: 0 | H31: =H$3*G31 -> 0 | I31: 0 | J31: =(I31*J$3) -> 0 | K31: 0 | L31: =(K31*L$3) -> 0 | M31: 0 | N31: =(M31*N$3) -> 0 | O31: 0 | P31: =(O31*P$3) -> 0 | Q31: 0 | R31: =(Q31*R$3) -> 0 | S31: 0 | T31: =(S31*T$3) -> 0 | U31: 0 | V31: =(U31*V$3) -> 0 | W31: 0 | X31: =(W31*X$3) -> 0 | Y31: 0 | Z31: =(Y31*Z$3) -> 0 | AA31: 0 | AB31: =(AA31*AB$3) -> 0 | AC31: 0 | AD31: =(AC31*AD$3) -> 0 | AE31: 0 | AF31: =(AE31*AF$3) -> 0 | AG31: =SUM(C31,E31,I31,K31,M31,O31,Q31,S31,U31,W31,Y31,AA31,AC31,AE31) -> 0 | AH31: =SUM(D31,F31,J31,L31,N31,P31,R31,T31,V31,X31,Z31,AB31,AD31,AF31) -> 0
A32: Project Duration Total | C32: =SUM(C27:C31,C25:C26,C21:C24) -> 0 | D32: =SUM(D27:D31,D25:D26,D21:D24) -> 0 | E32: =SUM(E27:E31,E25:E26,E21:E24) -> 0 | F32: =SUM(F27:F31,F25:F26,F21:F24) -> 0 | G32: =SUM(G21:G31) -> 0 | H32: =SUM(H21:H31) -> 0 | I32: =SUM(I27:I31,I25:I26,I21:I24) -> 0 | J32: =SUM(J27:J31,J25:J26,J21:J24) -> 0 | K32: =SUM(K27:K31,K25:K26,K21:K24) -> 0 | L32: =SUM(L27:L31,L25:L26,L21:L24) -> 0 | M32: =SUM(M27:M31,M25:M26,M21:M24) -> 0 | N32: =SUM(N27:N31,N25:N26,N21:N24) -> 0 | O32: =SUM(O27:O31,O25:O26,O21:O24) -> 0 | P32: =SUM(P27:P31,P25:P26,P21:P24) -> 0 | ... AF32: =SUM(AF27:AF31,AF25:AF26,AF21:AF24) -> 0 | AG32: =SUM(AG21:AG31,) -> 0 | AH32: =SUM(AH21:AH31) -> 0
A34: Totals | C34: =SUM(C17,C32) -> 0 | D34: =SUM(D17,D32) -> 0 | E34: =SUM(E17,E32) -> 0 | F34: =SUM(F17,F32) -> 0 | G34: =SUM(G17,G32) -> 0 | H34: =SUM(H17,H32) -> 0 | I34: =SUM(I17,I32) -> 0 | J34: =SUM(J17,J32) -> 0 | ... AH34: =SUM(AH17,AH32) -> 0

Sheet Cahernahallia
A1: Project Role | C1: =Rates!A4 -> Project Director | E1: =Rates!A5 -> Project Manager | G1: =Rates!A6 -> Associate/Principal Ecologist/Senior Environmental Consultant | I1: =Rates!A7 -> Project Supervisor Design Process | K1: =Rates!A8 -> Civil Design Team Lead/Senior Engineer | M1: =Rates!A9 -> Structures Design Team Lead/Senior Engineer | O1: =Rates!A10 -> Hydraulics/Hydrology Team Lead/Senior Hydraulic Engineer/Hydrologist | Q1: =Rates!A11 -> Senior Ecologist | S1: =Rates!A12 -> Engineer | U1: =Rates!A13 -> Ecologist/ Environmental Consultant | W1: =Rates!A14 -> Graduate Engineer | Y1: =Rates!A15 -> Senior Technician | AA1: =Rates!A16 -> Junior Technician | AC1: =Rates!A17 -> Resident Engineer | AE1: =Rates!A18 -> Employer's Representative | AG1: Total Hours | AH1: Item Total
C2: =Rates!C4 -> Insert Name 1 | E2: =Rates!C5 -> Insert Name 2 | G2: =Rates!C6 -> Insert Name 3 | I2: =Rates!C7 -> Insert Name 4 | K2: =Rates!C8 -> Insert Name 5 | M2: =Rates!C9 -> Insert Name 6 | O2: =Rates!C10 -> Insert Name 7 | Q2: =Rates!C11 -> Insert Name 8 | S2: =Rates!C12 -> Insert Name 9 | U2: =Rates!C13 -> Insert Name 10 | W2: =Rates!C14 -> Insert Name 11 | Y2: =Rates!C15 -> Insert Name 12 | AA2: =Rates!C16 -> Insert Name 13 | AC2: =Rates!C17 -> Insert Name 14 | AE2: =Rates!C18 -> Insert Name 15
C3: No. Hours | D3: =Rates!B4 -> 0 | E3: No. Hours | F3: =Rates!B5 -> 0 | G3: No. Hours | H3: =Rates!B6 -> 0 | I3: No. Hours | J3: =Rates!B7 -> 0 | K3: No. Hours | L3: =Rates!B8 -> 0 | M3: No. Hours | N3: =Rates!B9 -> 0 | O3: No. Hours | P3: =Rates!B10 -> 0 | Q3: No. Hours | R3: =Rates!B11 -> 0 | S3: No. Hours | T3: =Rates!B12 -> 0 | U3: No. Hours | V3: =Rates!B13 -> 0 | W3: No. Hours | X3: =Rates!B14 -> 0 | Y3: No. Hours | Z3: =Rates!B15 -> 0 | AA3: No. Hours | AB3: =Rates!B16 -> 0 | AC3: No. Hours | AD3: =Rates!B17 -> 0 | AE3: No. Hours | AF3: =Rates!B18 -> 0
A4: Phase 1 | B4: Feasibility Study & Option Selection
A5: A | B5: Fesability - Options
B6: Feasibility Study and Option Selection Report | C6: 0 | D6: =(C6*D$3) -> 0 | E6: 0 | F6: =(E6*F$3) -> 0 | G6: 0 | H6: =(G6*H$3) -> 0 | I6: 0 | J6: =(I6*J$3) -> 0 | K6: 0 | L6: =(K6*L$3) -> 0 | M6: 0 | N6: =(M6*N$3) -> 0 | O6: 0 | P6: =(O6*P$3) -> 0 | Q6: 0 | R6: =(Q6*R$3) -> 0 | S6: 0 | T6: =(S6*T$3) -> 0 | U6: 0 | V6: =(U6*V$3) -> 0 | W6: 0 | X6: =(W6*X$3) -> 0 | Y6: 0 | Z6: =(Y6*Z$3) -> 0 | AA6: 0 | AB6: =(AA6*AB$3) -> 0 | AC6: 0 | AD6: =(AC6*AD$3) -> 0 | AE6: 0 | AF6: =(AE6*AF$3) -> 0 | AG6: =SUM(C6,E6,G6,I6,K6,M6,O6,Q6,S6,U6,W6,Y6,AA6,AC6,AE6) -> 0 | AH6: =SUM(D6,F6,H6,J6,L6,N6,P6,R6,T6,V6,X6,Z6,AB6,AD6,AF6) -> 0
A7: B | B7: Surveys & Studies
B8: Preliminary Ecological Assessment Report (PEAR), Scoping of Assessments and Surveys for the next phase of the project. | C8: 0 | D8: =(C8*D$3) -> 0 | E8: 0 | F8: =(E8*F$3) -> 0 | G8: 0 | H8: =(G8*H$3) -> 0 | I8: 0 | J8: =(I8*J$3) -> 0 | K8: 0 | L8: =(K8*L$3) -> 0 | M8: 0 | N8: =(M8*N$3) -> 0 | O8: 0 | P8: =(O8*P$3) -> 0 | Q8: 0 | R8: =(Q8*R$3) -> 0 | S8: 0 | T8: =(S8*T$3) -> 0 | U8: 0 | V8: =(U8*V$3) -> 0 | W8: 0 | X8: =(W8*X$3) -> 0 | Z8: =(Y8*Z$3) -> 0 | AA8: 0 | AB8: =(AA8*AB$3) -> 0 | AC8: 0 | AD8: =(AC8*AD$3) -> 0 | AE8: 0 | AF8: =(AE8*AF$3) -> 0 | AG8: =SUM(C8,E8,G8,I8,K8,M8,O8,Q8,S8,U8,W8,Y8,AA8,AC8,AE8) -> 0 | AH8: =SUM(D8,F8,H8,J8,L8,N8,P8,R8,T8,V8,X8,Z8,AB8,AD8,AF8) -> 0
A9: Phase 1 Total | C9: =SUM(C6:C6,C8:C8) -> 0 | D9: =SUM(D6:D6,D8:D8) -> 0 | E9: =SUM(E6:E6,E8:E8) -> 0 | F9: =SUM(F6:F6,F8:F8) -> 0 | G9: =SUM(G6:G6,G8:G8) -> 0 | H9: =SUM(H6:H6,H8:H8) -> 0 | I9: =SUM(I6:I6,I8:I8) -> 0 | J9: =SUM(J6:J6,J8:J8) -> 0 | ... AH9: =SUM(AH6:AH6,AH8:AH8) -> 0
A11: Phase 2 | B11: Preliminary Design
A12: A | B12: Preliminary Design
B13: Civil and Structural Design | C13: 0 | D13: =(C13*D$3) -> 0 | E13: 0 | F13: =(E13*F$3) -> 0 | G13: 0 | H13: =(G13*H$3) -> 0 | I13: 0 | J13: =(I13*J$3) -> 0 | K13: 0 | L13: =(K13*L$3) -> 0 | M13: 0 | N13: =(M13*N$3) -> 0 | O13: 0 | P13: =(O13*P$3) -> 0 | Q13: 0 | R13: =(Q13*R$3) -> 0 | S13: 0 | T13: =(S13*T$3) -> 0 | U13: 0 | V13: =(U13*V$3) -> 0 | W13: 0 | X13: =(W13*X$3) -> 0 | Y13: 0 | Z13: =(Y13*Z$3) -> 0 | AA13: 0 | AB13: =(AA13*AB$3) -> 0 | AC13: 0 | AD13: =(AC13*AD$3) -> 0 | AE13: 0 | AF13: =(AE13*AF$3) -> 0 | AG13: =SUM(C13,E13,G13,I13,K13,M13,O13,Q13,S13,U13,W13,Y13,AA13,AC13,AE13) -> 0 | AH13: =SUM(D13,F13,H13,J13,L13,N13,P13,R13,T13,V13,X13,Z13,AB13,AD13,AF13) -> 0
B14: Ground Investigation (Scoping, Tender & Management of) | C14: 0 | D14: =(C14*D$3) -> 0 | E14: 0 | F14: =(E14*F$3) -> 0 | G14: 0 | H14: =(G14*H$3) -> 0 | I14: 0 | J14: =(I14*J$3) -> 0 | K14: 0 | L14: =(K14*L$3) -> 0 | M14: 0 | N14: =(M14*N$3) -> 0 | O14: 0 | P14: =(O14*P$3) -> 0 | Q14: 0 | R14: =(Q14*R$3) -> 0 | S14: 0 | T14: =(S14*T$3) -> 0 | U14: 0 | V14: =(U14*V$3) -> 0 | W14: 0 | X14: =(W14*X$3) -> 0 | Y14: 0 | Z14: =(Y14*Z$3) -> 0 | AA14: 0 | AB14: =(AA14*AB$3) -> 0 | AC14: 0 | AD14: =(AC14*AD$3) -> 0 | AE14: 0 | AF14: =(AE14*AF$3) -> 0 | AG14: =SUM(C14,E14,G14,I14,K14,M14,O14,Q14,S14,U14,W14,Y14,AA14,AC14,AE14) -> 0 | AH14: =SUM(D14,F14,H14,J14,L14,N14,P14,R14,T14,V14,X14,Z14,AB14,AD14,AF14) -> 0
B15: Hydrology and Flood Risk Assessment | C15: 0 | D15: =(C15*D$3) -> 0 | E15: 0 | F15: =(E15*F$3) -> 0 | G15: 0 | H15: =(G15*H$3) -> 0 | I15: 0 | J15: =(I15*J$3) -> 0 | K15: 0 | L15: =(K15*L$3) -> 0 | M15: 0 | N15: =(M15*N$3) -> 0 | O15: 0 | P15: =(O15*P$3) -> 0 | Q15: 0 | R15: =(Q15*R$3) -> 0 | S15: 0 | T15: =(S15*T$3) -> 0 | U15: 0 | V15: =(U15*V$3) -> 0 | W15: 0 | X15: =(W15*X$3) -> 0 | Y15: 0 | Z15: =(Y15*Z$3) -> 0 | AA15: 0 | AB15: =(AA15*AB$3) -> 0 | AC15: 0 | AD15: =(AC15*AD$3) -> 0 | AE15: 0 | AF15: =(AE15*AF$3) -> 0 | AG15: =SUM(C15,E15,G15,I15,K15,M15,O15,Q15,S15,U15,W15,Y15,AA15,AC15,AE15) -> 0 | AH15: =SUM(D15,F15,H15,J15,L15,N15,P15,R15,T15,V15,X15,Z15,AB15,AD15,AF15) -> 0
B16: Hydraulic Modelling and Flood Risk Assessment Report | C16: 0 | D16: =(C16*D$3) -> 0 | E16: 0 | F16: =(E16*F$3) -> 0 | G16: 0 | H16: =(G16*H$3) -> 0 | I16: 0 | J16: =(I16*J$3) -> 0 | K16: 0 | L16: =(K16*L$3) -> 0 | M16: 0 | N16: =(M16*N$3) -> 0 | O16: 0 | P16: =(O16*P$3) -> 0 | Q16: 0 | R16: =(Q16*R$3) -> 0 | S16: 0 | T16: =(S16*T$3) -> 0 | U16: 0 | V16: =(U16*V$3) -> 0 | W16: 0 | X16: =(W16*X$3) -> 0 | Y16: 0 | Z16: =(Y16*Z$3) -> 0 | AA16: 0 | AB16: =(AA16*AB$3) -> 0 | AC16: 0 | AD16: =(AC16*AD$3) -> 0 | AE16: 0 | AF16: =(AE16*AF$3) -> 0 | AG16: =SUM(C16,E16,G16,I16,K16,M16,O16,Q16,S16,U16,W16,Y16,AA16,AC16,AE16) -> 0 | AH16: =SUM(D16,F16,H16,J16,L16,N16,P16,R16,T16,V16,X16,Z16,AB16,AD16,AF16) -> 0
B17: OPW Section 50 Report and application | C17: 0 | D17: =(C17*D$3) -> 0 | E17: 0 | F17: =(E17*F$3) -> 0 | G17: 0 | H17: =(G17*H$3) -> 0 | I17: 0 | J17: =(I17*J$3) -> 0 | K17: 0 | L17: =(K17*L$3) -> 0 | M17: 0 | N17: =(M17*N$3) -> 0 | O17: 0 | P17: =(O17*P$3) -> 0 | Q17: 0 | R17: =(Q17*R$3) -> 0 | S17: 0 | T17: =(S17*T$3) -> 0 | U17: 0 | V17: =(U17*V$3) -> 0 | W17: 0 | X17: =(W17*X$3) -> 0 | Y17: 0 | Z17: =(Y17*Z$3) -> 0 | AA17: 0 | AB17: =(AA17*AB$3) -> 0 | AC17: 0 | AD17: =(AC17*AD$3) -> 0 | AE17: 0 | AF17: =(AE17*AF$3) -> 0 | AG17: =SUM(C17,E17,G17,I17,K17,M17,O17,Q17,S17,U17,W17,Y17,AA17,AC17,AE17) -> 0 | AH17: =SUM(D17,F17,H17,J17,L17,N17,P17,R17,T17,V17,X17,Z17,AB17,AD17,AF17) -> 0
B18: Geomorphology Report | C18: 0 | D18: =(C18*D$3) -> 0 | E18: 0 | F18: =(E18*F$3) -> 0 | G18: 0 | H18: =(G18*H$3) -> 0 | I18: 0 | J18: =(I18*J$3) -> 0 | K18: 0 | L18: =(K18*L$3) -> 0 | M18: 0 | N18: =(M18*N$3) -> 0 | O18: 0 | P18: =(O18*P$3) -> 0 | Q18: 0 | R18: =(Q18*R$3) -> 0 | S18: 0 | T18: =(S18*T$3) -> 0 | U18: 0 | V18: =(U18*V$3) -> 0 | W18: 0 | X18: =(W18*X$3) -> 0 | Y18: 0 | Z18: =(Y18*Z$3) -> 0 | AA18: 0 | AB18: =(AA18*AB$3) -> 0 | AC18: 0 | AD18: =(AC18*AD$3) -> 0 | AE18: 0 | AF18: =(AE18*AF$3) -> 0 | AG18: =SUM(C18,E18,G18,I18,K18,M18,O18,Q18,S18,U18,W18,Y18,AA18,AC18,AE18) -> 0 | AH18: =SUM(D18,F18,H18,J18,L18,N18,P18,R18,T18,V18,X18,Z18,AB18,AD18,AF18) -> 0
B19: Cultural Heritage Assessment | C19: 0 | D19: =(C19*D$3) -> 0 | E19: 0 | F19: =(E19*F$3) -> 0 | G19: 0 | H19: =(G19*H$3) -> 0 | I19: 0 | J19: =(I19*J$3) -> 0 | K19: 0 | L19: =(K19*L$3) -> 0 | M19: 0 | N19: =(M19*N$3) -> 0 | O19: 0 | P19: =(O19*P$3) -> 0 | Q19: 0 | R19: =(Q19*R$3) -> 0 | S19: 0 | T19: =(S19*T$3) -> 0 | U19: 0 | V19: =(U19*V$3) -> 0 | W19: 0 | X19: =(W19*X$3) -> 0 | Y19: 0 | Z19: =(Y19*Z$3) -> 0 | AA19: 0 | AB19: =(AA19*AB$3) -> 0 | AC19: 0 | AD19: =(AC19*AD$3) -> 0 | AE19: 0 | AF19: =(AE19*AF$3) -> 0 | AG19: =SUM(C19,E19,G19,I19,K19,M19,O19,Q19,S19,U19,W19,Y19,AA19,AC19,AE19) -> 0 | AH19: =SUM(D19,F19,H19,J19,L19,N19,P19,R19,T19,V19,X19,Z19,AB19,AD19,AF19) -> 0
B20: Design Report | C20: 0 | D20: =(C20*D$3) -> 0 | E20: 0 | F20: =(E20*F$3) -> 0 | G20: 0 | H20: =(G20*H$3) -> 0 | I20: 0 | J20: =(I20*J$3) -> 0 | K20: 0 | L20: =(K20*L$3) -> 0 | M20: 0 | N20: =(M20*N$3) -> 0 | O20: 0 | P20: =(O20*P$3) -> 0 | Q20: 0 | R20: =(Q20*R$3) -> 0 | S20: 0 | T20: =(S20*T$3) -> 0 | U20: 0 | V20: =(U20*V$3) -> 0 | W20: 0 | X20: =(W20*X$3) -> 0 | Y20: 0 | Z20: =(Y20*Z$3) -> 0 | AA20: 0 | AB20: =(AA20*AB$3) -> 0 | AC20: 0 | AD20: =(AC20*AD$3) -> 0 | AE20: 0 | AF20: =(AE20*AF$3) -> 0 | AG20: =SUM(C20,E20,G20,I20,K20,M20,O20,Q20,S20,U20,W20,Y20,AA20,AC20,AE20) -> 0 | AH20: =SUM(D20,F20,H20,J20,L20,N20,P20,R20,T20,V20,X20,Z20,AB20,AD20,AF20) -> 0
B21: Waste Management & Circular Economy | C21: 0 | D21: =(C21*D$3) -> 0 | E21: 0 | F21: =(E21*F$3) -> 0 | G21: 0 | H21: =(G21*H$3) -> 0 | I21: 0 | J21: =(I21*J$3) -> 0 | K21: 0 | L21: =(K21*L$3) -> 0 | M21: 0 | N21: =(M21*N$3) -> 0 | O21: 0 | P21: =(O21*P$3) -> 0 | Q21: 0 | R21: =(Q21*R$3) -> 0 | S21: 0 | T21: =(S21*T$3) -> 0 | U21: 0 | V21: =(U21*V$3) -> 0 | W21: 0 | X21: =(W21*X$3) -> 0 | Y21: 0 | Z21: =(Y21*Z$3) -> 0 | AA21: 0 | AB21: =(AA21*AB$3) -> 0 | AC21: 0 | AD21: =(AC21*AD$3) -> 0 | AE21: 0 | AF21: =(AE21*AF$3) -> 0 | AG21: =SUM(C21,E21,G21,I21,K21,M21,O21,Q21,S21,U21,W21,Y21,AA21,AC21,AE21) -> 0 | AH21: =SUM(D21,F21,H21,J21,L21,N21,P21,R21,T21,V21,X21,Z21,AB21,AD21,AF21) -> 0
B22: River Restoration Design | C22: 0 | D22: =(C22*D$3) -> 0 | E22: 0 | F22: =(E22*F$3) -> 0 | G22: 0 | H22: =(G22*H$3) -> 0 | I22: 0 | J22: =(I22*J$3) -> 0 | K22: 0 | L22: =(K22*L$3) -> 0 | M22: 0 | N22: =(M22*N$3) -> 0 | O22: 0 | P22: =(O22*P$3) -> 0 | Q22: 0 | R22: =(Q22*R$3) -> 0 | S22: 0 | T22: =(S22*T$3) -> 0 | U22: 0 | V22: =(U22*V$3) -> 0 | W22: 0 | X22: =(W22*X$3) -> 0 | Y22: 0 | Z22: =(Y22*Z$3) -> 0 | AA22: 0 | AB22: =(AA22*AB$3) -> 0 | AC22: 0 | AD22: =(AC22*AD$3) -> 0 | AE22: 0 | AF22: =(AE22*AF$3) -> 0 | AG22: =SUM(C22,E22,G22,I22,K22,M22,O22,Q22,S22,U22,W22,Y22,AA22,AC22,AE22) -> 0 | AH22: =SUM(D22,F22,H22,J22,L22,N22,P22,R22,T22,V22,X22,Z22,AB22,AD22,AF22) -> 0
B23: Constructability Assessment | C23: 0 | D23: =(C23*D$3) -> 0 | E23: 0 | F23: =(E23*F$3) -> 0 | G23: 0 | H23: =(G23*H$3) -> 0 | I23: 0 | J23: =(I23*J$3) -> 0 | K23: 0 | L23: =(K23*L$3) -> 0 | M23: 0 | N23: =(M23*N$3) -> 0 | O23: 0 | P23: =(O23*P$3) -> 0 | Q23: 0 | R23: =(Q23*R$3) -> 0 | S23: 0 | T23: =(S23*T$3) -> 0 | U23: 0 | V23: =(U23*V$3) -> 0 | W23: 0 | X23: =(W23*X$3) -> 0 | Y23: 0 | Z23: =(Y23*Z$3) -> 0 | AA23: 0 | AB23: =(AA23*AB$3) -> 0 | AC23: 0 | AD23: =(AC23*AD$3) -> 0 | AE23: 0 | AF23: =(AE23*AF$3) -> 0 | AG23: =SUM(C23,E23,G23,I23,K23,M23,O23,Q23,S23,U23,W23,Y23,AA23,AC23,AE23) -> 0 | AH23: =SUM(D23,F23,H23,J23,L23,N23,P23,R23,T23,V23,X23,Z23,AB23,AD23,AF23) -> 0
B24: Cost, Value and Risk Management | C24: 0 | D24: =(C24*D$3) -> 0 | E24: 0 | F24: =(E24*F$3) -> 0 | G24: 0 | H24: =(G24*H$3) -> 0 | I24: 0 | J24: =(I24*J$3) -> 0 | K24: 0 | L24: =(K24*L$3) -> 0 | M24: 0 | N24: =(M24*N$3) -> 0 | O24: 0 | P24: =(O24*P$3) -> 0 | Q24: 0 | R24: =(Q24*R$3) -> 0 | S24: 0 | T24: =(S24*T$3) -> 0 | U24: 0 | V24: =(U24*V$3) -> 0 | W24: 0 | X24: =(W24*X$3) -> 0 | Y24: 0 | Z24: =(Y24*Z$3) -> 0 | AA24: 0 | AB24: =(AA24*AB$3) -> 0 | AC24: 0 | AD24: =(AC24*AD$3) -> 0 | AE24: 0 | AF24: =(AE24*AF$3) -> 0 | AG24: =SUM(C24,E24,G24,I24,K24,M24,O24,Q24,S24,U24,W24,Y24,AA24,AC24,AE24) -> 0 | AH24: =SUM(D24,F24,H24,J24,L24,N24,P24,R24,T24,V24,X24,Z24,AB24,AD24,AF24) -> 0
... B26: Landscape Design | C26: 0 | D26: =(C26*D$3) -> 0 | E26: 0 | F26: =(E26*F$3) -> 0 | G26: 0 | H26: =(G26*H$3) -> 0 | I26: 0 | J26: =(I26*J$3) -> 0 | K26: 0 | L26: =(K26*L$3) -> 0 | M26: 0 | N26: =(M26*N$3) -> 0 | O26: 0 | P26: =(O26*P$3) -> 0 | Q26: 0 | R26: =(Q26*R$3) -> 0 | S26: 0 | T26: =(S26*T$3) -> 0 | U26: 0 | V26: =(U26*V$3) -> 0 | W26: 0 | X26: =(W26*X$3) -> 0 | Y26: 0 | Z26: =(Y26*Z$3) -> 0 | AA26: 0 | AB26: =(AA26*AB$3) -> 0 | AC26: 0 | AD26: =(AC26*AD$3) -> 0 | AE26: 0 | AF26: =(AE26*AF$3) -> 0 | AG26: =SUM(C26,E26,G26,I26,K26,M26,O26,Q26,S26,U26,W26,Y26,AA26,AC26,AE26) -> 0 | AH26: =SUM(D26,F26,H26,J26,L26,N26,P26,R26,T26,V26,X26,Z26,AB26,AD26,AF26) -> 0
A27: B | B27: Ecology Surveys
B28: Fossitt Habitat Survey | C28: 0 | D28: =(C28*D$3) -> 0 | E28: 0 | F28: =(E28*F$3) -> 0 | G28: 0 | H28: =(G28*H$3) -> 0 | I28: 0 | J28: =(I28*J$3) -> 0 | K28: 0 | L28: =(K28*L$3) -> 0 | M28: 0 | N28: =(M28*N$3) -> 0 | O28: 0 | P28: =(O28*P$3) -> 0 | Q28: 0 | R28: =(Q28*R$3) -> 0 | S28: 0 | T28: =(S28*T$3) -> 0 | U28: 0 | V28: =(U28*V$3) -> 0 | W28: 0 | X28: =(W28*X$3) -> 0 | Y28: 0 | Z28: =(Y28*Z$3) -> 0 | AA28: 0 | AB28: =(AA28*AB$3) -> 0 | AC28: 0 | AD28: =(AC28*AD$3) -> 0 | AE28: 0 | AF28: =(AE28*AF$3) -> 0 | AG28: =SUM(C28,E28,G28,I28,K28,M28,O28,Q28,S28,U28,W28,Y28,AA28,AC28,AE28) -> 0 | AH28: =SUM(D28,F28,H28,J28,L28,N28,P28,R28,T28,V28,X28,Z28,AB28,AD28,AF28) -> 0
B29: Invasive and Non-Native Species Survey (INNS) | C29: 0 | D29: =(C29*D$3) -> 0 | E29: 0 | F29: =(E29*F$3) -> 0 | G29: 0 | H29: =(G29*H$3) -> 0 | I29: 0 | J29: =(I29*J$3) -> 0 | K29: 0 | L29: =(K29*L$3) -> 0 | M29: 0 | N29: =(M29*N$3) -> 0 | O29: 0 | P29: =(O29*P$3) -> 0 | Q29: 0 | R29: =(Q29*R$3) -> 0 | S29: 0 | T29: =(S29*T$3) -> 0 | U29: 0 | V29: =(U29*V$3) -> 0 | W29: 0 | X29: =(W29*X$3) -> 0 | Y29: 0 | Z29: =(Y29*Z$3) -> 0 | AA29: 0 | AB29: =(AA29*AB$3) -> 0 | AC29: 0 | AD29: =(AC29*AD$3) -> 0 | AE29: 0 | AF29: =(AE29*AF$3) -> 0 | AG29: =SUM(C29,E29,G29,I29,K29,M29,O29,Q29,S29,U29,W29,Y29,AA29,AC29,AE29) -> 0 | AH29: =SUM(D29,F29,H29,J29,L29,N29,P29,R29,T29,V29,X29,Z29,AB29,AD29,AF29) -> 0
B30: Fish Spawning and Nursery Habitat Survey | C30: 0 | D30: =(C30*D$3) -> 0 | E30: 0 | F30: =(E30*F$3) -> 0 | G30: 0 | H30: =(G30*H$3) -> 0 | I30: 0 | J30: =(I30*J$3) -> 0 | K30: 0 | L30: =(K30*L$3) -> 0 | M30: 0 | N30: =(M30*N$3) -> 0 | O30: 0 | P30: =(O30*P$3) -> 0 | Q30: 0 | R30: =(Q30*R$3) -> 0 | S30: 0 | T30: =(S30*T$3) -> 0 | U30: 0 | V30: =(U30*V$3) -> 0 | W30: 0 | X30: =(W30*X$3) -> 0 | Y30: 0 | Z30: =(Y30*Z$3) -> 0 | AA30: 0 | AB30: =(AA30*AB$3) -> 0 | AC30: 0 | AD30: =(AC30*AD$3) -> 0 | AE30: 0 | AF30: =(AE30*AF$3) -> 0 | AG30: =SUM(C30,E30,G30,I30,K30,M30,O30,Q30,S30,U30,W30,Y30,AA30,AC30,AE30) -> 0 | AH30: =SUM(D30,F30,H30,J30,L30,N30,P30,R30,T30,V30,X30,Z30,AB30,AD30,AF30) -> 0
B31: Breeding and Nesting Bird Survey | C31: 0 | D31: =(C31*D$3) -> 0 | E31: 0 | F31: =(E31*F$3) -> 0 | G31: 0 | H31: =(G31*H$3) -> 0 | I31: 0 | J31: =(I31*J$3) -> 0 | K31: 0 | L31: =(K31*L$3) -> 0 | M31: 0 | N31: =(M31*N$3) -> 0 | O31: 0 | P31: =(O31*P$3) -> 0 | Q31: 0 | R31: =(Q31*R$3) -> 0 | S31: 0 | T31: =(S31*T$3) -> 0 | U31: 0 | V31: =(U31*V$3) -> 0 | W31: 0 | X31: =(W31*X$3) -> 0 | Y31: 0 | Z31: =(Y31*Z$3) -> 0 | AA31: 0 | AB31: =(AA31*AB$3) -> 0 | AC31: 0 | AD31: =(AC31*AD$3) -> 0 | AE31: 0 | AF31: =(AE31*AF$3) -> 0 | AG31: =SUM(C31,E31,G31,I31,K31,M31,O31,Q31,S31,U31,W31,Y31,AA31,AC31,AE31) -> 0 | AH31: =SUM(D31,F31,H31,J31,L31,N31,P31,R31,T31,V31,X31,Z31,AB31,AD31,AF31) -> 0
B32: Mammal Survey | C32: 0 | D32: =(C32*D$3) -> 0 | E32: 0 | F32: =(E32*F$3) -> 0 | G32: 0 | H32: =(G32*H$3) -> 0 | I32: 0 | J32: =(I32*J$3) -> 0 | K32: 0 | L32: =(K32*L$3) -> 0 | M32: 0 | N32: =(M32*N$3) -> 0 | O32: 0 | P32: =(O32*P$3) -> 0 | Q32: 0 | R32: =(Q32*R$3) -> 0 | S32: 0 | T32: =(S32*T$3) -> 0 | U32: 0 | V32: =(U32*V$3) -> 0 | W32: 0 | X32: =(W32*X$3) -> 0 | Y32: 0 | Z32: =(Y32*Z$3) -> 0 | AA32: 0 | AB32: =(AA32*AB$3) -> 0 | AC32: 0 | AD32: =(AC32*AD$3) -> 0 | AE32: 0 | AF32: =(AE32*AF$3) -> 0 | AG32: =SUM(C32,E32,G32,I32,K32,M32,O32,Q32,S32,U32,W32,Y32,AA32,AC32,AE32) -> 0 | AH32: =SUM(D32,F32,H32,J32,L32,N32,P32,R32,T32,V32,X32,Z32,AB32,AD32,AF32) -> 0
B33: Bat Survey | C33: 0 | D33: =(C33*D$3) -> 0 | E33: 0 | F33: =(E33*F$3) -> 0 | G33: 0 | H33: =(G33*H$3) -> 0 | I33: 0 | J33: =(I33*J$3) -> 0 | K33: 0 | L33: =(K33*L$3) -> 0 | M33: 0 | N33: =(M33*N$3) -> 0 | O33: 0 | P33: =(O33*P$3) -> 0 | Q33: 0 | R33: =(Q33*R$3) -> 0 | S33: 0 | T33: =(S33*T$3) -> 0 | U33: 0 | V33: =(U33*V$3) -> 0 | W33: 0 | X33: =(W33*X$3) -> 0 | Y33: 0 | Z33: =(Y33*Z$3) -> 0 | AA33: 0 | AB33: =(AA33*AB$3) -> 0 | AC33: 0 | AD33: =(AC33*AD$3) -> 0 | AE33: 0 | AF33: =(AE33*AF$3) -> 0 | AG33: =SUM(C33,E33,G33,I33,K33,M33,O33,Q33,S33,U33,W33,Y33,AA33,AC33,AE33) -> 0 | AH33: =SUM(D33,F33,H33,J33,L33,N33,P33,R33,T33,V33,X33,Z33,AB33,AD33,AF33) -> 0
A34: C | B34: Environmental Studies & Reports
B35: AA Screening Report(s) (Ground Investigation & environmental reporting) | C35: 0 | D35: =(C35*D$3) -> 0 | E35: 0 | F35: =(E35*F$3) -> 0 | G35: 0 | H35: =(G35*H$3) -> 0 | I35: 0 | J35: =(I35*J$3) -> 0 | K35: 0 | L35: =(K35*L$3) -> 0 | M35: 0 | N35: =(M35*N$3) -> 0 | O35: 0 | P35: =(O35*P$3) -> 0 | Q35: 0 | R35: =(Q35*R$3) -> 0 | S35: 0 | T35: =(S35*T$3) -> 0 | U35: 0 | V35: =(U35*V$3) -> 0 | W35: 0 | X35: =(W35*X$3) -> 0 | Y35: 0 | Z35: =(Y35*Z$3) -> 0 | AA35: 0 | AB35: =(AA35*AB$3) -> 0 | AC35: 0 | AD35: =(AC35*AD$3) -> 0 | AE35: 0 | AF35: =(AE35*AF$3) -> 0 | AG35: =SUM(C35,E35,G35,I35,K35,M35,O35,Q35,S35,U35,W35,Y35,AA35,AC35,AE35) -> 0 | AH35: =SUM(D35,F35,H35,J35,L35,N35,P35,R35,T35,V35,X35,Z35,AB35,AD35,AF35) -> 0
B36: Natura Impact Statement or Article 6(2) Report as necessary | C36: 0 | D36: =(C36*D$3) -> 0 | E36: 0 | F36: =(E36*F$3) -> 0 | G36: 0 | H36: =(G36*H$3) -> 0 | I36: 0 | J36: =(I36*J$3) -> 0 | K36: 0 | L36: =(K36*L$3) -> 0 | M36: 0 | N36: =(M36*N$3) -> 0 | O36: 0 | P36: =(O36*P$3) -> 0 | Q36: 0 | R36: =(Q36*R$3) -> 0 | S36: 0 | T36: =(S36*T$3) -> 0 | U36: 0 | V36: =(U36*V$3) -> 0 | W36: 0 | X36: =(W36*X$3) -> 0 | Y36: 0 | Z36: =(Y36*Z$3) -> 0 | AA36: 0 | AB36: =(AA36*AB$3) -> 0 | AC36: 0 | AD36: =(AC36*AD$3) -> 0 | AE36: 0 | AF36: =(AE36*AF$3) -> 0 | AG36: =SUM(C36,E36,G36,I36,K36,M36,O36,Q36,S36,U36,W36,Y36,AA36,AC36,AE36) -> 0 | AH36: =SUM(D36,F36,H36,J36,L36,N36,P36,R36,T36,V36,X36,Z36,AB36,AD36,AF36) -> 0
B37: Ecological Impact Assessment Report (EcIA) | C37: 0 | D37: =(C37*D$3) -> 0 | E37: 0 | F37: =(E37*F$3) -> 0 | G37: 0 | H37: =(G37*H$3) -> 0 | I37: 0 | J37: =(I37*J$3) -> 0 | K37: 0 | L37: =(K37*L$3) -> 0 | M37: 0 | N37: =(M37*N$3) -> 0 | O37: 0 | P37: =(O37*P$3) -> 0 | Q37: 0 | R37: =(Q37*R$3) -> 0 | S37: 0 | T37: =(S37*T$3) -> 0 | U37: 0 | V37: =(U37*V$3) -> 0 | W37: 0 | X37: =(W37*X$3) -> 0 | Y37: 0 | Z37: =(Y37*Z$3) -> 0 | AA37: 0 | AB37: =(AA37*AB$3) -> 0 | AC37: 0 | AD37: =(AC37*AD$3) -> 0 | AE37: 0 | AF37: =(AE37*AF$3) -> 0 | AG37: =SUM(C37,E37,G37,I37,K37,M37,O37,Q37,S37,U37,W37,Y37,AA37,AC37,AE37) -> 0 | AH37: =SUM(D37,F37,H37,J37,L37,N37,P37,R37,T37,V37,X37,Z37,AB37,AD37,AF37) -> 0
B38: WFD Screening Report | C38: 0 | D38: =(C38*D$3) -> 0 | E38: 0 | F38: =(E38*F$3) -> 0 | G38: 0 | H38: =(G38*H$3) -> 0 | I38: 0 | J38: =(I38*J$3) -> 0 | K38: 0 | L38: =(K38*L$3) -> 0 | M38: 0 | N38: =(M38*N$3) -> 0 | O38: 0 | P38: =(O38*P$3) -> 0 | Q38: 0 | R38: =(Q38*R$3) -> 0 | S38: 0 | T38: =(S38*T$3) -> 0 | U38: 0 | V38: =(U38*V$3) -> 0 | W38: 0 | X38: =(W38*X$3) -> 0 | Y38: 0 | Z38: =(Y38*Z$3) -> 0 | AA38: 0 | AB38: =(AA38*AB$3) -> 0 | AC38: 0 | AD38: =(AC38*AD$3) -> 0 | AE38: 0 | AF38: =(AE38*AF$3) -> 0 | AG38: =SUM(C38,E38,G38,I38,K38,M38,O38,Q38,S38,U38,W38,Y38,AA38,AC38,AE38) -> 0 | AH38: =SUM(D38,F38,H38,J38,L38,N38,P38,R38,T38,V38,X38,Z38,AB38,AD38,AF38) -> 0
B39: EIA Screening Report | C39: 0 | D39: =(C39*D$3) -> 0 | E39: 0 | F39: =(E39*F$3) -> 0 | G39: 0 | H39: =(G39*H$3) -> 0 | I39: 0 | J39: =(I39*J$3) -> 0 | K39: 0 | L39: =(K39*L$3) -> 0 | M39: 0 | N39: =(M39*N$3) -> 0 | O39: 0 | P39: =(O39*P$3) -> 0 | Q39: 0 | R39: =(Q39*R$3) -> 0 | S39: 0 | T39: =(S39*T$3) -> 0 | U39: 0 | V39: =(U39*V$3) -> 0 | W39: 0 | X39: =(W39*X$3) -> 0 | Y39: 0 | Z39: =(Y39*Z$3) -> 0 | AA39: 0 | AB39: =(AA39*AB$3) -> 0 | AC39: 0 | AD39: =(AC39*AD$3) -> 0 | AE39: 0 | AF39: =(AE39*AF$3) -> 0 | AG39: =SUM(C39,E39,G39,I39,K39,M39,O39,Q39,S39,U39,W39,Y39,AA39,AC39,AE39) -> 0 | AH39: =SUM(D39,F39,H39,J39,L39,N39,P39,R39,T39,V39,X39,Z39,AB39,AD39,AF39) -> 0
B40: Preliminary CEMP | C40: 0 | D40: =(C40*D$3) -> 0 | E40: 0 | F40: =(E40*F$3) -> 0 | G40: 0 | H40: =(G40*H$3) -> 0 | I40: 0 | J40: =(I40*J$3) -> 0 | K40: 0 | L40: =(K40*L$3) -> 0 | M40: 0 | N40: =(M40*N$3) -> 0 | O40: 0 | P40: =(O40*P$3) -> 0 | Q40: 0 | R40: =(Q40*R$3) -> 0 | S40: 0 | T40: =(S40*T$3) -> 0 | U40: 0 | V40: =(U40*V$3) -> 0 | W40: 0 | X40: =(W40*X$3) -> 0 | Y40: 0 | Z40: =(Y40*Z$3) -> 0 | AA40: 0 | AB40: =(AA40*AB$3) -> 0 | AC40: 0 | AD40: =(AC40*AD$3) -> 0 | AE40: 0 | AF40: =(AE40*AF$3) -> 0 | AG40: =SUM(C40,E40,G40,I40,K40,M40,O40,Q40,S40,U40,W40,Y40,AA40,AC40,AE40) -> 0 | AH40: =SUM(D40,F40,H40,J40,L40,N40,P40,R40,T40,V40,X40,Z40,AB40,AD40,AF40) -> 0
A41: Phase 2 Total | C41: =SUM(C35:C40,C28:C33,C13:C26) -> 0 | D41: =SUM(D35:D40,D28:D33,D13:D26) -> 0 | E41: =SUM(E35:E40,E28:E33,E13:E26) -> 0 | F41: =SUM(F35:F40,F28:F33,F13:F26) -> 0 | G41: =SUM(G35:G40,G28:G33,G13:G26) -> 0 | H41: =SUM(H35:H40,H28:H33,H13:H26) -> 0 | I41: =SUM(I35:I40,I28:I33,I13:I26) -> 0 | J41: =SUM(J35:J40,J28:J33,J13:J26) -> 0 | ... AH41: =SUM(AH35:AH40,AH28:AH33,AH13:AH26) -> 0
A43: Phase 3 | B43: Statutory Process
A44: A | B44: Planning Process
B45: Pre-Planning Consultation | C45: 0 | D45: =(C45*D$3) -> 0 | E45: 0 | F45: =(E45*F$3) -> 0 | G45: 0 | H45: =(G45*H$3) -> 0 | I45: 0 | J45: =(I45*J$3) -> 0 | K45: 0 | L45: =(K45*L$3) -> 0 | M45: 0 | N45: =(M45*N$3) -> 0 | O45: 0 | P45: =(O45*P$3) -> 0 | Q45: 0 | R45: =(Q45*R$3) -> 0 | S45: 0 | T45: =(S45*T$3) -> 0 | U45: 0 | V45: =(U45*V$3) -> 0 | W45: 0 | X45: =(W45*X$3) -> 0 | Y45: 0 | Z45: =(Y45*Z$3) -> 0 | AA45: 0 | AB45: =(AA45*AB$3) -> 0 | AC45: 0 | AD45: =(AC45*AD$3) -> 0 | AE45: 0 | AF45: =(AE45*AF$3) -> 0 | AG45: =SUM(C45,E45,G45,I45,K45,M45,O45,Q45,S45,U45,W45,Y45,AA45,AC45,AE45) -> 0 | AH45: =SUM(D45,F45,H45,J45,L45,N45,P45,R45,T45,V45,X45,Z45,AB45,AD45,AF45) -> 0
B46: Planning Application Preperation & Submission (note: Planning fees & newspaper notices to be paid by IFI) | C46: 0 | D46: =(C46*D$3) -> 0 | E46: 0 | F46: =(E46*F$3) -> 0 | G46: 0 | H46: =(G46*H$3) -> 0 | I46: 0 | J46: =(I46*J$3) -> 0 | K46: 0 | L46: =(K46*L$3) -> 0 | M46: 0 | N46: =(M46*N$3) -> 0 | O46: 0 | P46: =(O46*P$3) -> 0 | Q46: 0 | R46: =(Q46*R$3) -> 0 | S46: 0 | T46: =(S46*T$3) -> 0 | U46: 0 | V46: =(U46*V$3) -> 0 | W46: 0 | X46: =(W46*X$3) -> 0 | Y46: 0 | Z46: =(Y46*Z$3) -> 0 | AA46: 0 | AB46: =(AA46*AB$3) -> 0 | AC46: 0 | AD46: =(AC46*AD$3) -> 0 | AE46: 0 | AF46: =(AE46*AF$3) -> 0 | AG46: =SUM(C46,E46,G46,I46,K46,M46,O46,Q46,S46,U46,W46,Y46,AA46,AC46,AE46) -> 0 | AH46: =SUM(D46,F46,H46,J46,L46,N46,P46,R46,T46,V46,X46,Z46,AB46,AD46,AF46) -> 0
B47: Planning Exemption application preparation & submission | C47: 0 | D47: =(C47*D$3) -> 0 | E47: 0 | F47: =(E47*F$3) -> 0 | G47: 0 | H47: =(G47*H$3) -> 0 | I47: 0 | J47: =(I47*J$3) -> 0 | K47: 0 | L47: =(K47*L$3) -> 0 | M47: 0 | N47: =(M47*N$3) -> 0 | O47: 0 | P47: =(O47*P$3) -> 0 | Q47: 0 | R47: =(Q47*R$3) -> 0 | S47: 0 | T47: =(S47*T$3) -> 0 | U47: 0 | V47: =(U47*V$3) -> 0 | W47: 0 | X47: =(W47*X$3) -> 0 | Y47: 0 | Z47: =(Y47*Z$3) -> 0 | AA47: 0 | AB47: =(AA47*AB$3) -> 0 | AC47: 0 | AD47: =(AC47*AD$3) -> 0 | AE47: 0 | AF47: =(AE47*AF$3) -> 0 | AG47: =SUM(C47,E47,G47,I47,K47,M47,O47,Q47,S47,U47,W47,Y47,AA47,AC47,AE47) -> 0 | AH47: =SUM(D47,F47,H47,J47,L47,N47,P47,R47,T47,V47,X47,Z47,AB47,AD47,AF47) -> 0
B48: OPW Section 50 Application | C48: 0 | D48: =(C48*D$3) -> 0 | E48: 0 | F48: =(E48*F$3) -> 0 | G48: 0 | H48: =(G48*H$3) -> 0 | I48: 0 | J48: =(I48*J$3) -> 0 | K48: 0 | L48: =(K48*L$3) -> 0 | M48: 0 | N48: =(M48*N$3) -> 0 | O48: 0 | P48: =(O48*P$3) -> 0 | Q48: 0 | R48: =(Q48*R$3) -> 0 | S48: 0 | T48: =(S48*T$3) -> 0 | U48: 0 | V48: =(U48*V$3) -> 0 | W48: 0 | X48: =(W48*X$3) -> 0 | Y48: 0 | Z48: =(Y48*Z$3) -> 0 | AA48: 0 | AB48: =(AA48*AB$3) -> 0 | AC48: 0 | AD48: =(AC48*AD$3) -> 0 | AE48: 0 | AF48: =(AE48*AF$3) -> 0 | AG48: =SUM(C48,E48,G48,I48,K48,M48,O48,Q48,S48,U48,W48,Y48,AA48,AC48,AE48) -> 0 | AH48: =SUM(D48,F48,H48,J48,L48,N48,P48,R48,T48,V48,X48,Z48,AB48,AD48,AF48) -> 0
B49: Post Planning Review | C49: 0 | D49: =(C49*D$3) -> 0 | E49: 0 | F49: =(E49*F$3) -> 0 | G49: 0 | H49: =(G49*H$3) -> 0 | I49: 0 | J49: =(I49*J$3) -> 0 | K49: 0 | L49: =(K49*L$3) -> 0 | M49: 0 | N49: =(M49*N$3) -> 0 | O49: 0 | P49: =(O49*P$3) -> 0 | Q49: 0 | R49: =(Q49*R$3) -> 0 | S49: 0 | T49: =(S49*T$3) -> 0 | U49: 0 | V49: =(U49*V$3) -> 0 | W49: 0 | X49: =(W49*X$3) -> 0 | Y49: 0 | Z49: =(Y49*Z$3) -> 0 | AA49: 0 | AB49: =(AA49*AB$3) -> 0 | AC49: 0 | AD49: =(AC49*AD$3) -> 0 | AE49: 0 | AF49: =(AE49*AF$3) -> 0 | AG49: =SUM(C49,E49,G49,I49,K49,M49,O49,Q49,S49,U49,W49,Y49,AA49,AC49,AE49) -> 0 | AH49: =SUM(D49,F49,H49,J49,L49,N49,P49,R49,T49,V49,X49,Z49,AB49,AD49,AF49) -> 0
A50: Phase 3 Total | C50: =SUM(C45:C49) -> 0 | D50: =SUM(D45:D49) -> 0 | E50: =SUM(E45:E49) -> 0 | F50: =SUM(F45:F49) -> 0 | G50: =SUM(G45:G49) -> 0 | H50: =SUM(H45:H49) -> 0 | I50: =SUM(I45:I49) -> 0 | J50: =SUM(J45:J49) -> 0 | ... AH50: =SUM(AH45:AH49) -> 0
A52: Phase 4 | B52: Detailed Design
A53: A | B53: General Service Requirements
B54: Project Management | C54: 0 | D54: =(C54*D$3) -> 0 | E54: 0 | F54: =(E54*F$3) -> 0 | G54: 0 | H54: =(G54*H$3) -> 0 | I54: 0 | J54: =(I54*J$3) -> 0 | K54: 0 | L54: =(K54*L$3) -> 0 | M54: 0 | N54: =(M54*N$3) -> 0 | O54: 0 | P54: =(O54*P$3) -> 0 | Q54: 0 | R54: =(Q54*R$3) -> 0 | S54: 0 | T54: =(S54*T$3) -> 0 | U54: 0 | V54: =(U54*V$3) -> 0 | W54: 0 | X54: =(W54*X$3) -> 0 | Y54: 0 | Z54: =(Y54*Z$3) -> 0 | AA54: 0 | AB54: =(AA54*AB$3) -> 0 | AC54: 0 | AD54: =(AC54*AD$3) -> 0 | AE54: 0 | AF54: =(AE54*AF$3) -> 0 | AG54: =SUM(C54,E54,G54,I54,K54,M54,O54,Q54,S54,U54,W54,Y54,AC54,AE54) -> 0 | AH54: =SUM(D54,F54,H54,J54,L54,N54,P54,R54,T54,V54,X54,Z54,AD54,AF54) -> 0
B55: Project Meetings | C55: 0 | D55: =(C55*D$3) -> 0 | E55: 0 | F55: =(E55*F$3) -> 0 | G55: 0 | H55: =(G55*H$3) -> 0 | I55: 0 | J55: =(I55*J$3) -> 0 | K55: 0 | L55: =(K55*L$3) -> 0 | M55: 0 | N55: =(M55*N$3) -> 0 | O55: 0 | P55: =(O55*P$3) -> 0 | Q55: 0 | R55: =(Q55*R$3) -> 0 | S55: 0 | T55: =(S55*T$3) -> 0 | U55: 0 | V55: =(U55*V$3) -> 0 | W55: 0 | X55: =(W55*X$3) -> 0 | Y55: 0 | Z55: =(Y55*Z$3) -> 0 | AA55: 0 | AB55: =(AA55*AB$3) -> 0 | AC55: 0 | AD55: =(AC55*AD$3) -> 0 | AE55: 0 | AF55: =(AE55*AF$3) -> 0 | AG55: =SUM(C55,E55,G55,I55,K55,M55,O55,Q55,S55,U55,W55,Y55,AC55,AE55) -> 0 | AH55: =SUM(D55,F55,H55,J55,L55,N55,P55,R55,T55,V55,X55,Z55,AD55,AF55) -> 0
B56: Progress Reports | C56: 0 | D56: =(C56*D$3) -> 0 | E56: 0 | F56: =(E56*F$3) -> 0 | G56: 0 | H56: =(G56*H$3) -> 0 | I56: 0 | J56: =(I56*J$3) -> 0 | K56: 0 | L56: =(K56*L$3) -> 0 | M56: 0 | N56: =(M56*N$3) -> 0 | O56: 0 | P56: =(O56*P$3) -> 0 | Q56: 0 | R56: =(Q56*R$3) -> 0 | S56: 0 | T56: =(S56*T$3) -> 0 | U56: 0 | V56: =(U56*V$3) -> 0 | W56: 0 | X56: =(W56*X$3) -> 0 | Y56: 0 | Z56: =(Y56*Z$3) -> 0 | AA56: 0 | AB56: =(AA56*AB$3) -> 0 | AC56: 0 | AD56: =(AC56*AD$3) -> 0 | AE56: 0 | AF56: =(AE56*AF$3) -> 0 | AG56: =SUM(C56,E56,G56,I56,K56,M56,O56,Q56,S56,U56,W56,Y56,AC56,AE56) -> 0 | AH56: =SUM(D56,F56,H56,J56,L56,N56,P56,R56,T56,V56,X56,Z56,AD56,AF56) -> 0
B57: Cost & Risk Management Plan | C57: 0 | D57: =(C57*D$3) -> 0 | E57: 0 | F57: =(E57*F$3) -> 0 | G57: 0 | H57: =(G57*H$3) -> 0 | I57: 0 | J57: =(I57*J$3) -> 0 | K57: 0 | L57: =(K57*L$3) -> 0 | M57: 0 | N57: =(M57*N$3) -> 0 | O57: 0 | P57: =(O57*P$3) -> 0 | Q57: 0 | R57: =(Q57*R$3) -> 0 | S57: 0 | T57: =(S57*T$3) -> 0 | U57: 0 | V57: =(U57*V$3) -> 0 | W57: 0 | X57: =(W57*X$3) -> 0 | Y57: 0 | Z57: =(Y57*Z$3) -> 0 | AA57: 0 | AB57: =(AA57*AB$3) -> 0 | AC57: 0 | AD57: =(AC57*AD$3) -> 0 | AE57: 0 | AF57: =(AE57*AF$3) -> 0 | AG57: =SUM(C57,E57,G57,I57,K57,M57,O57,Q57,S57,U57,W57,Y57,AC57,AE57) -> 0 | AH57: =SUM(D57,F57,H57,J57,L57,N57,P57,R57,T57,V57,X57,Z57,AD57,AF57) -> 0
B58: Stakeholder Consultation | C58: 0 | D58: =(C58*D$3) -> 0 | E58: 0 | F58: =(E58*F$3) -> 0 | G58: 0 | H58: =(G58*H$3) -> 0 | I58: 0 | J58: =(I58*J$3) -> 0 | K58: 0 | L58: =(K58*L$3) -> 0 | M58: 0 | N58: =(M58*N$3) -> 0 | O58: 0 | P58: =(O58*P$3) -> 0 | Q58: 0 | R58: =(Q58*R$3) -> 0 | S58: 0 | T58: =(S58*T$3) -> 0 | U58: 0 | V58: =(U58*V$3) -> 0 | W58: 0 | X58: =(W58*X$3) -> 0 | Y58: 0 | Z58: =(Y58*Z$3) -> 0 | AA58: 0 | AB58: =(AA58*AB$3) -> 0 | AC58: 0 | AD58: =(AC58*AD$3) -> 0 | AE58: 0 | AF58: =(AE58*AF$3) -> 0 | AG58: =SUM(C58,E58,G58,I58,K58,M58,O58,Q58,S58,U58,W58,Y58,AC58,AE58) -> 0 | AH58: =SUM(D58,F58,H58,J58,L58,N58,P58,R58,T58,V58,X58,Z58,AD58,AF58) -> 0
B59: Develeped Business Case | C59: 0 | D59: =(C59*D$3) -> 0 | E59: 0 | F59: =(E59*F$3) -> 0 | G59: 0 | H59: =(G59*H$3) -> 0 | I59: 0 | J59: =(I59*J$3) -> 0 | K59: 0 | L59: =(K59*L$3) -> 0 | M59: 0 | N59: =(M59*N$3) -> 0 | O59: 0 | P59: =(O59*P$3) -> 0 | Q59: 0 | R59: =(Q59*R$3) -> 0 | S59: 0 | T59: =(S59*T$3) -> 0 | U59: 0 | V59: =(U59*V$3) -> 0 | W59: 0 | X59: =(W59*X$3) -> 0 | Y59: 0 | Z59: =(Y59*Z$3) -> 0 | AA59: 0 | AB59: =(AA59*AB$3) -> 0 | AC59: 0 | AD59: =(AC59*AD$3) -> 0 | AE59: 0 | AF59: =(AE59*AF$3) -> 0 | AG59: =SUM(C59,E59,G59,I59,K59,M59,O59,Q59,S59,U59,W59,Y59,AC59,AE59) -> 0 | AH59: =SUM(D59,F59,H59,J59,L59,N59,P59,R59,T59,V59,X59,Z59,AD59,AF59) -> 0
A60: B | B60: Health & Safety
B61: Safety & Health Duties (General) | C61: 0 | D61: =(C61*D$3) -> 0 | E61: 0 | F61: =(E61*F$3) -> 0 | G61: 0 | H61: =(G61*H$3) -> 0 | I61: 0 | J61: =(I61*J$3) -> 0 | K61: 0 | L61: =(K61*L$3) -> 0 | M61: 0 | N61: =(M61*N$3) -> 0 | O61: 0 | P61: =(O61*P$3) -> 0 | Q61: 0 | R61: =(Q61*R$3) -> 0 | S61: 0 | T61: =(S61*T$3) -> 0 | U61: 0 | V61: =(U61*V$3) -> 0 | W61: 0 | X61: =(W61*X$3) -> 0 | Y61: 0 | Z61: =(Y61*Z$3) -> 0 | AA61: 0 | AB61: =(AA61*AB$3) -> 0 | AC61: 0 | AD61: =(AC61*AD$3) -> 0 | AE61: 0 | AF61: =(AE61*AF$3) -> 0 | AG61: =SUM(C61,E61,G61,I61,K61,M61,O61,Q61,S61,U61,W61,Y61,AC61,AE61) -> 0 | AH61: =SUM(D61,F61,H61,J61,L61,N61,P61,R61,T61,V61,X61,Z61,AD61,AF61) -> 0
B62: PSDP (All Duties & Reports) | C62: 0 | D62: =(C62*D$3) -> 0 | E62: 0 | F62: =(E62*F$3) -> 0 | G62: 0 | H62: =(G62*H$3) -> 0 | I62: 0 | J62: =(I62*J$3) -> 0 | K62: 0 | L62: =(K62*L$3) -> 0 | M62: 0 | N62: =(M62*N$3) -> 0 | O62: 0 | P62: =(O62*P$3) -> 0 | Q62: 0 | R62: =(Q62*R$3) -> 0 | S62: 0 | T62: =(S62*T$3) -> 0 | U62: 0 | V62: =(U62*V$3) -> 0 | W62: 0 | X62: =(W62*X$3) -> 0 | Y62: 0 | Z62: =(Y62*Z$3) -> 0 | AA62: 0 | AB62: =(AA62*AB$3) -> 0 | AC62: 0 | AD62: =(AC62*AD$3) -> 0 | AE62: 0 | AF62: =(AE62*AF$3) -> 0 | AG62: =SUM(C62,E62,G62,I62,K62,M62,O62,Q62,S62,U62,W62,Y62,AC62,AE62) -> 0 | AH62: =SUM(D62,F62,H62,J62,L62,N62,P62,R62,T62,V62,X62,Z62,AD62,AF62) -> 0
A63: C | B63: Review
B64: Review of all Planning Documents and Conditions | C64: 0 | D64: =(C64*D$3) -> 0 | E64: 0 | F64: =(E64*F$3) -> 0 | G64: 0 | H64: =(G64*H$3) -> 0 | I64: 0 | J64: =(I64*J$3) -> 0 | K64: 0 | L64: =(K64*L$3) -> 0 | M64: 0 | N64: =(M64*N$3) -> 0 | O64: 0 | P64: =(O64*P$3) -> 0 | Q64: 0 | R64: =(Q64*R$3) -> 0 | S64: 0 | T64: =(S64*T$3) -> 0 | U64: 0 | V64: =(U64*V$3) -> 0 | W64: 0 | X64: =(W64*X$3) -> 0 | Y64: 0 | Z64: =(Y64*Z$3) -> 0 | AA64: 0 | AB64: =(AA64*AB$3) -> 0 | AC64: 0 | AD64: =(AC64*AD$3) -> 0 | AE64: 0 | AF64: =(AE64*AF$3) -> 0 | AG64: =SUM(C64,E64,G64,I64,K64,M64,O64,Q64,S64,U64,W64,Y64,AC64,AE64) -> 0 | AH64: =SUM(D64,F64,H64,J64,L64,N64,P64,R64,T64,V64,X64,Z64,AD64,AF64) -> 0
A65: D | B65: Detailed Design
B66: Develop Detailed Design | C66: 0 | D66: =(C66*D$3) -> 0 | E66: 0 | F66: =(E66*F$3) -> 0 | G66: 0 | H66: =(G66*H$3) -> 0 | I66: 0 | J66: =(I66*J$3) -> 0 | K66: 0 | L66: =(K66*L$3) -> 0 | M66: 0 | N66: =(M66*N$3) -> 0 | O66: 0 | P66: =(O66*P$3) -> 0 | Q66: 0 | R66: =(Q66*R$3) -> 0 | S66: 0 | T66: =(S66*T$3) -> 0 | U66: 0 | V66: =(U66*V$3) -> 0 | W66: 0 | X66: =(W66*X$3) -> 0 | Y66: 0 | Z66: =(Y66*Z$3) -> 0 | AA66: 0 | AB66: =(AA66*AB$3) -> 0 | AC66: 0 | AD66: =(AC66*AD$3) -> 0 | AE66: 0 | AF66: =(AE66*AF$3) -> 0 | AG66: =SUM(C66,E66,G66,I66,K66,M66,O66,Q66,S66,U66,W66,Y66,AC66,AE66) -> 0 | AH66: =SUM(D66,F66,H66,J66,L66,N66,P66,R66,T66,V66,X66,Z66,AD66,AF66) -> 0
B67: Design Checking - Category 1 | C67: 0 | D67: =(C67*D$3) -> 0 | E67: 0 | F67: =(E67*F$3) -> 0 | G67: 0 | H67: =(G67*H$3) -> 0 | I67: 0 | J67: =(I67*J$3) -> 0 | K67: 0 | L67: =(K67*L$3) -> 0 | M67: 0 | N67: =(M67*N$3) -> 0 | O67: 0 | P67: =(O67*P$3) -> 0 | Q67: 0 | R67: =(Q67*R$3) -> 0 | S67: 0 | T67: =(S67*T$3) -> 0 | U67: 0 | V67: =(U67*V$3) -> 0 | W67: 0 | X67: =(W67*X$3) -> 0 | Y67: 0 | Z67: =(Y67*Z$3) -> 0 | AA67: 0 | AB67: =(AA67*AB$3) -> 0 | AC67: 0 | AD67: =(AC67*AD$3) -> 0 | AE67: 0 | AF67: =(AE67*AF$3) -> 0 | AG67: =SUM(C67,E67,G67,I67,K67,M67,O67,Q67,S67,U67,W67,Y67,AC67,AE67) -> 0 | AH67: =SUM(D67,F67,H67,J67,L67,N67,P67,R67,T67,V67,X67,Z67,AD67,AF67) -> 0
B68: Preparation of all Tender Documentation | C68: 0 | D68: =(C68*D$3) -> 0 | E68: 0 | F68: =(E68*F$3) -> 0 | G68: 0 | H68: =(G68*H$3) -> 0 | I68: 0 | J68: =(I68*J$3) -> 0 | K68: 0 | L68: =(K68*L$3) -> 0 | M68: 0 | N68: =(M68*N$3) -> 0 | O68: 0 | P68: =(O68*P$3) -> 0 | Q68: 0 | R68: =(Q68*R$3) -> 0 | S68: 0 | T68: =(S68*T$3) -> 0 | U68: 0 | V68: =(U68*V$3) -> 0 | W68: 0 | X68: =(W68*X$3) -> 0 | Y68: 0 | Z68: =(Y68*Z$3) -> 0 | AA68: 0 | AB68: =(AA68*AB$3) -> 0 | AC68: 0 | AD68: =(AC68*AD$3) -> 0 | AE68: 0 | AF68: =(AE68*AF$3) -> 0 | AG68: =SUM(C68,E68,G68,I68,K68,M68,O68,Q68,S68,U68,W68,Y68,AC68,AE68) -> 0 | AH68: =SUM(D68,F68,H68,J68,L68,N68,P68,R68,T68,V68,X68,Z68,AD68,AF68) -> 0
B69: Derogation Licence | C69: 0 | D69: =(C69*D$3) -> 0 | E69: 0 | F69: =(E69*F$3) -> 0 | G69: 0 | H69: =(G69*H$3) -> 0 | I69: 0 | J69: =(I69*J$3) -> 0 | K69: 0 | L69: =(K69*L$3) -> 0 | M69: 0 | N69: =(M69*N$3) -> 0 | O69: 0 | P69: =(O69*P$3) -> 0 | Q69: 0 | R69: =(Q69*R$3) -> 0 | S69: 0 | T69: =(S69*T$3) -> 0 | U69: 0 | V69: =(U69*V$3) -> 0 | W69: 0 | X69: =(W69*X$3) -> 0 | Y69: 0 | Z69: =(Y69*Z$3) -> 0 | AA69: 0 | AB69: =(AA69*AB$3) -> 0 | AC69: 0 | AD69: =(AC69*AD$3) -> 0 | AE69: 0 | AF69: =(AE69*AF$3) -> 0 | AG69: =SUM(C69,E69,G69,I69,K69,M69,O69,Q69,S69,U69,W69,Y69,AC69,AE69) -> 0 | AH69: =SUM(D69,F69,H69,J69,L69,N69,P69,R69,T69,V69,X69,Z69,AD69,AF69) -> 0
A70: Phase 4 Total | C70: =SUM(C54:C59,C61:C62,C64,C66:C69) -> 0 | D70: =SUM(D54:D59,D61:D62,D64,D66:D69) -> 0 | E70: =SUM(E54:E59,E61:E62,E64,E66:E69) -> 0 | F70: =SUM(F54:F59,F61:F62,F64,F66:F69) -> 0 | G70: =SUM(G54:G59,G61:G62,G64,G66:G69) -> 0 | H70: =SUM(H54:H59,H61:H62,H64,H66:H69) -> 0 | I70: =SUM(I54:I59,I61:I62,I64,I66:I69) -> 0 | J70: =SUM(J54:J59,J61:J62,J64,J66:J69) -> 0 | ... AH70: =SUM(AH54:AH59,AH61:AH62,AH64,AH66:AH69) -> 0
A72: Phase 5 | B72: Tender
A73: A | B73: General Service Requirements
B74: Project Management | C74: 0 | D74: =(C74*D$3) -> 0 | E74: 0 | F74: =(E74*F$3) -> 0 | G74: 0 | H74: =(G74*H$3) -> 0 | I74: 0 | J74: =(I74*J$3) -> 0 | K74: 0 | L74: =(K74*L$3) -> 0 | M74: 0 | N74: =(M74*N$3) -> 0 | O74: 0 | P74: =(O74*P$3) -> 0 | Q74: 0 | R74: =(Q74*R$3) -> 0 | S74: 0 | T74: =(S74*T$3) -> 0 | U74: 0 | V74: =(U74*V$3) -> 0 | W74: 0 | X74: =(W74*X$3) -> 0 | Y74: 0 | Z74: =(Y74*Z$3) -> 0 | AA74: 0 | AB74: =(AA74*AB$3) -> 0 | AC74: 0 | AD74: =(AC74*AD$3) -> 0 | AE74: 0 | AF74: =(AE74*AF$3) -> 0 | AG74: =SUM(C74,E74,G74,I74,K74,M74,O74,Q74,S74,U74,W74,Y74,AC74,AE74) -> 0 | AH74: =SUM(D74,F74,H74,J74,L74,N74,P74,R74,T74,V74,X74,Z74,AD74,AF74) -> 0
B75: Project Meetings | C75: 0 | D75: =(C75*D$3) -> 0 | E75: 0 | F75: =(E75*F$3) -> 0 | G75: 0 | H75: =(G75*H$3) -> 0 | I75: 0 | J75: =(I75*J$3) -> 0 | K75: 0 | L75: =(K75*L$3) -> 0 | M75: 0 | N75: =(M75*N$3) -> 0 | O75: 0 | P75: =(O75*P$3) -> 0 | Q75: 0 | R75: =(Q75*$R$3) -> 0 | S75: 0 | T75: =(S75*T$3) -> 0 | U75: 0 | V75: =(U75*V$3) -> 0 | W75: 0 | X75: =(W75*X$3) -> 0 | Y75: 0 | Z75: =(Y75*Z$3) -> 0 | AA75: 0 | AB75: =(AA75*AB$3) -> 0 | AC75: 0 | AD75: =(AC75*AD$3) -> 0 | AE75: 0 | AF75: =(AE75*AF$3) -> 0 | AG75: =SUM(C75,E75,G75,I75,K75,M75,O75,Q75,S75,U75,W75,Y75,AC75,AE75) -> 0 | AH75: =SUM(D75,F75,H75,J75,L75,N75,P75,R75,T75,V75,X75,Z75,AD75,AF75) -> 0
B76: Progress Reports | C76: 0 | D76: =(C76*D$3) -> 0 | E76: 0 | F76: =(E76*F$3) -> 0 | G76: 0 | H76: =(G76*H$3) -> 0 | I76: 0 | J76: =(I76*J$3) -> 0 | K76: 0 | L76: =(K76*L$3) -> 0 | M76: 0 | N76: =(M76*N$3) -> 0 | O76: 0 | P76: =(O76*P$3) -> 0 | Q76: 0 | R76: =(Q76*$R$3) -> 0 | S76: 0 | T76: =(S76*T$3) -> 0 | U76: 0 | V76: =(U76*V$3) -> 0 | W76: 0 | X76: =(W76*X$3) -> 0 | Y76: 0 | Z76: =(Y76*Z$3) -> 0 | AA76: 0 | AB76: =(AA76*AB$3) -> 0 | AC76: 0 | AD76: =(AC76*AD$3) -> 0 | AE76: 0 | AF76: =(AE76*AF$3) -> 0 | AG76: =SUM(C76,E76,G76,I76,K76,M76,O76,Q76,S76,U76,W76,Y76,AC76,AE76) -> 0 | AH76: =SUM(D76,F76,H76,J76,L76,N76,P76,R76,T76,V76,X76,Z76,AD76,AF76) -> 0
B77: Cost & Risk Management Plan | C77: 0 | D77: =(C77*D$3) -> 0 | E77: 0 | F77: =(E77*F$3) -> 0 | G77: 0 | H77: =(G77*H$3) -> 0 | I77: 0 | J77: =(I77*J$3) -> 0 | K77: 0 | L77: =(K77*L$3) -> 0 | M77: 0 | N77: =(M77*N$3) -> 0 | O77: 0 | P77: =(O77*P$3) -> 0 | Q77: 0 | R77: =(Q77*R$3) -> 0 | S77: 0 | T77: =(S77*T$3) -> 0 | U77: 0 | V77: =(U77*V$3) -> 0 | W77: 0 | X77: =(W77*X$3) -> 0 | Y77: 0 | Z77: =(Y77*Z$3) -> 0 | AA77: 0 | AB77: =(AA77*AB$3) -> 0 | AC77: 0 | AD77: =(AC77*AD$3) -> 0 | AE77: 0 | AF77: =(AE77*AF$3) -> 0 | AG77: =SUM(C77,E77,G77,I77,K77,M77,O77,Q77,S77,U77,W77,Y77,AC77,AE77) -> 0 | AH77: =SUM(D77,F77,H77,J77,L77,N77,P77,R77,T77,V77,X77,Z77,AD77,AF77) -> 0
B78: Stakeholder Consultation | C78: 0 | D78: =(C78*D$3) -> 0 | E78: 0 | F78: =(E78*F$3) -> 0 | G78: 0 | H78: =(G78*H$3) -> 0 | I78: 0 | J78: =(I78*J$3) -> 0 | K78: 0 | L78: =(K78*L$3) -> 0 | M78: 0 | N78: =(M78*N$3) -> 0 | O78: 0 | P78: =(O78*P$3) -> 0 | Q78: 0 | R78: =(Q78*R$3) -> 0 | S78: 0 | T78: =(S78*T$3) -> 0 | U78: 0 | V78: =(U78*V$3) -> 0 | W78: 0 | X78: =(W78*X$3) -> 0 | Y78: 0 | Z78: =(Y78*Z$3) -> 0 | AA78: 0 | AB78: =(AA78*AB$3) -> 0 | AC78: 0 | AD78: =(AC78*AD$3) -> 0 | AE78: 0 | AF78: =(AE78*AF$3) -> 0 | AG78: =SUM(C78,E78,G78,I78,K78,M78,O78,Q78,S78,U78,W78,Y78,AC78,AE78) -> 0 | AH78: =SUM(D78,F78,H78,J78,L78,N78,P78,R78,T78,V78,X78,Z78,AD78,AF78) -> 0
B79: Final Business Case | C79: 0 | D79: =(C79*D$3) -> 0 | E79: 0 | F79: =(E79*F$3) -> 0 | G79: 0 | H79: =(G79*H$3) -> 0 | I79: 0 | J79: =(I79*J$3) -> 0 | K79: 0 | L79: =(K79*L$3) -> 0 | M79: 0 | N79: =(M79*N$3) -> 0 | O79: 0 | P79: =(O79*P$3) -> 0 | Q79: 0 | R79: =(Q79*R$3) -> 0 | S79: 0 | T79: =(S79*T$3) -> 0 | U79: 0 | V79: =(U79*V$3) -> 0 | W79: 0 | X79: =(W79*X$3) -> 0 | Y79: 0 | Z79: =(Y79*Z$3) -> 0 | AA79: 0 | AB79: =(AA79*AB$3) -> 0 | AC79: 0 | AD79: =(AC79*AD$3) -> 0 | AE79: 0 | AF79: =(AE79*AF$3) -> 0 | AG79: =SUM(C79,E79,G79,I79,K79,M79,O79,Q79,S79,U79,W79,Y79,AC79,AE79) -> 0 | AH79: =SUM(D79,F79,H79,J79,L79,N79,P79,R79,T79,V79,X79,Z79,AD79,AF79) -> 0
A80: B | B80: Health & Safety
B81: Safety & Health Duties (General) | C81: 0 | D81: =(C81*D$3) -> 0 | E81: 0 | F81: =(E81*F$3) -> 0 | G81: 0 | H81: =(G81*H$3) -> 0 | I81: 0 | J81: =(I81*J$3) -> 0 | K81: 0 | L81: =(K81*L$3) -> 0 | M81: 0 | N81: =(M81*N$3) -> 0 | O81: 0 | P81: =(O81*P$3) -> 0 | Q81: 0 | R81: =(Q81*$R$3) -> 0 | S81: 0 | T81: =(S81*T$3) -> 0 | U81: 0 | V81: =(U81*V$3) -> 0 | W81: 0 | X81: =(W81*X$3) -> 0 | Y81: 0 | Z81: =(Y81*Z$3) -> 0 | AA81: 0 | AB81: =(AA81*AB$3) -> 0 | AC81: 0 | AD81: =(AC81*AD$3) -> 0 | AE81: 0 | AF81: =(AE81*AF$3) -> 0 | AG81: =SUM(C81,E81,G81,I81,K81,M81,O81,Q81,S81,U81,W81,Y81,AC81,AE81) -> 0 | AH81: =SUM(D81,F81,H81,J81,L81,N81,P81,R81,T81,V81,X81,Z81,AD81,AF81) -> 0
B82: PSDP (All Duties & Reports) | C82: 0 | D82: =(C82*D$3) -> 0 | E82: 0 | F82: =(E82*F$3) -> 0 | G82: 0 | H82: =(G82*H$3) -> 0 | I82: 0 | J82: =(I82*J$3) -> 0 | K82: 0 | L82: =(K82*L$3) -> 0 | M82: 0 | N82: =(M82*N$3) -> 0 | O82: 0 | P82: =(O82*P$3) -> 0 | Q82: 0 | R82: =(Q82*R$3) -> 0 | S82: 0 | T82: =(S82*T$3) -> 0 | U82: 0 | V82: =(U82*V$3) -> 0 | W82: 0 | X82: =(W82*X$3) -> 0 | Y82: 0 | Z82: =(Y82*Z$3) -> 0 | AA82: 0 | AB82: =(AA82*AB$3) -> 0 | AC82: 0 | AD82: =(AC82*AD$3) -> 0 | AE82: 0 | AF82: =(AE82*AF$3) -> 0 | AG82: =SUM(C82,E82,G82,I82,K82,M82,O82,Q82,S82,U82,W82,Y82,AC82,AE82) -> 0 | AH82: =SUM(D82,F82,H82,J82,L82,N82,P82,R82,T82,V82,X82,Z82,AD82,AF82) -> 0
A83: C | B83: Tender Process
B84: Management of Tender Process | C84: 0 | D84: =(C84*D$3) -> 0 | E84: 0 | F84: =(E84*F$3) -> 0 | G84: 0 | H84: =(G84*H$3) -> 0 | I84: 0 | J84: =(I84*J$3) -> 0 | K84: 0 | L84: =(K84*L$3) -> 0 | M84: 0 | N84: =(M84*N$3) -> 0 | O84: 0 | P84: =(O84*P$3) -> 0 | Q84: 0 | R84: =(Q84*$R$3) -> 0 | S84: 0 | T84: =(S84*T$3) -> 0 | U84: 0 | V84: =(U84*V$3) -> 0 | W84: 0 | X84: =(W84*X$3) -> 0 | Y84: 0 | Z84: =(Y84*Z$3) -> 0 | AA84: 0 | AB84: =(AA84*AB$3) -> 0 | AC84: 0 | AD84: =(AC84*AD$3) -> 0 | AE84: 0 | AF84: =(AE84*AF$3) -> 0 | AG84: =SUM(C84,E84,G84,I84,K84,M84,O84,Q84,S84,U84,W84,Y84,AC84,AE84) -> 0 | AH84: =SUM(D84,F84,H84,J84,L84,N84,P84,R84,T84,V84,X84,Z84,AD84,AF84) -> 0
B85: Tender Assessment & Report | C85: 0 | D85: =(C85*D$3) -> 0 | E85: 0 | F85: =(E85*F$3) -> 0 | G85: 0 | H85: =(G85*H$3) -> 0 | I85: 0 | J85: =(I85*J$3) -> 0 | K85: 0 | L85: =(K85*L$3) -> 0 | M85: 0 | N85: =(M85*N$3) -> 0 | O85: 0 | P85: =(O85*P$3) -> 0 | Q85: 0 | R85: =(Q85*$R$3) -> 0 | S85: 0 | T85: =(S85*T$3) -> 0 | U85: 0 | V85: =(U85*V$3) -> 0 | W85: 0 | X85: =(W85*X$3) -> 0 | Y85: 0 | Z85: =(Y85*Z$3) -> 0 | AA85: 0 | AB85: =(AA85*AB$3) -> 0 | AC85: 0 | AD85: =(AC85*AD$3) -> 0 | AE85: 0 | AF85: =(AE85*AF$3) -> 0 | AG85: =SUM(C85,E85,G85,I85,K85,M85,O85,Q85,S85,U85,W85,Y85,AC85,AE85) -> 0 | AH85: =SUM(D85,F85,H85,J85,L85,N85,P85,R85,T85,V85,X85,Z85,AD85,AF85) -> 0
A86: Phase 5 Total | C86: =SUM(C74:C79,C81:C82,C84:C85) -> 0 | D86: =SUM(D74:D79,D81:D82,D84:D85) -> 0 | E86: =SUM(E74:E79,E81:E82,E84:E85) -> 0 | F86: =SUM(F74:F79,F81:F82,F84:F85) -> 0 | G86: =SUM(G74:G79,G81:G82,G84:G85) -> 0 | H86: =SUM(H74:H79,H81:H82,H84:H85) -> 0 | I86: =SUM(I74:I79,I81:I82,I84:I85) -> 0 | J86: =SUM(J74:J79,J81:J82,J84:J85) -> 0 | ... AH86: =SUM(AH74:AH79,AH81:AH82,AH84:AH85) -> 0
A88: Phase 6 | B88: Construction
A89: A | B89: General Service Requirements
B90: Project Management | C90: 0 | D90: =(C90*D$3) -> 0 | E90: 0 | F90: =(E90*F$3) -> 0 | G90: 0 | H90: =(G90*H$3) -> 0 | I90: 0 | J90: =(I90*J$3) -> 0 | K90: 0 | L90: =(K90*L$3) -> 0 | M90: 0 | N90: =(M90*N$3) -> 0 | O90: 0 | P90: =(O90*P$3) -> 0 | Q90: 0 | R90: =(Q90*R$3) -> 0 | S90: 0 | T90: =(S90*T$3) -> 0 | U90: 0 | V90: =(U90*V$3) -> 0 | W90: 0 | X90: =(W90*X$3) -> 0 | Y90: 0 | Z90: =(Y90*Z$3) -> 0 | AA90: 0 | AB90: =(AA90*AB$3) -> 0 | AC90: 0 | AD90: =(AC90*AD$3) -> 0 | AE90: 0 | AF90: =(AE90*AF$3) -> 0 | AG90: =SUM(C90,E90,G90,I90,K90,M90,O90,Q90,S90,U90,W90,Y90,AC90,AE90) -> 0 | AH90: =SUM(D90,F90,H90,J90,L90,N90,P90,R90,T90,V90,X90,Z90,AD90,AF90) -> 0
B91: Project Meetings | C91: 0 | D91: =(C91*D$3) -> 0 | E91: 0 | F91: =(E91*F$3) -> 0 | G91: 0 | H91: =(G91*H$3) -> 0 | I91: 0 | J91: =(I91*J$3) -> 0 | K91: 0 | L91: =(K91*L$3) -> 0 | M91: 0 | N91: =(M91*N$3) -> 0 | O91: 0 | P91: =(O91*P$3) -> 0 | Q91: 0 | R91: =(Q91*$R$3) -> 0 | S91: 0 | T91: =(S91*T$3) -> 0 | U91: 0 | V91: =(U91*V$3) -> 0 | W91: 0 | X91: =(W91*X$3) -> 0 | Y91: 0 | Z91: =(Y91*Z$3) -> 0 | AA91: 0 | AB91: =(AA91*AB$3) -> 0 | AC91: 0 | AD91: =(AC91*AD$3) -> 0 | AE91: 0 | AF91: =(AE91*AF$3) -> 0 | AG91: =SUM(C91,E91,G91,I91,K91,M91,O91,Q91,S91,U91,W91,Y91,AC91,AE91) -> 0 | AH91: =SUM(D91,F91,H91,J91,L91,N91,P91,R91,T91,V91,X91,Z91,AD91,AF91) -> 0
B92: Progress Reports | C92: 0 | D92: =(C92*D$3) -> 0 | E92: 0 | F92: =(E92*F$3) -> 0 | G92: 0 | H92: =(G92*H$3) -> 0 | I92: 0 | J92: =(I92*J$3) -> 0 | K92: 0 | L92: =(K92*L$3) -> 0 | M92: 0 | N92: =(M92*N$3) -> 0 | O92: 0 | P92: =(O92*P$3) -> 0 | Q92: 0 | R92: =(Q92*$R$3) -> 0 | S92: 0 | T92: =(S92*T$3) -> 0 | U92: 0 | V92: =(U92*V$3) -> 0 | W92: 0 | X92: =(W92*X$3) -> 0 | Y92: 0 | Z92: =(Y92*Z$3) -> 0 | AA92: 0 | AB92: =(AA92*AB$3) -> 0 | AC92: 0 | AD92: =(AC92*AD$3) -> 0 | AE92: 0 | AF92: =(AE92*AF$3) -> 0 | AG92: =SUM(C92,E92,G92,I92,K92,M92,O92,Q92,S92,U92,W92,Y92,AC92,AE92) -> 0 | AH92: =SUM(D92,F92,H92,J92,L92,N92,P92,R92,T92,V92,X92,Z92,AD92,AF92) -> 0
B93: Cost & Risk Management Plan | C93: 0 | D93: =(C93*D$3) -> 0 | E93: 0 | F93: =(E93*F$3) -> 0 | G93: 0 | H93: =(G93*H$3) -> 0 | I93: 0 | J93: =(I93*J$3) -> 0 | K93: 0 | L93: =(K93*L$3) -> 0 | M93: 0 | N93: =(M93*N$3) -> 0 | O93: 0 | P93: =(O93*P$3) -> 0 | Q93: 0 | R93: =(Q93*R$3) -> 0 | S93: 0 | T93: =(S93*T$3) -> 0 | U93: 0 | V93: =(U93*V$3) -> 0 | W93: 0 | X93: =(W93*X$3) -> 0 | Y93: 0 | Z93: =(Y93*Z$3) -> 0 | AA93: 0 | AB93: =(AA93*AB$3) -> 0 | AC93: 0 | AD93: =(AC93*AD$3) -> 0 | AE93: 0 | AF93: =(AE93*AF$3) -> 0 | AG93: =SUM(C93,E93,G93,I93,K93,M93,O93,Q93,S93,U93,W93,Y93,AC93,AE93) -> 0 | AH93: =SUM(D93,F93,H93,J93,L93,N93,P93,R93,T93,V93,X93,Z93,AD93,AF93) -> 0
B94: Stakeholder Consultation | C94: 0 | D94: =(C94*D$3) -> 0 | E94: 0 | F94: =(E94*F$3) -> 0 | G94: 0 | H94: =(G94*H$3) -> 0 | I94: 0 | J94: =(I94*J$3) -> 0 | K94: 0 | L94: =(K94*L$3) -> 0 | M94: 0 | N94: =(M94*N$3) -> 0 | O94: 0 | P94: =(O94*P$3) -> 0 | Q94: 0 | R94: =(Q94*R$3) -> 0 | S94: 0 | T94: =(S94*T$3) -> 0 | U94: 0 | V94: =(U94*V$3) -> 0 | W94: 0 | X94: =(W94*X$3) -> 0 | Y94: 0 | Z94: =(Y94*Z$3) -> 0 | AA94: 0 | AB94: =(AA94*AB$3) -> 0 | AC94: 0 | AD94: =(AC94*AD$3) -> 0 | AE94: 0 | AF94: =(AE94*AF$3) -> 0 | AG94: =SUM(C94,E94,G94,I94,K94,M94,O94,Q94,S94,U94,W94,Y94,AC94,AE94) -> 0 | AH94: =SUM(D94,F94,H94,J94,L94,N94,P94,R94,T94,V94,X94,Z94,AD94,AF94) -> 0
A95: B | B95: Health & Safety
B96: Safety & Health Duties (General) | C96: 0 | D96: =(C96*D$3) -> 0 | E96: 0 | F96: =(E96*F$3) -> 0 | G96: 0 | H96: =(G96*H$3) -> 0 | I96: 0 | J96: =(I96*J$3) -> 0 | K96: 0 | L96: =(K96*L$3) -> 0 | M96: 0 | N96: =(M96*N$3) -> 0 | O96: 0 | P96: =(O96*P$3) -> 0 | Q96: 0 | R96: =(Q96*$R$3) -> 0 | S96: 0 | T96: =(S96*T$3) -> 0 | U96: 0 | V96: =(U96*V$3) -> 0 | W96: 0 | X96: =(W96*X$3) -> 0 | Y96: 0 | Z96: =(Y96*Z$3) -> 0 | AA96: 0 | AB96: =(AA96*AB$3) -> 0 | AC96: 0 | AD96: =(AC96*AD$3) -> 0 | AE96: 0 | AF96: =(AE96*AF$3) -> 0 | AG96: =SUM(C96,E96,G96,I96,K96,M96,O96,Q96,S96,U96,W96,Y96,AC96,AE96) -> 0 | AH96: =SUM(D96,F96,H96,J96,L96,N96,P96,R96,T96,V96,X96,Z96,AD96,AF96) -> 0
B97: PSDP (All Duties & Reports) | C97: 0 | D97: =(C97*D$3) -> 0 | E97: 0 | F97: =(E97*F$3) -> 0 | G97: 0 | H97: =(G97*H$3) -> 0 | I97: 0 | J97: =(I97*J$3) -> 0 | K97: 0 | L97: =(K97*L$3) -> 0 | M97: 0 | N97: =(M97*N$3) -> 0 | O97: 0 | P97: =(O97*P$3) -> 0 | Q97: 0 | R97: =(Q97*R$3) -> 0 | S97: 0 | T97: =(S97*T$3) -> 0 | U97: 0 | V97: =(U97*V$3) -> 0 | W97: 0 | X97: =(W97*X$3) -> 0 | Y97: 0 | Z97: =(Y97*Z$3) -> 0 | AA97: 0 | AB97: =(AA97*AB$3) -> 0 | AC97: 0 | AD97: =(AC97*AD$3) -> 0 | AE97: 0 | AF97: =(AE97*AF$3) -> 0 | AG97: =SUM(C97,E97,G97,I97,K97,M97,O97,Q97,S97,U97,W97,Y97,AC97,AE97) -> 0 | AH97: =SUM(D97,F97,H97,J97,L97,N97,P97,R97,T97,V97,X97,Z97,AD97,AF97) -> 0
A98: C | B98: Contract & Site Supervision
B99: Employers Representative Duties | C99: 0 | D99: =(C99*D$3) -> 0 | E99: 0 | F99: =(E99*F$3) -> 0 | G99: 0 | H99: =(G99*H$3) -> 0 | I99: 0 | J99: =(I99*J$3) -> 0 | K99: 0 | L99: =(K99*L$3) -> 0 | M99: 0 | N99: =(M99*N$3) -> 0 | O99: 0 | P99: =(O99*P$3) -> 0 | Q99: 0 | R99: =(Q99*$R$3) -> 0 | S99: 0 | T99: =(S99*T$3) -> 0 | U99: 0 | V99: =(U99*V$3) -> 0 | W99: 0 | X99: =(W99*X$3) -> 0 | Y99: 0 | Z99: =(Y99*Z$3) -> 0 | AA99: 0 | AB99: =(AA99*AB$3) -> 0 | AC99: 0 | AD99: =(AC99*AD$3) -> 0 | AE99: 0 | AF99: =(AE99*AF$3) -> 0 | AG99: =SUM(C99,E99,G99,I99,K99,M99,O99,Q99,S99,U99,W99,Y99,AC99,AE99) -> 0 | AH99: =SUM(D99,F99,H99,J99,L99,N99,P99,R99,T99,V99,X99,Z99,AD99,AF99) -> 0
B100: Site Supervision - Resident Engineer | C100: 0 | D100: =(C100*D$3) -> 0 | E100: 0 | F100: =(E100*F$3) -> 0 | G100: 0 | H100: =(G100*H$3) -> 0 | I100: 0 | J100: =(I100*J$3) -> 0 | K100: 0 | L100: =(K100*L$3) -> 0 | M100: 0 | N100: =(M100*N$3) -> 0 | O100: 0 | P100: =(O100*P$3) -> 0 | Q100: 0 | R100: =(Q100*$R$3) -> 0 | S100: 0 | T100: =(S100*T$3) -> 0 | U100: 0 | V100: =(U100*V$3) -> 0 | W100: 0 | X100: =(W100*X$3) -> 0 | Y100: 0 | Z100: =(Y100*Z$3) -> 0 | AA100: 0 | AB100: =(AA100*AB$3) -> 0 | AC100: 0 | AD100: =(AC100*AD$3) -> 0 | AE100: 0 | AF100: =(AE100*AF$3) -> 0 | AG100: =SUM(C100,E100,G100,I100,K100,M100,O100,Q100,S100,U100,W100,Y100,AC100,AE100) -> 0 | AH100: =SUM(D100,F100,H100,J100,L100,N100,P100,R100,T100,V100,X100,Z100,AD100,AF100) -> 0
B101: Ecological Clerk of Works (ECoW) | C101: 0 | D101: =(C101*D$3) -> 0 | E101: 0 | F101: =(E101*F$3) -> 0 | G101: 0 | H101: =(G101*H$3) -> 0 | I101: 0 | J101: =(I101*J$3) -> 0 | K101: 0 | L101: =(K101*L$3) -> 0 | M101: 0 | N101: =(M101*N$3) -> 0 | O101: 0 | P101: =(O101*P$3) -> 0 | Q101: 0 | R101: =(Q101*$R$3) -> 0 | S101: 0 | T101: =(S101*T$3) -> 0 | U101: 0 | V101: =(U101*V$3) -> 0 | W101: 0 | X101: =(W101*X$3) -> 0 | Y101: 0 | Z101: =(Y101*Z$3) -> 0 | AA101: 0 | AB101: =(AA101*AB$3) -> 0 | AC101: 0 | AD101: =(AC101*AD$3) -> 0 | AE101: 0 | AF101: =(AE101*AF$3) -> 0 | AG101: =SUM(C101,E101,G101,I101,K101,M101,O101,Q101,S101,U101,W101,Y101,AC101,AE101) -> 0 | AH101: =SUM(D101,F101,H101,J101,L101,N101,P101,R101,T101,V101,X101,Z101,AD101,AF101) -> 0
B102: Archaeologist (on site) | C102: 0 | D102: =(C102*D$3) -> 0 | E102: 0 | F102: =(E102*F$3) -> 0 | G102: 0 | H102: =(G102*H$3) -> 0 | I102: 0 | J102: =(I102*J$3) -> 0 | K102: 0 | L102: =(K102*L$3) -> 0 | M102: 0 | N102: =(M102*N$3) -> 0 | O102: 0 | P102: =(O102*P$3) -> 0 | Q102: 0 | R102: =(Q102*$R$3) -> 0 | S102: 0 | T102: =(S102*T$3) -> 0 | U102: 0 | V102: =(U102*V$3) -> 0 | W102: 0 | X102: =(W102*X$3) -> 0 | Y102: 0 | Z102: =(Y102*Z$3) -> 0 | AA102: 0 | AB102: =(AA102*AB$3) -> 0 | AC102: 0 | AD102: =(AC102*AD$3) -> 0 | AE102: 0 | AF102: =(AE102*AF$3) -> 0 | AG102: =SUM(C102,E102,G102,I102,K102,M102,O102,Q102,S102,U102,W102,Y102,AC102,AE102) -> 0 | AH102: =SUM(D102,F102,H102,J102,L102,N102,P102,R102,T102,V102,X102,Z102,AD102,AF102) -> 0
A103: Phase 6 Total | C103: =SUM(C90:C94,C96:C97,C99:C102) -> 0 | D103: =SUM(D90:D94,D96:D97,D99:D102) -> 0 | E103: =SUM(E90:E94,E96:E97,E99:E102) -> 0 | F103: =SUM(F90:F94,F96:F97,F99:F102) -> 0 | G103: =SUM(G90:G94,G96:G97,G99:G102) -> 0 | H103: =SUM(H90:H94,H96:H97,H99:H102) -> 0 | I103: =SUM(I90:I94,I96:I97,I99:I102) -> 0 | J103: =SUM(J90:J94,J96:J97,J99:J102) -> 0 | ... AH103: =SUM(AH90:AH94,AH96:AH97,AH99:AH102) -> 0
A105: Phase 7 | B105: Handover
A106: A | B106: General Service Requirements
B107: Project Management | C107: 0 | D107: =(C107*D$3) -> 0 | E107: 0 | F107: =(E107*F$3) -> 0 | G107: 0 | H107: =(G107*H$3) -> 0 | I107: 0 | J107: =(I107*J$3) -> 0 | K107: 0 | L107: =(K107*L$3) -> 0 | M107: 0 | N107: =(M107*N$3) -> 0 | O107: 0 | P107: =(O107*P$3) -> 0 | Q107: 0 | R107: =(Q107*R$3) -> 0 | S107: 0 | T107: =(S107*T$3) -> 0 | U107: 0 | V107: =(U107*V$3) -> 0 | W107: 0 | X107: =(W107*X$3) -> 0 | Y107: 0 | Z107: =(Y107*Z$3) -> 0 | AA107: 0 | AB107: =(AA107*AB$3) -> 0 | AC107: 0 | AD107: =(AC107*AD$3) -> 0 | AE107: 0 | AF107: =(AE107*AF$3) -> 0 | AG107: =SUM(C107,E107,G107,I107,K107,M107,O107,Q107,S107,U107,W107,Y107,AC107,AE107) -> 0 | AH107: =SUM(D107,F107,H107,J107,L107,N107,P107,R107,T107,V107,X107,Z107,AD107,AF107) -> 0
...

Sheet Blackboy Weir
A1: Project Role | C1: =Rates!A4 -> Project Director | E1: =Rates!A5 -> Project Manager | G1: =Rates!A6 -> Associate/Principal Ecologist/Senior Environmental Consultant | I1: =Rates!A7 -> Project Supervisor Design Process | K1: =Rates!A8 -> Civil Design Team Lead/Senior Engineer | M1: =Rates!A9 -> Structures Design Team Lead/Senior Engineer | O1: =Rates!A10 -> Hydraulics/Hydrology Team Lead/Senior Hydraulic Engineer/Hydrologist | Q1: =Rates!A11 -> Senior Ecologist | S1: =Rates!A12 -> Engineer | U1: =Rates!A13 -> Ecologist/ Environmental Consultant | W1: =Rates!A14 -> Graduate Engineer | Y1: =Rates!A15 -> Senior Technician | AA1: =Rates!A16 -> Junior Technician | AC1: =Rates!A17 -> Resident Engineer | AE1: =Rates!A18 -> Employer's Representative | AG1: Total Hours | AH1: Item Total
C2: =Rates!C4 -> Insert Name 1 | E2: =Rates!C5 -> Insert Name 2 | G2: =Rates!C6 -> Insert Name 3 | I2: =Rates!C7 -> Insert Name 4 | K2: =Rates!C8 -> Insert Name 5 | M2: =Rates!C9 -> Insert Name 6 | O2: =Rates!C10 -> Insert Name 7 | Q2: =Rates!C11 -> Insert Name 8 | S2: =Rates!C12 -> Insert Name 9 | U2: =Rates!C13 -> Insert Name 10 | W2: =Rates!C14 -> Insert Name 11 | Y2: =Rates!C15 -> Insert Name 12 | AA2: =Rates!C16 -> Insert Name 13 | AC2: =Rates!C17 -> Insert Name 14 | AE2: =Rates!C18 -> Insert Name 15
C3: No. Hours | D3: =Rates!B4 -> 0 | E3: No. Hours | F3: =Rates!B5 -> 0 | G3: No. Hours | H3: =Rates!B6 -> 0 | I3: No. Hours | J3: =Rates!B7 -> 0 | K3: No. Hours | L3: =Rates!B8 -> 0 | M3: No. Hours | N3: =Rates!B9 -> 0 | O3: No. Hours | P3: =Rates!B10 -> 0 | Q3: No. Hours | R3: =Rates!B11 -> 0 | S3: No. Hours | T3: =Rates!B12 -> 0 | U3: No. Hours | V3: =Rates!B13 -> 0 | W3: No. Hours | X3: =Rates!B14 -> 0 | Y3: No. Hours | Z3: =Rates!B15 -> 0 | AA3: No. Hours | AB3: =Rates!B16 -> 0 | AC3: No. Hours | AD3: =Rates!B17 -> 0 | AE3: No. Hours | AF3: =Rates!B18 -> 0
A4: Phase 1 | B4: Feasibility Study & Option Selection
A5: A | B5: Fesability - Options
B6: Feasibility Study and Option Selection Report | C6: 0 | D6: =(C6*D$3) -> 0 | E6: 0 | F6: =(E6*F$3) -> 0 | G6: 0 | H6: =(G6*H$3) -> 0 | I6: 0 | J6: =(I6*J$3) -> 0 | K6: 0 | L6: =(K6*L$3) -> 0 | M6: 0 | N6: =(M6*N$3) -> 0 | O6: 0 | P6: =(O6*P$3) -> 0 | Q6: 0 | R6: =(Q6*R$3) -> 0 | S6: 0 | T6: =(S6*T$3) -> 0 | U6: 0 | V6: =(U6*V$3) -> 0 | W6: 0 | X6: =(W6*X$3) -> 0 | Y6: 0 | Z6: =(Y6*Z$3) -> 0 | AA6: 0 | AB6: =(AA6*AB$3) -> 0 | AC6: 0 | AD6: =(AC6*AD$3) -> 0 | AE6: 0 | AF6: =(AE6*AF$3) -> 0 | AG6: =SUM(C6,E6,G6,I6,K6,M6,O6,Q6,S6,U6,W6,Y6,AA6,AC6,AE6) -> 0 | AH6: =SUM(D6,F6,H6,J6,L6,N6,P6,R6,T6,V6,X6,Z6,AB6,AD6,AF6) -> 0
A7: B | B7: Surveys & Studies
B8: Preliminary Ecological Assessment Report (PEAR), Scoping of Assessments and Surveys for the next phase of the project. | C8: 0 | D8: =(C8*D$3) -> 0 | E8: 0 | F8: =(E8*F$3) -> 0 | G8: 0 | H8: =(G8*H$3) -> 0 | I8: 0 | J8: =(I8*J$3) -> 0 | K8: 0 | L8: =(K8*L$3) -> 0 | M8: 0 | N8: =(M8*N$3) -> 0 | O8: 0 | P8: =(O8*P$3) -> 0 | Q8: 0 | R8: =(Q8*R$3) -> 0 | S8: 0 | T8: =(S8*T$3) -> 0 | U8: 0 | V8: =(U8*V$3) -> 0 | W8: 0 | X8: =(W8*X$3) -> 0 | Z8: =(Y8*Z$3) -> 0 | AA8: 0 | AB8: =(AA8*AB$3) -> 0 | AC8: 0 | AD8: =(AC8*AD$3) -> 0 | AE8: 0 | AF8: =(AE8*AF$3) -> 0 | AG8: =SUM(C8,E8,G8,I8,K8,M8,O8,Q8,S8,U8,W8,Y8,AA8,AC8,AE8) -> 0 | AH8: =SUM(D8,F8,H8,J8,L8,N8,P8,R8,T8,V8,X8,Z8,AB8,AD8,AF8) -> 0
A9: Phase 1 Total | C9: =SUM(C6:C6,C8:C8) -> 0 | D9: =SUM(D6:D6,D8:D8) -> 0 | E9: =SUM(E6:E6,E8:E8) -> 0 | F9: =SUM(F6:F6,F8:F8) -> 0 | G9: =SUM(G6:G6,G8:G8) -> 0 | H9: =SUM(H6:H6,H8:H8) -> 0 | I9: =SUM(I6:I6,I8:I8) -> 0 | J9: =SUM(J6:J6,J8:J8) -> 0 | ... AH9: =SUM(AH6:AH6,AH8:AH8) -> 0
A11: Phase 2 | B11: Preliminary Design
A12: A | B12: Preliminary Design
B13: Civil and Structural Design | C13: 0 | D13: =(C13*D$3) -> 0 | E13: 0 | F13: =(E13*F$3) -> 0 | G13: 0 | H13: =(G13*H$3) -> 0 | I13: 0 | J13: =(I13*J$3) -> 0 | K13: 0 | L13: =(K13*L$3) -> 0 | M13: 0 | N13: =(M13*N$3) -> 0 | O13: 0 | P13: =(O13*P$3) -> 0 | Q13: 0 | R13: =(Q13*R$3) -> 0 | S13: 0 | T13: =(S13*T$3) -> 0 | U13: 0 | V13: =(U13*V$3) -> 0 | W13: 0 | X13: =(W13*X$3) -> 0 | Y13: 0 | Z13: =(Y13*Z$3) -> 0 | AA13: 0 | AB13: =(AA13*AB$3) -> 0 | AC13: 0 | AD13: =(AC13*AD$3) -> 0 | AE13: 0 | AF13: =(AE13*AF$3) -> 0 | AG13: =SUM(C13,E13,G13,I13,K13,M13,O13,Q13,S13,U13,W13,Y13,AA13,AC13,AE13) -> 0 | AH13: =SUM(D13,F13,H13,J13,L13,N13,P13,R13,T13,V13,X13,Z13,AB13,AD13,AF13) -> 0
B14: Ground Investigation (Scoping, Tender & Management of) | C14: 0 | D14: =(C14*D$3) -> 0 | E14: 0 | F14: =(E14*F$3) -> 0 | G14: 0 | H14: =(G14*H$3) -> 0 | I14: 0 | J14: =(I14*J$3) -> 0 | K14: 0 | L14: =(K14*L$3) -> 0 | M14: 0 | N14: =(M14*N$3) -> 0 | O14: 0 | P14: =(O14*P$3) -> 0 | Q14: 0 | R14: =(Q14*R$3) -> 0 | S14: 0 | T14: =(S14*T$3) -> 0 | U14: 0 | V14: =(U14*V$3) -> 0 | W14: 0 | X14: =(W14*X$3) -> 0 | Y14: 0 | Z14: =(Y14*Z$3) -> 0 | AA14: 0 | AB14: =(AA14*AB$3) -> 0 | AC14: 0 | AD14: =(AC14*AD$3) -> 0 | AE14: 0 | AF14: =(AE14*AF$3) -> 0 | AG14: =SUM(C14,E14,G14,I14,K14,M14,O14,Q14,S14,U14,W14,Y14,AA14,AC14,AE14) -> 0 | AH14: =SUM(D14,F14,H14,J14,L14,N14,P14,R14,T14,V14,X14,Z14,AB14,AD14,AF14) -> 0
B15: Hydrology and Flood Risk Assessment | C15: 0 | D15: =(C15*D$3) -> 0 | E15: 0 | F15: =(E15*F$3) -> 0 | G15: 0 | H15: =(G15*H$3) -> 0 | I15: 0 | J15: =(I15*J$3) -> 0 | K15: 0 | L15: =(K15*L$3) -> 0 | M15: 0 | N15: =(M15*N$3) -> 0 | O15: 0 | P15: =(O15*P$3) -> 0 | Q15: 0 | R15: =(Q15*R$3) -> 0 | S15: 0 | T15: =(S15*T$3) -> 0 | U15: 0 | V15: =(U15*V$3) -> 0 | W15: 0 | X15: =(W15*X$3) -> 0 | Y15: 0 | Z15: =(Y15*Z$3) -> 0 | AA15: 0 | AB15: =(AA15*AB$3) -> 0 | AC15: 0 | AD15: =(AC15*AD$3) -> 0 | AE15: 0 | AF15: =(AE15*AF$3) -> 0 | AG15: =SUM(C15,E15,G15,I15,K15,M15,O15,Q15,S15,U15,W15,Y15,AA15,AC15,AE15) -> 0 | AH15: =SUM(D15,F15,H15,J15,L15,N15,P15,R15,T15,V15,X15,Z15,AB15,AD15,AF15) -> 0
B16: Hydraulic Modelling and Flood Risk Assessment Report | C16: 0 | D16: =(C16*D$3) -> 0 | E16: 0 | F16: =(E16*F$3) -> 0 | G16: 0 | H16: =(G16*H$3) -> 0 | I16: 0 | J16: =(I16*J$3) -> 0 | K16: 0 | L16: =(K16*L$3) -> 0 | M16: 0 | N16: =(M16*N$3) -> 0 | O16: 0 | P16: =(O16*P$3) -> 0 | Q16: 0 | R16: =(Q16*R$3) -> 0 | S16: 0 | T16: =(S16*T$3) -> 0 | U16: 0 | V16: =(U16*V$3) -> 0 | W16: 0 | X16: =(W16*X$3) -> 0 | Y16: 0 | Z16: =(Y16*Z$3) -> 0 | AA16: 0 | AB16: =(AA16*AB$3) -> 0 | AC16: 0 | AD16: =(AC16*AD$3) -> 0 | AE16: 0 | AF16: =(AE16*AF$3) -> 0 | AG16: =SUM(C16,E16,G16,I16,K16,M16,O16,Q16,S16,U16,W16,Y16,AA16,AC16,AE16) -> 0 | AH16: =SUM(D16,F16,H16,J16,L16,N16,P16,R16,T16,V16,X16,Z16,AB16,AD16,AF16) -> 0
B17: OPW Section 47 Report | C17: 0 | D17: =(C17*D$3) -> 0 | E17: 0 | F17: =(E17*F$3) -> 0 | G17: 0 | H17: =(G17*H$3) -> 0 | I17: 0 | J17: =(I17*J$3) -> 0 | K17: 0 | L17: =(K17*L$3) -> 0 | M17: 0 | N17: =(M17*N$3) -> 0 | O17: 0 | P17: =(O17*P$3) -> 0 | Q17: 0 | R17: =(Q17*R$3) -> 0 | S17: 0 | T17: =(S17*T$3) -> 0 | U17: 0 | V17: =(U17*V$3) -> 0 | W17: 0 | X17: =(W17*X$3) -> 0 | Y17: 0 | Z17: =(Y17*Z$3) -> 0 | AA17: 0 | AB17: =(AA17*AB$3) -> 0 | AC17: 0 | AD17: =(AC17*AD$3) -> 0 | AE17: 0 | AF17: =(AE17*AF$3) -> 0 | AG17: =SUM(C17,E17,G17,I17,K17,M17,O17,Q17,S17,U17,W17,Y17,AA17,AC17,AE17) -> 0 | AH17: =SUM(D17,F17,H17,J17,L17,N17,P17,R17,T17,V17,X17,Z17,AB17,AD17,AF17) -> 0
B18: Geomorphology Report | C18: 0 | D18: =(C18*D$3) -> 0 | E18: 0 | F18: =(E18*F$3) -> 0 | G18: 0 | H18: =(G18*H$3) -> 0 | I18: 0 | J18: =(I18*J$3) -> 0 | K18: 0 | L18: =(K18*L$3) -> 0 | M18: 0 | N18: =(M18*N$3) -> 0 | O18: 0 | P18: =(O18*P$3) -> 0 | Q18: 0 | R18: =(Q18*R$3) -> 0 | S18: 0 | T18: =(S18*T$3) -> 0 | U18: 0 | V18: =(U18*V$3) -> 0 | W18: 0 | X18: =(W18*X$3) -> 0 | Y18: 0 | Z18: =(Y18*Z$3) -> 0 | AA18: 0 | AB18: =(AA18*AB$3) -> 0 | AC18: 0 | AD18: =(AC18*AD$3) -> 0 | AE18: 0 | AF18: =(AE18*AF$3) -> 0 | AG18: =SUM(C18,E18,G18,I18,K18,M18,O18,Q18,S18,U18,W18,Y18,AA18,AC18,AE18) -> 0 | AH18: =SUM(D18,F18,H18,J18,L18,N18,P18,R18,T18,V18,X18,Z18,AB18,AD18,AF18) -> 0
B19: Sediment Sampling & Analysis | C19: 0 | D19: =(C19*D$3) -> 0 | E19: 0 | F19: =(E19*F$3) -> 0 | G19: 0 | H19: =(G19*H$3) -> 0 | I19: 0 | J19: =(I19*J$3) -> 0 | K19: 0 | L19: =(K19*L$3) -> 0 | M19: 0 | N19: =(M19*N$3) -> 0 | O19: 0 | P19: =(O19*P$3) -> 0 | Q19: 0 | R19: =(Q19*R$3) -> 0 | S19: 0 | T19: =(S19*T$3) -> 0 | U19: 0 | V19: =(U19*V$3) -> 0 | W19: 0 | X19: =(W19*X$3) -> 0 | Y19: 0 | Z19: =(Y19*Z$3) -> 0 | AA19: 0 | AB19: =(AA19*AB$3) -> 0 | AC19: 0 | AD19: =(AC19*AD$3) -> 0 | AE19: 0 | AF19: =(AE19*AF$3) -> 0 | AG19: =SUM(C19,E19,G19,I19,K19,M19,O19,Q19,S19,U19,W19,Y19,AA19,AC19,AE19) -> 0 | AH19: =SUM(D19,F19,H19,J19,L19,N19,P19,R19,T19,V19,X19,Z19,AB19,AD19,AF19) -> 0
B20: Sediment Modelling | C20: 0 | D20: =(C20*D$3) -> 0 | E20: 0 | F20: =(E20*F$3) -> 0 | G20: 0 | H20: =(G20*H$3) -> 0 | I20: 0 | J20: =(I20*J$3) -> 0 | K20: 0 | L20: =(K20*L$3) -> 0 | M20: 0 | N20: =(M20*N$3) -> 0 | O20: 0 | P20: =(O20*P$3) -> 0 | Q20: 0 | R20: =(Q20*R$3) -> 0 | S20: 0 | T20: =(S20*T$3) -> 0 | U20: 0 | V20: =(U20*V$3) -> 0 | W20: 0 | X20: =(W20*X$3) -> 0 | Y20: 0 | Z20: =(Y20*Z$3) -> 0 | AA20: 0 | AB20: =(AA20*AB$3) -> 0 | AC20: 0 | AD20: =(AC20*AD$3) -> 0 | AE20: 0 | AF20: =(AE20*AF$3) -> 0 | AG20: =SUM(C20,E20,G20,I20,K20,M20,O20,Q20,S20,U20,W20,Y20,AA20,AC20,AE20) -> 0 | AH20: =SUM(D20,F20,H20,J20,L20,N20,P20,R20,T20,V20,X20,Z20,AB20,AD20,AF20) -> 0
B21: Architectural and Cultural Heritage Assessment | C21: 0 | D21: =(C21*D$3) -> 0 | E21: 0 | F21: =(E21*F$3) -> 0 | G21: 0 | H21: =(G21*H$3) -> 0 | I21: 0 | J21: =(I21*J$3) -> 0 | K21: 0 | L21: =(K21*L$3) -> 0 | M21: 0 | N21: =(M21*N$3) -> 0 | O21: 0 | P21: =(O21*P$3) -> 0 | Q21: 0 | R21: =(Q21*R$3) -> 0 | S21: 0 | T21: =(S21*T$3) -> 0 | U21: 0 | V21: =(U21*V$3) -> 0 | W21: 0 | X21: =(W21*X$3) -> 0 | Y21: 0 | Z21: =(Y21*Z$3) -> 0 | AA21: 0 | AB21: =(AA21*AB$3) -> 0 | AC21: 0 | AD21: =(AC21*AD$3) -> 0 | AE21: 0 | AF21: =(AE21*AF$3) -> 0 | AG21: =SUM(C21,E21,G21,I21,K21,M21,O21,Q21,S21,U21,W21,Y21,AA21,AC21,AE21) -> 0 | AH21: =SUM(D21,F21,H21,J21,L21,N21,P21,R21,T21,V21,X21,Z21,AB21,AD21,AF21) -> 0
B22: Design Report | C22: 0 | D22: =(C22*D$3) -> 0 | E22: 0 | F22: =(E22*F$3) -> 0 | G22: 0 | H22: =(G22*H$3) -> 0 | I22: 0 | J22: =(I22*J$3) -> 0 | K22: 0 | L22: =(K22*L$3) -> 0 | M22: 0 | N22: =(M22*N$3) -> 0 | O22: 0 | P22: =(O22*P$3) -> 0 | Q22: 0 | R22: =(Q22*R$3) -> 0 | S22: 0 | T22: =(S22*T$3) -> 0 | U22: 0 | V22: =(U22*V$3) -> 0 | W22: 0 | X22: =(W22*X$3) -> 0 | Y22: 0 | Z22: =(Y22*Z$3) -> 0 | AA22: 0 | AB22: =(AA22*AB$3) -> 0 | AC22: 0 | AD22: =(AC22*AD$3) -> 0 | AE22: 0 | AF22: =(AE22*AF$3) -> 0 | AG22: =SUM(C22,E22,G22,I22,K22,M22,O22,Q22,S22,U22,W22,Y22,AA22,AC22,AE22) -> 0 | AH22: =SUM(D22,F22,H22,J22,L22,N22,P22,R22,T22,V22,X22,Z22,AB22,AD22,AF22) -> 0
B23: Waste Management & Circular Economy | C23: 0 | D23: =(C23*D$3) -> 0 | E23: 0 | F23: =(E23*F$3) -> 0 | G23: 0 | H23: =(G23*H$3) -> 0 | I23: 0 | J23: =(I23*J$3) -> 0 | K23: 0 | L23: =(K23*L$3) -> 0 | M23: 0 | N23: =(M23*N$3) -> 0 | O23: 0 | P23: =(O23*P$3) -> 0 | Q23: 0 | R23: =(Q23*R$3) -> 0 | S23: 0 | T23: =(S23*T$3) -> 0 | U23: 0 | V23: =(U23*V$3) -> 0 | W23: 0 | X23: =(W23*X$3) -> 0 | Y23: 0 | Z23: =(Y23*Z$3) -> 0 | AA23: 0 | AB23: =(AA23*AB$3) -> 0 | AC23: 0 | AD23: =(AC23*AD$3) -> 0 | AE23: 0 | AF23: =(AE23*AF$3) -> 0 | AG23: =SUM(C23,E23,G23,I23,K23,M23,O23,Q23,S23,U23,W23,Y23,AA23,AC23,AE23) -> 0 | AH23: =SUM(D23,F23,H23,J23,L23,N23,P23,R23,T23,V23,X23,Z23,AB23,AD23,AF23) -> 0
B24: River Restoration Design | C24: 0 | D24: =(C24*D$3) -> 0 | E24: 0 | F24: =(E24*F$3) -> 0 | G24: 0 | H24: =(G24*H$3) -> 0 | I24: 0 | J24: =(I24*J$3) -> 0 | K24: 0 | L24: =(K24*L$3) -> 0 | M24: 0 | N24: =(M24*N$3) -> 0 | O24: 0 | P24: =(O24*P$3) -> 0 | Q24: 0 | R24: =(Q24*R$3) -> 0 | S24: 0 | T24: =(S24*T$3) -> 0 | U24: 0 | V24: =(U24*V$3) -> 0 | W24: 0 | X24: =(W24*X$3) -> 0 | Y24: 0 | Z24: =(Y24*Z$3) -> 0 | AA24: 0 | AB24: =(AA24*AB$3) -> 0 | AC24: 0 | AD24: =(AC24*AD$3) -> 0 | AE24: 0 | AF24: =(AE24*AF$3) -> 0 | AG24: =SUM(C24,E24,G24,I24,K24,M24,O24,Q24,S24,U24,W24,Y24,AA24,AC24,AE24) -> 0 | AH24: =SUM(D24,F24,H24,J24,L24,N24,P24,R24,T24,V24,X24,Z24,AB24,AD24,AF24) -> 0
... B28: Landscape Design | C28: 0 | D28: =(C28*D$3) -> 0 | E28: 0 | F28: =(E28*F$3) -> 0 | G28: 0 | H28: =(G28*H$3) -> 0 | I28: 0 | J28: =(I28*J$3) -> 0 | K28: 0 | L28: =(K28*L$3) -> 0 | M28: 0 | N28: =(M28*N$3) -> 0 | O28: 0 | P28: =(O28*P$3) -> 0 | Q28: 0 | R28: =(Q28*R$3) -> 0 | S28: 0 | T28: =(S28*T$3) -> 0 | U28: 0 | V28: =(U28*V$3) -> 0 | W28: 0 | X28: =(W28*X$3) -> 0 | Y28: 0 | Z28: =(Y28*Z$3) -> 0 | AA28: 0 | AB28: =(AA28*AB$3) -> 0 | AC28: 0 | AD28: =(AC28*AD$3) -> 0 | AE28: 0 | AF28: =(AE28*AF$3) -> 0 | AG28: =SUM(C28,E28,G28,I28,K28,M28,O28,Q28,S28,U28,W28,Y28,AA28,AC28,AE28) -> 0 | AH28: =SUM(D28,F28,H28,J28,L28,N28,P28,R28,T28,V28,X28,Z28,AB28,AD28,AF28) -> 0
A29: B | B29: Ecology Surveys
B30: Fossitt Habitat Survey | C30: 0 | D30: =(C30*D$3) -> 0 | E30: 0 | F30: =(E30*F$3) -> 0 | G30: 0 | H30: =(G30*H$3) -> 0 | I30: 0 | J30: =(I30*J$3) -> 0 | K30: 0 | L30: =(K30*L$3) -> 0 | M30: 0 | N30: =(M30*N$3) -> 0 | O30: 0 | P30: =(O30*P$3) -> 0 | Q30: 0 | R30: =(Q30*R$3) -> 0 | S30: 0 | T30: =(S30*T$3) -> 0 | U30: 0 | V30: =(U30*V$3) -> 0 | W30: 0 | X30: =(W30*X$3) -> 0 | Y30: 0 | Z30: =(Y30*Z$3) -> 0 | AA30: 0 | AB30: =(AA30*AB$3) -> 0 | AC30: 0 | AD30: =(AC30*AD$3) -> 0 | AE30: 0 | AF30: =(AE30*AF$3) -> 0 | AG30: =SUM(C30,E30,G30,I30,K30,M30,O30,Q30,S30,U30,W30,Y30,AA30,AC30,AE30) -> 0 | AH30: =SUM(D30,F30,H30,J30,L30,N30,P30,R30,T30,V30,X30,Z30,AB30,AD30,AF30) -> 0
B31: Invasive and Non-Native Species Survey (INNS) | C31: 0 | D31: =(C31*D$3) -> 0 | E31: 0 | F31: =(E31*F$3) -> 0 | G31: 0 | H31: =(G31*H$3) -> 0 | I31: 0 | J31: =(I31*J$3) -> 0 | K31: 0 | L31: =(K31*L$3) -> 0 | M31: 0 | N31: =(M31*N$3) -> 0 | O31: 0 | P31: =(O31*P$3) -> 0 | Q31: 0 | R31: =(Q31*R$3) -> 0 | S31: 0 | T31: =(S31*T$3) -> 0 | U31: 0 | V31: =(U31*V$3) -> 0 | W31: 0 | X31: =(W31*X$3) -> 0 | Y31: 0 | Z31: =(Y31*Z$3) -> 0 | AA31: 0 | AB31: =(AA31*AB$3) -> 0 | AC31: 0 | AD31: =(AC31*AD$3) -> 0 | AE31: 0 | AF31: =(AE31*AF$3) -> 0 | AG31: =SUM(C31,E31,G31,I31,K31,M31,O31,Q31,S31,U31,W31,Y31,AA31,AC31,AE31) -> 0 | AH31: =SUM(D31,F31,H31,J31,L31,N31,P31,R31,T31,V31,X31,Z31,AB31,AD31,AF31) -> 0
B32: Fish Spawning and Nursery Habitat Survey | C32: 0 | D32: =(C32*D$3) -> 0 | E32: 0 | F32: =(E32*F$3) -> 0 | G32: 0 | H32: =(G32*H$3) -> 0 | I32: 0 | J32: =(I32*J$3) -> 0 | K32: 0 | L32: =(K32*L$3) -> 0 | M32: 0 | N32: =(M32*N$3) -> 0 | O32: 0 | P32: =(O32*P$3) -> 0 | Q32: 0 | R32: =(Q32*R$3) -> 0 | S32: 0 | T32: =(S32*T$3) -> 0 | U32: 0 | V32: =(U32*V$3) -> 0 | W32: 0 | X32: =(W32*X$3) -> 0 | Y32: 0 | Z32: =(Y32*Z$3) -> 0 | AA32: 0 | AB32: =(AA32*AB$3) -> 0 | AC32: 0 | AD32: =(AC32*AD$3) -> 0 | AE32: 0 | AF32: =(AE32*AF$3) -> 0 | AG32: =SUM(C32,E32,G32,I32,K32,M32,O32,Q32,S32,U32,W32,Y32,AA32,AC32,AE32) -> 0 | AH32: =SUM(D32,F32,H32,J32,L32,N32,P32,R32,T32,V32,X32,Z32,AB32,AD32,AF32) -> 0
B33: Breeding and Nesting Bird Survey | C33: 0 | D33: =(C33*D$3) -> 0 | E33: 0 | F33: =(E33*F$3) -> 0 | G33: 0 | H33: =(G33*H$3) -> 0 | I33: 0 | J33: =(I33*J$3) -> 0 | K33: 0 | L33: =(K33*L$3) -> 0 | M33: 0 | N33: =(M33*N$3) -> 0 | O33: 0 | P33: =(O33*P$3) -> 0 | Q33: 0 | R33: =(Q33*R$3) -> 0 | S33: 0 | T33: =(S33*T$3) -> 0 | U33: 0 | V33: =(U33*V$3) -> 0 | W33: 0 | X33: =(W33*X$3) -> 0 | Y33: 0 | Z33: =(Y33*Z$3) -> 0 | AA33: 0 | AB33: =(AA33*AB$3) -> 0 | AC33: 0 | AD33: =(AC33*AD$3) -> 0 | AE33: 0 | AF33: =(AE33*AF$3) -> 0 | AG33: =SUM(C33,E33,G33,I33,K33,M33,O33,Q33,S33,U33,W33,Y33,AA33,AC33,AE33) -> 0 | AH33: =SUM(D33,F33,H33,J33,L33,N33,P33,R33,T33,V33,X33,Z33,AB33,AD33,AF33) -> 0
B34: Bat Survey | C34: 0 | D34: 0 | E34: 0 | F34: 0 | G34: 0 | H34: 0 | I34: 0 | J34: 0 | K34: 0 | L34: 0 | M34: 0 | N34: 0 | O34: 0 | P34: 0 | Q34: 0 | R34: 0
B35: Mammal Survey | C35: 0 | D35: =(C35*D$3) -> 0 | E35: 0 | F35: =(E35*F$3) -> 0 | G35: 0 | H35: =(G35*H$3) -> 0 | I35: 0 | J35: =(I35*J$3) -> 0 | K35: 0 | L35: =(K35*L$3) -> 0 | M35: 0 | N35: =(M35*N$3) -> 0 | O35: 0 | P35: =(O35*P$3) -> 0 | Q35: 0 | R35: =(Q35*R$3) -> 0 | S35: 0 | T35: =(S35*T$3) -> 0 | U35: 0 | V35: =(U35*V$3) -> 0 | W35: 0 | X35: =(W35*X$3) -> 0 | Y35: 0 | Z35: =(Y35*Z$3) -> 0 | AA35: 0 | AB35: =(AA35*AB$3) -> 0 | AC35: 0 | AD35: =(AC35*AD$3) -> 0 | AE35: 0 | AF35: =(AE35*AF$3) -> 0 | AG35: =SUM(C35,E35,G35,I35,K35,M35,O35,Q35,S35,U35,W35,Y35,AA35,AC35,AE35) -> 0 | AH35: =SUM(D35,F35,H35,J35,L35,N35,P35,R35,T35,V35,X35,Z35,AB35,AD35,AF35) -> 0
A36: C | B36: Environmental Studies & Reports
B37: AA Screening Report(s) (Ground Investigation & environmental reporting) | C37: 0 | D37: =(C37*D$3) -> 0 | E37: 0 | F37: =(E37*F$3) -> 0 | G37: 0 | H37: =(G37*H$3) -> 0 | I37: 0 | J37: =(I37*J$3) -> 0 | K37: 0 | L37: =(K37*L$3) -> 0 | M37: 0 | N37: =(M37*N$3) -> 0 | O37: 0 | P37: =(O37*P$3) -> 0 | Q37: 0 | R37: =(Q37*R$3) -> 0 | S37: 0 | T37: =(S37*T$3) -> 0 | U37: 0 | V37: =(U37*V$3) -> 0 | W37: 0 | X37: =(W37*X$3) -> 0 | Y37: 0 | Z37: =(Y37*Z$3) -> 0 | AA37: 0 | AB37: =(AA37*AB$3) -> 0 | AC37: 0 | AD37: =(AC37*AD$3) -> 0 | AE37: 0 | AF37: =(AE37*AF$3) -> 0 | AG37: =SUM(C37,E37,G37,I37,K37,M37,O37,Q37,S37,U37,W37,Y37,AA37,AC37,AE37) -> 0 | AH37: =SUM(D37,F37,H37,J37,L37,N37,P37,R37,T37,V37,X37,Z37,AB37,AD37,AF37) -> 0
B38: Natura Impact Statement or Article 6(2) Report as necessary | C38: 0 | D38: =(C38*D$3) -> 0 | E38: 0 | F38: =(E38*F$3) -> 0 | G38: 0 | H38: =(G38*H$3) -> 0 | I38: 0 | J38: =(I38*J$3) -> 0 | K38: 0 | L38: =(K38*L$3) -> 0 | M38: 0 | N38: =(M38*N$3) -> 0 | O38: 0 | P38: =(O38*P$3) -> 0 | Q38: 0 | R38: =(Q38*R$3) -> 0 | S38: 0 | T38: =(S38*T$3) -> 0 | U38: 0 | V38: =(U38*V$3) -> 0 | W38: 0 | X38: =(W38*X$3) -> 0 | Y38: 0 | Z38: =(Y38*Z$3) -> 0 | AA38: 0 | AB38: =(AA38*AB$3) -> 0 | AC38: 0 | AD38: =(AC38*AD$3) -> 0 | AE38: 0 | AF38: =(AE38*AF$3) -> 0 | AG38: =SUM(C38,E38,G38,I38,K38,M38,O38,Q38,S38,U38,W38,Y38,AA38,AC38,AE38) -> 0 | AH38: =SUM(D38,F38,H38,J38,L38,N38,P38,R38,T38,V38,X38,Z38,AB38,AD38,AF38) -> 0
B39: Ecological Impact Assessment Report (EcIA) | C39: 0 | D39: =(C39*D$3) -> 0 | E39: 0 | F39: =(E39*F$3) -> 0 | G39: 0 | H39: =(G39*H$3) -> 0 | I39: 0 | J39: =(I39*J$3) -> 0 | K39: 0 | L39: =(K39*L$3) -> 0 | M39: 0 | N39: =(M39*N$3) -> 0 | O39: 0 | P39: =(O39*P$3) -> 0 | Q39: 0 | R39: =(Q39*R$3) -> 0 | S39: 0 | T39: =(S39*T$3) -> 0 | U39: 0 | V39: =(U39*V$3) -> 0 | W39: 0 | X39: =(W39*X$3) -> 0 | Y39: 0 | Z39: =(Y39*Z$3) -> 0 | AA39: 0 | AB39: =(AA39*AB$3) -> 0 | AC39: 0 | AD39: =(AC39*AD$3) -> 0 | AE39: 0 | AF39: =(AE39*AF$3) -> 0 | AG39: =SUM(C39,E39,G39,I39,K39,M39,O39,Q39,S39,U39,W39,Y39,AA39,AC39,AE39) -> 0 | AH39: =SUM(D39,F39,H39,J39,L39,N39,P39,R39,T39,V39,X39,Z39,AB39,AD39,AF39) -> 0
B40: WFD Screening Report | C40: 0 | D40: =(C40*D$3) -> 0 | E40: 0 | F40: =(E40*F$3) -> 0 | G40: 0 | H40: =(G40*H$3) -> 0 | I40: 0 | J40: =(I40*J$3) -> 0 | K40: 0 | L40: =(K40*L$3) -> 0 | M40: 0 | N40: =(M40*N$3) -> 0 | O40: 0 | P40: =(O40*P$3) -> 0 | Q40: 0 | R40: =(Q40*R$3) -> 0 | S40: 0 | T40: =(S40*T$3) -> 0 | U40: 0 | V40: =(U40*V$3) -> 0 | W40: 0 | X40: =(W40*X$3) -> 0 | Y40: 0 | Z40: =(Y40*Z$3) -> 0 | AA40: 0 | AB40: =(AA40*AB$3) -> 0 | AC40: 0 | AD40: =(AC40*AD$3) -> 0 | AE40: 0 | AF40: =(AE40*AF$3) -> 0 | AG40: =SUM(C40,E40,G40,I40,K40,M40,O40,Q40,S40,U40,W40,Y40,AA40,AC40,AE40) -> 0 | AH40: =SUM(D40,F40,H40,J40,L40,N40,P40,R40,T40,V40,X40,Z40,AB40,AD40,AF40) -> 0
B41: EIA Screening Report | C41: 0 | D41: =(C41*D$3) -> 0 | E41: 0 | F41: =(E41*F$3) -> 0 | G41: 0 | H41: =(G41*H$3) -> 0 | I41: 0 | J41: =(I41*J$3) -> 0 | K41: 0 | L41: =(K41*L$3) -> 0 | M41: 0 | N41: =(M41*N$3) -> 0 | O41: 0 | P41: =(O41*P$3) -> 0 | Q41: 0 | R41: =(Q41*R$3) -> 0 | S41: 0 | T41: =(S41*T$3) -> 0 | U41: 0 | V41: =(U41*V$3) -> 0 | W41: 0 | X41: =(W41*X$3) -> 0 | Y41: 0 | Z41: =(Y41*Z$3) -> 0 | AA41: 0 | AB41: =(AA41*AB$3) -> 0 | AC41: 0 | AD41: =(AC41*AD$3) -> 0 | AE41: 0 | AF41: =(AE41*AF$3) -> 0 | AG41: =SUM(C41,E41,G41,I41,K41,M41,O41,Q41,S41,U41,W41,Y41,AA41,AC41,AE41) -> 0 | AH41: =SUM(D41,F41,H41,J41,L41,N41,P41,R41,T41,V41,X41,Z41,AB41,AD41,AF41) -> 0
B42: Preliminary CEMP | C42: 0 | D42: =(C42*D$3) -> 0 | E42: 0 | F42: =(E42*F$3) -> 0 | G42: 0 | H42: =(G42*H$3) -> 0 | I42: 0 | J42: =(I42*J$3) -> 0 | K42: 0 | L42: =(K42*L$3) -> 0 | M42: 0 | N42: =(M42*N$3) -> 0 | O42: 0 | P42: =(O42*P$3) -> 0 | Q42: 0 | R42: =(Q42*R$3) -> 0 | S42: 0 | T42: =(S42*T$3) -> 0 | U42: 0 | V42: =(U42*V$3) -> 0 | W42: 0 | X42: =(W42*X$3) -> 0 | Y42: 0 | Z42: =(Y42*Z$3) -> 0 | AA42: 0 | AB42: =(AA42*AB$3) -> 0 | AC42: 0 | AD42: =(AC42*AD$3) -> 0 | AE42: 0 | AF42: =(AE42*AF$3) -> 0 | AG42: =SUM(C42,E42,G42,I42,K42,M42,O42,Q42,S42,U42,W42,Y42,AA42,AC42,AE42) -> 0 | AH42: =SUM(D42,F42,H42,J42,L42,N42,P42,R42,T42,V42,X42,Z42,AB42,AD42,AF42) -> 0
A43: Phase 2 Total | C43: =SUM(C37:C42,C30:C35,C13:C28) -> 0 | D43: =SUM(D37:D42,D30:D35,D13:D28) -> 0 | E43: =SUM(E37:E42,E30:E35,E13:E28) -> 0 | F43: =SUM(F37:F42,F30:F35,F13:F28) -> 0 | G43: =SUM(G37:G42,G30:G35,G13:G28) -> 0 | H43: =SUM(H37:H42,H30:H35,H13:H28) -> 0 | I43: =SUM(I37:I42,I30:I35,I13:I28) -> 0 | J43: =SUM(J37:J42,J30:J35,J13:J28) -> 0 | ... AH43: =SUM(AH37:AH42,AH30:AH35,AH13:AH28) -> 0
A45: Phase 3 | B45: Statutory Process
A46: A | B46: Planning Process
B47: Pre-Planning Consultation | C47: 0 | D47: =(C47*D$3) -> 0 | E47: 0 | F47: =(E47*F$3) -> 0 | G47: 0 | H47: =(G47*H$3) -> 0 | I47: 0 | J47: =(I47*J$3) -> 0 | K47: 0 | L47: =(K47*L$3) -> 0 | M47: 0 | N47: =(M47*N$3) -> 0 | O47: 0 | P47: =(O47*P$3) -> 0 | Q47: 0 | R47: =(Q47*R$3) -> 0 | S47: 0 | T47: =(S47*T$3) -> 0 | U47: 0 | V47: =(U47*V$3) -> 0 | W47: 0 | X47: =(W47*X$3) -> 0 | Y47: 0 | Z47: =(Y47*Z$3) -> 0 | AA47: 0 | AB47: =(AA47*AB$3) -> 0 | AC47: 0 | AD47: =(AC47*AD$3) -> 0 | AE47: 0 | AF47: =(AE47*AF$3) -> 0 | AG47: =SUM(C47,E47,G47,I47,K47,M47,O47,Q47,S47,U47,W47,Y47,AA47,AC47,AE47) -> 0 | AH47: =SUM(D47,F47,H47,J47,L47,N47,P47,R47,T47,V47,X47,Z47,AB47,AD47,AF47) -> 0
B48: Planning Application Preperation & Submission (note: Planning fees & newspaper notices to be paid by IFI) | C48: 0 | D48: =(C48*D$3) -> 0 | E48: 0 | F48: =(E48*F$3) -> 0 | G48: 0 | H48: =(G48*H$3) -> 0 | I48: 0 | J48: =(I48*J$3) -> 0 | K48: 0 | L48: =(K48*L$3) -> 0 | M48: 0 | N48: =(M48*N$3) -> 0 | O48: 0 | P48: =(O48*P$3) -> 0 | Q48: 0 | R48: =(Q48*R$3) -> 0 | S48: 0 | T48: =(S48*T$3) -> 0 | U48: 0 | V48: =(U48*V$3) -> 0 | W48: 0 | X48: =(W48*X$3) -> 0 | Y48: 0 | Z48: =(Y48*Z$3) -> 0 | AA48: 0 | AB48: =(AA48*AB$3) -> 0 | AC48: 0 | AD48: =(AC48*AD$3) -> 0 | AE48: 0 | AF48: =(AE48*AF$3) -> 0 | AG48: =SUM(C48,E48,G48,I48,K48,M48,O48,Q48,S48,U48,W48,Y48,AA48,AC48,AE48) -> 0 | AH48: =SUM(D48,F48,H48,J48,L48,N48,P48,R48,T48,V48,X48,Z48,AB48,AD48,AF48) -> 0
B49: Planning Exemption application preparation & submission | C49: 0 | D49: =(C49*D$3) -> 0 | E49: 0 | F49: =(E49*F$3) -> 0 | G49: 0 | H49: =(G49*H$3) -> 0 | I49: 0 | J49: =(I49*J$3) -> 0 | K49: 0 | L49: =(K49*L$3) -> 0 | M49: 0 | N49: =(M49*N$3) -> 0 | O49: 0 | P49: =(O49*P$3) -> 0 | Q49: 0 | R49: =(Q49*R$3) -> 0 | S49: 0 | T49: =(S49*T$3) -> 0 | U49: 0 | V49: =(U49*V$3) -> 0 | W49: 0 | X49: =(W49*X$3) -> 0 | Y49: 0 | Z49: =(Y49*Z$3) -> 0 | AA49: 0 | AB49: =(AA49*AB$3) -> 0 | AC49: 0 | AD49: =(AC49*AD$3) -> 0 | AE49: 0 | AF49: =(AE49*AF$3) -> 0 | AG49: =SUM(C49,E49,G49,I49,K49,M49,O49,Q49,S49,U49,W49,Y49,AA49,AC49,AE49) -> 0 | AH49: =SUM(D49,F49,H49,J49,L49,N49,P49,R49,T49,V49,X49,Z49,AB49,AD49,AF49) -> 0
B50: OPW Section 47 Application | C50: 0 | D50: =(C50*D$3) -> 0 | E50: 0 | F50: =(E50*F$3) -> 0 | G50: 0 | H50: =(G50*H$3) -> 0 | I50: 0 | J50: =(I50*J$3) -> 0 | K50: 0 | L50: =(K50*L$3) -> 0 | M50: 0 | N50: =(M50*N$3) -> 0 | O50: 0 | P50: =(O50*P$3) -> 0 | Q50: 0 | R50: =(Q50*R$3) -> 0 | S50: 0 | T50: =(S50*T$3) -> 0 | U50: 0 | V50: =(U50*V$3) -> 0 | W50: 0 | X50: =(W50*X$3) -> 0 | Y50: 0 | Z50: =(Y50*Z$3) -> 0 | AA50: 0 | AB50: =(AA50*AB$3) -> 0 | AC50: 0 | AD50: =(AC50*AD$3) -> 0 | AE50: 0 | AF50: =(AE50*AF$3) -> 0 | AG50: =SUM(C50,E50,G50,I50,K50,M50,O50,Q50,S50,U50,W50,Y50,AA50,AC50,AE50) -> 0 | AH50: =SUM(D50,F50,H50,J50,L50,N50,P50,R50,T50,V50,X50,Z50,AB50,AD50,AF50) -> 0
B51: Post Planning Review | C51: 0 | D51: =(C51*D$3) -> 0 | E51: 0 | F51: =(E51*F$3) -> 0 | G51: 0 | H51: =(G51*H$3) -> 0 | I51: 0 | J51: =(I51*J$3) -> 0 | K51: 0 | L51: =(K51*L$3) -> 0 | M51: 0 | N51: =(M51*N$3) -> 0 | O51: 0 | P51: =(O51*P$3) -> 0 | Q51: 0 | R51: =(Q51*R$3) -> 0 | S51: 0 | T51: =(S51*T$3) -> 0 | U51: 0 | V51: =(U51*V$3) -> 0 | W51: 0 | X51: =(W51*X$3) -> 0 | Y51: 0 | Z51: =(Y51*Z$3) -> 0 | AA51: 0 | AB51: =(AA51*AB$3) -> 0 | AC51: 0 | AD51: =(AC51*AD$3) -> 0 | AE51: 0 | AF51: =(AE51*AF$3) -> 0 | AG51: =SUM(C51,E51,G51,I51,K51,M51,O51,Q51,S51,U51,W51,Y51,AA51,AC51,AE51) -> 0 | AH51: =SUM(D51,F51,H51,J51,L51,N51,P51,R51,T51,V51,X51,Z51,AB51,AD51,AF51) -> 0
A52: Phase 3 Total | C52: =SUM(C47:C51) -> 0 | D52: =SUM(D47:D51) -> 0 | E52: =SUM(E47:E51) -> 0 | F52: =SUM(F47:F51) -> 0 | G52: =SUM(G47:G51) -> 0 | H52: =SUM(H47:H51) -> 0 | I52: =SUM(I47:I51) -> 0 | J52: =SUM(J47:J51) -> 0 | ... AH52: =SUM(AH47:AH51) -> 0
A54: Phase 4 | B54: Detailed Design
A55: A | B55: General Service Requirements
B56: Project Management | C56: 0 | D56: =(C56*D$3) -> 0 | E56: 0 | F56: =(E56*F$3) -> 0 | G56: 0 | H56: =(G56*H$3) -> 0 | I56: 0 | J56: =(I56*J$3) -> 0 | K56: 0 | L56: =(K56*L$3) -> 0 | M56: 0 | N56: =(M56*N$3) -> 0 | O56: 0 | P56: =(O56*P$3) -> 0 | Q56: 0 | R56: =(Q56*R$3) -> 0 | S56: 0 | T56: =(S56*T$3) -> 0 | U56: 0 | V56: =(U56*V$3) -> 0 | W56: 0 | X56: =(W56*X$3) -> 0 | Y56: 0 | Z56: =(Y56*Z$3) -> 0 | AA56: 0 | AB56: =(AA56*AB$3) -> 0 | AC56: 0 | AD56: =(AC56*AD$3) -> 0 | AE56: 0 | AF56: =(AE56*AF$3) -> 0 | AG56: =SUM(C56,E56,G56,I56,K56,M56,O56,Q56,S56,U56,W56,Y56,AC56,AE56) -> 0 | AH56: =SUM(D56,F56,H56,J56,L56,N56,P56,R56,T56,V56,X56,Z56,AD56,AF56) -> 0
B57: Project Meetings | C57: 0 | D57: =(C57*D$3) -> 0 | E57: 0 | F57: =(E57*F$3) -> 0 | G57: 0 | H57: =(G57*H$3) -> 0 | I57: 0 | J57: =(I57*J$3) -> 0 | K57: 0 | L57: =(K57*L$3) -> 0 | M57: 0 | N57: =(M57*N$3) -> 0 | O57: 0 | P57: =(O57*P$3) -> 0 | Q57: 0 | R57: =(Q57*R$3) -> 0 | S57: 0 | T57: =(S57*T$3) -> 0 | U57: 0 | V57: =(U57*V$3) -> 0 | W57: 0 | X57: =(W57*X$3) -> 0 | Y57: 0 | Z57: =(Y57*Z$3) -> 0 | AA57: 0 | AB57: =(AA57*AB$3) -> 0 | AC57: 0 | AD57: =(AC57*AD$3) -> 0 | AE57: 0 | AF57: =(AE57*AF$3) -> 0 | AG57: =SUM(C57,E57,G57,I57,K57,M57,O57,Q57,S57,U57,W57,Y57,AC57,AE57) -> 0 | AH57: =SUM(D57,F57,H57,J57,L57,N57,P57,R57,T57,V57,X57,Z57,AD57,AF57) -> 0
B58: Progress Reports | C58: 0 | D58: =(C58*D$3) -> 0 | E58: 0 | F58: =(E58*F$3) -> 0 | G58: 0 | H58: =(G58*H$3) -> 0 | I58: 0 | J58: =(I58*J$3) -> 0 | K58: 0 | L58: =(K58*L$3) -> 0 | M58: 0 | N58: =(M58*N$3) -> 0 | O58: 0 | P58: =(O58*P$3) -> 0 | Q58: 0 | R58: =(Q58*R$3) -> 0 | S58: 0 | T58: =(S58*T$3) -> 0 | U58: 0 | V58: =(U58*V$3) -> 0 | W58: 0 | X58: =(W58*X$3) -> 0 | Y58: 0 | Z58: =(Y58*Z$3) -> 0 | AA58: 0 | AB58: =(AA58*AB$3) -> 0 | AC58: 0 | AD58: =(AC58*AD$3) -> 0 | AE58: 0 | AF58: =(AE58*AF$3) -> 0 | AG58: =SUM(C58,E58,G58,I58,K58,M58,O58,Q58,S58,U58,W58,Y58,AC58,AE58) -> 0 | AH58: =SUM(D58,F58,H58,J58,L58,N58,P58,R58,T58,V58,X58,Z58,AD58,AF58) -> 0
B59: Cost & Risk Management Plan | C59: 0 | D59: =(C59*D$3) -> 0 | E59: 0 | F59: =(E59*F$3) -> 0 | G59: 0 | H59: =(G59*H$3) -> 0 | I59: 0 | J59: =(I59*J$3) -> 0 | K59: 0 | L59: =(K59*L$3) -> 0 | M59: 0 | N59: =(M59*N$3) -> 0 | O59: 0 | P59: =(O59*P$3) -> 0 | Q59: 0 | R59: =(Q59*R$3) -> 0 | S59: 0 | T59: =(S59*T$3) -> 0 | U59: 0 | V59: =(U59*V$3) -> 0 | W59: 0 | X59: =(W59*X$3) -> 0 | Y59: 0 | Z59: =(Y59*Z$3) -> 0 | AA59: 0 | AB59: =(AA59*AB$3) -> 0 | AC59: 0 | AD59: =(AC59*AD$3) -> 0 | AE59: 0 | AF59: =(AE59*AF$3) -> 0 | AG59: =SUM(C59,E59,G59,I59,K59,M59,O59,Q59,S59,U59,W59,Y59,AC59,AE59) -> 0 | AH59: =SUM(D59,F59,H59,J59,L59,N59,P59,R59,T59,V59,X59,Z59,AD59,AF59) -> 0
B60: Stakeholder Consultation | C60: 0 | D60: =(C60*D$3) -> 0 | E60: 0 | F60: =(E60*F$3) -> 0 | G60: 0 | H60: =(G60*H$3) -> 0 | I60: 0 | J60: =(I60*J$3) -> 0 | K60: 0 | L60: =(K60*L$3) -> 0 | M60: 0 | N60: =(M60*N$3) -> 0 | O60: 0 | P60: =(O60*P$3) -> 0 | Q60: 0 | R60: =(Q60*R$3) -> 0 | S60: 0 | T60: =(S60*T$3) -> 0 | U60: 0 | V60: =(U60*V$3) -> 0 | W60: 0 | X60: =(W60*X$3) -> 0 | Y60: 0 | Z60: =(Y60*Z$3) -> 0 | AA60: 0 | AB60: =(AA60*AB$3) -> 0 | AC60: 0 | AD60: =(AC60*AD$3) -> 0 | AE60: 0 | AF60: =(AE60*AF$3) -> 0 | AG60: =SUM(C60,E60,G60,I60,K60,M60,O60,Q60,S60,U60,W60,Y60,AC60,AE60) -> 0 | AH60: =SUM(D60,F60,H60,J60,L60,N60,P60,R60,T60,V60,X60,Z60,AD60,AF60) -> 0
B61: Develeped Business Case | C61: 0 | D61: =(C61*D$3) -> 0 | E61: 0 | F61: =(E61*F$3) -> 0 | G61: 0 | H61: =(G61*H$3) -> 0 | I61: 0 | J61: =(I61*J$3) -> 0 | K61: 0 | L61: =(K61*L$3) -> 0 | M61: 0 | N61: =(M61*N$3) -> 0 | O61: 0 | P61: =(O61*P$3) -> 0 | Q61: 0 | R61: =(Q61*R$3) -> 0 | S61: 0 | T61: =(S61*T$3) -> 0 | U61: 0 | V61: =(U61*V$3) -> 0 | W61: 0 | X61: =(W61*X$3) -> 0 | Y61: 0 | Z61: =(Y61*Z$3) -> 0 | AA61: 0 | AB61: =(AA61*AB$3) -> 0 | AC61: 0 | AD61: =(AC61*AD$3) -> 0 | AE61: 0 | AF61: =(AE61*AF$3) -> 0 | AG61: =SUM(C61,E61,G61,I61,K61,M61,O61,Q61,S61,U61,W61,Y61,AC61,AE61) -> 0 | AH61: =SUM(D61,F61,H61,J61,L61,N61,P61,R61,T61,V61,X61,Z61,AD61,AF61) -> 0
A62: B | B62: Health & Safety
B63: Safety & Health Duties (General) | C63: 0 | D63: =(C63*D$3) -> 0 | E63: 0 | F63: =(E63*F$3) -> 0 | G63: 0 | H63: =(G63*H$3) -> 0 | I63: 0 | J63: =(I63*J$3) -> 0 | K63: 0 | L63: =(K63*L$3) -> 0 | M63: 0 | N63: =(M63*N$3) -> 0 | O63: 0 | P63: =(O63*P$3) -> 0 | Q63: 0 | R63: =(Q63*R$3) -> 0 | S63: 0 | T63: =(S63*T$3) -> 0 | U63: 0 | V63: =(U63*V$3) -> 0 | W63: 0 | X63: =(W63*X$3) -> 0 | Y63: 0 | Z63: =(Y63*Z$3) -> 0 | AA63: 0 | AB63: =(AA63*AB$3) -> 0 | AC63: 0 | AD63: =(AC63*AD$3) -> 0 | AE63: 0 | AF63: =(AE63*AF$3) -> 0 | AG63: =SUM(C63,E63,G63,I63,K63,M63,O63,Q63,S63,U63,W63,Y63,AC63,AE63) -> 0 | AH63: =SUM(D63,F63,H63,J63,L63,N63,P63,R63,T63,V63,X63,Z63,AD63,AF63) -> 0
B64: PSDP (All Duties & Reports) | C64: 0 | D64: =(C64*D$3) -> 0 | E64: 0 | F64: =(E64*F$3) -> 0 | G64: 0 | H64: =(G64*H$3) -> 0 | I64: 0 | J64: =(I64*J$3) -> 0 | K64: 0 | L64: =(K64*L$3) -> 0 | M64: 0 | N64: =(M64*N$3) -> 0 | O64: 0 | P64: =(O64*P$3) -> 0 | Q64: 0 | R64: =(Q64*R$3) -> 0 | S64: 0 | T64: =(S64*T$3) -> 0 | U64: 0 | V64: =(U64*V$3) -> 0 | W64: 0 | X64: =(W64*X$3) -> 0 | Y64: 0 | Z64: =(Y64*Z$3) -> 0 | AA64: 0 | AB64: =(AA64*AB$3) -> 0 | AC64: 0 | AD64: =(AC64*AD$3) -> 0 | AE64: 0 | AF64: =(AE64*AF$3) -> 0 | AG64: =SUM(C64,E64,G64,I64,K64,M64,O64,Q64,S64,U64,W64,Y64,AC64,AE64) -> 0 | AH64: =SUM(D64,F64,H64,J64,L64,N64,P64,R64,T64,V64,X64,Z64,AD64,AF64) -> 0
A65: C | B65: Review
B66: Review of all Planning Documents and Conditions | C66: 0 | D66: =(C66*D$3) -> 0 | E66: 0 | F66: =(E66*F$3) -> 0 | G66: 0 | H66: =(G66*H$3) -> 0 | I66: 0 | J66: =(I66*J$3) -> 0 | K66: 0 | L66: =(K66*L$3) -> 0 | M66: 0 | N66: =(M66*N$3) -> 0 | O66: 0 | P66: =(O66*P$3) -> 0 | Q66: 0 | R66: =(Q66*R$3) -> 0 | S66: 0 | T66: =(S66*T$3) -> 0 | U66: 0 | V66: =(U66*V$3) -> 0 | W66: 0 | X66: =(W66*X$3) -> 0 | Y66: 0 | Z66: =(Y66*Z$3) -> 0 | AA66: 0 | AB66: =(AA66*AB$3) -> 0 | AC66: 0 | AD66: =(AC66*AD$3) -> 0 | AE66: 0 | AF66: =(AE66*AF$3) -> 0 | AG66: =SUM(C66,E66,G66,I66,K66,M66,O66,Q66,S66,U66,W66,Y66,AC66,AE66) -> 0 | AH66: =SUM(D66,F66,H66,J66,L66,N66,P66,R66,T66,V66,X66,Z66,AD66,AF66) -> 0
A67: D | B67: Detailed Design
B68: Develop Detailed Design | C68: 0 | D68: =(C68*D$3) -> 0 | E68: 0 | F68: =(E68*F$3) -> 0 | G68: 0 | H68: =(G68*H$3) -> 0 | I68: 0 | J68: =(I68*J$3) -> 0 | K68: 0 | L68: =(K68*L$3) -> 0 | M68: 0 | N68: =(M68*N$3) -> 0 | O68: 0 | P68: =(O68*P$3) -> 0 | Q68: 0 | R68: =(Q68*R$3) -> 0 | S68: 0 | T68: =(S68*T$3) -> 0 | U68: 0 | V68: =(U68*V$3) -> 0 | W68: 0 | X68: =(W68*X$3) -> 0 | Y68: 0 | Z68: =(Y68*Z$3) -> 0 | AA68: 0 | AB68: =(AA68*AB$3) -> 0 | AC68: 0 | AD68: =(AC68*AD$3) -> 0 | AE68: 0 | AF68: =(AE68*AF$3) -> 0 | AG68: =SUM(C68,E68,G68,I68,K68,M68,O68,Q68,S68,U68,W68,Y68,AC68,AE68) -> 0 | AH68: =SUM(D68,F68,H68,J68,L68,N68,P68,R68,T68,V68,X68,Z68,AD68,AF68) -> 0
B69: Design Checking - Category 1 | C69: 0 | D69: =(C69*D$3) -> 0 | E69: 0 | F69: =(E69*F$3) -> 0 | G69: 0 | H69: =(G69*H$3) -> 0 | I69: 0 | J69: =(I69*J$3) -> 0 | K69: 0 | L69: =(K69*L$3) -> 0 | M69: 0 | N69: =(M69*N$3) -> 0 | O69: 0 | P69: =(O69*P$3) -> 0 | Q69: 0 | R69: =(Q69*R$3) -> 0 | S69: 0 | T69: =(S69*T$3) -> 0 | U69: 0 | V69: =(U69*V$3) -> 0 | W69: 0 | X69: =(W69*X$3) -> 0 | Y69: 0 | Z69: =(Y69*Z$3) -> 0 | AA69: 0 | AB69: =(AA69*AB$3) -> 0 | AC69: 0 | AD69: =(AC69*AD$3) -> 0 | AE69: 0 | AF69: =(AE69*AF$3) -> 0 | AG69: =SUM(C69,E69,G69,I69,K69,M69,O69,Q69,S69,U69,W69,Y69,AC69,AE69) -> 0 | AH69: =SUM(D69,F69,H69,J69,L69,N69,P69,R69,T69,V69,X69,Z69,AD69,AF69) -> 0
B70: Preparation of all Tender Documentation | C70: 0 | D70: =(C70*D$3) -> 0 | E70: 0 | F70: =(E70*F$3) -> 0 | G70: 0 | H70: =(G70*H$3) -> 0 | I70: 0 | J70: =(I70*J$3) -> 0 | K70: 0 | L70: =(K70*L$3) -> 0 | M70: 0 | N70: =(M70*N$3) -> 0 | O70: 0 | P70: =(O70*P$3) -> 0 | Q70: 0 | R70: =(Q70*R$3) -> 0 | S70: 0 | T70: =(S70*T$3) -> 0 | U70: 0 | V70: =(U70*V$3) -> 0 | W70: 0 | X70: =(W70*X$3) -> 0 | Y70: 0 | Z70: =(Y70*Z$3) -> 0 | AA70: 0 | AB70: =(AA70*AB$3) -> 0 | AC70: 0 | AD70: =(AC70*AD$3) -> 0 | AE70: 0 | AF70: =(AE70*AF$3) -> 0 | AG70: =SUM(C70,E70,G70,I70,K70,M70,O70,Q70,S70,U70,W70,Y70,AC70,AE70) -> 0 | AH70: =SUM(D70,F70,H70,J70,L70,N70,P70,R70,T70,V70,X70,Z70,AD70,AF70) -> 0
B71: Derogation Licence | C71: 0 | D71: =(C71*D$3) -> 0 | E71: 0 | F71: =(E71*F$3) -> 0 | G71: 0 | H71: =(G71*H$3) -> 0 | I71: 0 | J71: =(I71*J$3) -> 0 | K71: 0 | L71: =(K71*L$3) -> 0 | M71: 0 | N71: =(M71*N$3) -> 0 | O71: 0 | P71: =(O71*P$3) -> 0 | Q71: 0 | R71: =(Q71*R$3) -> 0 | S71: 0 | T71: =(S71*T$3) -> 0 | U71: 0 | V71: =(U71*V$3) -> 0 | W71: 0 | X71: =(W71*X$3) -> 0 | Y71: 0 | Z71: =(Y71*Z$3) -> 0 | AA71: 0 | AB71: =(AA71*AB$3) -> 0 | AC71: 0 | AD71: =(AC71*AD$3) -> 0 | AE71: 0 | AF71: =(AE71*AF$3) -> 0 | AG71: =SUM(C71,E71,G71,I71,K71,M71,O71,Q71,S71,U71,W71,Y71,AC71,AE71) -> 0 | AH71: =SUM(D71,F71,H71,J71,L71,N71,P71,R71,T71,V71,X71,Z71,AD71,AF71) -> 0
A72: Phase 4 Total | C72: =SUM(C56:C61,C63:C64,C66,C68:C71) -> 0 | D72: =SUM(D56:D61,D63:D64,D66,D68:D71) -> 0 | E72: =SUM(E56:E61,E63:E64,E66,E68:E71) -> 0 | F72: =SUM(F56:F61,F63:F64,F66,F68:F71) -> 0 | G72: =SUM(G56:G61,G63:G64,G66,G68:G71) -> 0 | H72: =SUM(H56:H61,H63:H64,H66,H68:H71) -> 0 | I72: =SUM(I56:I61,I63:I64,I66,I68:I71) -> 0 | J72: =SUM(J56:J61,J63:J64,J66,J68:J71) -> 0 | ... AH72: =SUM(AH56:AH61,AH63:AH64,AH66,AH68:AH71) -> 0
A74: Phase 5 | B74: Tender
A75: A | B75: General Service Requirements
B76: Project Management | C76: 0 | D76: =(C76*D$3) -> 0 | E76: 0 | F76: =(E76*F$3) -> 0 | G76: 0 | H76: =(G76*H$3) -> 0 | I76: 0 | J76: =(I76*J$3) -> 0 | K76: 0 | L76: =(K76*L$3) -> 0 | M76: 0 | N76: =(M76*N$3) -> 0 | O76: 0 | P76: =(O76*P$3) -> 0 | Q76: 0 | R76: =(Q76*R$3) -> 0 | S76: 0 | T76: =(S76*T$3) -> 0 | U76: 0 | V76: =(U76*V$3) -> 0 | W76: 0 | X76: =(W76*X$3) -> 0 | Y76: 0 | Z76: =(Y76*Z$3) -> 0 | AA76: 0 | AB76: =(AA76*AB$3) -> 0 | AC76: 0 | AD76: =(AC76*AD$3) -> 0 | AE76: 0 | AF76: =(AE76*AF$3) -> 0 | AG76: =SUM(C76,E76,G76,I76,K76,M76,O76,Q76,S76,U76,W76,Y76,AC76,AE76) -> 0 | AH76: =SUM(D76,F76,H76,J76,L76,N76,P76,R76,T76,V76,X76,Z76,AD76,AF76) -> 0
B77: Project Meetings | C77: 0 | D77: =(C77*D$3) -> 0 | E77: 0 | F77: =(E77*F$3) -> 0 | G77: 0 | H77: =(G77*H$3) -> 0 | I77: 0 | J77: =(I77*J$3) -> 0 | K77: 0 | L77: =(K77*L$3) -> 0 | M77: 0 | N77: =(M77*N$3) -> 0 | O77: 0 | P77: =(O77*P$3) -> 0 | Q77: 0 | R77: =(Q77*$R$3) -> 0 | S77: 0 | T77: =(S77*T$3) -> 0 | U77: 0 | V77: =(U77*V$3) -> 0 | W77: 0 | X77: =(W77*X$3) -> 0 | Y77: 0 | Z77: =(Y77*Z$3) -> 0 | AA77: 0 | AB77: =(AA77*AB$3) -> 0 | AC77: 0 | AD77: =(AC77*AD$3) -> 0 | AE77: 0 | AF77: =(AE77*AF$3) -> 0 | AG77: =SUM(C77,E77,G77,I77,K77,M77,O77,Q77,S77,U77,W77,Y77,AC77,AE77) -> 0 | AH77: =SUM(D77,F77,H77,J77,L77,N77,P77,R77,T77,V77,X77,Z77,AD77,AF77) -> 0
B78: Progress Reports | C78: 0 | D78: =(C78*D$3) -> 0 | E78: 0 | F78: =(E78*F$3) -> 0 | G78: 0 | H78: =(G78*H$3) -> 0 | I78: 0 | J78: =(I78*J$3) -> 0 | K78: 0 | L78: =(K78*L$3) -> 0 | M78: 0 | N78: =(M78*N$3) -> 0 | O78: 0 | P78: =(O78*P$3) -> 0 | Q78: 0 | R78: =(Q78*$R$3) -> 0 | S78: 0 | T78: =(S78*T$3) -> 0 | U78: 0 | V78: =(U78*V$3) -> 0 | W78: 0 | X78: =(W78*X$3) -> 0 | Y78: 0 | Z78: =(Y78*Z$3) -> 0 | AA78: 0 | AB78: =(AA78*AB$3) -> 0 | AC78: 0 | AD78: =(AC78*AD$3) -> 0 | AE78: 0 | AF78: =(AE78*AF$3) -> 0 | AG78: =SUM(C78,E78,G78,I78,K78,M78,O78,Q78,S78,U78,W78,Y78,AC78,AE78) -> 0 | AH78: =SUM(D78,F78,H78,J78,L78,N78,P78,R78,T78,V78,X78,Z78,AD78,AF78) -> 0
B79: Cost & Risk Management Plan | C79: 0 | D79: =(C79*D$3) -> 0 | E79: 0 | F79: =(E79*F$3) -> 0 | G79: 0 | H79: =(G79*H$3) -> 0 | I79: 0 | J79: =(I79*J$3) -> 0 | K79: 0 | L79: =(K79*L$3) -> 0 | M79: 0 | N79: =(M79*N$3) -> 0 | O79: 0 | P79: =(O79*P$3) -> 0 | Q79: 0 | R79: =(Q79*R$3) -> 0 | S79: 0 | T79: =(S79*T$3) -> 0 | U79: 0 | V79: =(U79*V$3) -> 0 | W79: 0 | X79: =(W79*X$3) -> 0 | Y79: 0 | Z79: =(Y79*Z$3) -> 0 | AA79: 0 | AB79: =(AA79*AB$3) -> 0 | AC79: 0 | AD79: =(AC79*AD$3) -> 0 | AE79: 0 | AF79: =(AE79*AF$3) -> 0 | AG79: =SUM(C79,E79,G79,I79,K79,M79,O79,Q79,S79,U79,W79,Y79,AC79,AE79) -> 0 | AH79: =SUM(D79,F79,H79,J79,L79,N79,P79,R79,T79,V79,X79,Z79,AD79,AF79) -> 0
B80: Stakeholder Consultation | C80: 0 | D80: =(C80*D$3) -> 0 | E80: 0 | F80: =(E80*F$3) -> 0 | G80: 0 | H80: =(G80*H$3) -> 0 | I80: 0 | J80: =(I80*J$3) -> 0 | K80: 0 | L80: =(K80*L$3) -> 0 | M80: 0 | N80: =(M80*N$3) -> 0 | O80: 0 | P80: =(O80*P$3) -> 0 | Q80: 0 | R80: =(Q80*R$3) -> 0 | S80: 0 | T80: =(S80*T$3) -> 0 | U80: 0 | V80: =(U80*V$3) -> 0 | W80: 0 | X80: =(W80*X$3) -> 0 | Y80: 0 | Z80: =(Y80*Z$3) -> 0 | AA80: 0 | AB80: =(AA80*AB$3) -> 0 | AC80: 0 | AD80: =(AC80*AD$3) -> 0 | AE80: 0 | AF80: =(AE80*AF$3) -> 0 | AG80: =SUM(C80,E80,G80,I80,K80,M80,O80,Q80,S80,U80,W80,Y80,AC80,AE80) -> 0 | AH80: =SUM(D80,F80,H80,J80,L80,N80,P80,R80,T80,V80,X80,Z80,AD80,AF80) -> 0
B81: Final Business Case | C81: 0 | D81: =(C81*D$3) -> 0 | E81: 0 | F81: =(E81*F$3) -> 0 | G81: 0 | H81: =(G81*H$3) -> 0 | I81: 0 | J81: =(I81*J$3) -> 0 | K81: 0 | L81: =(K81*L$3) -> 0 | M81: 0 | N81: =(M81*N$3) -> 0 | O81: 0 | P81: =(O81*P$3) -> 0 | Q81: 0 | R81: =(Q81*R$3) -> 0 | S81: 0 | T81: =(S81*T$3) -> 0 | U81: 0 | V81: =(U81*V$3) -> 0 | W81: 0 | X81: =(W81*X$3) -> 0 | Y81: 0 | Z81: =(Y81*Z$3) -> 0 | AA81: 0 | AB81: =(AA81*AB$3) -> 0 | AC81: 0 | AD81: =(AC81*AD$3) -> 0 | AE81: 0 | AF81: =(AE81*AF$3) -> 0 | AG81: =SUM(C81,E81,G81,I81,K81,M81,O81,Q81,S81,U81,W81,Y81,AC81,AE81) -> 0 | AH81: =SUM(D81,F81,H81,J81,L81,N81,P81,R81,T81,V81,X81,Z81,AD81,AF81) -> 0
A82: B | B82: Health & Safety
B83: Safety & Health Duties (General) | C83: 0 | D83: =(C83*D$3) -> 0 | E83: 0 | F83: =(E83*F$3) -> 0 | G83: 0 | H83: =(G83*H$3) -> 0 | I83: 0 | J83: =(I83*J$3) -> 0 | K83: 0 | L83: =(K83*L$3) -> 0 | M83: 0 | N83: =(M83*N$3) -> 0 | O83: 0 | P83: =(O83*P$3) -> 0 | Q83: 0 | R83: =(Q83*$R$3) -> 0 | S83: 0 | T83: =(S83*T$3) -> 0 | U83: 0 | V83: =(U83*V$3) -> 0 | W83: 0 | X83: =(W83*X$3) -> 0 | Y83: 0 | Z83: =(Y83*Z$3) -> 0 | AA83: 0 | AB83: =(AA83*AB$3) -> 0 | AC83: 0 | AD83: =(AC83*AD$3) -> 0 | AE83: 0 | AF83: =(AE83*AF$3) -> 0 | AG83: =SUM(C83,E83,G83,I83,K83,M83,O83,Q83,S83,U83,W83,Y83,AC83,AE83) -> 0 | AH83: =SUM(D83,F83,H83,J83,L83,N83,P83,R83,T83,V83,X83,Z83,AD83,AF83) -> 0
B84: PSDP (All Duties & Reports) | C84: 0 | D84: =(C84*D$3) -> 0 | E84: 0 | F84: =(E84*F$3) -> 0 | G84: 0 | H84: =(G84*H$3) -> 0 | I84: 0 | J84: =(I84*J$3) -> 0 | K84: 0 | L84: =(K84*L$3) -> 0 | M84: 0 | N84: =(M84*N$3) -> 0 | O84: 0 | P84: =(O84*P$3) -> 0 | Q84: 0 | R84: =(Q84*R$3) -> 0 | S84: 0 | T84: =(S84*T$3) -> 0 | U84: 0 | V84: =(U84*V$3) -> 0 | W84: 0 | X84: =(W84*X$3) -> 0 | Y84: 0 | Z84: =(Y84*Z$3) -> 0 | AA84: 0 | AB84: =(AA84*AB$3) -> 0 | AC84: 0 | AD84: =(AC84*AD$3) -> 0 | AE84: 0 | AF84: =(AE84*AF$3) -> 0 | AG84: =SUM(C84,E84,G84,I84,K84,M84,O84,Q84,S84,U84,W84,Y84,AC84,AE84) -> 0 | AH84: =SUM(D84,F84,H84,J84,L84,N84,P84,R84,T84,V84,X84,Z84,AD84,AF84) -> 0
A85: C | B85: Tender Process
B86: Management of Tender Process | C86: 0 | D86: =(C86*D$3) -> 0 | E86: 0 | F86: =(E86*F$3) -> 0 | G86: 0 | H86: =(G86*H$3) -> 0 | I86: 0 | J86: =(I86*J$3) -> 0 | K86: 0 | L86: =(K86*L$3) -> 0 | M86: 0 | N86: =(M86*N$3) -> 0 | O86: 0 | P86: =(O86*P$3) -> 0 | Q86: 0 | R86: =(Q86*$R$3) -> 0 | S86: 0 | T86: =(S86*T$3) -> 0 | U86: 0 | V86: =(U86*V$3) -> 0 | W86: 0 | X86: =(W86*X$3) -> 0 | Y86: 0 | Z86: =(Y86*Z$3) -> 0 | AA86: 0 | AB86: =(AA86*AB$3) -> 0 | AC86: 0 | AD86: =(AC86*AD$3) -> 0 | AE86: 0 | AF86: =(AE86*AF$3) -> 0 | AG86: =SUM(C86,E86,G86,I86,K86,M86,O86,Q86,S86,U86,W86,Y86,AC86,AE86) -> 0 | AH86: =SUM(D86,F86,H86,J86,L86,N86,P86,R86,T86,V86,X86,Z86,AD86,AF86) -> 0
B87: Tender Assessment & Report | C87: 0 | D87: =(C87*D$3) -> 0 | E87: 0 | F87: =(E87*F$3) -> 0 | G87: 0 | H87: =(G87*H$3) -> 0 | I87: 0 | J87: =(I87*J$3) -> 0 | K87: 0 | L87: =(K87*L$3) -> 0 | M87: 0 | N87: =(M87*N$3) -> 0 | O87: 0 | P87: =(O87*P$3) -> 0 | Q87: 0 | R87: =(Q87*$R$3) -> 0 | S87: 0 | T87: =(S87*T$3) -> 0 | U87: 0 | V87: =(U87*V$3) -> 0 | W87: 0 | X87: =(W87*X$3) -> 0 | Y87: 0 | Z87: =(Y87*Z$3) -> 0 | AA87: 0 | AB87: =(AA87*AB$3) -> 0 | AC87: 0 | AD87: =(AC87*AD$3) -> 0 | AE87: 0 | AF87: =(AE87*AF$3) -> 0 | AG87: =SUM(C87,E87,G87,I87,K87,M87,O87,Q87,S87,U87,W87,Y87,AC87,AE87) -> 0 | AH87: =SUM(D87,F87,H87,J87,L87,N87,P87,R87,T87,V87,X87,Z87,AD87,AF87) -> 0
A88: Phase 5 Total | C88: =SUM(C76:C81,C83:C84,C86:C87) -> 0 | D88: =SUM(D76:D81,D83:D84,D86:D87) -> 0 | E88: =SUM(E76:E81,E83:E84,E86:E87) -> 0 | F88: =SUM(F76:F81,F83:F84,F86:F87) -> 0 | G88: =SUM(G76:G81,G83:G84,G86:G87) -> 0 | H88: =SUM(H76:H81,H83:H84,H86:H87) -> 0 | I88: =SUM(I76:I81,I83:I84,I86:I87) -> 0 | J88: =SUM(J76:J81,J83:J84,J86:J87) -> 0 | ... AH88: =SUM(AH76:AH81,AH83:AH84,AH86:AH87) -> 0
A90: Phase 6 | B90: Construction
A91: A | B91: General Service Requirements
B92: Project Management | C92: 0 | D92: =(C92*D$3) -> 0 | E92: 0 | F92: =(E92*F$3) -> 0 | G92: 0 | H92: =(G92*H$3) -> 0 | I92: 0 | J92: =(I92*J$3) -> 0 | K92: 0 | L92: =(K92*L$3) -> 0 | M92: 0 | N92: =(M92*N$3) -> 0 | O92: 0 | P92: =(O92*P$3) -> 0 | Q92: 0 | R92: =(Q92*R$3) -> 0 | S92: 0 | T92: =(S92*T$3) -> 0 | U92: 0 | V92: =(U92*V$3) -> 0 | W92: 0 | X92: =(W92*X$3) -> 0 | Y92: 0 | Z92: =(Y92*Z$3) -> 0 | AA92: 0 | AB92: =(AA92*AB$3) -> 0 | AC92: 0 | AD92: =(AC92*AD$3) -> 0 | AE92: 0 | AF92: =(AE92*AF$3) -> 0 | AG92: =SUM(C92,E92,G92,I92,K92,M92,O92,Q92,S92,U92,W92,Y92,AC92,AE92) -> 0 | AH92: =SUM(D92,F92,H92,J92,L92,N92,P92,R92,T92,V92,X92,Z92,AD92,AF92) -> 0
B93: Project Meetings | C93: 0 | D93: =(C93*D$3) -> 0 | E93: 0 | F93: =(E93*F$3) -> 0 | G93: 0 | H93: =(G93*H$3) -> 0 | I93: 0 | J93: =(I93*J$3) -> 0 | K93: 0 | L93: =(K93*L$3) -> 0 | M93: 0 | N93: =(M93*N$3) -> 0 | O93: 0 | P93: =(O93*P$3) -> 0 | Q93: 0 | R93: =(Q93*$R$3) -> 0 | S93: 0 | T93: =(S93*T$3) -> 0 | U93: 0 | V93: =(U93*V$3) -> 0 | W93: 0 | X93: =(W93*X$3) -> 0 | Y93: 0 | Z93: =(Y93*Z$3) -> 0 | AA93: 0 | AB93: =(AA93*AB$3) -> 0 | AC93: 0 | AD93: =(AC93*AD$3) -> 0 | AE93: 0 | AF93: =(AE93*AF$3) -> 0 | AG93: =SUM(C93,E93,G93,I93,K93,M93,O93,Q93,S93,U93,W93,Y93,AC93,AE93) -> 0 | AH93: =SUM(D93,F93,H93,J93,L93,N93,P93,R93,T93,V93,X93,Z93,AD93,AF93) -> 0
B94: Progress Reports | C94: 0 | D94: =(C94*D$3) -> 0 | E94: 0 | F94: =(E94*F$3) -> 0 | G94: 0 | H94: =(G94*H$3) -> 0 | I94: 0 | J94: =(I94*J$3) -> 0 | K94: 0 | L94: =(K94*L$3) -> 0 | M94: 0 | N94: =(M94*N$3) -> 0 | O94: 0 | P94: =(O94*P$3) -> 0 | Q94: 0 | R94: =(Q94*$R$3) -> 0 | S94: 0 | T94: =(S94*T$3) -> 0 | U94: 0 | V94: =(U94*V$3) -> 0 | W94: 0 | X94: =(W94*X$3) -> 0 | Y94: 0 | Z94: =(Y94*Z$3) -> 0 | AA94: 0 | AB94: =(AA94*AB$3) -> 0 | AC94: 0 | AD94: =(AC94*AD$3) -> 0 | AE94: 0 | AF94: =(AE94*AF$3) -> 0 | AG94: =SUM(C94,E94,G94,I94,K94,M94,O94,Q94,S94,U94,W94,Y94,AC94,AE94) -> 0 | AH94: =SUM(D94,F94,H94,J94,L94,N94,P94,R94,T94,V94,X94,Z94,AD94,AF94) -> 0
B95: Cost & Risk Management Plan | C95: 0 | D95: =(C95*D$3) -> 0 | E95: 0 | F95: =(E95*F$3) -> 0 | G95: 0 | H95: =(G95*H$3) -> 0 | I95: 0 | J95: =(I95*J$3) -> 0 | K95: 0 | L95: =(K95*L$3) -> 0 | M95: 0 | N95: =(M95*N$3) -> 0 | O95: 0 | P95: =(O95*P$3) -> 0 | Q95: 0 | R95: =(Q95*R$3) -> 0 | S95: 0 | T95: =(S95*T$3) -> 0 | U95: 0 | V95: =(U95*V$3) -> 0 | W95: 0 | X95: =(W95*X$3) -> 0 | Y95: 0 | Z95: =(Y95*Z$3) -> 0 | AA95: 0 | AB95: =(AA95*AB$3) -> 0 | AC95: 0 | AD95: =(AC95*AD$3) -> 0 | AE95: 0 | AF95: =(AE95*AF$3) -> 0 | AG95: =SUM(C95,E95,G95,I95,K95,M95,O95,Q95,S95,U95,W95,Y95,AC95,AE95) -> 0 | AH95: =SUM(D95,F95,H95,J95,L95,N95,P95,R95,T95,V95,X95,Z95,AD95,AF95) -> 0
B96: Stakeholder Consultation | C96: 0 | D96: =(C96*D$3) -> 0 | E96: 0 | F96: =(E96*F$3) -> 0 | G96: 0 | H96: =(G96*H$3) -> 0 | I96: 0 | J96: =(I96*J$3) -> 0 | K96: 0 | L96: =(K96*L$3) -> 0 | M96: 0 | N96: =(M96*N$3) -> 0 | O96: 0 | P96: =(O96*P$3) -> 0 | Q96: 0 | R96: =(Q96*R$3) -> 0 | S96: 0 | T96: =(S96*T$3) -> 0 | U96: 0 | V96: =(U96*V$3) -> 0 | W96: 0 | X96: =(W96*X$3) -> 0 | Y96: 0 | Z96: =(Y96*Z$3) -> 0 | AA96: 0 | AB96: =(AA96*AB$3) -> 0 | AC96: 0 | AD96: =(AC96*AD$3) -> 0 | AE96: 0 | AF96: =(AE96*AF$3) -> 0 | AG96: =SUM(C96,E96,G96,I96,K96,M96,O96,Q96,S96,U96,W96,Y96,AC96,AE96) -> 0 | AH96: =SUM(D96,F96,H96,J96,L96,N96,P96,R96,T96,V96,X96,Z96,AD96,AF96) -> 0
A97: B | B97: Health & Safety
B98: Safety & Health Duties (General) | C98: 0 | D98: =(C98*D$3) -> 0 | E98: 0 | F98: =(E98*F$3) -> 0 | G98: 0 | H98: =(G98*H$3) -> 0 | I98: 0 | J98: =(I98*J$3) -> 0 | K98: 0 | L98: =(K98*L$3) -> 0 | M98: 0 | N98: =(M98*N$3) -> 0 | O98: 0 | P98: =(O98*P$3) -> 0 | Q98: 0 | R98: =(Q98*$R$3) -> 0 | S98: 0 | T98: =(S98*T$3) -> 0 | U98: 0 | V98: =(U98*V$3) -> 0 | W98: 0 | X98: =(W98*X$3) -> 0 | Y98: 0 | Z98: =(Y98*Z$3) -> 0 | AA98: 0 | AB98: =(AA98*AB$3) -> 0 | AC98: 0 | AD98: =(AC98*AD$3) -> 0 | AE98: 0 | AF98: =(AE98*AF$3) -> 0 | AG98: =SUM(C98,E98,G98,I98,K98,M98,O98,Q98,S98,U98,W98,Y98,AC98,AE98) -> 0 | AH98: =SUM(D98,F98,H98,J98,L98,N98,P98,R98,T98,V98,X98,Z98,AD98,AF98) -> 0
B99: PSDP (All Duties & Reports) | C99: 0 | D99: =(C99*D$3) -> 0 | E99: 0 | F99: =(E99*F$3) -> 0 | G99: 0 | H99: =(G99*H$3) -> 0 | I99: 0 | J99: =(I99*J$3) -> 0 | K99: 0 | L99: =(K99*L$3) -> 0 | M99: 0 | N99: =(M99*N$3) -> 0 | O99: 0 | P99: =(O99*P$3) -> 0 | Q99: 0 | R99: =(Q99*R$3) -> 0 | S99: 0 | T99: =(S99*T$3) -> 0 | U99: 0 | V99: =(U99*V$3) -> 0 | W99: 0 | X99: =(W99*X$3) -> 0 | Y99: 0 | Z99: =(Y99*Z$3) -> 0 | AA99: 0 | AB99: =(AA99*AB$3) -> 0 | AC99: 0 | AD99: =(AC99*AD$3) -> 0 | AE99: 0 | AF99: =(AE99*AF$3) -> 0 | AG99: =SUM(C99,E99,G99,I99,K99,M99,O99,Q99,S99,U99,W99,Y99,AC99,AE99) -> 0 | AH99: =SUM(D99,F99,H99,J99,L99,N99,P99,R99,T99,V99,X99,Z99,AD99,AF99) -> 0
A100: C | B100: Contract & Site Supervision
B101: Employers Representative Duties | C101: 0 | D101: =(C101*D$3) -> 0 | E101: 0 | F101: =(E101*F$3) -> 0 | G101: 0 | H101: =(G101*H$3) -> 0 | I101: 0 | J101: =(I101*J$3) -> 0 | K101: 0 | L101: =(K101*L$3) -> 0 | M101: 0 | N101: =(M101*N$3) -> 0 | O101: 0 | P101: =(O101*P$3) -> 0 | Q101: 0 | R101: =(Q101*$R$3) -> 0 | S101: 0 | T101: =(S101*T$3) -> 0 | U101: 0 | V101: =(U101*V$3) -> 0 | W101: 0 | X101: =(W101*X$3) -> 0 | Y101: 0 | Z101: =(Y101*Z$3) -> 0 | AA101: 0 | AB101: =(AA101*AB$3) -> 0 | AC101: 0 | AD101: =(AC101*AD$3) -> 0 | AE101: 0 | AF101: =(AE101*AF$3) -> 0 | AG101: =SUM(C101,E101,G101,I101,K101,M101,O101,Q101,S101,U101,W101,Y101,AC101,AE101) -> 0 | AH101: =SUM(D101,F101,H101,J101,L101,N101,P101,R101,T101,V101,X101,Z101,AD101,AF101) -> 0
B102: Site Supervision - Resident Engineer | C102: 0 | D102: =(C102*D$3) -> 0 | E102: 0 | F102: =(E102*F$3) -> 0 | G102: 0 | H102: =(G102*H$3) -> 0 | I102: 0 | J102: =(I102*J$3) -> 0 | K102: 0 | L102: =(K102*L$3) -> 0 | M102: 0 | N102: =(M102*N$3) -> 0 | O102: 0 | P102: =(O102*P$3) -> 0 | Q102: 0 | R102: =(Q102*$R$3) -> 0 | S102: 0 | T102: =(S102*T$3) -> 0 | U102: 0 | V102: =(U102*V$3) -> 0 | W102: 0 | X102: =(W102*X$3) -> 0 | Y102: 0 | Z102: =(Y102*Z$3) -> 0 | AA102: 0 | AB102: =(AA102*AB$3) -> 0 | AC102: 0 | AD102: =(AC102*AD$3) -> 0 | AE102: 0 | AF102: =(AE102*AF$3) -> 0 | AG102: =SUM(C102,E102,G102,I102,K102,M102,O102,Q102,S102,U102,W102,Y102,AC102,AE102) -> 0 | AH102: =SUM(D102,F102,H102,J102,L102,N102,P102,R102,T102,V102,X102,Z102,AD102,AF102) -> 0
B103: Ecological Clerk of Works (ECoW) | C103: 0 | D103: =(C103*D$3) -> 0 | E103: 0 | F103: =(E103*F$3) -> 0 | G103: 0 | H103: =(G103*H$3) -> 0 | I103: 0 | J103: =(I103*J$3) -> 0 | K103: 0 | L103: =(K103*L$3) -> 0 | M103: 0 | N103: =(M103*N$3) -> 0 | O103: 0 | P103: =(O103*P$3) -> 0 | Q103: 0 | R103: =(Q103*$R$3) -> 0 | S103: 0 | T103: =(S103*T$3) -> 0 | U103: 0 | V103: =(U103*V$3) -> 0 | W103: 0 | X103: =(W103*X$3) -> 0 | Y103: 0 | Z103: =(Y103*Z$3) -> 0 | AA103: 0 | AB103: =(AA103*AB$3) -> 0 | AC103: 0 | AD103: =(AC103*AD$3) -> 0 | AE103: 0 | AF103: =(AE103*AF$3) -> 0 | AG103: =SUM(C103,E103,G103,I103,K103,M103,O103,Q103,S103,U103,W103,Y103,AC103,AE103) -> 0 | AH103: =SUM(D103,F103,H103,J103,L103,N103,P103,R103,T103,V103,X103,Z103,AD103,AF103) -> 0
B104: Archaeologist (on site) | C104: 0 | D104: =(C104*D$3) -> 0 | E104: 0 | F104: =(E104*F$3) -> 0 | G104: 0 | H104: =(G104*H$3) -> 0 | I104: 0 | J104: =(I104*J$3) -> 0 | K104: 0 | L104: =(K104*L$3) -> 0 | M104: 0 | N104: =(M104*N$3) -> 0 | O104: 0 | P104: =(O104*P$3) -> 0 | Q104: 0 | R104: =(Q104*$R$3) -> 0 | S104: 0 | T104: =(S104*T$3) -> 0 | U104: 0 | V104: =(U104*V$3) -> 0 | W104: 0 | X104: =(W104*X$3) -> 0 | Y104: 0 | Z104: =(Y104*Z$3) -> 0 | AA104: 0 | AB104: =(AA104*AB$3) -> 0 | AC104: 0 | AD104: =(AC104*AD$3) -> 0 | AE104: 0 | AF104: =(AE104*AF$3) -> 0 | AG104: =SUM(C104,E104,G104,I104,K104,M104,O104,Q104,S104,U104,W104,Y104,AC104,AE104) -> 0 | AH104: =SUM(D104,F104,H104,J104,L104,N104,P104,R104,T104,V104,X104,Z104,AD104,AF104) -> 0
A105: Phase 6 Total | C105: =SUM(C92:C96,C98:C99,C101:C104) -> 0 | D105: =SUM(D92:D96,D98:D99,D101:D104) -> 0 | E105: =SUM(E92:E96,E98:E99,E101:E104) -> 0 | F105: =SUM(F92:F96,F98:F99,F101:F104) -> 0 | G105: =SUM(G92:G96,G98:G99,G101:G104) -> 0 | H105: =SUM(H92:H96,H98:H99,H101:H104) -> 0 | I105: =SUM(I92:I96,I98:I99,I101:I104) -> 0 | J105: =SUM(J92:J96,J98:J99,J101:J104) -> 0 | ... AH105: =SUM(AH92:AH96,AH98:AH99,AH101:AH104) -> 0
A107: Phase 7 | B107: Handover
A108: A | B108: General Service Requirements
B109: Project Management | C109: 0 | D109: =(C109*D$3) -> 0 | E109: 0 | F109: =(E109*F$3) -> 0 | G109: 0 | H109: =(G109*H$3) -> 0 | I109: 0 | J109: =(I109*J$3) -> 0 | K109: 0 | L109: =(K109*L$3) -> 0 | M109: 0 | N109: =(M109*N$3) -> 0 | O109: 0 | P109: =(O109*P$3) -> 0 | Q109: 0 | R109: =(Q109*R$3) -> 0 | S109: 0 | T109: =(S109*T$3) -> 0 | U109: 0 | V109: =(U109*V$3) -> 0 | W109: 0 | X109: =(W109*X$3) -> 0 | Y109: 0 | Z109: =(Y109*Z$3) -> 0 | AA109: 0 | AB109: =(AA109*AB$3) -> 0 | AC109: 0 | AD109: =(AC109*AD$3) -> 0 | AE109: 0 | AF109: =(AE109*AF$3) -> 0 | AG109: =SUM(C109,E109,G109,I109,K109,M109,O109,Q109,S109,U109,W109,Y109,AC109,AE109) -> 0 | AH109: =SUM(D109,F109,H109,J109,L109,N109,P109,R109,T109,V109,X109,Z109,AD109,AF109) -> 0
...
