Workbook

Sheet PartP1
A1: Part 1 - Preliminaries
A2: Ref | B2: Description | C2: Qty | D2: Unit | E2: Rate | F2: Amount | G2: BQIndex | H2: InputNo
B4: Series 100 - Preliminaries
B6: Temporary Accommodation
A8: A | B8: Erection of Principal Offices for the Employers | C8: 1 | D8: item | F8: =IF(OR(ISBLANK(C8), ISBLANK(E8)), "", IF(ISNUMBER(E8), ROUND(C8 * E8, 2), E8)) -> 0 | G8: 1/1/A | H8: 478
B9: Representative Until completion of the Works
A11: B | B11: Erection of stores and workshops for the Contractor | C11: 1 | D11: item | F11: =IF(OR(ISBLANK(C11), ISBLANK(E11)), "", IF(ISNUMBER(E11), ROUND(C11 * E11, 2), E11)) -> 0 | G11: 1/1/B | H11: 201
A13: C | B13: Erection of offices and messes for the Contractor | C13: 1 | D13: item | F13: =IF(OR(ISBLANK(C13), ISBLANK(E13)), "", IF(ISNUMBER(E13), ROUND(C13 * E13, 2), E13)) -> 0 | G13: 1/1/C | H13: 202
A15: D | B15: Servicing of Principal Offices for the Employers | C15: 1 | D15: item | F15: =IF(OR(ISBLANK(C15), ISBLANK(E15)), "", IF(ISNUMBER(E15), ROUND(C15 * E15, 2), E15)) -> 0 | G15: 1/1/D | H15: 479
B16: Representative Until completion of the Works
A18: E | B18: Servicing of stores and workshops for the Contractor | C18: 1 | D18: item | F18: =IF(OR(ISBLANK(C18), ISBLANK(E18)), "", IF(ISNUMBER(E18), ROUND(C18 * E18, 2), E18)) -> 0 | G18: 1/1/E | H18: 203
A20: F | B20: Servicing of offices and messes for the Contractor | C20: 1 | D20: item | F20: =IF(OR(ISBLANK(C20), ISBLANK(E20)), "", IF(ISNUMBER(E20), ROUND(C20 * E20, 2), E20)) -> 0 | G20: 1/1/F | H20: 204
A22: G | B22: Dismantling of Principal Offices for the Employers | C22: 1 | D22: item | F22: =IF(OR(ISBLANK(C22), ISBLANK(E22)), "", IF(ISNUMBER(E22), ROUND(C22 * E22, 2), E22)) -> 0 | G22: 1/1/G | H22: 480
B23: Representative after completion of the Works
A25: H | B25: Dismantling of stores and workshops for the contractor | C25: 1 | D25: item | F25: =IF(OR(ISBLANK(C25), ISBLANK(E25)), "", IF(ISNUMBER(E25), ROUND(C25 * E25, 2), E25)) -> 0 | G25: 1/1/H | H25: 205
A27: I | B27: Dismantling of offices and messes for the Contractor | C27: 1 | D27: item | F27: =IF(OR(ISBLANK(C27), ISBLANK(E27)), "", IF(ISNUMBER(E27), ROUND(C27 * E27, 2), E27)) -> 0 | G27: 1/1/I | H27: 206
B29: Communication System for the Employer's
B30: Representative
A32: J | B32: Communication System and Equipment for the | C32: 1 | D32: item | F32: =IF(OR(ISBLANK(C32), ISBLANK(E32)), "", IF(ISNUMBER(E32), ROUND(C32 * E32, 2), E32)) -> 0 | G32: 1/1/J | H32: 482
B33: Employer's Representative to be provided in
B34: accordance with Appendix 1/1 and Appendix 1/3 of the
B35: specification that will be retained by the ER on
B36: completion of the works
B38: Operatives for the Employer's Representative
A40: K | B40: Operatives for the Employer's Representative until | C40: 20 | D40: day | F40: =IF(OR(ISBLANK(C40), ISBLANK(E40)), "", IF(ISNUMBER(E40), ROUND(C40 * E40, 2), E40)) -> 0 | G40: 1/1/K | H40: 494
B41: completion of the Works in accordance with Appendix
B42: 1/8
B44: Information Board
A46: L | B46: Information Board | C46: 5 | D46: nr | F46: =IF(OR(ISBLANK(C46), ISBLANK(E46)), "", IF(ISNUMBER(E46), ROUND(C46 * E46, 2), E46)) -> 0 | G46: 1/1/L | H46: 550
B48: Traffic Safety and Management
A50: M | B50: Traffic safety and management | C50: 1 | D50: item | F50: =IF(OR(ISBLANK(C50), ISBLANK(E50)), "", IF(ISNUMBER(E50), ROUND(C50 * E50, 2), E50)) -> 0 | G50: 1/1/M | H50: 210
A52: N | B52: Taking measures for or construction, maintenance, | C52: 1 | D52: item | F52: =IF(OR(ISBLANK(C52), ISBLANK(E52)), "", IF(ISNUMBER(E52), ROUND(C52 * E52, 2), E52)) -> 0 | G52: 1/1/N | H52: 211
B53: removal of contraflow arrangements in accordance with
B54: Appendix 1/17
A56: O | B56: Removing from store and installing temporary vertical | C56: 1 | D56: item | F56: =IF(OR(ISBLANK(C56), ISBLANK(E56)), "", IF(ISNUMBER(E56), ROUND(C56 * E56, 2), E56)) -> 0 | G56: 1/1/O | H56: 212
B57: safety barriers in accordance with Appendix 1/17
A59: P | B59: Taking up or down and removing from site temporary | C59: 1 | D59: item | F59: =IF(OR(ISBLANK(C59), ISBLANK(E59)), "", IF(ISNUMBER(E59), ROUND(C59 * E59, 2), E59)) -> 0 | G59: 1/1/P | H59: 213
B60: vertical safety barriers in accordance with Appendix
B61: 1/17
A63: G558 | C63: Page: 1 / 1 | E63: To Collection | F63: =SUM(F3:F62) -> 0
...

Sheet PartP2
A1: Part 2 - Roadworks General R446
A2: Ref | B2: Description | C2: Qty | D2: Unit | E2: Rate | F2: Amount | G2: BQIndex | H2: InputNo
B4: Series 200 Site Clearance
B6: Site Clearance
A8: A | B8: General site clearance | C8: 2.9 | D8: ha | F8: =IF(OR(ISBLANK(C8), ISBLANK(E8)), "", IF(ISNUMBER(E8), ROUND(C8 * E8, 2), E8)) -> 0 | G8: 2/1/A | H8: 108
A55: G558 | C55: Page: 2 / 1 | E55: To Collection | F55: =SUM(F3:F54) -> 0
A56: Part 2 - Roadworks General R446
A57: Ref | B57: Description | C57: Qty | D57: Unit | E57: Rate | F57: Amount | G57: BQIndex | H57: InputNo
B59: Series 300 Fencing and Environmental Noise
B60: Barriers
B62: Fencing, Gates and Stiles
A64: A | B64: Fencing, Bow Top Galvernised Steel Fence, 1.2 metre | C64: 88 | D64: m | F64: =IF(OR(ISBLANK(C64), ISBLANK(E64)), "", IF(ISNUMBER(E64), ROUND(C64 * E64, 2), E64)) -> 0 | G64: 2/2/A | H64: 112
B65: height to follow existing fence, posts to be set in
B66: concrete foundation 750mm x 350mm 2 metre C/C,
B67: concrete Class C16/20, in accordance with the drawing
B68: G558-OCSC-XX-XX-DR-C-0311
A110: G558 | C110: Page: 2 / 2 | E110: To Collection | F110: =SUM(F58:F109) -> 0
A111: Part 2 - Roadworks General R446
A112: Ref | B112: Description | C112: Qty | D112: Unit | E112: Rate | F112: Amount | G112: BQIndex | H112: InputNo
B114: Series 500 Drainage and Service Ducts
B116: Drains, Sewers, Piped Culverts and Service Ducts
B117: (Excluding Filter Drains, Narrow Filter Drains & Fin
B118: Drains)
A120: A | B120: 2 x 110mm internal diameter service duct (Bus Shelter), | C120: 35 | D120: m | F120: =IF(OR(ISBLANK(C120), ISBLANK(E120)), "", IF(ISNUMBER(E120), ROUND(C120 * E120, 2), E120)) -> 0 | G120: 2/3/A | H120: 249
B121: depths to invert not exceeding 2 metres average, depth
B122: to invert 1 metre in trench under Non-Trafficked Areas
B123: (CC-SCD-00562) Type C
A125: B | B125: 2 x 110mm internal diameter service duct (Traffic | C125: 95 | D125: m | F125: =IF(OR(ISBLANK(C125), ISBLANK(E125)), "", IF(ISNUMBER(E125), ROUND(C125 * E125, 2), E125)) -> 0 | G125: 2/3/B | H125: 2205
B126: Lighting), depths to invert not exceeding 2 metres
B127: average, depth to invert 1 metre in trench under Non-
B128: Trafficked Areas (CC-SCD-00562) Type C
A130: C | B130: 2 x 110mm internal diameter service duct (Public | C130: 65 | D130: m | F130: =IF(OR(ISBLANK(C130), ISBLANK(E130)), "", IF(ISNUMBER(E130), ROUND(C130 * E130, 2), E130)) -> 0 | G130: 2/3/C | H130: 2153
B131: Lighting), depths to invert not exceeding 2 metres
B132: average, depth to invert 1 metre in trench under Non-
B133: Trafficked Areas (CC-SCD-00562) Type C
A135: D | B135: 2 x 110mm internal diameter service ducts,(Traffic | C135: 36 | D135: m | F135: =IF(OR(ISBLANK(C135), ISBLANK(E135)), "", IF(ISNUMBER(E135), ROUND(C135 * E135, 2), E135)) -> 0 | G135: 2/3/D | H135: 1930
B136: Lighting), depths to invert not exceeding 2 metres
B137: average, depth to invert 1 metre in trench under
B138: Trafficked Areas (CC-SCD-00561) Type A.
A140: E | B140: 2 x 110mm internal diameter service ducts,(Public | C140: 12 | D140: m | F140: =IF(OR(ISBLANK(C140), ISBLANK(E140)), "", IF(ISNUMBER(E140), ROUND(C140 * E140, 2), E140)) -> 0 | G140: 2/3/E | H140: 2154
...

Sheet PartP3
A1: Part 3 - Bridge Street
A2: Ref | B2: Description | C2: Qty | D2: Unit | E2: Rate | F2: Amount | G2: BQIndex | H2: InputNo
B4: Series 500 Drainage and Service Ducts
B6: Drains, Sewers, Piped Culverts and Service Ducts
B7: (Excluding Filter Drains, Narrow Filter Drains & Fin
B8: Drains)
A10: A | B10: 2 x 110mm internal diameter service duct (Traffic | C10: 25 | D10: m | F10: =IF(OR(ISBLANK(C10), ISBLANK(E10)), "", IF(ISNUMBER(E10), ROUND(C10 * E10, 2), E10)) -> 0 | G10: 3/1/A | H10: 2072
B11: Lighting), depths to invert not exceeding 2 metres
B12: average, depth to invert 1 metre in trench under Non-
B13: Trafficked Areas (CC-SCD-00562) Type C
A15: B | B15: 2 x 110mm internal diameter service ducts,(Traffic | C15: 10 | D15: m | F15: =IF(OR(ISBLANK(C15), ISBLANK(E15)), "", IF(ISNUMBER(E15), ROUND(C15 * E15, 2), E15)) -> 0 | G15: 3/1/B | H15: 2073
B16: Lighting), depths to invert not exceeding 2 metres
B17: average, depth to invert 1 metre in trench under
B18: Trafficked Areas (CC-SCD-00561) Type A.
B20: Renewal, Raising or Lowering Covers and Gratings
B21: on Existing Chambers and Gullies
A23: C | B23: Raising or lowering covers on existing SV chambers, | C23: 2 | D23: nr | F23: =IF(OR(ISBLANK(C23), ISBLANK(E23)), "", IF(ISNUMBER(E23), ROUND(C23 * E23, 2), E23)) -> 0 | G23: 3/1/C | H23: 2183
B24: exceeding 150mm but not exceeding 300mm, cover
B25: size not exceeding 1m2,
A27: D | B27: Raising or lowering covers on existing inspection | C27: 2 | D27: nr | F27: =IF(OR(ISBLANK(C27), ISBLANK(E27)), "", IF(ISNUMBER(E27), ROUND(C27 * E27, 2), E27)) -> 0 | G27: 3/1/D | H27: 2185
B28: chambers, exceeding 150mm but not exceeding
B29: 300mm, cover size not exceeding 1m2,
A31: E | B31: Raising or lowering covers on existing Manhole | C31: 1 | D31: nr | F31: =IF(OR(ISBLANK(C31), ISBLANK(E31)), "", IF(ISNUMBER(E31), ROUND(C31 * E31, 2), E31)) -> 0 | G31: 3/1/E | H31: 2184
B32: chambers, exceeding 150mm but not exceeding
B33: 300mm, cover size not exceeding 1m2,
B35: Surface Water Drainage
A37: F | B37: 150mm internal diameter uPVc road gully connection | C37: 11 | D37: m | F37: =IF(OR(ISBLANK(C37), ISBLANK(E37)), "", IF(ISNUMBER(E37), ROUND(C37 * E37, 2), E37)) -> 0 | G37: 3/1/F | H37: 2079
B38: pipes in trench to proposed drainage ditch. Trench and
B39: bedding details to be as per CC-SCD-00521-02 Type Z.
B40: Depth to invert exceeding 1 metre, not exceeding 2
B41: metre
B43: Connections
A45: G | B45: Connection to existing drain, chambers, sewer or piped | C45: 3 | D45: nr | F45: =IF(OR(ISBLANK(C45), ISBLANK(E45)), "", IF(ISNUMBER(E45), ROUND(C45 * E45, 2), E45)) -> 0 | G45: 3/1/G | H45: 2080
B46: and stone culvert 150mm internal diameter, Depth not
B47: exceeding 2 metres
B49: Chambers and Gullies
A51: H | B51: Precast Concrete Gully - (CC-SCD-00510) Depth not | C51: 3 | D51: nr | F51: =IF(OR(ISBLANK(C51), ISBLANK(E51)), "", IF(ISNUMBER(E51), ROUND(C51 * E51, 2), E51)) -> 0 | G51: 3/1/H | H51: 2082
B52: exceeding 1 metre, D400 cover and grating drawing
B53: G558-OCSC-XX-XX-DR-C-00513
A55: I | B55: Chamber, Type JB4, 915mm X 445mm internal | C55: 1 | D55: nr | F55: =IF(OR(ISBLANK(C55), ISBLANK(E55)), "", IF(ISNUMBER(E55), ROUND(C55 * E55, 2), E55)) -> 0 | G55: 3/1/I | H55: 2083
...

Sheet PartP4
A1: Part 4 - Grand Canal Roundabout
A2: Ref | B2: Description | C2: Qty | D2: Unit | E2: Rate | F2: Amount | G2: BQIndex | H2: InputNo
B4: Series 500 Drainage and Service Ducts
B6: Drains, Sewers, Piped Culverts and Service Ducts
B7: (Excluding Filter Drains, Narrow Filter Drains & Fin
B8: Drains)
A10: A | B10: 2 x 110mm internal diameter service duct (Traffic | C10: 46 | D10: m | F10: =IF(OR(ISBLANK(C10), ISBLANK(E10)), "", IF(ISNUMBER(E10), ROUND(C10 * E10, 2), E10)) -> 0 | G10: 4/1/A | H10: 2086
B11: Lighting), depths to invert not exceeding 2 metres
B12: average, depth to invert 1 metre in trench under Non-
B13: Trafficked Areas (CC-SCD-00562) Type C
A15: B | B15: 2 x 110mm internal diameter service ducts,(Traffic | C15: 60 | D15: m | F15: =IF(OR(ISBLANK(C15), ISBLANK(E15)), "", IF(ISNUMBER(E15), ROUND(C15 * E15, 2), E15)) -> 0 | G15: 4/1/B | H15: 2087
B16: Lighting), depths to invert not exceeding 2 metres
B17: average, depth to invert 1 metre in trench under
B18: Trafficked Areas (CC-SCD-00561) Type A.
B20: Renewal, Raising or Lowering Covers and Gratings
B21: on Existing Chambers and Gullies
A23: C | B23: Raising or lowering covers on existing chambers, | C23: 8 | D23: nr | F23: =IF(OR(ISBLANK(C23), ISBLANK(E23)), "", IF(ISNUMBER(E23), ROUND(C23 * E23, 2), E23)) -> 0 | G23: 4/1/C | H23: 2089
B24: exceeding 150mm but not exceeding 300mm, cover
B25: size not exceeding 1m2,
A27: D | B27: Raising or lowering covers on existing SV chambers, | C27: 1 | D27: nr | F27: =IF(OR(ISBLANK(C27), ISBLANK(E27)), "", IF(ISNUMBER(E27), ROUND(C27 * E27, 2), E27)) -> 0 | G27: 4/1/D | H27: 2090
B28: exceeding 150mm but not exceeding 300mm, cover
B29: size not exceeding 1m2,
A31: E | B31: Raising or lowering covers on existing FH chambers, | C31: 1 | D31: nr | F31: =IF(OR(ISBLANK(C31), ISBLANK(E31)), "", IF(ISNUMBER(E31), ROUND(C31 * E31, 2), E31)) -> 0 | G31: 4/1/E | H31: 2091
B32: exceeding 150mm but not exceeding 300mm, cover
B33: size not exceeding 1m2,
B35: Surface Water Drainage
A37: F | B37: 150mm internal diameter uPVc road gully connection | C37: 62 | D37: m | F37: =IF(OR(ISBLANK(C37), ISBLANK(E37)), "", IF(ISNUMBER(E37), ROUND(C37 * E37, 2), E37)) -> 0 | G37: 4/1/F | H37: 2093
B38: pipes in trench to proposed drainage ditch. Trench and
B39: bedding details to be as per CC-SCD-00521-02 Type Z.
B40: Depth to invert exceeding 1 metre, not exceeding 2
B41: metre
B43: Connections
A45: G | B45: Connection to existing drain, chambers, sewer or piped | C45: 9 | D45: nr | F45: =IF(OR(ISBLANK(C45), ISBLANK(E45)), "", IF(ISNUMBER(E45), ROUND(C45 * E45, 2), E45)) -> 0 | G45: 4/1/G | H45: 2094
B46: and stone culvert 150mm internal diameter, Depth not
B47: exceeding 2 metres
B49: Chambers and Gullies
A51: H | B51: Precast Concrete Gully - (CC-SCD-00510) Depth not | C51: 9 | D51: nr | F51: =IF(OR(ISBLANK(C51), ISBLANK(E51)), "", IF(ISNUMBER(E51), ROUND(C51 * E51, 2), E51)) -> 0 | G51: 4/1/H | H51: 2096
B52: exceeding 1 metre, D400 cover and grating drawing
B53: G558-OCSC-10-XX-DR-C-00513
A55: I | B55: Chamber, Type JB4, 915mm X 445mm internal | C55: 4 | D55: nr | F55: =IF(OR(ISBLANK(C55), ISBLANK(E55)), "", IF(ISNUMBER(E55), ROUND(C55 * E55, 2), E55)) -> 0 | G55: 4/1/I | H55: 2097
...

Sheet PartP5
A1: Part 5 - Harbour Road / Dunlo Hill
A2: Ref | B2: Description | C2: Qty | D2: Unit | E2: Rate | F2: Amount | G2: BQIndex | H2: InputNo
B4: Series 500 Drainage and Service Ducts
B6: Drains, Sewers, Piped Culverts and Service Ducts
B7: (Excluding Filter Drains, Narrow Filter Drains & Fin
B8: Drains)
A10: A | B10: S1 - S2 Line 1.001 225mm Concrete Storm Water | C10: 46 | D10: m | F10: =IF(OR(ISBLANK(C10), ISBLANK(E10)), "", IF(ISNUMBER(E10), ROUND(C10 * E10, 2), E10)) -> 0 | G10: 5/1/A | H10: 2155
B11: Pipe, Work in trench to comply with ISEN 1916 & IS6
B12: 2004. Trench, bedding details to be as per drawing
B13: G558-OCSC-XX-XX-DR-C-00502 and CC-SCD-00521
B14: trench Type T with the back fill materials to be clause
B15: 508 as noted in appendix 5/1 of the Works
B16: Requirement. Depth to invert not exceeding 2m,
B17: average depth metres 1.12m, in side slopes of cuttings
B18: or side slopes of embankments
A20: B | B20: S2 - S3 Line 1.002 225mm Concrete Storm Water | C20: 42 | D20: m | F20: =IF(OR(ISBLANK(C20), ISBLANK(E20)), "", IF(ISNUMBER(E20), ROUND(C20 * E20, 2), E20)) -> 0 | G20: 5/1/B | H20: 2192
B21: Pipe, Work in trench to comply with ISEN 1916 & IS6
B22: 2004. Trench, bedding details to be as per drawing
B23: G558-OCSC-XX-XX-DR-C-00502 and CC-SCD-00521
B24: trench Type T with the back fill materials to be clause
B25: 508 as noted in appendix 5/1 of the Works
B26: Requirement. Depth to invert not exceeding 2m,
B27: average depth metres depth metres 1.24m, in side
B28: slopes of cuttings or side slopes of embankments
A30: C | B30: S8 - S9 Line 2.001 225mm Concrete Storm Water | C30: 77 | D30: m | F30: =IF(OR(ISBLANK(C30), ISBLANK(E30)), "", IF(ISNUMBER(E30), ROUND(C30 * E30, 2), E30)) -> 0 | G30: 5/1/C | H30: 2194
B31: Pipe, Work in trench to comply with ISEN 1916 & IS6
B32: 2004. Trench, bedding details to be as per drawing
B33: G558-OCSC-XX-XX-DR-C-00502 and CC-SCD-00521
B34: trench Type T with the back fill materials to be clause
B35: 508 as noted in appendix 5/1 of the Works
B36: Requirement. Depth to invert not exceeding 2m,
B37: average depth metres 1.20m, in side slopes of cuttings
B38: or side slopes of embankments
A40: D | B40: S9 - 10 Line 2.002 225mm Concrete Storm Water | C40: 75 | D40: m | F40: =IF(OR(ISBLANK(C40), ISBLANK(E40)), "", IF(ISNUMBER(E40), ROUND(C40 * E40, 2), E40)) -> 0 | G40: 5/1/D | H40: 2191
B41: Pipe, Work in trench to comply with ISEN 1916 & IS6
B42: 2004. Trench, bedding details to be as per drawing
B43: G558-OCSC-XX-XX-DR-C-00502 and CC-SCD-00521
B44: trench Type T with the back fill materials to be clause
B45: 508 as noted in appendix 5/1 of the Works
B46: Requirement. Depth to invert not exceeding 2m,
...

Sheet PartP6
A1: Part 6 - Harris Road / Breacarnach
A2: Ref | B2: Description | C2: Qty | D2: Unit | E2: Rate | F2: Amount | G2: BQIndex | H2: InputNo
B3: Series 500 Drainage and Service Ducts
B4: Drains, Sewers, Piped Culverts and Service Ducts
B5: (Excluding Filter Drains, Narrow Filter Drains & Fin
B6: Drains)
A7: A | B7: S3 - S4 Line 1.003 225mm Concrete Storm Water | C7: 19 | D7: m | F7: =IF(OR(ISBLANK(C7), ISBLANK(E7)), "", IF(ISNUMBER(E7), ROUND(C7 * E7, 2), E7)) -> 0 | G7: 6/1/A | H7: 2128
B8: Pipe, Work in trench to comply with ISEN 1916 & IS6
B9: 2004. Trench, bedding details to be as per drawing
B10: G558-OCSC-XX-XX-DR-C-00502 and CC-SCD-00521
B11: trench Type T with the back fill materials to be clause
B12: 508 as noted in appendix 5/1 of the Works
B13: Requirement. Depth to invert not exceeding 2m,
B14: average depth metres 1.26m, in side slopes of cuttings
B15: or side slopes of embankments
A16: B | B16: S4 - S5 Line 1.004 225mm Concrete Storm Water | C16: 90 | D16: m | F16: =IF(OR(ISBLANK(C16), ISBLANK(E16)), "", IF(ISNUMBER(E16), ROUND(C16 * E16, 2), E16)) -> 0 | G16: 6/1/B | H16: 2198
B17: Pipe, Work in trench to comply with ISEN 1916 & IS6
B18: 2004. Trench, bedding details to be as per drawing
B19: G558-OCSC-XX-XX-DR-C-00502 and CC-SCD-00521
B20: trench Type T with the back fill materials to be clause
B21: 508 as noted in appendix 5/1 of the Works
B22: Requirement. Depth to invert not exceeding 2m,
B23: average depth metres 1.11m, in side slopes of cuttings
B24: or side slopes of embankments
A25: C | B25: S5 - S6 Line 1.005 225mm Concrete Storm Water | C25: 90 | D25: m | F25: =IF(OR(ISBLANK(C25), ISBLANK(E25)), "", IF(ISNUMBER(E25), ROUND(C25 * E25, 2), E25)) -> 0 | G25: 6/1/C | H25: 2196
B26: Pipe, Work in trench to comply with ISEN 1916 & IS6
B27: 2004. Trench, bedding details to be as per drawing
B28: G558-OCSC-XX-XX-DR-C-00502 and CC-SCD-00521
B29: trench Type T with the back fill materials to be clause
B30: 508 as noted in appendix 5/1 of the Works
B31: Requirement. Depth to invert not exceeding 2m,
B32: average depth metres 1.07m, in side slopes of cuttings
B33: or side slopes of embankments
A34: D | B34: S6 - S7 Line 1.006 225mm Concrete Storm Water | C34: 90 | D34: m | F34: =IF(OR(ISBLANK(C34), ISBLANK(E34)), "", IF(ISNUMBER(E34), ROUND(C34 * E34, 2), E34)) -> 0 | G34: 6/1/D | H34: 2159
B35: Pipe, Work in trench to comply with ISEN 1916 & IS6
B36: 2004. Trench, bedding details to be as per drawing
B37: G558-OCSC-XX-XX-DR-C-00502 and CC-SCD-00521
B38: trench Type T with the back fill materials to be clause
B39: 508 as noted in appendix 5/1 of the Works
B40: Requirement. Depth to invert not exceeding 2m,
...

Sheet PartP7
A1: Part 7 - Accomodation Works
A2: Ref | B2: Description | C2: Qty | D2: Unit | E2: Rate | F2: Amount | G2: BQIndex | H2: InputNo
B4: Series 100 Special Preliminaries
B6: Traffic Safety and Management
A8: A | B8: Traffic safety and management | C8: 1 | D8: item | F8: =IF(OR(ISBLANK(C8), ISBLANK(E8)), "", IF(ISNUMBER(E8), ROUND(C8 * E8, 2), E8)) -> 0 | G8: 7/1/A | H8: 2161
A10: B | B10: Taking measures for or construction, maintenance, | C10: 1 | D10: item | F10: =IF(OR(ISBLANK(C10), ISBLANK(E10)), "", IF(ISNUMBER(E10), ROUND(C10 * E10, 2), E10)) -> 0 | G10: 7/1/B | H10: 2162
B11: removal of contraflow arrangements in accordance with
B12: Appendix 1/17
A14: C | B14: Removing from store and installing temporary vertical | C14: 1 | D14: item | F14: =IF(OR(ISBLANK(C14), ISBLANK(E14)), "", IF(ISNUMBER(E14), ROUND(C14 * E14, 2), E14)) -> 0 | G14: 7/1/C | H14: 2163
B15: safety barriers in accordance with Appendix 1/17
A17: D | B17: Taking up or down and removing from site temporary | C17: 1 | D17: item | F17: =IF(OR(ISBLANK(C17), ISBLANK(E17)), "", IF(ISNUMBER(E17), ROUND(C17 * E17, 2), E17)) -> 0 | G17: 7/1/D | H17: 2164
B18: vertical safety barriers in accordance with Appendix
B19: 1/17
B21: Property Condition Surveys
A23: E | B23: Property condition surveys, for all properties at | C23: 1 | D23: item | F23: =IF(OR(ISBLANK(C23), ISBLANK(E23)), "", IF(ISNUMBER(E23), ROUND(C23 * E23, 2), E23)) -> 0 | G23: 7/1/E | H23: 2165
B24: locations indicated on drawings AC-01-BBSR and
B25: Appendix 1/7
A55: G558 | C55: Page: 7 / 1 | E55: To Collection | F55: =SUM(F3:F54) -> 0
A56: Part 7 - Accomodation Works
A57: Ref | B57: Description | C57: Qty | D57: Unit | E57: Rate | F57: Amount | G57: BQIndex | H57: InputNo
B59: Series 200 Site Clearance
B61: Site Clearance
A63: A | B63: General site clearance | C63: 0.05 | D63: ha | F63: =IF(OR(ISBLANK(C63), ISBLANK(E63)), "", IF(ISNUMBER(E63), ROUND(C63 * E63, 2), E63)) -> 0 | G63: 7/2/A | H63: 2166
A110: G558 | C110: Page: 7 / 2 | E110: To Collection | F110: =SUM(F58:F109) -> 0
A111: Part 7 - Accomodation Works
A112: Ref | B112: Description | C112: Qty | D112: Unit | E112: Rate | F112: Amount | G112: BQIndex | H112: InputNo
B114: Series 300 Fencing and Environmental Noise
B115: Barriers
B117: Fencing, Gates and Stiles
A119: A | B119: Fencing, Bow Top Galvernised Steel Fence, 1.2 metre | C119: 32 | D119: m | F119: =IF(OR(ISBLANK(C119), ISBLANK(E119)), "", IF(ISNUMBER(E119), ROUND(C119 * E119, 2), E119)) -> 0 | G119: 7/3/A | H119: 2209
B120: height to follow existing fence, posts to be set in
B121: concrete foundation 750mm x 350mm 2 metre C/C,
B122: concrete Class C16/20, in accordance with the drawing
B123: AC-01-BBSR
A125: B | B125: Gates Steel Double Field Gate (CC-SCD-00310) 7.02m | C125: 1 | D125: nr | F125: =IF(OR(ISBLANK(C125), ISBLANK(E125)), "", IF(ISNUMBER(E125), ROUND(C125 * E125, 2), E125)) -> 0 | G125: 7/3/B | H125: 2210
B126: wide (post to post), 4.8 metre gate with 2 metre gate,
B127: concrete foundations, latch, drop bolt and all fixtures
B128: and fittings to be inacordance with drawing AC-01-
B129: BBSR
A165: G558 | C165: Page: 7 / 3 | E165: To Collection | F165: =SUM(F113:F164) -> 0
...

Sheet Summary
A2: Bill | B2: Description | F2: Amount | G2: BQIndex | H2: InputNo
A4: 1 | B4: Part 1 - Preliminaries | F4: =PartP1!F237 -> 0
A6: 2 | B6: Part 2 - Roadworks General R446 | F6: =PartP2!F1679 -> 0
A8: 3 | B8: Part 3 - Bridge Street | F8: =PartP3!F286 -> 0
A10: 4 | B10: Part 4 - Grand Canal Roundabout | F10: =PartP4!F295 -> 0
A12: 5 | B12: Part 5 - Harbour Road / Dunlo Hill | F12: =PartP5!F470 -> 0
A14: 6 | B14: Part 6 - Harris Road / Breacarnach | F14: =PartP6!F351 -> 0
A16: 7 | B16: Part 7 - Accomodation Works | F16: =PartP7!F330 -> 0
A55: G558 | C55: Page: S/1 | F55: =SUM(F3:F54) -> 0
