Workbook

Sheet PartP1
A1: Part 1 - Preliminaries
A2: Ref | B2: Description | C2: Qty | D2: Unit | E2: Rate | F2: Amount | G2: BQIndex | H2: InputNo
B4: Series 100 - Preliminaries
B6: Temporary Accommodation
A8: A | B8: Erection of Principal Offices for the Employers | C8: 1 | D8: item | F8: =IF(OR(ISBLANK(C8), ISBLANK(E8)), "", IF(ISNUMBER(E8), ROUND(C8 * E8, 2), E8)) -> 0 | G8: 1/1/A | H8: 478
B9: Representative Until completion of the Works
A11: B | B11: Erection of stores and workshops for the Contractor | C11: 1 | D11: item | F11: =IF(OR(ISBLANK(C11), ISBLANK(E11)), "", IF(ISNUMBER(E11), ROUND(C11 * E11, 2), E11)) -> 0 | G11: 1/1/B | H11: 201
A13: C | B13: Erection of offices and messes for the Contractor | C13: 1 | D13: item | F13: =IF(OR(ISBLANK(C13), ISBLANK(E13)), "", IF(ISNUMBER(E13), ROUND(C13 * E13, 2), E13)) -> 0 | G13: 1/1/C | H13: 202
A15: D | B15: Servicing of Principal Offices for the Employers | C15: 1 | D15: item | F15: =IF(OR(ISBLANK(C15), ISBLANK(E15)), "", IF(ISNUMBER(E15), ROUND(C15 * E15, 2), E15)) -> 0 | G15: 1/1/D | H15: 479
B16: Representative Until completion of the Works
A18: E | B18: Servicing of stores and workshops for the Contractor | C18: 1 | D18: item | F18: =IF(OR(ISBLANK(C18), ISBLANK(E18)), "", IF(ISNUMBER(E18), ROUND(C18 * E18, 2), E18)) -> 0 | G18: 1/1/E | H18: 203
A20: F | B20: Servicing of offices and messes for the Contractor | C20: 1 | D20: item | F20: =IF(OR(ISBLANK(C20), ISBLANK(E20)), "", IF(ISNUMBER(E20), ROUND(C20 * E20, 2), E20)) -> 0 | G20: 1/1/F | H20: 204
A22: G | B22: Dismantling of Principal Offices for the Employers | C22: 1 | D22: item | F22: =IF(OR(ISBLANK(C22), ISBLANK(E22)), "", IF(ISNUMBER(E22), ROUND(C22 * E22, 2), E22)) -> 0 | G22: 1/1/G | H22: 480
B23: Representative after completion of the Works
A25: H | B25: Dismantling of stores and workshops for the contractor | C25: 1 | D25: item | F25: =IF(OR(ISBLANK(C25), ISBLANK(E25)), "", IF(ISNUMBER(E25), ROUND(C25 * E25, 2), E25)) -> 0 | G25: 1/1/H | H25: 205
A27: I | B27: Dismantling of offices and messes for the Contractor | C27: 1 | D27: item | F27: =IF(OR(ISBLANK(C27), ISBLANK(E27)), "", IF(ISNUMBER(E27), ROUND(C27 * E27, 2), E27)) -> 0 | G27: 1/1/I | H27: 206
B29: Communication System for the Employer's
B30: Representative
A32: J | B32: Communication System and Equipment for the | C32: 1 | D32: item | F32: =IF(OR(ISBLANK(C32), ISBLANK(E32)), "", IF(ISNUMBER(E32), ROUND(C32 * E32, 2), E32)) -> 0 | G32: 1/1/J | H32: 482
B33: Employer's Representative to be provided in
B34: accordance with Appendix 1/1 and Appendix 1/3 of the
B35: specification that will be retained by the ER on
B36: completion of the works
B38: Operatives for the Employer's Representative
A40: K | B40: Operatives for the Employer's Representative until | C40: 20 | D40: day | F40: =IF(OR(ISBLANK(C40), ISBLANK(E40)), "", IF(ISNUMBER(E40), ROUND(C40 * E40, 2), E40)) -> 0 | G40: 1/1/K | H40: 494
B41: completion of the Works in accordance with Appendix
B42: 1/8
B44: Information Board
A46: L | B46: Information Board | C46: 5 | D46: nr | F46: =IF(OR(ISBLANK(C46), ISBLANK(E46)), "", IF(ISNUMBER(E46), ROUND(C46 * E46, 2), E46)) -> 0 | G46: 1/1/L | H46: 550
B48: Traffic Safety and Management
A50: M | B50: Traffic safety and management | C50: 1 | D50: item | F50: =IF(OR(ISBLANK(C50), ISBLANK(E50)), "", IF(ISNUMBER(E50), ROUND(C50 * E50, 2), E50)) -> 0 | G50: 1/1/M | H50: 210
A52: N | B52: Taking measures for or construction, maintenance, | C52: 1 | D52: item | F52: =IF(OR(ISBLANK(C52), ISBLANK(E52)), "", IF(ISNUMBER(E52), ROUND(C52 * E52, 2), E52)) -> 0 | G52: 1/1/N | H52: 211
B53: removal of contraflow arrangements in accordance with
B54: Appendix 1/17
A56: O | B56: Removing from store and installing temporary vertical | C56: 1 | D56: item | F56: =IF(OR(ISBLANK(C56), ISBLANK(E56)), "", IF(ISNUMBER(E56), ROUND(C56 * E56, 2), E56)) -> 0 | G56: 1/1/O | H56: 212
B57: safety barriers in accordance with Appendix 1/17
A59: P | B59: Taking up or down and removing from site temporary | C59: 1 | D59: item | F59: =IF(OR(ISBLANK(C59), ISBLANK(E59)), "", IF(ISNUMBER(E59), ROUND(C59 * E59, 2), E59)) -> 0 | G59: 1/1/P | H59: 213
B60: vertical safety barriers in accordance with Appendix
B61: 1/17
A63: G558 | C63: Page: 1 / 1 | E63: To Collection | F63: =SUM(F3:F62) -> 0
A64: Part 1 - Preliminaries
A65: Ref | B65: Description | C65: Qty | D65: Unit | E65: Rate | F65: Amount | G65: BQIndex | H65: InputNo
B67: Temporary Diversion for Traffic
A69: A | B69: Taking measures for or construction of temporary | C69: 1 | D69: item | F69: =IF(OR(ISBLANK(C69), ISBLANK(E69)), "", IF(ISNUMBER(E69), ROUND(C69 * E69, 2), E69)) -> 0 | G69: 1/2/A | H69: 215
B70: diversion for traffic as required to facilitate the Works
B71: Requirements at locations listed in Appendix 1/18
A73: B | B73: Maintenance of measures for or construction of | C73: 1 | D73: item | F73: =IF(OR(ISBLANK(C73), ISBLANK(E73)), "", IF(ISNUMBER(E73), ROUND(C73 * E73, 2), E73)) -> 0 | G73: 1/2/B | H73: 218
B74: temporary diversion for traffic as required to facilitate
B75: the Works Requirements at locations listed in Appendix
B76: 1/18
A78: C | B78: Removal of measures for or construction of temporary | C78: 1 | D78: item | F78: =IF(OR(ISBLANK(C78), ISBLANK(E78)), "", IF(ISNUMBER(E78), ROUND(C78 * E78, 2), E78)) -> 0 | G78: 1/2/C | H78: 221
B79: diversion for traffic as required to facilitate the Works
B80: Requirements at locations listed in Appendix 1/18
B82: Recovery Vehicles
A84: D | B84: Provision of tilt and lift recovery vehicle | C84: 1 | D84: item | F84: =IF(OR(ISBLANK(C84), ISBLANK(E84)), "", IF(ISNUMBER(E84), ROUND(C84 * E84, 2), E84)) -> 0 | G84: 1/2/D | H84: 225
B86: Progress Photographs
A88: E | B88: Set of progress photographs taken monthly for the | C88: 4 | D88: nr | F88: =IF(OR(ISBLANK(C88), ISBLANK(E88)), "", IF(ISNUMBER(E88), ROUND(C88 * E88, 2), E88)) -> 0 | G88: 1/2/E | H88: 227
B89: duration of the works, at project start and at project
B90: completion, to be provided in digital format to
B91: Employers Representative within five working days after
B92: being carried out on the first working day of each
B93: month, in accordance with Appendix 1/22 of the Works
B94: Requirements
A96: F | B96: Additional aerial progress photographs taken weekly for | C96: 4 | D96: nr | F96: =IF(OR(ISBLANK(C96), ISBLANK(E96)), "", IF(ISNUMBER(E96), ROUND(C96 * E96, 2), E96)) -> 0 | G96: 1/2/F | H96: 1740
B97: the duration of the works, at project start and at project
B98: completion, to be provided in digital format (a minimum
B99: of 10 megapixels) to Employers Representative within
B100: five working days after being carried out on the first
B101: working day of each month and at weekly intervals until
B102: completion, in accordance with Appendix 1/22 of the
B103: Works Requirements
B105: Road Sweeping and Cleaning
A107: G | B107: Road sweeping and cleaning, to provided for the | C107: 1 | D107: item | F107: =IF(OR(ISBLANK(C107), ISBLANK(E107)), "", IF(ISNUMBER(E107), ROUND(C107 * E107, 2), E107)) -> 0 | G107: 1/2/G | H107: 230
B108: duration of the works until Substantial Completion
B110: Emergency Services
A112: H | B112: Provide for Emergency Services | C112: 1 | D112: item | F112: =IF(OR(ISBLANK(C112), ISBLANK(E112)), "", IF(ISNUMBER(E112), ROUND(C112 * E112, 2), E112)) -> 0 | G112: 1/2/H | H112: 231
B114: Facilities for Local Authority, Public or Private
B115: Utility Undertakers and Other Contractors
A117: I | B117: Facilities for Local Authority, Public or Private Utility | C117: 1 | D117: item | F117: =IF(OR(ISBLANK(C117), ISBLANK(E117)), "", IF(ISNUMBER(E117), ROUND(C117 * E117, 2), E117)) -> 0 | G117: 1/2/I | H117: 232
B118: Undertakers and other Contractor, Galway County
B119: Council
A121: J | B121: Facilities for Local Authority, Public or Private Utility | C121: 1 | D121: item | F121: =IF(OR(ISBLANK(C121), ISBLANK(E121)), "", IF(ISNUMBER(E121), ROUND(C121 * E121, 2), E121)) -> 0 | G121: 1/2/J | H121: 233
B122: Undertakers and other Contractor, ESB
A124: K | B124: Facilities for Local Authority, Public or Private Utility | C124: 1 | D124: item | F124: =IF(OR(ISBLANK(C124), ISBLANK(E124)), "", IF(ISNUMBER(E124), ROUND(C124 * E124, 2), E124)) -> 0 | G124: 1/2/K | H124: 234
B125: Undertakers and other Contractor, Network Gas
A127: G558 | C127: Page: 1 / 2 | E127: To Collection | F127: =SUM(F66:F126) -> 0
A128: Part 1 - Preliminaries
A129: Ref | B129: Description | C129: Qty | D129: Unit | E129: Rate | F129: Amount | G129: BQIndex | H129: InputNo
B131: Facilities for Local Authority, Public or Private
B132: Utility Undertakers and Other Contractors (Cont'd)
A134: A | B134: Facilities for Local Authority, Public or Private Utility | C134: 1 | D134: item | F134: =IF(OR(ISBLANK(C134), ISBLANK(E134)), "", IF(ISNUMBER(E134), ROUND(C134 * E134, 2), E134)) -> 0 | G134: 1/3/A | H134: 235
B135: Undertakers and other Contractor, Irish Water
A137: B | B137: Facilities for Local Authority, Public or Private Utility | C137: 1 | D137: item | F137: =IF(OR(ISBLANK(C137), ISBLANK(E137)), "", IF(ISNUMBER(E137), ROUND(C137 * E137, 2), E137)) -> 0 | G137: 1/3/B | H137: 236
B138: Undertakers and other Contractor, Eir
A140: C | B140: Facilities for all other Local Authority, Public or Private | C140: 1 | D140: item | F140: =IF(OR(ISBLANK(C140), ISBLANK(E140)), "", IF(ISNUMBER(E140), ROUND(C140 * E140, 2), E140)) -> 0 | G140: 1/3/C | H140: 238
B141: Utility Undertakers and other Contractors not listed
B143: Property Condition Surveys
A145: D | B145: Property condition surveys at locations indicated by red | C145: 1 | D145: item | F145: =IF(OR(ISBLANK(C145), ISBLANK(E145)), "", IF(ISNUMBER(E145), ROUND(C145 * E145, 2), E145)) -> 0 | G145: 1/3/D | H145: 239
B146: boundary line in accordance with series drawings
B147: G558-OCSC-XX-XX-DR-C-00100 to 00112 and
...

Sheet PartP2
A1: Part 2 - Roadworks General R446
A2: Ref | B2: Description | C2: Qty | D2: Unit | E2: Rate | F2: Amount | G2: BQIndex | H2: InputNo
B4: Series 200 Site Clearance
B6: Site Clearance
A8: A | B8: General site clearance | C8: 2.9 | D8: ha | F8: =IF(OR(ISBLANK(C8), ISBLANK(E8)), "", IF(ISNUMBER(E8), ROUND(C8 * E8, 2), E8)) -> 0 | G8: 2/1/A | H8: 108
A55: G558 | C55: Page: 2 / 1 | E55: To Collection | F55: =SUM(F3:F54) -> 0
A56: Part 2 - Roadworks General R446
A57: Ref | B57: Description | C57: Qty | D57: Unit | E57: Rate | F57: Amount | G57: BQIndex | H57: InputNo
B59: Series 300 Fencing and Environmental Noise
B60: Barriers
B62: Fencing, Gates and Stiles
A64: A | B64: Fencing, Bow Top Galvernised Steel Fence, 1.2 metre | C64: 88 | D64: m | F64: =IF(OR(ISBLANK(C64), ISBLANK(E64)), "", IF(ISNUMBER(E64), ROUND(C64 * E64, 2), E64)) -> 0 | G64: 2/2/A | H64: 112
B65: height to follow existing fence, posts to be set in
B66: concrete foundation 750mm x 350mm 2 metre C/C,
B67: concrete Class C16/20, in accordance with the drawing
B68: G558-OCSC-XX-XX-DR-C-0311
A110: G558 | C110: Page: 2 / 2 | E110: To Collection | F110: =SUM(F58:F109) -> 0
A111: Part 2 - Roadworks General R446
A112: Ref | B112: Description | C112: Qty | D112: Unit | E112: Rate | F112: Amount | G112: BQIndex | H112: InputNo
B114: Series 500 Drainage and Service Ducts
B116: Drains, Sewers, Piped Culverts and Service Ducts
B117: (Excluding Filter Drains, Narrow Filter Drains & Fin
B118: Drains)
A120: A | B120: 2 x 110mm internal diameter service duct (Bus Shelter), | C120: 35 | D120: m | F120: =IF(OR(ISBLANK(C120), ISBLANK(E120)), "", IF(ISNUMBER(E120), ROUND(C120 * E120, 2), E120)) -> 0 | G120: 2/3/A | H120: 249
B121: depths to invert not exceeding 2 metres average, depth
B122: to invert 1 metre in trench under Non-Trafficked Areas
B123: (CC-SCD-00562) Type C
A125: B | B125: 2 x 110mm internal diameter service duct (Traffic | C125: 95 | D125: m | F125: =IF(OR(ISBLANK(C125), ISBLANK(E125)), "", IF(ISNUMBER(E125), ROUND(C125 * E125, 2), E125)) -> 0 | G125: 2/3/B | H125: 2205
B126: Lighting), depths to invert not exceeding 2 metres
B127: average, depth to invert 1 metre in trench under Non-
B128: Trafficked Areas (CC-SCD-00562) Type C
A130: C | B130: 2 x 110mm internal diameter service duct (Public | C130: 65 | D130: m | F130: =IF(OR(ISBLANK(C130), ISBLANK(E130)), "", IF(ISNUMBER(E130), ROUND(C130 * E130, 2), E130)) -> 0 | G130: 2/3/C | H130: 2153
B131: Lighting), depths to invert not exceeding 2 metres
B132: average, depth to invert 1 metre in trench under Non-
B133: Trafficked Areas (CC-SCD-00562) Type C
A135: D | B135: 2 x 110mm internal diameter service ducts,(Traffic | C135: 36 | D135: m | F135: =IF(OR(ISBLANK(C135), ISBLANK(E135)), "", IF(ISNUMBER(E135), ROUND(C135 * E135, 2), E135)) -> 0 | G135: 2/3/D | H135: 1930
B136: Lighting), depths to invert not exceeding 2 metres
B137: average, depth to invert 1 metre in trench under
B138: Trafficked Areas (CC-SCD-00561) Type A.
A140: E | B140: 2 x 110mm internal diameter service ducts,(Public | C140: 12 | D140: m | F140: =IF(OR(ISBLANK(C140), ISBLANK(E140)), "", IF(ISNUMBER(E140), ROUND(C140 * E140, 2), E140)) -> 0 | G140: 2/3/E | H140: 2154
B141: Lighting), depths to invert not exceeding 2 metres
B142: average, depth to invert 1 metre in trench under
B143: Trafficked Areas (CC-SCD-00561) Type A.
B145: Renewal, Raising or Lowering Covers and Gratings
B146: on Existing Chambers and Gullies
A148: F | B148: Raising or lowering covers on existing chambers, | C148: 21 | D148: nr | F148: =IF(OR(ISBLANK(C148), ISBLANK(E148)), "", IF(ISNUMBER(E148), ROUND(C148 * E148, 2), E148)) -> 0 | G148: 2/3/F | H148: 1927
B149: exceeding 150mm but not exceeding 300mm, cover
B150: size not exceeding 1m2,
A152: G | B152: Raising or lowering covers on existing SV chambers, | C152: 4 | D152: nr | F152: =IF(OR(ISBLANK(C152), ISBLANK(E152)), "", IF(ISNUMBER(E152), ROUND(C152 * E152, 2), E152)) -> 0 | G152: 2/3/G | H152: 1928
B153: exceeding 150mm but not exceeding 300mm, cover
B154: size not exceeding 1m2,
A156: H | B156: Raising or lowering covers on existing MH chambers, | C156: 1 | D156: nr | F156: =IF(OR(ISBLANK(C156), ISBLANK(E156)), "", IF(ISNUMBER(E156), ROUND(C156 * E156, 2), E156)) -> 0 | G156: 2/3/H | H156: 1929
B157: exceeding 150mm but not exceeding 300mm, cover
B158: size not exceeding 1m2,
B160: Surface Water Drainage
A162: I | B162: 150mm internal diameter uPVc road gully connection | C162: 95 | D162: m | F162: =IF(OR(ISBLANK(C162), ISBLANK(E162)), "", IF(ISNUMBER(E162), ROUND(C162 * E162, 2), E162)) -> 0 | G162: 2/3/I | H162: 507
B163: pipes in trench to proposed drainage ditch. Trench and
B164: bedding details to be as per CC-SCD-00521-02 Type Z.
B165: Depth to invert exceeding 1 metre, not exceeding 2
B166: metre
B168: Connections
A170: J | B170: Connection to existing drain, chambers, sewer or piped | C170: 21 | D170: nr | F170: =IF(OR(ISBLANK(C170), ISBLANK(E170)), "", IF(ISNUMBER(E170), ROUND(C170 * E170, 2), E170)) -> 0 | G170: 2/3/J | H170: 252
B171: and stone culvert 150mm internal diameter, Depth not
B172: exceeding 2 metres
A174: G558 | C174: Page: 2 / 3 | E174: To Collection | F174: =SUM(F113:F173) -> 0
A175: Part 2 - Roadworks General R446
A176: Ref | B176: Description | C176: Qty | D176: Unit | E176: Rate | F176: Amount | G176: BQIndex | H176: InputNo
B178: Chambers and Gullies
A180: A | B180: Precast Concrete Gully - (CC-SCD-00510) Depth not | C180: 21 | D180: nr | F180: =IF(OR(ISBLANK(C180), ISBLANK(E180)), "", IF(ISNUMBER(E180), ROUND(C180 * E180, 2), E180)) -> 0 | G180: 2/4/A | H180: 255
B181: exceeding 1 metre, D400 cover and grating drawing
B182: G558-OCSC-XX-XX-DR-C-00513
A184: B | B184: Chamber, Inspection Chamber, 600mm x 600mm | C184: 5 | D184: nr | F184: =IF(OR(ISBLANK(C184), ISBLANK(E184)), "", IF(ISNUMBER(E184), ROUND(C184 * E184, 2), E184)) -> 0 | G184: 2/4/B | H184: 508
B185: internal diameter, pre-cast concrete depth not
B186: exceeding 1 metre, in accordance with G558-OCSC-
B187: XX-XX-DR-C-01312
A189: C | B189: Chamber, Type JB4, 915mm X 445mm internal | C189: 8 | D189: nr | F189: =IF(OR(ISBLANK(C189), ISBLANK(E189)), "", IF(ISNUMBER(E189), ROUND(C189 * E189, 2), E189)) -> 0 | G189: 2/4/C | H189: 2150
B190: diameter, cover size 915mm x 445mm Class D400
B191: IS/EN 124, depth not exceeding 1 metre, in accordance
B192: with G558-OCSC-10-XX-DR-C-00531
A229: G558 | C229: Page: 2 / 4 | E229: To Collection | F229: =SUM(F177:F228) -> 0
A230: Part 2 - Roadworks General R446
A231: Ref | B231: Description | C231: Qty | D231: Unit | E231: Rate | F231: Amount | G231: BQIndex | H231: InputNo
B233: Series 600 Earthworks
B235: Excavation
A237: A | B237: Excavation of compliant material excluding Class 5A | C237: 150 | D237: m3 | F237: =IF(OR(ISBLANK(C237), ISBLANK(E237)), "", IF(ISNUMBER(E237), ROUND(C237 * E237, 2), E237)) -> 0 | G237: 2/5/A | H237: 121
B238: (R446) in cutting and other excavations 0 metres to 3
B239: metres in depth where acceptable material is classed
B240: as Category B Non-Haz Soil and Stones EWC 17 05 04
B241: meeting WAC of inert Engineered landfill.
A243: B | B243: Excavation of compliant material excluding Class 5A | C243: 40 | D243: m3 | F243: =IF(OR(ISBLANK(C243), ISBLANK(E243)), "", IF(ISNUMBER(E243), ROUND(C243 * E243, 2), E243)) -> 0 | G243: 2/5/B | H243: 1507
B244: (Bridge Street) in cutting and other excavations 0
B245: metres to 3 metres in depth where acceptable material
B246: is classed as Category B Non-Haz Soil and Stones
B247: EWC 17 05 04 meeting WAC of inert Engineered
B248: landfill.
A250: C | B250: Excavation of compliant material excluding Class 5A | C250: 40 | D250: m3 | F250: =IF(OR(ISBLANK(C250), ISBLANK(E250)), "", IF(ISNUMBER(E250), ROUND(C250 * E250, 2), E250)) -> 0 | G250: 2/5/C | H250: 1505
B251: (Grand Canal Roundabout) in cutting and other
B252: excavations 0 metres to 3 metres in depth where
B253: acceptable material is classed as Category B Non-Haz
B254: Soil and Stones EWC 17 05 04 meeting WAC of inert
...

Sheet PartP3
A1: Part 3 - Bridge Street
A2: Ref | B2: Description | C2: Qty | D2: Unit | E2: Rate | F2: Amount | G2: BQIndex | H2: InputNo
B4: Series 500 Drainage and Service Ducts
B6: Drains, Sewers, Piped Culverts and Service Ducts
B7: (Excluding Filter Drains, Narrow Filter Drains & Fin
B8: Drains)
A10: A | B10: 2 x 110mm internal diameter service duct (Traffic | C10: 25 | D10: m | F10: =IF(OR(ISBLANK(C10), ISBLANK(E10)), "", IF(ISNUMBER(E10), ROUND(C10 * E10, 2), E10)) -> 0 | G10: 3/1/A | H10: 2072
B11: Lighting), depths to invert not exceeding 2 metres
B12: average, depth to invert 1 metre in trench under Non-
B13: Trafficked Areas (CC-SCD-00562) Type C
A15: B | B15: 2 x 110mm internal diameter service ducts,(Traffic | C15: 10 | D15: m | F15: =IF(OR(ISBLANK(C15), ISBLANK(E15)), "", IF(ISNUMBER(E15), ROUND(C15 * E15, 2), E15)) -> 0 | G15: 3/1/B | H15: 2073
B16: Lighting), depths to invert not exceeding 2 metres
B17: average, depth to invert 1 metre in trench under
B18: Trafficked Areas (CC-SCD-00561) Type A.
B20: Renewal, Raising or Lowering Covers and Gratings
B21: on Existing Chambers and Gullies
A23: C | B23: Raising or lowering covers on existing SV chambers, | C23: 2 | D23: nr | F23: =IF(OR(ISBLANK(C23), ISBLANK(E23)), "", IF(ISNUMBER(E23), ROUND(C23 * E23, 2), E23)) -> 0 | G23: 3/1/C | H23: 2183
B24: exceeding 150mm but not exceeding 300mm, cover
B25: size not exceeding 1m2,
A27: D | B27: Raising or lowering covers on existing inspection | C27: 2 | D27: nr | F27: =IF(OR(ISBLANK(C27), ISBLANK(E27)), "", IF(ISNUMBER(E27), ROUND(C27 * E27, 2), E27)) -> 0 | G27: 3/1/D | H27: 2185
B28: chambers, exceeding 150mm but not exceeding
B29: 300mm, cover size not exceeding 1m2,
A31: E | B31: Raising or lowering covers on existing Manhole | C31: 1 | D31: nr | F31: =IF(OR(ISBLANK(C31), ISBLANK(E31)), "", IF(ISNUMBER(E31), ROUND(C31 * E31, 2), E31)) -> 0 | G31: 3/1/E | H31: 2184
B32: chambers, exceeding 150mm but not exceeding
B33: 300mm, cover size not exceeding 1m2,
B35: Surface Water Drainage
A37: F | B37: 150mm internal diameter uPVc road gully connection | C37: 11 | D37: m | F37: =IF(OR(ISBLANK(C37), ISBLANK(E37)), "", IF(ISNUMBER(E37), ROUND(C37 * E37, 2), E37)) -> 0 | G37: 3/1/F | H37: 2079
B38: pipes in trench to proposed drainage ditch. Trench and
B39: bedding details to be as per CC-SCD-00521-02 Type Z.
B40: Depth to invert exceeding 1 metre, not exceeding 2
B41: metre
B43: Connections
A45: G | B45: Connection to existing drain, chambers, sewer or piped | C45: 3 | D45: nr | F45: =IF(OR(ISBLANK(C45), ISBLANK(E45)), "", IF(ISNUMBER(E45), ROUND(C45 * E45, 2), E45)) -> 0 | G45: 3/1/G | H45: 2080
B46: and stone culvert 150mm internal diameter, Depth not
B47: exceeding 2 metres
B49: Chambers and Gullies
A51: H | B51: Precast Concrete Gully - (CC-SCD-00510) Depth not | C51: 3 | D51: nr | F51: =IF(OR(ISBLANK(C51), ISBLANK(E51)), "", IF(ISNUMBER(E51), ROUND(C51 * E51, 2), E51)) -> 0 | G51: 3/1/H | H51: 2082
B52: exceeding 1 metre, D400 cover and grating drawing
B53: G558-OCSC-XX-XX-DR-C-00513
A55: I | B55: Chamber, Type JB4, 915mm X 445mm internal | C55: 1 | D55: nr | F55: =IF(OR(ISBLANK(C55), ISBLANK(E55)), "", IF(ISNUMBER(E55), ROUND(C55 * E55, 2), E55)) -> 0 | G55: 3/1/I | H55: 2083
B56: diameter, cover size 915mm x 445mm Class D400
B57: IS/EN 124, depth not exceeding 1 metre, in accordance
B58: with G558-OCSC-10-XX-DR-C-0531
A60: J | B60: Chamber, Inspection Chamber with D400 cover and | C60: 1 | D60: nr | F60: =IF(OR(ISBLANK(C60), ISBLANK(E60)), "", IF(ISNUMBER(E60), ROUND(C60 * E60, 2), E60)) -> 0 | G60: 3/1/J | H60: 2180
B61: frame, Type A CC-SCD-00565, Depths to invert
B62: exceeding 1 metre but not exceeding 2 metres
A64: G558 | C64: Page: 3 / 1 | E64: To Collection | F64: =SUM(F3:F63) -> 0
A65: Part 3 - Bridge Street
A66: Ref | B66: Description | C66: Qty | D66: Unit | E66: Rate | F66: Amount | G66: BQIndex | H66: InputNo
B68: Series 700 Pavements
B70: Pavement
A72: A | B72: AC20 DENSE BIN 40/60 DES binder course 60-135mm | C72: 86 | D72: m2 | F72: =IF(OR(ISBLANK(C72), ISBLANK(E72)), "", IF(ISNUMBER(E72), ROUND(C72 * E72, 2), E72)) -> 0 | G72: 3/2/A | H72: 1844
B73: thick, in accordance with Work Requirements TII-CC-
B74: SPW-00900 CL 3.1.4
A76: B | B76: PMSMA SURF 10 65/105-60 DES surface course | C76: 86 | D76: m2 | F76: =IF(OR(ISBLANK(C76), ISBLANK(E76)), "", IF(ISNUMBER(E76), ROUND(C76 * E76, 2), E76)) -> 0 | G76: 3/2/B | H76: 1848
B77: (Ramp) 45mm thick in carriageway, hard shoulder and
B78: hard strip in accordance with Works Requirements TII-
B79: CC-SPW-00900 CL. 5.1.1
A81: C | B81: PMSMA SURF 14 65/105-60 DES surface course | C81: 350 | D81: m2 | F81: =IF(OR(ISBLANK(C81), ISBLANK(E81)), "", IF(ISNUMBER(E81), ROUND(C81 * E81, 2), E81)) -> 0 | G81: 3/2/C | H81: 1847
B82: (Road Resurfacing) 45mm thick in carriageway, hard
B83: shoulder and hard strip in accordance with Works
B84: Requirements TII-CC-SPW-00900 CL. 5.1.1
B86: Regulating Course
A88: D | B88: AC20 DENSE BIN 40/60 DES TO IS EN regulating | C88: 32 | D88: t | F88: =IF(OR(ISBLANK(C88), ISBLANK(E88)), "", IF(ISNUMBER(E88), ROUND(C88 * E88, 2), E88)) -> 0 | G88: 3/2/D | H88: 1850
B89: course 25mm-40mm thick in carriageway, hard
B90: shoulder and hard strip
B92: Bond Coat
A94: E | B94: Tack Coat | C94: 872 | D94: m2 | F94: =IF(OR(ISBLANK(C94), ISBLANK(E94)), "", IF(ISNUMBER(E94), ROUND(C94 * E94, 2), E94)) -> 0 | G94: 3/2/E | H94: 1852
B96: Cold Milling
A98: F | B98: Cold milling (Planing) of existing carriageway surface to | C98: 436 | D98: m2 | F98: =IF(OR(ISBLANK(C98), ISBLANK(E98)), "", IF(ISNUMBER(E98), ROUND(C98 * E98, 2), E98)) -> 0 | G98: 3/2/F | H98: 1854
B99: a depth exceeding 50mm but not exceeding 100mm
B101: Reinstatement of Paved Areas
A103: G | B103: Reinstatement of paved area, PMSMA SURF 10 | C103: 134 | D103: m2 | F103: =IF(OR(ISBLANK(C103), ISBLANK(E103)), "", IF(ISNUMBER(E103), ROUND(C103 * E103, 2), E103)) -> 0 | G103: 3/2/G | H103: 1856
B104: 65/105-60 DES surface course 45mm thick on 60mm
B105: thick AC20 dense 40/60 DES binder Course per TII-CC-
B106: SPW-00900 CL3.1.4, on 100mm thick AC32 dense
B107: BASE 40/60 DES per TII-CC-SPW-00900 CL 3.1.1 in
B108: carriageway, hard shoulder and hard strip in
B109: accordance with Works Requirements TII-CC-SPW-
B110: 00900 CL. 5.1.1
A119: G558 | C119: Page: 3 / 2 | E119: To Collection | F119: =SUM(F67:F118) -> 0
A120: Part 3 - Bridge Street
A121: Ref | B121: Description | C121: Qty | D121: Unit | E121: Rate | F121: Amount | G121: BQIndex | H121: InputNo
B123: Series 1100 Kerbs, Footways and Paved Areas
B125: Kerbs, Channels, Edgings, Combined Drainage and
B126: Kerb Blocks and Linear Drainage Channel Systems
A128: A | B128: Pre-Cast concrete kerb 0-6mm upstand Type 1 laid | C128: 8 | D128: m | F128: =IF(OR(ISBLANK(C128), ISBLANK(E128)), "", IF(ISNUMBER(E128), ROUND(C128 * E128, 2), E128)) -> 0 | G128: 3/3/A | H128: 1958
B129: straight or curved exceeding 12 meter radius in
B130: accordance with Works Requirements CC-SCD-01102
A132: B | B132: Pre-cast concrete kerb 125mm upstand Type 7 laid | C132: 90 | D132: m | F132: =IF(OR(ISBLANK(C132), ISBLANK(E132)), "", IF(ISNUMBER(E132), ROUND(C132 * E132, 2), E132)) -> 0 | G132: 3/3/B | H132: 1964
B133: straight or curved exceeding 12 meter radius in
B134: accordance with Works Requirements CC-SCD-01102
A136: C | B136: Pre-cast concrete transition kerb Type 9 laid straight or | C136: 10 | D136: m | F136: =IF(OR(ISBLANK(C136), ISBLANK(E136)), "", IF(ISNUMBER(E136), ROUND(C136 * E136, 2), E136)) -> 0 | G136: 3/3/C | H136: 1967
B137: curved exceeding 12 meter radius in accordance with
B138: Works Requirements CC-SCD-01102
B140: Additional Concrete for Kerbs, Channels, Edgings,
B141: Combined Drainage and Kerb Blocks and Linear
B142: Drainage Channel Systems
A144: D | B144: Additional C25/30 concrete surround to kerbs | C144: 7 | D144: m3 | F144: =IF(OR(ISBLANK(C144), ISBLANK(E144)), "", IF(ISNUMBER(E144), ROUND(C144 * E144, 2), E144)) -> 0 | G144: 3/3/D | H144: 1969
B146: Footways and Paved Areas
...

Sheet PartP4
A1: Part 4 - Grand Canal Roundabout
A2: Ref | B2: Description | C2: Qty | D2: Unit | E2: Rate | F2: Amount | G2: BQIndex | H2: InputNo
B4: Series 500 Drainage and Service Ducts
B6: Drains, Sewers, Piped Culverts and Service Ducts
B7: (Excluding Filter Drains, Narrow Filter Drains & Fin
B8: Drains)
A10: A | B10: 2 x 110mm internal diameter service duct (Traffic | C10: 46 | D10: m | F10: =IF(OR(ISBLANK(C10), ISBLANK(E10)), "", IF(ISNUMBER(E10), ROUND(C10 * E10, 2), E10)) -> 0 | G10: 4/1/A | H10: 2086
B11: Lighting), depths to invert not exceeding 2 metres
B12: average, depth to invert 1 metre in trench under Non-
B13: Trafficked Areas (CC-SCD-00562) Type C
A15: B | B15: 2 x 110mm internal diameter service ducts,(Traffic | C15: 60 | D15: m | F15: =IF(OR(ISBLANK(C15), ISBLANK(E15)), "", IF(ISNUMBER(E15), ROUND(C15 * E15, 2), E15)) -> 0 | G15: 4/1/B | H15: 2087
B16: Lighting), depths to invert not exceeding 2 metres
B17: average, depth to invert 1 metre in trench under
B18: Trafficked Areas (CC-SCD-00561) Type A.
B20: Renewal, Raising or Lowering Covers and Gratings
B21: on Existing Chambers and Gullies
A23: C | B23: Raising or lowering covers on existing chambers, | C23: 8 | D23: nr | F23: =IF(OR(ISBLANK(C23), ISBLANK(E23)), "", IF(ISNUMBER(E23), ROUND(C23 * E23, 2), E23)) -> 0 | G23: 4/1/C | H23: 2089
B24: exceeding 150mm but not exceeding 300mm, cover
B25: size not exceeding 1m2,
A27: D | B27: Raising or lowering covers on existing SV chambers, | C27: 1 | D27: nr | F27: =IF(OR(ISBLANK(C27), ISBLANK(E27)), "", IF(ISNUMBER(E27), ROUND(C27 * E27, 2), E27)) -> 0 | G27: 4/1/D | H27: 2090
B28: exceeding 150mm but not exceeding 300mm, cover
B29: size not exceeding 1m2,
A31: E | B31: Raising or lowering covers on existing FH chambers, | C31: 1 | D31: nr | F31: =IF(OR(ISBLANK(C31), ISBLANK(E31)), "", IF(ISNUMBER(E31), ROUND(C31 * E31, 2), E31)) -> 0 | G31: 4/1/E | H31: 2091
B32: exceeding 150mm but not exceeding 300mm, cover
B33: size not exceeding 1m2,
B35: Surface Water Drainage
A37: F | B37: 150mm internal diameter uPVc road gully connection | C37: 62 | D37: m | F37: =IF(OR(ISBLANK(C37), ISBLANK(E37)), "", IF(ISNUMBER(E37), ROUND(C37 * E37, 2), E37)) -> 0 | G37: 4/1/F | H37: 2093
B38: pipes in trench to proposed drainage ditch. Trench and
B39: bedding details to be as per CC-SCD-00521-02 Type Z.
B40: Depth to invert exceeding 1 metre, not exceeding 2
B41: metre
B43: Connections
A45: G | B45: Connection to existing drain, chambers, sewer or piped | C45: 9 | D45: nr | F45: =IF(OR(ISBLANK(C45), ISBLANK(E45)), "", IF(ISNUMBER(E45), ROUND(C45 * E45, 2), E45)) -> 0 | G45: 4/1/G | H45: 2094
B46: and stone culvert 150mm internal diameter, Depth not
B47: exceeding 2 metres
B49: Chambers and Gullies
A51: H | B51: Precast Concrete Gully - (CC-SCD-00510) Depth not | C51: 9 | D51: nr | F51: =IF(OR(ISBLANK(C51), ISBLANK(E51)), "", IF(ISNUMBER(E51), ROUND(C51 * E51, 2), E51)) -> 0 | G51: 4/1/H | H51: 2096
B52: exceeding 1 metre, D400 cover and grating drawing
B53: G558-OCSC-10-XX-DR-C-00513
A55: I | B55: Chamber, Type JB4, 915mm X 445mm internal | C55: 4 | D55: nr | F55: =IF(OR(ISBLANK(C55), ISBLANK(E55)), "", IF(ISNUMBER(E55), ROUND(C55 * E55, 2), E55)) -> 0 | G55: 4/1/I | H55: 2097
B56: diameter, cover size 915mm x 445mm Class D400
B57: IS/EN 124, depth not exceeding 1 metre, in accordance
B58: with G558-OCSC-XX-XX-DR-C-0531
A60: G558 | C60: Page: 4 / 1 | E60: To Collection | F60: =SUM(F3:F59) -> 0
A61: Part 4 - Grand Canal Roundabout
A62: Ref | B62: Description | C62: Qty | D62: Unit | E62: Rate | F62: Amount | G62: BQIndex | H62: InputNo
B64: Series 700 Pavements
B66: Sub-base
A68: A | B68: Sub-base material 150mm thick in carriageway, hard | C68: 4 | D68: m3 | F68: =IF(OR(ISBLANK(C68), ISBLANK(E68)), "", IF(ISNUMBER(E68), ROUND(C68 * E68, 2), E68)) -> 0 | G68: 4/2/A | H68: 1859
B69: shoulder and hard strip in accordance with UGM Ac
B71: Pavement
A73: B | B73: AC32 DENSE BIN 40/60 DES TO IS EN 13108-1 dense | C73: 25 | D73: m2 | F73: =IF(OR(ISBLANK(C73), ISBLANK(E73)), "", IF(ISNUMBER(E73), ROUND(C73 * E73, 2), E73)) -> 0 | G73: 4/2/B | H73: 1861
B74: base course 100mm thick in accordance with Work
B75: Requirements CC-SPW-00900 CL 3.1.1
A77: C | B77: AC20 DENSE BIN 40/60 DES binder course 60mm | C77: 25 | D77: m2 | F77: =IF(OR(ISBLANK(C77), ISBLANK(E77)), "", IF(ISNUMBER(E77), ROUND(C77 * E77, 2), E77)) -> 0 | G77: 4/2/C | H77: 1862
B78: thick, in accordance with Work Requirements TII-CC-
B79: SPW-00900 CL 3.1.4
A81: D | B81: AC20 DENSE BIN 40/60 DES binder course 60-135mm | C81: 313 | D81: m2 | F81: =IF(OR(ISBLANK(C81), ISBLANK(E81)), "", IF(ISNUMBER(E81), ROUND(C81 * E81, 2), E81)) -> 0 | G81: 4/2/D | H81: 1863
B82: thick, in accordance with Work Requirements TII-CC-
B83: SPW-00900 CL 3.1.4
A85: E | B85: PMSMA SURF 10 65/105-60 DES surface course (Full | C85: 25 | D85: m2 | F85: =IF(OR(ISBLANK(C85), ISBLANK(E85)), "", IF(ISNUMBER(E85), ROUND(C85 * E85, 2), E85)) -> 0 | G85: 4/2/E | H85: 1865
B86: Road Build Up) 45mm thick in carriageway, hard
B87: shoulder and hard strip in accordance with Works
B88: Requirements TII-CC-SPW-00900 CL. 5.1.1
A90: F | B90: PMSMA SURF 10 65/105-60 DES surface course | C90: 313 | D90: m2 | F90: =IF(OR(ISBLANK(C90), ISBLANK(E90)), "", IF(ISNUMBER(E90), ROUND(C90 * E90, 2), E90)) -> 0 | G90: 4/2/F | H90: 1867
B91: (Ramp) 45mm thick in carriageway, hard shoulder and
B92: hard strip in accordance with Works Requirements TII-
B93: CC-SPW-00900 CL. 5.1.1
A95: G | B95: PMSMA SURF 14 65/105-60 DES surface course | C95: 388 | D95: m2 | F95: =IF(OR(ISBLANK(C95), ISBLANK(E95)), "", IF(ISNUMBER(E95), ROUND(C95 * E95, 2), E95)) -> 0 | G95: 4/2/G | H95: 1866
B96: (Road Resurfacing) 45mm thick in carriageway, hard
B97: shoulder and hard strip in accordance with Works
B98: Requirements TII-CC-SPW-00900 CL. 5.1.1
B100: Regulating Course
A102: H | B102: AC20 DENSE BIN 40/60 DES TO IS EN regulating | C102: 51 | D102: t | F102: =IF(OR(ISBLANK(C102), ISBLANK(E102)), "", IF(ISNUMBER(E102), ROUND(C102 * E102, 2), E102)) -> 0 | G102: 4/2/H | H102: 1869
B103: course 25mm-40mm thick in carriageway, hard
B104: shoulder and hard strip
B106: Bond Coat
A108: I | B108: Tack Coat | C108: 1452 | D108: m2 | F108: =IF(OR(ISBLANK(C108), ISBLANK(E108)), "", IF(ISNUMBER(E108), ROUND(C108 * E108, 2), E108)) -> 0 | G108: 4/2/I | H108: 1871
B110: Cold Milling
A112: J | B112: Cold milling (Planing) of existing carriageway surface to | C112: 726 | D112: m2 | F112: =IF(OR(ISBLANK(C112), ISBLANK(E112)), "", IF(ISNUMBER(E112), ROUND(C112 * E112, 2), E112)) -> 0 | G112: 4/2/J | H112: 1873
B113: a depth exceeding 50mm but not exceeding 100mm
B115: Reinstatement of Paved Areas
A117: K | B117: Reinstatement of paved area, PMSMA SURF 10 | C117: 295 | D117: m2 | F117: =IF(OR(ISBLANK(C117), ISBLANK(E117)), "", IF(ISNUMBER(E117), ROUND(C117 * E117, 2), E117)) -> 0 | G117: 4/2/K | H117: 1875
B118: 65/105-60 DES surface course 45mm thick on 60mm
B119: thick AC20 dense 40/60 DES binder Course per TII-CC-
B120: SPW-00900 CL3.1.4, on 100mm thick AC32 dense
B121: BASE 40/60 DES per TII-CC-SPW-00900 CL 3.1.1 in
B122: carriageway, hard shoulder and hard strip in
B123: accordance with Works Requirements TII-CC-SPW-
B124: 00900 CL. 5.1.1
A126: G558 | C126: Page: 4 / 2 | E126: To Collection | F126: =SUM(F63:F125) -> 0
A127: Part 4 - Grand Canal Roundabout
A128: Ref | B128: Description | C128: Qty | D128: Unit | E128: Rate | F128: Amount | G128: BQIndex | H128: InputNo
B130: Series 1100 Kerbs, Footways and Paved Areas
B132: Kerbs, Channels, Edgings, Combined Drainage and
B133: Kerb Blocks and Linear Drainage Channel Systems
A135: A | B135: Pre-Cast concrete kerb 0-6mm upstand Type 1 laid | C135: 45 | D135: m | F135: =IF(OR(ISBLANK(C135), ISBLANK(E135)), "", IF(ISNUMBER(E135), ROUND(C135 * E135, 2), E135)) -> 0 | G135: 4/3/A | H135: 1985
B136: straight or curved exceeding 12 meter radius in
B137: accordance with Works Requirements CC-SCD-01102
A139: B | B139: Pre-Cast concrete kerb 0-6mm upstand Type 1 curved | C139: 10 | D139: m | F139: =IF(OR(ISBLANK(C139), ISBLANK(E139)), "", IF(ISNUMBER(E139), ROUND(C139 * E139, 2), E139)) -> 0 | G139: 4/3/B | H139: 2143
...

Sheet PartP5
A1: Part 5 - Harbour Road / Dunlo Hill
A2: Ref | B2: Description | C2: Qty | D2: Unit | E2: Rate | F2: Amount | G2: BQIndex | H2: InputNo
B4: Series 500 Drainage and Service Ducts
B6: Drains, Sewers, Piped Culverts and Service Ducts
B7: (Excluding Filter Drains, Narrow Filter Drains & Fin
B8: Drains)
A10: A | B10: S1 - S2 Line 1.001 225mm Concrete Storm Water | C10: 46 | D10: m | F10: =IF(OR(ISBLANK(C10), ISBLANK(E10)), "", IF(ISNUMBER(E10), ROUND(C10 * E10, 2), E10)) -> 0 | G10: 5/1/A | H10: 2155
B11: Pipe, Work in trench to comply with ISEN 1916 & IS6
B12: 2004. Trench, bedding details to be as per drawing
B13: G558-OCSC-XX-XX-DR-C-00502 and CC-SCD-00521
B14: trench Type T with the back fill materials to be clause
B15: 508 as noted in appendix 5/1 of the Works
B16: Requirement. Depth to invert not exceeding 2m,
B17: average depth metres 1.12m, in side slopes of cuttings
B18: or side slopes of embankments
A20: B | B20: S2 - S3 Line 1.002 225mm Concrete Storm Water | C20: 42 | D20: m | F20: =IF(OR(ISBLANK(C20), ISBLANK(E20)), "", IF(ISNUMBER(E20), ROUND(C20 * E20, 2), E20)) -> 0 | G20: 5/1/B | H20: 2192
B21: Pipe, Work in trench to comply with ISEN 1916 & IS6
B22: 2004. Trench, bedding details to be as per drawing
B23: G558-OCSC-XX-XX-DR-C-00502 and CC-SCD-00521
B24: trench Type T with the back fill materials to be clause
B25: 508 as noted in appendix 5/1 of the Works
B26: Requirement. Depth to invert not exceeding 2m,
B27: average depth metres depth metres 1.24m, in side
B28: slopes of cuttings or side slopes of embankments
A30: C | B30: S8 - S9 Line 2.001 225mm Concrete Storm Water | C30: 77 | D30: m | F30: =IF(OR(ISBLANK(C30), ISBLANK(E30)), "", IF(ISNUMBER(E30), ROUND(C30 * E30, 2), E30)) -> 0 | G30: 5/1/C | H30: 2194
B31: Pipe, Work in trench to comply with ISEN 1916 & IS6
B32: 2004. Trench, bedding details to be as per drawing
B33: G558-OCSC-XX-XX-DR-C-00502 and CC-SCD-00521
B34: trench Type T with the back fill materials to be clause
B35: 508 as noted in appendix 5/1 of the Works
B36: Requirement. Depth to invert not exceeding 2m,
B37: average depth metres 1.20m, in side slopes of cuttings
B38: or side slopes of embankments
A40: D | B40: S9 - 10 Line 2.002 225mm Concrete Storm Water | C40: 75 | D40: m | F40: =IF(OR(ISBLANK(C40), ISBLANK(E40)), "", IF(ISNUMBER(E40), ROUND(C40 * E40, 2), E40)) -> 0 | G40: 5/1/D | H40: 2191
B41: Pipe, Work in trench to comply with ISEN 1916 & IS6
B42: 2004. Trench, bedding details to be as per drawing
B43: G558-OCSC-XX-XX-DR-C-00502 and CC-SCD-00521
B44: trench Type T with the back fill materials to be clause
B45: 508 as noted in appendix 5/1 of the Works
B46: Requirement. Depth to invert not exceeding 2m,
B47: average depth metres 1.10m, in side slopes of cuttings
B48: or side slopes of embankments
A50: E | B50: S10 - 11 Line 2.003 225mm Concrete Storm Water | C50: 30 | D50: m | F50: =IF(OR(ISBLANK(C50), ISBLANK(E50)), "", IF(ISNUMBER(E50), ROUND(C50 * E50, 2), E50)) -> 0 | G50: 5/1/E | H50: 2193
B51: Pipe, Work in trench to comply with ISEN 1916 & IS6
B52: 2004. Trench, bedding details to be as per drawing
B53: G558-OCSC-XX-XX-DR-C-00502 and CC-SCD-00521
B54: trench Type T with the back fill materials to be clause
B55: 508 as noted in appendix 5/1 of the Works
B56: Requirement. Depth to invert not exceeding 2m,
B57: average depth metres 1.25m, in side slopes of cuttings
B58: or side slopes of embankments
A60: G558 | C60: Page: 5 / 1 | E60: To Collection | F60: =SUM(F3:F59) -> 0
A61: Part 5 - Harbour Road / Dunlo Hill
A62: Ref | B62: Description | C62: Qty | D62: Unit | E62: Rate | F62: Amount | G62: BQIndex | H62: InputNo
B64: Drains, Sewers, Piped Culverts and Service Ducts
B65: (Excluding Filter Drains, Narrow Filter Drains & Fin
B66: Drains) (Cont'd)
A68: A | B68: S11 - Existing Manhole (Dunlo Hill) Line 2.004 225mm | C68: 22 | D68: m | F68: =IF(OR(ISBLANK(C68), ISBLANK(E68)), "", IF(ISNUMBER(E68), ROUND(C68 * E68, 2), E68)) -> 0 | G68: 5/2/A | H68: 2195
B69: Concrete Storm Water Pipe, Work in trench to comply
B70: with ISEN 1916 & IS6 2004. Trench, bedding details to
B71: be as per drawing G558-OCSC-XX-XX-DR-C-00502
B72: and CC-SCD-00521 trench Type T with the back fill
B73: materials to be clause 508 as noted in appendix 5/1 of
B74: the Works Requirement. Depth to invert not exceeding
B75: 2m, average depth metres 1.25m, in side slopes of
B76: cuttings or side slopes of embankments
A78: B | B78: 2 x 110mm internal diameter service duct (Traffic | C78: 46 | D78: m | F78: =IF(OR(ISBLANK(C78), ISBLANK(E78)), "", IF(ISNUMBER(E78), ROUND(C78 * E78, 2), E78)) -> 0 | G78: 5/2/B | H78: 2190
B79: Lighting), depths to invert not exceeding 2 metres
B80: average, depth to invert 1 metre in trench under Non-
B81: Trafficked Areas (CC-SCD-00562) Type C in side
B82: slopes of cuttings or side slopes of embankments
A84: C | B84: 2 x 110mm internal diameter service duct (Public | C84: 33 | D84: m | F84: =IF(OR(ISBLANK(C84), ISBLANK(E84)), "", IF(ISNUMBER(E84), ROUND(C84 * E84, 2), E84)) -> 0 | G84: 5/2/C | H84: 2114
B85: Lighting), depths to invert not exceeding 2 metres
B86: average, depth to invert 1 metre in trench under Non-
B87: Trafficked Areas (CC-SCD-00562) Type C in side
B88: slopes of cuttings or side slopes of embankments
A90: D | B90: 2 x 110mm internal diameter service ducts,(Traffic | C90: 30 | D90: m | F90: =IF(OR(ISBLANK(C90), ISBLANK(E90)), "", IF(ISNUMBER(E90), ROUND(C90 * E90, 2), E90)) -> 0 | G90: 5/2/D | H90: 2156
B91: Lighting), depths to invert not exceeding 2 metres
B92: average, depth to invert 1 metre in trench under
B93: Trafficked Areas (CC-SCD-00561) Type A.
A95: E | B95: 2 x 110mm internal diameter service ducts,(Public | C95: 10 | D95: m | F95: =IF(OR(ISBLANK(C95), ISBLANK(E95)), "", IF(ISNUMBER(E95), ROUND(C95 * E95, 2), E95)) -> 0 | G95: 5/2/E | H95: 2115
B96: Lighting), depths to invert not exceeding 2 metres
B97: average, depth to invert 1 metre in trench under
B98: Trafficked Areas (CC-SCD-00561) Type A.
B100: Renewal, Raising or Lowering Covers and Gratings
B101: on Existing Chambers and Gullies
A103: F | B103: Raising or lowering covers on existing chambers, | C103: 30 | D103: nr | F103: =IF(OR(ISBLANK(C103), ISBLANK(E103)), "", IF(ISNUMBER(E103), ROUND(C103 * E103, 2), E103)) -> 0 | G103: 5/2/F | H103: 2117
B104: exceeding 150mm but not exceeding 300mm, cover
B105: size not exceeding 1m2,
A107: G | B107: Raising or lowering covers on existing SV chambers, | C107: 2 | D107: nr | F107: =IF(OR(ISBLANK(C107), ISBLANK(E107)), "", IF(ISNUMBER(E107), ROUND(C107 * E107, 2), E107)) -> 0 | G107: 5/2/G | H107: 2118
B108: exceeding 150mm but not exceeding 300mm, cover
B109: size not exceeding 1m2,
A111: H | B111: Raising or lowering covers on existing MH chambers, | C111: 4 | D111: nr | F111: =IF(OR(ISBLANK(C111), ISBLANK(E111)), "", IF(ISNUMBER(E111), ROUND(C111 * E111, 2), E111)) -> 0 | G111: 5/2/H | H111: 2149
B112: exceeding 150mm but not exceeding 300mm, cover
B113: size not exceeding 1m2,
A115: I | B115: Raising or lowering covers on existing Water Meter | C115: 13 | D115: nr | F115: =IF(OR(ISBLANK(C115), ISBLANK(E115)), "", IF(ISNUMBER(E115), ROUND(C115 * E115, 2), E115)) -> 0 | G115: 5/2/I | H115: 2119
B116: chambers, exceeding 150mm but not exceeding
B117: 300mm, cover size not exceeding 1m2,
A119: G558 | C119: Page: 5 / 2 | E119: To Collection | F119: =SUM(F63:F118) -> 0
A120: Part 5 - Harbour Road / Dunlo Hill
...

Sheet PartP6
A1: Part 6 - Harris Road / Breacarnach
A2: Ref | B2: Description | C2: Qty | D2: Unit | E2: Rate | F2: Amount | G2: BQIndex | H2: InputNo
B3: Series 500 Drainage and Service Ducts
B4: Drains, Sewers, Piped Culverts and Service Ducts
B5: (Excluding Filter Drains, Narrow Filter Drains & Fin
B6: Drains)
A7: A | B7: S3 - S4 Line 1.003 225mm Concrete Storm Water | C7: 19 | D7: m | F7: =IF(OR(ISBLANK(C7), ISBLANK(E7)), "", IF(ISNUMBER(E7), ROUND(C7 * E7, 2), E7)) -> 0 | G7: 6/1/A | H7: 2128
B8: Pipe, Work in trench to comply with ISEN 1916 & IS6
B9: 2004. Trench, bedding details to be as per drawing
B10: G558-OCSC-XX-XX-DR-C-00502 and CC-SCD-00521
B11: trench Type T with the back fill materials to be clause
B12: 508 as noted in appendix 5/1 of the Works
B13: Requirement. Depth to invert not exceeding 2m,
B14: average depth metres 1.26m, in side slopes of cuttings
B15: or side slopes of embankments
A16: B | B16: S4 - S5 Line 1.004 225mm Concrete Storm Water | C16: 90 | D16: m | F16: =IF(OR(ISBLANK(C16), ISBLANK(E16)), "", IF(ISNUMBER(E16), ROUND(C16 * E16, 2), E16)) -> 0 | G16: 6/1/B | H16: 2198
B17: Pipe, Work in trench to comply with ISEN 1916 & IS6
B18: 2004. Trench, bedding details to be as per drawing
B19: G558-OCSC-XX-XX-DR-C-00502 and CC-SCD-00521
B20: trench Type T with the back fill materials to be clause
B21: 508 as noted in appendix 5/1 of the Works
B22: Requirement. Depth to invert not exceeding 2m,
B23: average depth metres 1.11m, in side slopes of cuttings
B24: or side slopes of embankments
A25: C | B25: S5 - S6 Line 1.005 225mm Concrete Storm Water | C25: 90 | D25: m | F25: =IF(OR(ISBLANK(C25), ISBLANK(E25)), "", IF(ISNUMBER(E25), ROUND(C25 * E25, 2), E25)) -> 0 | G25: 6/1/C | H25: 2196
B26: Pipe, Work in trench to comply with ISEN 1916 & IS6
B27: 2004. Trench, bedding details to be as per drawing
B28: G558-OCSC-XX-XX-DR-C-00502 and CC-SCD-00521
B29: trench Type T with the back fill materials to be clause
B30: 508 as noted in appendix 5/1 of the Works
B31: Requirement. Depth to invert not exceeding 2m,
B32: average depth metres 1.07m, in side slopes of cuttings
B33: or side slopes of embankments
A34: D | B34: S6 - S7 Line 1.006 225mm Concrete Storm Water | C34: 90 | D34: m | F34: =IF(OR(ISBLANK(C34), ISBLANK(E34)), "", IF(ISNUMBER(E34), ROUND(C34 * E34, 2), E34)) -> 0 | G34: 6/1/D | H34: 2159
B35: Pipe, Work in trench to comply with ISEN 1916 & IS6
B36: 2004. Trench, bedding details to be as per drawing
B37: G558-OCSC-XX-XX-DR-C-00502 and CC-SCD-00521
B38: trench Type T with the back fill materials to be clause
B39: 508 as noted in appendix 5/1 of the Works
B40: Requirement. Depth to invert not exceeding 2m,
B41: average depth metres 1.42m, in side slopes of cuttings
B42: or side slopes of embankments
A43: E | B43: S7 - Existing Manhole (Harris Road) Line 1.007 | C43: 13 | D43: m | F43: =IF(OR(ISBLANK(C43), ISBLANK(E43)), "", IF(ISNUMBER(E43), ROUND(C43 * E43, 2), E43)) -> 0 | G43: 6/1/E | H43: 2197
B44: 225mm Concrete Storm Water Pipe, Work in trench to
B45: comply with ISEN 1916 & IS6 2004. Trench, bedding
B46: details to be as per drawing G558-OCSC-XX-XX-DR-
B47: C-00502 and CC-SCD-00521 trench Type T with the
B48: back fill materials to be clause 508 as noted in
B49: appendix 5/1 of the Works Requirement. Depth to invert
B50: not exceeding 2m, average depth metres 1.42m, in
B51: side slopes of cuttings or side slopes of embankments
A52: F | B52: 2 x 110mm internal diameter service duct (Traffic | C52: 39 | D52: m | F52: =IF(OR(ISBLANK(C52), ISBLANK(E52)), "", IF(ISNUMBER(E52), ROUND(C52 * E52, 2), E52)) -> 0 | G52: 6/1/F | H52: 2158
B53: Lighting), depths to invert not exceeding 2 metres
B54: average, depth to invert 1 metre in trench under Non-
B55: Trafficked Areas (CC-SCD-00562) Type C in side
B56: slopes of cuttings or side slopes of embankments
A58: G558 | C58: Page: 6 / 1 | E58: To Collection | F58: =SUM(F3:F57) -> 0
A59: Part 6 - Harris Road / Breacarnach
A60: Ref | B60: Description | C60: Qty | D60: Unit | E60: Rate | F60: Amount | G60: BQIndex | H60: InputNo
B62: Drains, Sewers, Piped Culverts and Service Ducts
B63: (Excluding Filter Drains, Narrow Filter Drains & Fin
B64: Drains) (Cont'd)
A66: A | B66: 2 x 110mm internal diameter service ducts,(Traffic | C66: 26 | D66: m | F66: =IF(OR(ISBLANK(C66), ISBLANK(E66)), "", IF(ISNUMBER(E66), ROUND(C66 * E66, 2), E66)) -> 0 | G66: 6/2/A | H66: 2129
B67: Lighting), depths to invert not exceeding 2 metres
B68: average, depth to invert 1 metre in trench under
B69: Trafficked Areas (CC-SCD-00561) Type A.
B71: Renewal, Raising or Lowering Covers and Gratings
B72: on Existing Chambers and Gullies
A74: B | B74: Raising or lowering covers on existing chambers, | C74: 8 | D74: nr | F74: =IF(OR(ISBLANK(C74), ISBLANK(E74)), "", IF(ISNUMBER(E74), ROUND(C74 * E74, 2), E74)) -> 0 | G74: 6/2/B | H74: 2131
B75: exceeding 150mm but not exceeding 300mm, cover
B76: size not exceeding 1m2,
A78: C | B78: Raising or lowering covers on existing MH chambers, | C78: 1 | D78: nr | F78: =IF(OR(ISBLANK(C78), ISBLANK(E78)), "", IF(ISNUMBER(E78), ROUND(C78 * E78, 2), E78)) -> 0 | G78: 6/2/C | H78: 2133
B79: exceeding 150mm but not exceeding 300mm, cover
B80: size not exceeding 1m2,
A82: D | B82: Raising or lowering covers on existing Water Meter | C82: 3 | D82: nr | F82: =IF(OR(ISBLANK(C82), ISBLANK(E82)), "", IF(ISNUMBER(E82), ROUND(C82 * E82, 2), E82)) -> 0 | G82: 6/2/D | H82: 2132
B83: chambers, exceeding 150mm but not exceeding
B84: 300mm, cover size not exceeding 1m2,
B86: Surface Water Drainage
A88: E | B88: 150mm internal diameter uPVc road gully connection | C88: 18 | D88: m | F88: =IF(OR(ISBLANK(C88), ISBLANK(E88)), "", IF(ISNUMBER(E88), ROUND(C88 * E88, 2), E88)) -> 0 | G88: 6/2/E | H88: 2135
B89: pipes in trench to proposed drainage ditch. Trench and
B90: bedding details to be as per CC-SCD-00521-02 Type Z.
B91: Depth to invert exceeding 1 metre, not exceeding 2
B92: metre
B94: Connections
A96: F | B96: Connection to existing drain, chambers, sewer or piped | C96: 4 | D96: nr | F96: =IF(OR(ISBLANK(C96), ISBLANK(E96)), "", IF(ISNUMBER(E96), ROUND(C96 * E96, 2), E96)) -> 0 | G96: 6/2/F | H96: 2136
B97: and stone culvert 150mm internal diameter, Depth not
B98: exceeding 2 metres
B100: Chambers and Gullies
A102: G | B102: Precast Concrete Gully - (CC-SCD-00510) Depth not | C102: 4 | D102: nr | F102: =IF(OR(ISBLANK(C102), ISBLANK(E102)), "", IF(ISNUMBER(E102), ROUND(C102 * E102, 2), E102)) -> 0 | G102: 6/2/G | H102: 2138
B103: exceeding 1 metre, D400 cover and grating drawing
B104: G558-OCSC-10-XX-DR-C-00513
A106: H | B106: Chamber, Type JB4, 915mm X 445mm internal | C106: 3 | D106: nr | F106: =IF(OR(ISBLANK(C106), ISBLANK(E106)), "", IF(ISNUMBER(E106), ROUND(C106 * E106, 2), E106)) -> 0 | G106: 6/2/H | H106: 2139
B107: diameter, cover size 915mm x 445mm Class D400
B108: IS/EN 124, depth not exceeding 1 metre, in accordance
B109: with G558-OCSC-XX-XX-DR-C-0531
A113: G558 | C113: Page: 6 / 2 | E113: To Collection | F113: =SUM(F61:F112) -> 0
A114: Part 6 - Harris Road / Breacarnach
A115: Ref | B115: Description | C115: Qty | D115: Unit | E115: Rate | F115: Amount | G115: BQIndex | H115: InputNo
B117: Series 700 Pavements
B119: Sub-base
...

Sheet PartP7
A1: Part 7 - Accomodation Works
A2: Ref | B2: Description | C2: Qty | D2: Unit | E2: Rate | F2: Amount | G2: BQIndex | H2: InputNo
B4: Series 100 Special Preliminaries
B6: Traffic Safety and Management
A8: A | B8: Traffic safety and management | C8: 1 | D8: item | F8: =IF(OR(ISBLANK(C8), ISBLANK(E8)), "", IF(ISNUMBER(E8), ROUND(C8 * E8, 2), E8)) -> 0 | G8: 7/1/A | H8: 2161
A10: B | B10: Taking measures for or construction, maintenance, | C10: 1 | D10: item | F10: =IF(OR(ISBLANK(C10), ISBLANK(E10)), "", IF(ISNUMBER(E10), ROUND(C10 * E10, 2), E10)) -> 0 | G10: 7/1/B | H10: 2162
B11: removal of contraflow arrangements in accordance with
B12: Appendix 1/17
A14: C | B14: Removing from store and installing temporary vertical | C14: 1 | D14: item | F14: =IF(OR(ISBLANK(C14), ISBLANK(E14)), "", IF(ISNUMBER(E14), ROUND(C14 * E14, 2), E14)) -> 0 | G14: 7/1/C | H14: 2163
B15: safety barriers in accordance with Appendix 1/17
A17: D | B17: Taking up or down and removing from site temporary | C17: 1 | D17: item | F17: =IF(OR(ISBLANK(C17), ISBLANK(E17)), "", IF(ISNUMBER(E17), ROUND(C17 * E17, 2), E17)) -> 0 | G17: 7/1/D | H17: 2164
B18: vertical safety barriers in accordance with Appendix
B19: 1/17
B21: Property Condition Surveys
A23: E | B23: Property condition surveys, for all properties at | C23: 1 | D23: item | F23: =IF(OR(ISBLANK(C23), ISBLANK(E23)), "", IF(ISNUMBER(E23), ROUND(C23 * E23, 2), E23)) -> 0 | G23: 7/1/E | H23: 2165
B24: locations indicated on drawings AC-01-BBSR and
B25: Appendix 1/7
A55: G558 | C55: Page: 7 / 1 | E55: To Collection | F55: =SUM(F3:F54) -> 0
A56: Part 7 - Accomodation Works
A57: Ref | B57: Description | C57: Qty | D57: Unit | E57: Rate | F57: Amount | G57: BQIndex | H57: InputNo
B59: Series 200 Site Clearance
B61: Site Clearance
A63: A | B63: General site clearance | C63: 0.05 | D63: ha | F63: =IF(OR(ISBLANK(C63), ISBLANK(E63)), "", IF(ISNUMBER(E63), ROUND(C63 * E63, 2), E63)) -> 0 | G63: 7/2/A | H63: 2166
A110: G558 | C110: Page: 7 / 2 | E110: To Collection | F110: =SUM(F58:F109) -> 0
A111: Part 7 - Accomodation Works
A112: Ref | B112: Description | C112: Qty | D112: Unit | E112: Rate | F112: Amount | G112: BQIndex | H112: InputNo
B114: Series 300 Fencing and Environmental Noise
B115: Barriers
B117: Fencing, Gates and Stiles
A119: A | B119: Fencing, Bow Top Galvernised Steel Fence, 1.2 metre | C119: 32 | D119: m | F119: =IF(OR(ISBLANK(C119), ISBLANK(E119)), "", IF(ISNUMBER(E119), ROUND(C119 * E119, 2), E119)) -> 0 | G119: 7/3/A | H119: 2209
B120: height to follow existing fence, posts to be set in
B121: concrete foundation 750mm x 350mm 2 metre C/C,
B122: concrete Class C16/20, in accordance with the drawing
B123: AC-01-BBSR
A125: B | B125: Gates Steel Double Field Gate (CC-SCD-00310) 7.02m | C125: 1 | D125: nr | F125: =IF(OR(ISBLANK(C125), ISBLANK(E125)), "", IF(ISNUMBER(E125), ROUND(C125 * E125, 2), E125)) -> 0 | G125: 7/3/B | H125: 2210
B126: wide (post to post), 4.8 metre gate with 2 metre gate,
B127: concrete foundations, latch, drop bolt and all fixtures
B128: and fittings to be inacordance with drawing AC-01-
B129: BBSR
A165: G558 | C165: Page: 7 / 3 | E165: To Collection | F165: =SUM(F113:F164) -> 0
A166: Part 7 - Accomodation Works
A167: Ref | B167: Description | C167: Qty | D167: Unit | E167: Rate | F167: Amount | G167: BQIndex | H167: InputNo
B169: Series 600 Earthworks
B171: Excavation
A173: A | B173: Excavation of non-compliant material in cutting and | C173: 103 | D173: m3 | F173: =IF(OR(ISBLANK(C173), ISBLANK(E173)), "", IF(ISNUMBER(E173), ROUND(C173 * E173, 2), E173)) -> 0 | G173: 7/4/A | H173: 2240
B174: other excavations 0 metres to 3 metres in depth. non-
B175: compliant material is classified as Category C (Soils
B176: suitable for disposal to a Non Hazardous Licenced
B177: Landfill) in accordance with Waste Acceptance Criteria
B178: (WAC) set out in Directive 1999/31/EC (The Landfill
B179: Directive) and the Council Decision of 19 December
B180: 2002, or such legislation as is current at award of
B181: Contract.
B183: Excavation in Hard Material
A185: B | B185: Extra over excavation for excavation in hard material in | C185: 30 | D185: m3 | F185: =IF(OR(ISBLANK(C185), ISBLANK(E185)), "", IF(ISNUMBER(E185), ROUND(C185 * E185, 2), E185)) -> 0 | G185: 7/4/B | H185: 2242
B186: cutting and other excavation
B188: Disposal of Material
A190: C | B190: Disposal of non-compliant material | C190: 103 | D190: m3 | F190: =IF(OR(ISBLANK(C190), ISBLANK(E190)), "", IF(ISNUMBER(E190), ROUND(C190 * E190, 2), E190)) -> 0 | G190: 7/4/C | H190: 2244
B192: Imported Fill
A194: D | B194: Imported topsoil Class 5B | C194: 19 | D194: m3 | F194: =IF(OR(ISBLANK(C194), ISBLANK(E194)), "", IF(ISNUMBER(E194), ROUND(C194 * E194, 2), E194)) -> 0 | G194: 7/4/D | H194: 2247
B196: Topsoiling and Storage of Topsoil
A198: E | B198: Topsoil 150mm deep to surfaces sloping at more | C198: 124 | D198: m2 | F198: =IF(OR(ISBLANK(C198), ISBLANK(E198)), "", IF(ISNUMBER(E198), ROUND(C198 * E198, 2), E198)) -> 0 | G198: 7/4/E | H198: 2253
B199: than10 degrees to the horizontal
B201: Grass Seeding and Turfing
A203: F | B203: Grass seeding to surfaces sloping at 10º or less to the | C203: 124 | D203: m2 | F203: =IF(OR(ISBLANK(C203), ISBLANK(E203)), "", IF(ISNUMBER(E203), ROUND(C203 * E203, 2), E203)) -> 0 | G203: 7/4/F | H203: 2255
B204: horizontal
A220: G558 | C220: Page: 7 / 4 | E220: To Collection | F220: =SUM(F168:F219) -> 0
A221: Part 7 - Accomodation Works
A222: Ref | B222: Description | C222: Qty | D222: Unit | E222: Rate | F222: Amount | G222: BQIndex | H222: InputNo
B224: Series 1100 Kerbs, Footways and Paved Areas
B226: Footways and Paved Areas
A228: A | B228: Footway Type 6 (Hardstanding Maintenance Area at | C228: 162 | D228: m2 | F228: =IF(OR(ISBLANK(C228), ISBLANK(E228)), "", IF(ISNUMBER(E228), ROUND(C228 * E228, 2), E228)) -> 0 | G228: 7/5/A | H228: 2231
B229: Marina) 705mm thick, comprising 45mm PMSMA 10
B230: SURF PMB 65/105-60 DES surface course to TII-CC-
B231: SPW-00900 CL, 5.1.1 (Buff Color), on 60mm AC20
B232: DENSE BIN 40/60 DES binder course to TII-CC-SPW-
B233: 00900 CL 3.1.4, on 100mm AC32 DENSE BASE 40/60
B234: DES base course to TII-CC-SPW-00900 CL 3.1.1, on
B235: 150mm thick Sub-base to UGM Ac in accordance with
B236: TII-CC-00800 CL 808, on 350mm thick Capping to
B237: Class 6F in accordance with TII-CC-00600 CL 613 and
B238: compacted in compliance with CL. 612 ,on Terram
B239: T1000 or similar approved permeable geotextile
A275: G558 | C275: Page: 7 / 5 | E275: To Collection | F275: =SUM(F223:F274) -> 0
A276: Part 7 - Accomodation Works
B277: Description | F277: Amount | G277: BQIndex | H277: InputNo
B279: Series 100 Special Preliminaries | F279: =SUM(F8, F10, F14, F17, F23) -> 0
B281: Series 200 Site Clearance | F281: =SUM(F63) -> 0
B283: Series 300 Fencing and Environmental Noise Barriers | F283: =SUM(F119, F125) -> 0
B285: Series 600 Earthworks | F285: =SUM(F173, F185, F190, F194, F198, F203) -> 0
B287: Series 1100 Kerbs, Footways and Paved Areas | F287: =SUM(F228) -> 0
A330: G558 | C330: Page: 7 / 6 | E330: To Summary | F330: =SUM(F278:F329) -> 0

Sheet Summary
A2: Bill | B2: Description | F2: Amount | G2: BQIndex | H2: InputNo
A4: 1 | B4: Part 1 - Preliminaries | F4: =PartP1!F237 -> 0
A6: 2 | B6: Part 2 - Roadworks General R446 | F6: =PartP2!F1679 -> 0
A8: 3 | B8: Part 3 - Bridge Street | F8: =PartP3!F286 -> 0
A10: 4 | B10: Part 4 - Grand Canal Roundabout | F10: =PartP4!F295 -> 0
A12: 5 | B12: Part 5 - Harbour Road / Dunlo Hill | F12: =PartP5!F470 -> 0
A14: 6 | B14: Part 6 - Harris Road / Breacarnach | F14: =PartP6!F351 -> 0
A16: 7 | B16: Part 7 - Accomodation Works | F16: =PartP7!F330 -> 0
A55: G558 | C55: Page: S/1 | F55: =SUM(F3:F54) -> 0
