Workbook

Sheet Instructions
A1: IBTS Non-GMP / Office / Centre-Based Contract Cleaning Pricing Schedule
A2: Tenderers must complete all applicable tabs. Prices must be in Euro, exclusive of VAT, and fully inclusive of labour, supervision, materials, equipment, travel, reporting, insurance and all other contract delivery costs for the included IBTS locations: National Blood Centre office-side areas including the Apheresis Clinic; Cork offices and clinic; D’Olier Street offices and clinic; Stillorgan offices and clinic; Tuam Centre offices; Ardee Centre offices; and Carlow Centre offices. Limerick is excluded from this tender and must not be priced unless separately instructed in writing by IBTS. The National Blood Centre scope also includes a required bi-weekly external commercial hazardous clean to two agreed NBC areas, currently delivered by the commercial sector of the incumbent cleaning contractor. Tenderers must include all labour, supervision, PPE, chemicals/equipment, RAMS, access coordination, records, quality audit and reporting costs for this required service.
A4: Instruction | B4: Requirement
A5: Scope boundary | B5: This pricing schedule is for non-GMP / office / centre / clinic-based contract cleaning services only. GMP cleanrooms, validated clean areas, production laboratories and controlled manufacturing spaces are excluded unless separately authorised in writing by IBTS. Included locations are: National Blood Centre office-side areas including the Apheresis Clinic; Cork offices and clinic; D’Olier Street offices and clinic; Stillorgan offices and clinic; Tuam Centre offices; Ardee Centre offices; and Carlow Centre offices. Limerick is excluded from this tender and must not be priced unless separately instructed in writing by IBTS. The National Blood Centre scope also includes a required bi-weekly external commercial hazardous clean to two agreed NBC areas, currently delivered by the commercial sector of the incumbent cleaning contractor. Tenderers must include all labour, supervision, PPE, chemicals/equipment, RAMS, access coordination, records, quality audit and reporting costs for this required service.
A6: Completion | B6: Tenderers must complete every applicable blue-entry cell and must not delete rows, columns, formulas or sheets.
A7: Pricing basis | B7: Prices must be complete, fixed for the tender validity period and exclusive of VAT. VAT should be shown separately on the Summary sheet.
A8: Inclusions | B8: Pricing must include labour, supervision, contract management, training, mobilisation, TUPE/staff-transfer administration where applicable, equipment, chemicals, consumables where priced, transport, reporting, quality audits, insurances and compliance costs. Pricing must also include the NBC bi-weekly external commercial hazardous clean as a required periodic/specialist service.
A9: Cost evaluation | B9: The cost evaluation figure will be taken from the Summary sheet and scored out of 30 using the formula set out in the RFT and evaluation workbook.
A10: Clarifications | B10: All assumptions, exclusions and qualifications must be clearly recorded on the Clarifications sheet. Unpriced or unclear exclusions may be deemed included.

Sheet Pricing Summary
A1: Pricing Summary - Non-GMP / Office / Centre Cleaning
A2: This sheet summarises the evaluated non-GMP / office / centre / clinic cleaning tender price for the included locations: National Blood Centre office-side areas including the Apheresis Clinic; Cork offices and clinic; D’Olier Street offices and clinic; Stillorgan offices and clinic; Tuam Centre offices; Ardee Centre offices; and Carlow Centre offices. Limerick is excluded from this tender and must not be priced unless separately instructed in writing by IBTS. Includes required bi-weekly external commercial hazardous clean to two agreed NBC areas.
A4: Pricing Component | B4: Formula / Entry | C4: Annual / Once-Off | D4: Amount excl. VAT (€) | E4: VAT (€) | F4: Amount incl. VAT (€)
A5: Annual Site Cleaning Total | B5: From Site Pricing | C5: Annual | D5: =SUM('Site Pricing'!K5:K11) -> 0 | E5: =D5*$B$12 -> 0 | F5: =D5+E5 -> 0
A6: Annual Periodic Cleaning Total | B6: From Periodic Services | C6: Annual | D6: =SUM('Periodic Services'!G5:G20) -> 0 | E6: =D6*$B$12 -> 0 | F6: =D6+E6 -> 0
A7: Annual Consumables Total | B7: From Consumables | C7: Annual | D7: =SUM(Consumables!F5:F18) -> 0 | E7: =D7*$B$12 -> 0 | F7: =D7+E7 -> 0
A8: Annual Contract Management / Reporting Total | B8: From Mobilisation & Management | C8: Annual | D8: =SUM('Mobilisation & Management'!F10:F15) -> 0 | E8: =D8*$B$12 -> 0 | F8: =D8+E8 -> 0
A9: Mobilisation / Transition Cost | B9: From Mobilisation & Management | C9: Once-Off Year 1 | D9: =SUM('Mobilisation & Management'!F5:F9) -> 0 | E9: =D9*$B$12 -> 0 | F9: =D9+E9 -> 0
A10: Evaluated Annual Cost excl. VAT | B10: Annual total used for cost scoring | C10: Annual | D10: =SUM(D5:D8) -> 0
A11: Year 1 Total incl. Mobilisation excl. VAT | B11: Annual + mobilisation | C11: Year 1 | D11: =D10+D9 -> 0
A12: VAT Rate Entry | B12: 0.23
A13: Tenderer Note | B13: VAT rate must be confirmed by the tenderer. Cost evaluation is based on prices exclusive of VAT.

Sheet Site Pricing
A1: Site Pricing - Routine Non-GMP / Office / Centre Cleaning
A2: Tenderers must price each included site / location based on routine non-GMP / office / centre / clinic cleaning services. The included locations are: National Blood Centre office-side areas including the Apheresis Clinic; Cork offices and clinic; D’Olier Street offices and clinic; Stillorgan offices and clinic; Tuam Centre offices; Ardee Centre offices; and Carlow Centre offices. Limerick is excluded from this tender and must not be priced unless separately instructed in writing by IBTS. The NBC scope also includes a required bi-weekly external commercial hazardous clean to two agreed NBC areas; price this in Periodic Services P12.
A4: Site / Location | B4: Non-GMP Area Scope | C4: Cleaning Days per Week | D4: Cleaning Hours per Service Day | E4: Chargeable Weeks per Year | F4: Hourly Labour Rate (€) | G4: Annual Labour Cost (€) | H4: Monthly Supervision / Management (€) | I4: Monthly Chemicals / Equipment (€) | J4: Monthly Waste / Misc (€) | K4: Annual Site Total (€) | L4: Notes
A5: National Blood Centre, James Street, Dublin 8 | B5: Office-side areas including administration, meeting, welfare, circulation and the Apheresis Clinic non-GMP support / clinic areas only. Excludes GMP cleanrooms, production/laboratory-controlled spaces, blood processing areas, validated clean areas and any area not expressly included by IBTS Facilities. | C5: 5 | E5: 52 | G5: =C5*D5*E5*F5 -> 0 | K5: =G5+(H5+I5+J5)*12 -> 0 | L5: 100 cleaning hours per week plus supervision and documentation requirements. 4 hours Bi weekly industrial clean of hazardous area.
A6: D’Olier Street Donor Clinic, Dublin 2 | B6: All D’Olier Street offices and clinic non-GMP areas, including reception, public-facing support, welfare, meeting/support and administration areas. Excludes GMP, validated, laboratory, production or specialist contamination-control cleaning unless separately authorised by IBTS. | C6: 5 | E6: 52 | G6: =C6*D6*E6*F6 -> 0 | K6: =G6+(H6+I6+J6)*12 -> 0 | L6: Current information indicates 12 cleaning hours per week.
A7: Stillorgan Donor Clinic, Co. Dublin | B7: All Stillorgan offices and clinic non-GMP areas, including reception, public-facing support, welfare, meeting/support and administration areas. Excludes GMP, validated, laboratory, production or specialist contamination-control cleaning unless separately authorised by IBTS. | C7: 5 | E7: 52 | G7: =C7*D7*E7*F7 -> 0 | K7: =G7+(H7+I7+J7)*12 -> 0 | L7: Current information indicates 10 cleaning hours per week.
A8: Cork Centre, St Finbarr’s Hospital Campus, Cork | B8: All Cork offices and clinic non-GMP areas, including administration, welfare, circulation, public-facing support and agreed clinic support areas. Excludes GMP, validated, laboratory, production or specialist contamination-control cleaning unless separately authorised by IBTS. | C8: 5 | E8: 52 | G8: =C8*D8*E8*F8 -> 0 | K8: =G8+(H8+I8+J8)*12 -> 0 | L8: 100 cleaning hours per week plus supervision and documentation requirements.
A9: Tuam Office / Centre / Staff Hub | B9: Tuam Centre offices, welfare, circulation, storage/support and agreed non-GMP areas only. Excludes GMP, laboratory, production, validated and controlled clean areas. | C9: 5 | E9: 52 | G9: =C9*D9*E9*F9 -> 0 | K9: =G9+(H9+I9+J9)*12 -> 0 | L9: Current information indicates 10 cleaning hours per week.
A10: Ardee Office / Centre / Staff Hub | B10: Ardee Centre offices, welfare, circulation, storage/support and agreed non-GMP areas only. Excludes GMP, laboratory, production, validated and controlled clean areas. | C10: 5 | E10: 52 | G10: =C10*D10*E10*F10 -> 0 | K10: =G10+(H10+I10+J10)*12 -> 0 | L10: Current information indicates 7.5 cleaning hours per week.
A11: Carlow Office / Centre / Staff Hub | B11: Carlow Centre offices, welfare, circulation, storage/support and agreed non-GMP areas only. Excludes GMP, laboratory, production, validated and controlled clean areas. | C11: 5 | E11: 52 | G11: =C11*D11*E11*F11 -> 0 | K11: =G11+(H11+I11+J11)*12 -> 0 | L11: Current information indicates 7.5 cleaning hours per week.

Sheet Periodic Services
A1: Periodic / Specialist Non-GMP Cleaning Services
A2: Tenderers must price routine periodic services and required specialist non-GMP cleaning support, including the NBC bi-weekly external commercial hazardous clean to two agreed areas.
A4: Ref | B4: Periodic / Specialist Service | C4: Frequency / Basis | D4: Estimated Annual Quantity | E4: Unit | F4: Unit Rate (€) | G4: Annual Total (€)
A5: P1 | B5: Machine scrub / buff hard floors in non-GMP office and circulation areas | C5: Annual estimate | E5: m² | G5: =D5*F5 -> 0
A6: P2 | B6: Carpet spot cleaning / carpet cleaning in office and meeting areas | C6: Annual estimate | E6: m² | G6: =D6*F6 -> 0
A7: P3 | B7: Washroom deep clean non-GMP areas | C7: Quarterly / as required | E7: No. | G7: =D7*F7 -> 0
A8: P4 | B8: Tea station / welfare area deep clean | C8: Quarterly / as required | E8: No. | G8: =D8*F8 -> 0
A9: P5 | B9: Internal glazing / partition glass cleaning within safe reach | C9: Quarterly / as required | E9: m² | G9: =D9*F9 -> 0
A10: P6 | B10: Chair / upholstery cleaning in offices and meeting rooms | C10: Annual estimate | E10: No. | G10: =D10*F10 -> 0
A11: P7 | B11: High-level dusting in non-GMP office/circulation areas using agreed access method | C11: Biannual / as required | E11: hour | G11: =D11*F11 -> 0
A12: P8 | B12: Post-minor-works office clean / reactive deep clean | C12: As required | E12: hour | G12: =D12*F12 -> 0
A13: P9 | B13: Emergency / urgent non-GMP cleaning response during agreed hours | C13: As required | E13: call-out | G13: =D13*F13 -> 0
A14: P10 | B14: Out-of-hours non-GMP cleaning support | C14: As required | E14: hour | G14: =D14*F14 -> 0
A15: P11 | B15: Initial contract start-up deep clean, non-GMP areas only | C15: Once-off if required | E15: site | G15: =D15*F15 -> 0
A16: P12 | B16: NBC bi-weekly external commercial hazardous clean to two agreed areas | C16: Bi-weekly required service | D16: 26 | E16: service | G16: =D16*F16 -> 0
A17: P13 | B17: Additional periodic service proposed by tenderer | C17: As described | E17: item | G17: =D17*F17 -> 0

Sheet Consumables
A1: Consumables / Materials Pricing
A2: Complete where consumables, chemicals or materials are included within the tendered service.
A4: Ref | B4: Consumable / Material | C4: Specification / Notes | D4: Estimated Annual Quantity | E4: Unit Rate (€) | F4: Annual Total (€)
A5: C1 | B5: Toilet rolls | C5: Office / non-GMP washroom use only | F5: =D5*E5 -> 0
A6: C2 | B6: Hand towels | C6: Office / non-GMP washroom use only | F6: =D6*E6 -> 0
A7: C3 | B7: Hand soap | C7: Office / non-GMP washroom use only | F7: =D7*E7 -> 0
A8: C4 | B8: Hand sanitiser | C8: Where included and agreed by IBTS | F8: =D8*E8 -> 0
A9: C5 | B9: Bin liners | C9: Appropriate to agreed internal waste points | F9: =D9*E9 -> 0
A10: C6 | B10: Cleaning chemicals | C10: Routine non-GMP office/washroom/welfare cleaning | F10: =D10*E10 -> 0
A11: C7 | B11: Microfibre cloths / mops / cleaning materials | C11: Colour-coded and suitable for the task | F11: =D11*E11 -> 0
A12: C8 | B12: Floor cleaning pads / machine consumables | C12: Where machine cleaning is included | F12: =D12*E12 -> 0
A13: C9 | B13: Disposable PPE for cleaning tasks | C13: Where required by RAMS, including disposable PPE for the NBC bi-weekly external commercial hazardous clean. | F13: =D13*E13 -> 0
A14: C10 | B14: Other consumables proposed by tenderer | C14: Fully describe in notes | F14: =D14*E14 -> 0

Sheet Mobilisation & Management
A1: Mobilisation, Transition and Contract Management Costs
A2: Tenderers must clearly identify mobilisation, transition, management and reporting costs.
A4: Ref | B4: Item | C4: Basis | D4: Quantity | E4: Unit Rate (€) | F4: Total (€)
A5: M1 | B5: Contract mobilisation, start-up meetings and implementation planning | C5: Once-off | D5: 1 | F5: =D5*E5 -> 0
A6: M2 | B6: Staff induction, site familiarisation and training | C6: Once-off | D6: 1 | F6: =D6*E6 -> 0
A7: M3 | B7: Initial equipment, cleaning stores and set-up | C7: Once-off | D7: 1 | F7: =D7*E7 -> 0
A8: M4 | B8: Preparation of cleaning schedules, RAMS, colour coding and audit templates | C8: Once-off | D8: 1 | F8: =D8*E8 -> 0
A9: M5 | B9: Transition / handover from incumbent, including TUPE / staff-transfer due diligence and administration where applicable | C9: Once-off | D9: 1 | F9: =D9*E9 -> 0
A10: CM1 | B10: Contract manager attendance and reporting | C10: Annual | D10: 1 | F10: =D10*E10 -> 0
A11: CM2 | B11: Monthly quality audits and KPI reports | C11: Annual | D11: 1 | F11: =D11*E11 -> 0
A12: CM3 | B12: Contract review meetings and corrective action management | C12: Annual | D12: 1 | F12: =D12*E12 -> 0
A13: CM4 | B13: Training refreshers and toolbox talks | C13: Annual | D13: 1 | F13: =D13*E13 -> 0
A14: CM5 | B14: Business continuity / absence cover management allowance | C14: Annual | D14: 1 | F14: =D14*E14 -> 0
A15: CM6 | B15: Other annual management cost proposed by tenderer | C15: Annual | D15: 1 | F15: =D15*E15 -> 0

Sheet Optional Rates
A1: Optional Rates / Daywork / Additional Cleaning Rates
A2: These rates may be used for variations or additional services if instructed by IBTS.
A4: Ref | B4: Role / Service | C4: Normal Hours Rate (€) | D4: Out-of-Hours Rate (€) | E4: Emergency / Short Notice Rate (€) | F4: Unit | G4: Minimum Charge | H4: Notes
A5: OR1 | B5: Cleaning Operative | F5: hour
A6: OR2 | B6: Cleaning Supervisor | F6: hour
A7: OR3 | B7: Contract Manager | F7: hour
A8: OR4 | B8: Periodic cleaning operative / specialist crew | F8: hour
A9: OR5 | B9: Machine floor scrub / buff service | F9: m²
A10: OR6 | B10: Carpet cleaning | F10: m²
A11: OR7 | B11: Internal glazing within safe reach | F11: m²
A12: OR8 | B12: Urgent spill / reactive cleaning call-out | F12: call-out
A13: OR9 | B13: Additional consumables supply / delivery charge | F13: delivery
A14: OR10 | B14: Other rate proposed by tenderer | F14: item
A15: OR11 | B15: Commercial hazardous clean specialist crew | F15: service/hour | H15: Optional/additional rate if IBTS instructs work outside the required bi-weekly NBC service.

Sheet Clarifications
A1: Pricing Clarifications, Inclusions and Exclusions
A2: All assumptions and exclusions must be clearly stated. Unclear or unpriced items may be deemed included.
A4: Ref | B4: Clarification Area | C4: Tenderer Response / Included? | D4: Details / Assumption | E4: Cost Impact Included in Price? | F4: Relevant Sheet / Row | G4: IBTS Notes
A5: CL1 | B5: GMP cleanrooms / validated clean areas excluded from this contract
A6: CL2 | B6: All labour, supervision and management included
A7: CL3 | B7: All routine cleaning chemicals and equipment included
A8: CL4 | B8: Washroom consumables included where priced
A9: CL5 | B9: Out-of-hours working assumptions stated
A10: CL6 | B10: Mandatory site visit attendance confirmed
A11: CL7 | B11: Storage / cleaning cupboard requirements stated
A12: CL8 | B12: Waste and recycling support assumptions stated
A13: CL9 | B13: TUPE / staff transfer assumptions, exclusions, incumbent information requirements and cost impact stated where applicable
A14: CL10 | B14: Any non-priced exclusion clearly explained
A15: CL11 | B15: Included locations are National Blood Centre office-side/Apheresis Clinic, Cork offices and clinic, D’Olier Street offices and clinic, Stillorgan offices and clinic, Tuam, Ardee and Carlow. Limerick is excluded and must not be priced.
A16: CL12 | B16: NBC bi-weekly external commercial hazardous clean included and priced | D16: Tenderer must confirm the required bi-weekly service to two agreed NBC areas is included in Periodic Services P12 and not treated as optional. | F16: Periodic Services!A16:G16

Sheet Scope & Hours
A1: IBTS Non-GMP Cleaning Tender - Confirmed Scope and Hours
A2: Included scope: National Blood Centre office-side areas including the Apheresis Clinic; Cork offices and clinic; D’Olier Street offices and clinic; Stillorgan offices and clinic; Tuam Centre offices; Ardee Centre offices; and Carlow Centre offices. Limerick is excluded from this tender and must not be priced unless separately instructed in writing by IBTS.
A4: Location | B4: Included / Excluded | C4: Tendered Scope | D4: Current / Indicative Hours Information
A5: National Blood Centre, James Street | B5: Included | C5: Office-side areas including the Apheresis Clinic and agreed non-GMP support areas only. | D5: 100 cleaning hours per week plus supervision and documentation requirements. 4 hours Bi weekly industrial clean of hazardous area.
A6: Cork Centre, St Finbarr’s Hospital Campus | B6: Included | C6: All Cork offices and clinic non-GMP areas. | D6: 100 cleaning hours per week plus supervision and documentation requirements.
A7: D’Olier Street Donor Clinic | B7: Included | C7: All offices and clinic non-GMP areas. | D7: Current information indicates 12 cleaning hours per week.
A8: Stillorgan Donor Clinic | B8: Included | C8: All offices and clinic non-GMP areas. | D8: Current information indicates 10 cleaning hours per week.
A9: Tuam Centre | B9: Included | C9: Centre offices and agreed non-GMP support areas only. | D9: Current information indicates 10 cleaning hours per week.
A10: Ardee Centre | B10: Included | C10: Centre offices and agreed non-GMP support areas only. | D10: Current information indicates 7.5 cleaning hours per week.
A11: Carlow Centre | B11: Included | C11: Centre offices and agreed non-GMP support areas only. | D11: Current information indicates 7.5 cleaning hours per week.
A12: NBC bi-weekly external commercial hazardous clean | B12: Included | C12: Two agreed areas within the National Blood Centre only; non-GMP specialist/periodic commercial cleaning requirement. | D12: Current information is 4 hours biweekly
