Workbook

Sheet Instructions
B1: Appendix 2 Pricing Schedule - RFT for the Provision of an Employee Assistance Service Client Case Management System (CCMS) for the Civil Service Employee Assistance Service (CSEAS), Department of Public Expenditure, Infrastructure, Public Service Reform and Digitalisation (DPER)
B2: This document is for information purposes only and should only be completed by those invited to Stage 2 of this Competitive Procedure
B3: Worksheet Name | C3: Instructions to Tenderers
B4: N/A | C4: General Instructions Tenderers may only provide their Pricing Response using the yellow cells provided in the following Worksheets (Tabs) - Annual Subscriptions - Additional Subscriptions - Roles - Rate Card - Detailed Implementation Costs The Worksheets "Professional Grade Levels" and "Costs for Evaluation" MUST NOT be edited or updated in any way by Tenderers. Values MUST NOT be entered in any cell not coloured yellow. Specific instructions for the completion of each worksheet are included below and MUST BE followed. Note: As set out in Appendix 2, Section A. of the RFT, the User numbers provided in the Worksheet "Annual Subscriptions" are the expected numbers of Users, by User category for the years shown. Tenderers should note, however, that the actual number of Users in each User category may grow above the upper limits shown above. Provision has been made in Worksheet “Additional Subscriptions” for Tenderers to provide pricing in their Response for such an increase. Tenderers should also note, however, that the Contracting Authority reserves the right to reduce the number of User Subscriptions should the actual User numbers fall below the levels set out above. In this scenario, any consequent reduction in the Annual User Licence Fees will be agreed with the Successful Tenderer and will be based on the Average Annual Licence Fee Per User provided by the Tenderer in the Worksheet “Annual Subscriptions” .
B5: Costs For Evaluation | C5: Costs for Evaluation Worksheet The worksheet "Costs for Evaluation" contains the Contracting Authority's calculations for the Total Cost of Ownership for a ten year period. The only value which will be evaluated in respect of Cost is the "Total SaaS Solution Cost" value on Row 2 of this Worksheet. The Total SaaS Solution Cost is a combination of the Total annual Subscription Cost over a ten year period and the Total Implementation Cost. It is the Tenderer's responsibility to ensure that the Total SaaS Solution Cost and the various sub-totals contained in this Worksheet accurately represent their pricing proposal. Any apparent errors or omissions on the pricing template must be clarified with the Contracting Authority and the Tenderer must not edit the template or make any assumptions in this regard.
B6: Annual Subscriptions | C6: Annual Subscriptions Worksheet NOTE: ALL annual subscriptions must be included on this worksheet. The scope and scale of the SaaS solution is set out clearly in the RFT, and its Appendices and the Tenderer must ensure that the full annual cost of the SaaS solution, as specified in the Tenderers Response is detailed here for years 1 to 10 inclusive. In this "Annual Subscriptions" worksheet, the individual annual licence fees for each user type must be provided in cells C11 to AI12 inclusive, including a description and pricing breakdown. All of these cells must be populated by the Tenderer. The annual price for each user type must equate to the total of all annual licence fees for that user type based on the volumes provided by the Contracting Authority in this Worksheet. In this "Annual Subscriptions" worksheet, for "Administration Support", the annual fees must be provided in cells C15 to AH15 inclusive. Tenderers are advised to refer to the RFT Appendix 1 Section 3.3.4 SR02 Administration Support for requirement details. For Enterprise and Other Non-User Based Subscriptions, a list of all proposed items in this price category, together with the corresponding price of each individual item, must be provided in the "Annual Subscriptions" worksheet. Where any such item is not priced individually then the price of combined sub-items must be provided at the most granular level possible. The price of any third party software licences, if applicable, must also be provided. The Contracting Authority recognises that not all Tenderers will require all of the response fields provided from cell C20 to AI39 in the Worksheet "Annual Subscriptions" and Tenderers are advised that it is their sole responsibility to ensure that ALL relevant pricing is included. Tenderers are reminded that "Enterprise and Other Non-User Based Subscriptions" form an integral component of the Total SaaS Solution Cost which is the basis of the fixed Services Contract value for the Successful Tenderer. Below is a non-exhaustive list of examples of Enterprise and Other Non-User Based Subscriptions for illustrative purposes only. Each Tenderer will make its own determination with regard to the pricing items which will be added here. For ALL PROPOSED items, enter the quantity and unit price for each item. • Infrastructure • APIs / Interfaces • CPU • Storage • Memory (RAM) • Network Bandwidth • Third Party Licences Note: Annual Subscription Pricing for years 1 to 5 is fixed. Annual Subscription Pricing for years 6 to 10 is subject to the pricing conditions set out in Appendix 2 of the RFT and the Contracting Authority's right to extend the Term of the Services Contract beyond 5 years.
B7: Roles | C7: Roles Worksheet In the workbook "Roles" Tenderers must enter a full list of all proposed roles in the yellow cells C4 to C33 under the heading "Tenderer Specific Roles". The "Roles" entered will auto populate fields in both the 'Rate Card' and 'Detailed Implementation Costs' worksheet. This list of roles must include ALL roles proposed by the Tenderer for both: a. the Implementation of the SaaS Solution; and b. the provision of the 200 days of post-implementation services detailed at Section C. of Appendix 2 of the RFT. The Tenderer need only provide names of the Roles which they are proposing for the purposes of this Competition. For example, It is not required to provide 30 roles if only 15 are proposed for this Competition. For the avoidance of doubt, the contents of the "Roles" Worksheet will NOT be evaluated.
B8: Rate Card | C8: Rate Card Worksheet In the Workbook "Rate Card" Tenderers are required to: 1. Use the dropdown list in Column B to enter each Role (auto populated from the "Roles" worksheet) and associated Professional Grade Level that they propose to provide for both the Implementation Project and for Post-Implementation Per Diem Rate days. 2. Provide the Per Diem rates for on-site (on Contracting Authority's Premises) and off-site (away from Contracting Authority's premises) work which will apply as the maximum Per Diem Rate for each combination of Role and Professional Grade Level for the Term of the Services Contract. 3. Note that the Per Diem Rate provided in the Rate Card must not exceed the daily rate provided in the "Detailed Implementation Costs" for each combination of Role and Professional Grade Level. The Tenderer need only complete the rate card in respect of the Roles set out by it in the "Roles" Worksheet. However, it is necessary to provide a rate in respect of ALL Professional Grade Levels for each Role proposed. For the avoidance of doubt, The Rate Card will NOT be evaluated.
B9: Detailed Implementation Costs | C9: Detailed Implementation Costs Worksheet Before Completing this Worksheet Tenderers MUST FIRST COMPLETE the "Roles" and "Rate Card" Worksheets in full. In the Workbook "Detailed Implementation Costs" Tenderers are required to provide the following details for each Project Phase. 1. Use the dropdown list in Column C to select each role and associated Professional Grade Level that they propose to provide for the Implementation Project. 2. Enter the name of the person who will perform the role at the specified Professional Grade Level 3. Provide details of the work to be completed during the project phase by that named individual 4. Provide the number of days allocated to that named resource for the project phase 5. Provide the Per Diem Rate (daily rate) for that named resource for the duration of the Implementation Project 6. Provide "On-Site" or "Off-Site" location for the work for each named resource. Where a single named resource will be both On-Site and Off-Site during a Project Phase, ensure that each is recorded separately - i.e. 2 lines for one named resource within a phase. The Contracting Authority recognises that not all Tenderers will require all of the response fields provided in the Worksheet "Detailed Implementation Costs" and Tenderers are advised that it is their sole responsibility to ensure that ALL relevant pricing is included. Tenderers are reminded that "Detailed Implementation Costs" form an integral component of the Total SaaS Solution Cost which is the basis of the fixed Services Contract value for the Successful Tenderer.
B10: Additional Subscriptions | C10: Additional Subscriptions Worksheet In the workbook "Additional Subscriptions" Tenderers are required to provide the annual per-subscription price of each subscription type proposed by the Tenderer in the "Annual Subscriptions" Worksheet. Each subscription type, whether User based or otherwise, must be accompanied by the relevant detail regarding any banding considerations to be set out by the Tenderer in the "Quantity From" and "Quantity To" fields provided. In respect of User Subscriptions only, the price for additional subscriptions over the stated maximum values for each User type should be provided, i.e. from subscription number 4 for Admin Users, from subscription number 18 for Full Users. For example, if a Tenderer has per-subscriber pricing from 4 to 10 Admin Users, with a different level of pricing from 11 to 15 Admin Users and a further price point for Admin Users 16 to 20 then the table should be completed as follows: For the avoidance of doubt, the contents of the "Additional Subscriptions" Worksheet will NOT be evaluated.

Sheet Costs for Evaluation
B2: Total SaaS Solution Cost | F2: =C9+C17 -> 0
B5: User Subscriptions | C5: TOTAL | D5: Year 1 | E5: Year 2 | F5: Year 3 | G5: Year 4 | H5: Year 5 | I5: Year 6 | J5: Year 7 | K5: Year 8 | L5: Year 9 | M5: Year 10
B6: Total User Subscriptions | C6: =SUM(D6:M6) -> 0 | D6: =SUM('Annual Subscriptions'!I11:I12) -> 0 | E6: =SUM('Annual Subscriptions'!L11:L12) -> 0 | F6: =SUM('Annual Subscriptions'!O11:O12) -> 0 | G6: =SUM('Annual Subscriptions'!R11:R12) -> 0 | H6: =SUM('Annual Subscriptions'!U11:U12) -> 0 | I6: =SUM('Annual Subscriptions'!X11:X12) -> 0 | J6: =SUM('Annual Subscriptions'!AA11:AA12) -> 0 | K6: =SUM('Annual Subscriptions'!AD11:AD12) -> 0 | L6: =SUM('Annual Subscriptions'!AG11:AG12) -> 0 | M6: =SUM('Annual Subscriptions'!AJ11:AJ12) -> 0
B7: Total Administration Support | C7: =SUM(D7:M7) -> 0 | D7: ='Annual Subscriptions'!G15 -> 0 | E7: ='Annual Subscriptions'!J15 -> 0 | F7: ='Annual Subscriptions'!M15 -> 0 | G7: ='Annual Subscriptions'!P15 -> 0 | H7: ='Annual Subscriptions'!S15 -> 0 | I7: ='Annual Subscriptions'!V15 -> 0 | J7: ='Annual Subscriptions'!Y15 -> 0 | K7: ='Annual Subscriptions'!AB15 -> 0 | L7: ='Annual Subscriptions'!AE15 -> 0 | M7: ='Annual Subscriptions'!AH15 -> 0
B8: Annual Enterprise and Other Non-User Based Subscriptions | C8: =SUM(D8:M8) -> 0 | D8: =SUM('Annual Subscriptions'!I20:I39) -> 0 | E8: =SUM('Annual Subscriptions'!L20:L39) -> 0 | F8: =SUM('Annual Subscriptions'!O20:O39) -> 0 | G8: =SUM('Annual Subscriptions'!R20:R39) -> 0 | H8: =SUM('Annual Subscriptions'!U20:U39) -> 0 | I8: =SUM('Annual Subscriptions'!X20:X39) -> 0 | J8: =SUM('Annual Subscriptions'!AA20:AA39) -> 0 | K8: =SUM('Annual Subscriptions'!AD20:AD39) -> 0 | L8: =SUM('Annual Subscriptions'!AG20:AG39) -> 0 | M8: =SUM('Annual Subscriptions'!AJ20:AJ39) -> 0
B9: Total Annual Subscription Cost | C9: =SUM(C6:C8) -> 0 | D9: =D6+D8 -> 0 | E9: =E6+E8 -> 0 | F9: =F6+F8 -> 0 | G9: =G6+G8 -> 0 | H9: =H6+H8 -> 0 | I9: =I6+I8 -> 0 | J9: =J6+J8 -> 0 | K9: =K6+K8 -> 0 | ... M9: =M6+M8 -> 0
B11: Detailed Implementation Costs
B12: Phase | C12: Total Cost
B13: Phase 1 | C13: ='Detailed Implementation Costs'!J17 -> 0
B14: Phase 2 | C14: ='Detailed Implementation Costs'!J31 -> 0
B15: Phase 3 | C15: ='Detailed Implementation Costs'!J45 -> 0
B16: Miscellaneous One Off costs | C16: ='Detailed Implementation Costs'!J61 -> 0
B17: Total Implementation Cost | C17: =SUM(C13:C16) -> 0

Sheet Annual Subscriptions
B2: Total Annual Subscription Cost for 10 Years | G2: =SUM(I11:I12,L11:L12,O11:O12,R11:R12,U11:U12,X11:X12,AA11:AA12,AD11:AD12,AG11:AG12,AJ11:AJ12)+SUM(I20:I39,L20:L39,O20:O39,R20:R39,U20:U39,X20:X39,AA20:AA39,AD20:AD39,AG20:AG39,AJ20:AJ39) -> 0
B4: User Functional Areas | C4: Admin Users | D4: Full Users | E4: Total Users
B5: Contracting Authority Users | C5: 3 | D5: 17 | E5: =SUM(B5:D5) -> 20
B6: Total Users | C6: =SUM(C5:C5) -> 3 | D6: =SUM(D5:D5) -> 17 | E6: =SUM(E5:E5) -> 20
B9: User Subscription Category | C9: Description of User Subscription with full pricing breakdown, including any software modules | G9: Annual User Licence Fees Year 1 | J9: Annual User Licence Fees Year 2 | M9: Annual User Licence Fees Year 3 | P9: Annual User Licence Fees Year 4 | S9: Annual User Licence Fees Year 5 | V9: Annual User Licence Fees Year 6 | Y9: Annual User Licence Fees Year 7 | AB9: Annual User Licence Fees Year 8 | AE9: Annual User Licence Fees Year 9 | AH9: Annual User Licence Fees Year 10
G10: Quantity | H10: Average Annual Licence Fee Per User | I10: Total | J10: Quantity | K10: Average Annual Licence Fee Per User | L10: Total | M10: Quantity | N10: Average Annual Licence Fee Per User | O10: Total | P10: Quantity | Q10: Average Annual Licence Fee Per User | R10: Total | S10: Quantity | T10: Average Licence Fee | U10: Total | V10: Quantity | W10: Average Annual Licence Fee Per User | X10: Total | Y10: Quantity | Z10: Average Annual Licence Fee Per User | AA10: Total | AB10: Quantity | AC10: Average Annual Licence Fee Per User | AD10: Total | AE10: Quantity | AF10: Average Annual Licence Fee Per User | AG10: Total | AH10: Quantity | AI10: Average Annual Licence Fee Per User | AJ10: Total
B11: Admin Users | G11: 3 | H11: 0 | I11: =G11*H11 -> 0 | J11: 3 | K11: 0 | L11: =J11*K11 -> 0 | M11: 3 | N11: 0 | O11: =M11*N11 -> 0 | P11: 3 | Q11: 0 | R11: =P11*Q11 -> 0 | S11: 3 | T11: 0 | U11: =S11*T11 -> 0 | V11: 3 | W11: 0 | X11: =V11*W11 -> 0 | Y11: 3 | Z11: 0 | AA11: =Y11*Z11 -> 0 | AB11: 3 | AC11: 0 | AD11: =AB11*AC11 -> 0 | AE11: 3 | AF11: 0 | AG11: =AE11*AF11 -> 0 | AH11: 3 | AI11: 0 | AJ11: =AH11*AI11 -> 0
B12: Full Users | G12: 17 | H12: 0 | I12: =G12*H12 -> 0 | J12: 17 | K12: 0 | L12: =J12*K12 -> 0 | M12: 17 | N12: 0 | O12: =M12*N12 -> 0 | P12: 17 | Q12: 0 | R12: =P12*Q12 -> 0 | S12: 17 | T12: 0 | U12: =S12*T12 -> 0 | V12: 17 | W12: 0 | X12: =V12*W12 -> 0 | Y12: 17 | Z12: 0 | AA12: =Y12*Z12 -> 0 | AB12: 17 | AC12: 0 | AD12: =AB12*AC12 -> 0 | AE12: 17 | AF12: 0 | AG12: =AE12*AF12 -> 0 | AH12: 17 | AI12: 0 | AJ12: =AH12*AI12 -> 0
B14: Administration Support | C14: Description of Administration Support with full pricing breakdown | G14: Administration Support Year 1 | J14: Administration Support Year 2 | M14: Administration Support Year 3 | P14: Administration Support Year 4 | S14: Administration Support Year 5 | V14: Administration Support Year 6 | Y14: Administration Support Year 7 | AB14: Administration Support Year 8 | AE14: Administration Support Year 9 | AH14: Administration Support Year 10
B15: Year 1 - 10 Cost for Administration Support - up to 5 days per year (to be drawn down as full or half days by the Contracting Authority) Included in the Evaluation of Costs. | G15: 0 | J15: 0 | M15: 0 | P15: 0 | S15: 0 | V15: 0 | Y15: 0 | AB15: 0 | AE15: 0 | AH15: 0
B18: Enterprise and Other Non-User Based Subscriptions | C18: Description of Non-User Based Subscription with full pricing breakdown, including any software modules | G18: Annual Fees Year 1 | J18: Annual Fees Year 2 | M18: Annual Fees Year 3 | P18: Annual Fees Year 4 | S18: Annual Fees Year 5 | V18: Annual Fees Year 6 | Y18: Annual Fees Year 7 | AB18: Annual Fees Year 8 | AE18: Annual Fees Year 9 | AH18: Annual Fees Year 10
G19: Quantity | H19: Unit Price | I19: Total | J19: Quantity | K19: Unit Price | L19: Total | M19: Quantity | N19: Unit Price | O19: Total | P19: Quantity | Q19: Unit Price | R19: Total | S19: Quantity | T19: Unit Price | U19: Total | V19: Quantity | W19: Unit Price | X19: Total | Y19: Quantity | Z19: Unit Price | AA19: Total | AB19: Quantity | AC19: Unit Price | AD19: Total | AE19: Quantity | AF19: Unit Price | AG19: Total | AH19: Quantity | AI19: Unit Price | AJ19: Total
B20: Annual non-user based fees #1 | H20: 0 | I20: =G20*H20 -> 0 | K20: 0 | L20: =J20*K20 -> 0 | N20: 0 | O20: =M20*N20 -> 0 | Q20: 0 | R20: =P20*Q20 -> 0 | T20: 0 | U20: =S20*T20 -> 0 | W20: 0 | X20: =V20*W20 -> 0 | Z20: 0 | AA20: =Y20*Z20 -> 0 | AC20: 0 | AD20: =AB20*AC20 -> 0 | AF20: 0 | AG20: =AE20*AF20 -> 0 | AI20: 0 | AJ20: =AH20*AI20 -> 0
B21: Annual non-user based fees #2 | H21: 0 | I21: =G21*H21 -> 0 | K21: 0 | L21: =J21*K21 -> 0 | N21: 0 | O21: =M21*N21 -> 0 | Q21: 0 | R21: =P21*Q21 -> 0 | T21: 0 | U21: =S21*T21 -> 0 | W21: 0 | X21: =V21*W21 -> 0 | Z21: 0 | AA21: =Y21*Z21 -> 0 | AC21: 0 | AD21: =AB21*AC21 -> 0 | AF21: 0 | AG21: =AE21*AF21 -> 0 | AI21: 0 | AJ21: =AH21*AI21 -> 0
B22: Annual non-user based fees #3 | H22: 0 | I22: =G22*H22 -> 0 | K22: 0 | L22: =J22*K22 -> 0 | N22: 0 | O22: =M22*N22 -> 0 | Q22: 0 | R22: =P22*Q22 -> 0 | T22: 0 | U22: =S22*T22 -> 0 | W22: 0 | X22: =V22*W22 -> 0 | Z22: 0 | AA22: =Y22*Z22 -> 0 | AC22: 0 | AD22: =AB22*AC22 -> 0 | AF22: 0 | AG22: =AE22*AF22 -> 0 | AI22: 0 | AJ22: =AH22*AI22 -> 0
B23: Annual non-user based fees #4 | H23: 0 | I23: =G23*H23 -> 0 | K23: 0 | L23: =J23*K23 -> 0 | N23: 0 | O23: =M23*N23 -> 0 | Q23: 0 | R23: =P23*Q23 -> 0 | T23: 0 | U23: =S23*T23 -> 0 | W23: 0 | X23: =V23*W23 -> 0 | Z23: 0 | AA23: =Y23*Z23 -> 0 | AC23: 0 | AD23: =AB23*AC23 -> 0 | AF23: 0 | AG23: =AE23*AF23 -> 0 | AI23: 0 | AJ23: =AH23*AI23 -> 0
B24: Annual non-user based fees #5 | H24: 0 | I24: =G24*H24 -> 0 | K24: 0 | L24: =J24*K24 -> 0 | N24: 0 | O24: =M24*N24 -> 0 | Q24: 0 | R24: =P24*Q24 -> 0 | T24: 0 | U24: =S24*T24 -> 0 | W24: 0 | X24: =V24*W24 -> 0 | Z24: 0 | AA24: =Y24*Z24 -> 0 | AC24: 0 | AD24: =AB24*AC24 -> 0 | AF24: 0 | AG24: =AE24*AF24 -> 0 | AI24: 0 | AJ24: =AH24*AI24 -> 0
B25: Annual non-user based fees #6 | H25: 0 | I25: =G25*H25 -> 0 | K25: 0 | L25: =J25*K25 -> 0 | N25: 0 | O25: =M25*N25 -> 0 | Q25: 0 | R25: =P25*Q25 -> 0 | T25: 0 | U25: =S25*T25 -> 0 | W25: 0 | X25: =V25*W25 -> 0 | Z25: 0 | AA25: =Y25*Z25 -> 0 | AC25: 0 | AD25: =AB25*AC25 -> 0 | AF25: 0 | AG25: =AE25*AF25 -> 0 | AI25: 0 | AJ25: =AH25*AI25 -> 0
B26: Annual non-user based fees #7 | H26: 0 | I26: =G26*H26 -> 0 | K26: 0 | L26: =J26*K26 -> 0 | N26: 0 | O26: =M26*N26 -> 0 | Q26: 0 | R26: =P26*Q26 -> 0 | T26: 0 | U26: =S26*T26 -> 0 | W26: 0 | X26: =V26*W26 -> 0 | Z26: 0 | AA26: =Y26*Z26 -> 0 | AC26: 0 | AD26: =AB26*AC26 -> 0 | AF26: 0 | AG26: =AE26*AF26 -> 0 | AI26: 0 | AJ26: =AH26*AI26 -> 0
B27: Annual non-user based fees #8 | H27: 0 | I27: =G27*H27 -> 0 | K27: 0 | L27: =J27*K27 -> 0 | N27: 0 | O27: =M27*N27 -> 0 | Q27: 0 | R27: =P27*Q27 -> 0 | T27: 0 | U27: =S27*T27 -> 0 | W27: 0 | X27: =V27*W27 -> 0 | Z27: 0 | AA27: =Y27*Z27 -> 0 | AC27: 0 | AD27: =AB27*AC27 -> 0 | AF27: 0 | AG27: =AE27*AF27 -> 0 | AI27: 0 | AJ27: =AH27*AI27 -> 0
B28: Annual non-user based fees #9 | H28: 0 | I28: =G28*H28 -> 0 | K28: 0 | L28: =J28*K28 -> 0 | N28: 0 | O28: =M28*N28 -> 0 | Q28: 0 | R28: =P28*Q28 -> 0 | T28: 0 | U28: =S28*T28 -> 0 | W28: 0 | X28: =V28*W28 -> 0 | Z28: 0 | AA28: =Y28*Z28 -> 0 | AC28: 0 | AD28: =AB28*AC28 -> 0 | AF28: 0 | AG28: =AE28*AF28 -> 0 | AI28: 0 | AJ28: =AH28*AI28 -> 0
B29: Annual non-user based fees #10 | H29: 0 | I29: =G29*H29 -> 0 | K29: 0 | L29: =J29*K29 -> 0 | N29: 0 | O29: =M29*N29 -> 0 | Q29: 0 | R29: =P29*Q29 -> 0 | T29: 0 | U29: =S29*T29 -> 0 | W29: 0 | X29: =V29*W29 -> 0 | Z29: 0 | AA29: =Y29*Z29 -> 0 | AC29: 0 | AD29: =AB29*AC29 -> 0 | AF29: 0 | AG29: =AE29*AF29 -> 0 | AI29: 0 | AJ29: =AH29*AI29 -> 0
B30: Annual non-user based fees #11 | H30: 0 | I30: =G30*H30 -> 0 | K30: 0 | L30: =J30*K30 -> 0 | N30: 0 | O30: =M30*N30 -> 0 | Q30: 0 | R30: =P30*Q30 -> 0 | T30: 0 | U30: =S30*T30 -> 0 | W30: 0 | X30: =V30*W30 -> 0 | Z30: 0 | AA30: =Y30*Z30 -> 0 | AC30: 0 | AD30: =AB30*AC30 -> 0 | AF30: 0 | AG30: =AE30*AF30 -> 0 | AI30: 0 | AJ30: =AH30*AI30 -> 0
B31: Annual non-user based fees #12 | H31: 0 | I31: =G31*H31 -> 0 | K31: 0 | L31: =J31*K31 -> 0 | N31: 0 | O31: =M31*N31 -> 0 | Q31: 0 | R31: =P31*Q31 -> 0 | T31: 0 | U31: =S31*T31 -> 0 | W31: 0 | X31: =V31*W31 -> 0 | Z31: 0 | AA31: =Y31*Z31 -> 0 | AC31: 0 | AD31: =AB31*AC31 -> 0 | AF31: 0 | AG31: =AE31*AF31 -> 0 | AI31: 0 | AJ31: =AH31*AI31 -> 0
... B39: Annual non-user based fees #20 | H39: 0 | I39: =G39*H39 -> 0 | K39: 0 | L39: =J39*K39 -> 0 | N39: 0 | O39: =M39*N39 -> 0 | Q39: 0 | R39: =P39*Q39 -> 0 | T39: 0 | U39: =S39*T39 -> 0 | W39: 0 | X39: =V39*W39 -> 0 | Z39: 0 | AA39: =Y39*Z39 -> 0 | AC39: 0 | AD39: =AB39*AC39 -> 0 | AF39: 0 | AG39: =AE39*AF39 -> 0 | AI39: 0 | AJ39: =AH39*AI39 -> 0

Sheet Roles
C2: Tenderer Specific Roles | F2: SAMPLE ROLES
C3: SPECIFY ROLE NAME
B4: Role 1 | F4: Account Manager
B5: Role 2 | F5: Business Analyst
B6: Role 3 | F6: Cloud Architect
B7: Role 4 | F7: Data Administrator
B8: Role 5 | F8: Data Architect
B9: Role 6 | F9: Data Specialist
B10: Role 7 | F10: DevOps Engineer
B11: Role 8 | F11: Digital Consultant
B12: Role 9 | F12: Digital Skills Officer
B13: Role 10 | F13: Enterprise Architect
B14: Role 11 | F14: Network Architect
B15: Role 12 | F15: Network Engineer
... B31: Role 28 | F31: Trainer
B32: Role 29
B33: Role 30

Sheet Rate Card
B2: Please select the required number of roles: | C2: 20
B3: Link to Professional Grade Level Definitions
B4: Rate Card
B5: Role Name | C5: Professional Grade Level 1-5 | D5: Select Role/Level | E5: ON SITE Per Diem Rate | F5: OFF SITE Per Diem Rate | AC5: https://itprofessionalism.org/about-it-professionalism/competences/ict-profiles/
B6: SPECIFY ROLE NAME | C6: 5 | D6: =B$6&" Level "&C6 -> SPECIFY ROLE NAME Level 5 | E6: 1000 | F6: 900
C7: 4 | D7: =B$6&" Level "&C7 -> SPECIFY ROLE NAME Level 4 | E7: 0 | F7: 0
C8: 3 | D8: =B$6&" Level "&C8 -> SPECIFY ROLE NAME Level 3 | E8: 0 | F8: 0
C9: 2 | D9: =B$6&" Level "&C9 -> SPECIFY ROLE NAME Level 2 | E9: 0 | F9: 0
C10: 1 | D10: =B$6&" Level "&C10 -> SPECIFY ROLE NAME Level 1 | E10: 0 | F10: 0
B11: SPECIFY ROLE NAME | C11: 5 | D11: =B$11&" Level "&C11 -> SPECIFY ROLE NAME Level 5 | E11: 0 | F11: 0
C12: 4 | D12: =B$11&" Level "&C12 -> SPECIFY ROLE NAME Level 4 | E12: 0 | F12: 0
C13: 3 | D13: =B$11&" Level "&C13 -> SPECIFY ROLE NAME Level 3 | E13: 0 | F13: 0
C14: 2 | D14: =B$11&" Level "&C14 -> SPECIFY ROLE NAME Level 2 | E14: 0 | F14: 0
C15: 1 | D15: =B$11&" Level "&C15 -> SPECIFY ROLE NAME Level 1 | E15: 0 | F15: 0
B16: SPECIFY ROLE NAME | C16: 5 | D16: =B$16&" Level "&C16 -> SPECIFY ROLE NAME Level 5 | E16: 0 | F16: 0
C17: 4 | D17: =B$16&" Level "&C17 -> SPECIFY ROLE NAME Level 4 | E17: 0 | F17: 0
C18: 3 | D18: =B$16&" Level "&C18 -> SPECIFY ROLE NAME Level 3 | E18: 0 | F18: 0
C19: 2 | D19: =B$16&" Level "&C19 -> SPECIFY ROLE NAME Level 2 | E19: 0 | F19: 0
C20: 1 | D20: =B$16&" Level "&C20 -> SPECIFY ROLE NAME Level 1 | E20: 0 | F20: 0
B21: SPECIFY ROLE NAME | C21: 5 | D21: =B$21&" Level "&C21 -> SPECIFY ROLE NAME Level 5 | E21: 0 | F21: 0
C22: 4 | D22: =B$21&" Level "&C22 -> SPECIFY ROLE NAME Level 4 | E22: 0 | F22: 0
C23: 3 | D23: =B$21&" Level "&C23 -> SPECIFY ROLE NAME Level 3 | E23: 0 | F23: 0
C24: 2 | D24: =B$21&" Level "&C24 -> SPECIFY ROLE NAME Level 2 | E24: 0 | F24: 0
C25: 1 | D25: =B$21&" Level "&C25 -> SPECIFY ROLE NAME Level 1 | E25: 0 | F25: 0
B26: SPECIFY ROLE NAME | C26: 5 | D26: =B$26&" Level "&C26 -> SPECIFY ROLE NAME Level 5 | E26: 0 | F26: 0
C27: 4 | D27: =B$26&" Level "&C27 -> SPECIFY ROLE NAME Level 4 | E27: 0 | F27: 0
C28: 3 | D28: =B$26&" Level "&C28 -> SPECIFY ROLE NAME Level 3 | E28: 0 | F28: 0
C29: 2 | D29: =B$26&" Level "&C29 -> SPECIFY ROLE NAME Level 2 | E29: 0 | F29: 0
C30: 1 | D30: =B$26&" Level "&C30 -> SPECIFY ROLE NAME Level 1 | E30: 0 | F30: 0
B31: SPECIFY ROLE NAME | C31: 5 | D31: =B$31&" Level "&C31 -> SPECIFY ROLE NAME Level 5 | E31: 0 | F31: 0
C32: 4 | D32: =B$31&" Level "&C32 -> SPECIFY ROLE NAME Level 4 | E32: 0 | F32: 0
C33: 3 | D33: =B$31&" Level "&C33 -> SPECIFY ROLE NAME Level 3 | E33: 0 | F33: 0
C34: 2 | D34: =B$31&" Level "&C34 -> SPECIFY ROLE NAME Level 2 | E34: 0 | F34: 0
C35: 1 | D35: =B$31&" Level "&C35 -> SPECIFY ROLE NAME Level 1 | E35: 0 | F35: 0
B36: SPECIFY ROLE NAME | C36: 5 | D36: =B$36&" Level "&C36 -> SPECIFY ROLE NAME Level 5 | E36: 0 | F36: 0
C37: 4 | D37: =B$36&" Level "&C37 -> SPECIFY ROLE NAME Level 4 | E37: 0 | F37: 0
C38: 3 | D38: =B$36&" Level "&C38 -> SPECIFY ROLE NAME Level 3 | E38: 0 | F38: 0
C39: 2 | D39: =B$36&" Level "&C39 -> SPECIFY ROLE NAME Level 2 | E39: 0 | F39: 0
C40: 1 | D40: =B$36&" Level "&C40 -> SPECIFY ROLE NAME Level 1 | E40: 0 | F40: 0
B41: SPECIFY ROLE NAME | C41: 5 | D41: =B$41&" Level "&C41 -> SPECIFY ROLE NAME Level 5 | E41: 0 | F41: 0
C42: 4 | D42: =B$41&" Level "&C42 -> SPECIFY ROLE NAME Level 4 | E42: 0 | F42: 0
C43: 3 | D43: =B$41&" Level "&C43 -> SPECIFY ROLE NAME Level 3 | E43: 0 | F43: 0
C44: 2 | D44: =B$41&" Level "&C44 -> SPECIFY ROLE NAME Level 2 | E44: 0 | F44: 0
C45: 1 | D45: =B$41&" Level "&C45 -> SPECIFY ROLE NAME Level 1 | E45: 0 | F45: 0
B46: SPECIFY ROLE NAME | C46: 5 | D46: =B$46&" Level "&C46 -> SPECIFY ROLE NAME Level 5 | E46: 0 | F46: 0
C47: 4 | D47: =B$46&" Level "&C47 -> SPECIFY ROLE NAME Level 4 | E47: 0 | F47: 0
C48: 3 | D48: =B$46&" Level "&C48 -> SPECIFY ROLE NAME Level 3 | E48: 0 | F48: 0
C49: 2 | D49: =B$46&" Level "&C49 -> SPECIFY ROLE NAME Level 2 | E49: 0 | F49: 0
C50: 1 | D50: =B$46&" Level "&C50 -> SPECIFY ROLE NAME Level 1 | E50: 0 | F50: 0
B51: SPECIFY ROLE NAME | C51: 5 | D51: =B$51&" Level "&C51 -> SPECIFY ROLE NAME Level 5 | E51: 0 | F51: 0
C52: 4 | D52: =B$51&" Level "&C52 -> SPECIFY ROLE NAME Level 4 | E52: 0 | F52: 0
C53: 3 | D53: =B$51&" Level "&C53 -> SPECIFY ROLE NAME Level 3 | E53: 0 | F53: 0
C54: 2 | D54: =B$51&" Level "&C54 -> SPECIFY ROLE NAME Level 2 | E54: 0 | F54: 0
C55: 1 | D55: =B$51&" Level "&C55 -> SPECIFY ROLE NAME Level 1 | E55: 0 | F55: 0
B56: SPECIFY ROLE NAME | C56: 5 | D56: =B$56&" Level "&C56 -> SPECIFY ROLE NAME Level 5 | E56: 0 | F56: 0
C57: 4 | D57: =B$56&" Level "&C57 -> SPECIFY ROLE NAME Level 4 | E57: 0 | F57: 0
C58: 3 | D58: =B$56&" Level "&C58 -> SPECIFY ROLE NAME Level 3 | E58: 0 | F58: 0
C59: 2 | D59: =B$56&" Level "&C59 -> SPECIFY ROLE NAME Level 2 | E59: 0 | F59: 0
C60: 1 | D60: =B$56&" Level "&C60 -> SPECIFY ROLE NAME Level 1 | E60: 0 | F60: 0
B61: SPECIFY ROLE NAME | C61: 5 | D61: =B$61&" Level "&C61 -> SPECIFY ROLE NAME Level 5 | E61: 0 | F61: 0
C62: 4 | D62: =B$61&" Level "&C62 -> SPECIFY ROLE NAME Level 4 | E62: 0 | F62: 0
C63: 3 | D63: =B$61&" Level "&C63 -> SPECIFY ROLE NAME Level 3 | E63: 0 | F63: 0
C64: 2 | D64: =B$61&" Level "&C64 -> SPECIFY ROLE NAME Level 2 | E64: 0 | F64: 0
C65: 1 | D65: =B$61&" Level "&C65 -> SPECIFY ROLE NAME Level 1 | E65: 0 | F65: 0
B66: SPECIFY ROLE NAME | C66: 5 | D66: =B$66&" Level "&C66 -> SPECIFY ROLE NAME Level 5 | E66: 0 | F66: 0
C67: 4 | D67: =B$66&" Level "&C67 -> SPECIFY ROLE NAME Level 4 | E67: 0 | F67: 0
C68: 3 | D68: =B$66&" Level "&C68 -> SPECIFY ROLE NAME Level 3 | E68: 0 | F68: 0
C69: 2 | D69: =B$66&" Level "&C69 -> SPECIFY ROLE NAME Level 2 | E69: 0 | F69: 0
C70: 1 | D70: =B$66&" Level "&C70 -> SPECIFY ROLE NAME Level 1 | E70: 0 | F70: 0
B71: SPECIFY ROLE NAME | C71: 5 | D71: =B$71&" Level "&C71 -> SPECIFY ROLE NAME Level 5 | E71: 0 | F71: 0
C72: 4 | D72: =B$71&" Level "&C72 -> SPECIFY ROLE NAME Level 4 | E72: 0 | F72: 0
C73: 3 | D73: =B$71&" Level "&C73 -> SPECIFY ROLE NAME Level 3 | E73: 0 | F73: 0
C74: 2 | D74: =B$71&" Level "&C74 -> SPECIFY ROLE NAME Level 2 | E74: 0 | F74: 0
C75: 1 | D75: =B$71&" Level "&C75 -> SPECIFY ROLE NAME Level 1 | E75: 0 | F75: 0
B76: SPECIFY ROLE NAME | C76: 5 | D76: =B$76&" Level "&C76 -> SPECIFY ROLE NAME Level 5 | E76: 0 | F76: 0
C77: 4 | D77: =B$76&" Level "&C77 -> SPECIFY ROLE NAME Level 4 | E77: 0 | F77: 0
C78: 3 | D78: =B$76&" Level "&C78 -> SPECIFY ROLE NAME Level 3 | E78: 0 | F78: 0
C79: 2 | D79: =B$76&" Level "&C79 -> SPECIFY ROLE NAME Level 2 | E79: 0 | F79: 0
C80: 1 | D80: =B$76&" Level "&C80 -> SPECIFY ROLE NAME Level 1 | E80: 0 | F80: 0
B81: SPECIFY ROLE NAME | C81: 5 | D81: =B$81&" Level "&C81 -> SPECIFY ROLE NAME Level 5 | E81: 0 | F81: 0
C82: 4 | D82: =B$81&" Level "&C82 -> SPECIFY ROLE NAME Level 4 | E82: 0 | F82: 0
C83: 3 | D83: =B$81&" Level "&C83 -> SPECIFY ROLE NAME Level 3 | E83: 0 | F83: 0
C84: 2 | D84: =B$81&" Level "&C84 -> SPECIFY ROLE NAME Level 2 | E84: 0 | F84: 0
C85: 1 | D85: =B$81&" Level "&C85 -> SPECIFY ROLE NAME Level 1 | E85: 0 | F85: 0
B86: SPECIFY ROLE NAME | C86: 5 | D86: =B$86&" Level "&C86 -> SPECIFY ROLE NAME Level 5 | E86: 0 | F86: 0
C87: 4 | D87: =B$86&" Level "&C87 -> SPECIFY ROLE NAME Level 4 | E87: 0 | F87: 0
C88: 3 | D88: =B$86&" Level "&C88 -> SPECIFY ROLE NAME Level 3 | E88: 0 | F88: 0
C89: 2 | D89: =B$86&" Level "&C89 -> SPECIFY ROLE NAME Level 2 | E89: 0 | F89: 0
C90: 1 | D90: =B$86&" Level "&C90 -> SPECIFY ROLE NAME Level 1 | E90: 0 | F90: 0
B91: SPECIFY ROLE NAME | C91: 5 | D91: =B$91&" Level "&C91 -> SPECIFY ROLE NAME Level 5 | E91: 0 | F91: 0
C92: 4 | D92: =B$91&" Level "&C92 -> SPECIFY ROLE NAME Level 4 | E92: 0 | F92: 0
C93: 3 | D93: =B$91&" Level "&C93 -> SPECIFY ROLE NAME Level 3 | E93: 0 | F93: 0
C94: 2 | D94: =B$91&" Level "&C94 -> SPECIFY ROLE NAME Level 2 | E94: 0 | F94: 0
C95: 1 | D95: =B$91&" Level "&C95 -> SPECIFY ROLE NAME Level 1 | E95: 0 | F95: 0
B96: SPECIFY ROLE NAME | C96: 5 | D96: =B$96&" Level "&C96 -> SPECIFY ROLE NAME Level 5 | E96: 0 | F96: 0
C97: 4 | D97: =B$96&" Level "&C97 -> SPECIFY ROLE NAME Level 4 | E97: 0 | F97: 0
C98: 3 | D98: =B$96&" Level "&C98 -> SPECIFY ROLE NAME Level 3 | E98: 0 | F98: 0
C99: 2 | D99: =B$96&" Level "&C99 -> SPECIFY ROLE NAME Level 2 | E99: 0 | F99: 0
C100: 1 | D100: =B$96&" Level "&C100 -> SPECIFY ROLE NAME Level 1 | E100: 0 | F100: 0
B101: SPECIFY ROLE NAME | C101: 5 | D101: =B$101&" Level "&C101 -> SPECIFY ROLE NAME Level 5 | E101: 0 | F101: 0
...

Sheet Detailed Implementation Costs
B1: Detailed Implementation Costs Grand Total | J1: =J17+J31+J45+J61 -> 0
B3: Phase | C3: Role/Level | D3: Named Resource ( in accordance with the proposed project plan) | E3: Activities | F3: ON SITE Per Diem Rate | G3: OFF SITE Per Diem Rate | H3: No. of Days | I3: Rate Per Day | J3: Total Cost | K3: Work to be Performed On-Site or Off-Site
B4: Phase 1 Mobilise and Prepare SaaS Environment | C4: Select Role/Level | E4: =IF(C4>"","Insert Details Here","") -> Insert Details Here | F4: =IFERROR(VLOOKUP(C4,'Rate Card'!$D$6:$E$163,2,0),"") | G4: =IFERROR(VLOOKUP(C4,'Rate Card'!$D$6:$F$163,3,0),"") | I4: 0 | J4: =I4*H4 -> 0
C5: Select Role/Level | E5: =IF(C5>"","Insert Details Here","") -> Insert Details Here | F5: =IFERROR(VLOOKUP(C5,'Rate Card'!$D$6:$E$163,2,0),"") | G5: =IFERROR(VLOOKUP(C5,'Rate Card'!$D$6:$F$163,3,0),"") | I5: 0 | J5: =I5*H5 -> 0
C6: Select Role/Level | E6: =IF(C6>"","Insert Details Here","") -> Insert Details Here | F6: =IFERROR(VLOOKUP(C6,'Rate Card'!$D$6:$E$163,2,0),"") | G6: =IFERROR(VLOOKUP(C6,'Rate Card'!$D$6:$F$163,3,0),"") | I6: 0 | J6: =I6*H6 -> 0
C7: Select Role/Level | E7: =IF(C7>"","Insert Details Here","") -> Insert Details Here | F7: =IFERROR(VLOOKUP(C7,'Rate Card'!$D$6:$E$163,2,0),"") | G7: =IFERROR(VLOOKUP(C7,'Rate Card'!$D$6:$F$163,3,0),"") | I7: 0 | J7: =I7*H7 -> 0
C8: Select Role/Level | E8: =IF(C8>"","Insert Details Here","") -> Insert Details Here | F8: =IFERROR(VLOOKUP(C8,'Rate Card'!$D$6:$E$163,2,0),"") | G8: =IFERROR(VLOOKUP(C8,'Rate Card'!$D$6:$F$163,3,0),"") | I8: 0 | J8: =I8*H8 -> 0
C9: Select Role/Level | E9: =IF(C9>"","Insert Details Here","") -> Insert Details Here | F9: =IFERROR(VLOOKUP(C9,'Rate Card'!$D$6:$E$163,2,0),"") | G9: =IFERROR(VLOOKUP(C9,'Rate Card'!$D$6:$F$163,3,0),"") | I9: 0 | J9: =I9*H9 -> 0
C10: Select Role/Level | E10: =IF(C10>"","Insert Details Here","") -> Insert Details Here | F10: =IFERROR(VLOOKUP(C10,'Rate Card'!$D$6:$E$163,2,0),"") | G10: =IFERROR(VLOOKUP(C10,'Rate Card'!$D$6:$F$163,3,0),"") | I10: 0 | J10: =I10*H10 -> 0
C11: Select Role/Level | E11: =IF(C11>"","Insert Details Here","") -> Insert Details Here | F11: =IFERROR(VLOOKUP(C11,'Rate Card'!$D$6:$E$163,2,0),"") | G11: =IFERROR(VLOOKUP(C11,'Rate Card'!$D$6:$F$163,3,0),"") | I11: 0 | J11: =I11*H11 -> 0
C12: Select Role/Level | E12: =IF(C12>"","Insert Details Here","") -> Insert Details Here | F12: =IFERROR(VLOOKUP(C12,'Rate Card'!$D$6:$E$163,2,0),"") | G12: =IFERROR(VLOOKUP(C12,'Rate Card'!$D$6:$F$163,3,0),"") | I12: 0 | J12: =I12*H12 -> 0
C13: Select Role/Level | E13: =IF(C13>"","Insert Details Here","") -> Insert Details Here | F13: =IFERROR(VLOOKUP(C13,'Rate Card'!$D$6:$E$163,2,0),"") | G13: =IFERROR(VLOOKUP(C13,'Rate Card'!$D$6:$F$163,3,0),"") | I13: 0 | J13: =I13*H13 -> 0
C14: Select Role/Level | E14: =IF(C14>"","Insert Details Here","") -> Insert Details Here | F14: =IFERROR(VLOOKUP(C14,'Rate Card'!$D$6:$E$163,2,0),"") | G14: =IFERROR(VLOOKUP(C14,'Rate Card'!$D$6:$F$163,3,0),"") | I14: 0 | J14: =I14*H14 -> 0
C15: Select Role/Level | E15: =IF(C15>"","Insert Details Here","") -> Insert Details Here | F15: =IFERROR(VLOOKUP(C15,'Rate Card'!$D$6:$E$163,2,0),"") | G15: =IFERROR(VLOOKUP(C15,'Rate Card'!$D$6:$F$163,3,0),"") | I15: 0 | J15: =I15*H15 -> 0
C16: Non People Costs | E16: Insert Details Here | J16: 0
B17: Phase 1 Sub Total | J17: =SUM(J4:J16) -> 0
B18: Phase 2 Rollout | C18: Select Role/Level | E18: =IF(C18>"","Insert Details Here","") -> Insert Details Here | F18: =IFERROR(VLOOKUP(C18,'Rate Card'!$D$6:$E$163,2,0),"") | G18: =IFERROR(VLOOKUP(C18,'Rate Card'!$D$6:$F$163,3,0),"") | I18: 0 | J18: =I18*H18 -> 0
C19: Select Role/Level | E19: =IF(C19>"","Insert Details Here","") -> Insert Details Here | F19: =IFERROR(VLOOKUP(C19,'Rate Card'!$D$6:$E$163,2,0),"") | G19: =IFERROR(VLOOKUP(C19,'Rate Card'!$D$6:$F$163,3,0),"") | I19: 0 | J19: =I19*H19 -> 0
C20: Select Role/Level | E20: =IF(C20>"","Insert Details Here","") -> Insert Details Here | F20: =IFERROR(VLOOKUP(C20,'Rate Card'!$D$6:$E$163,2,0),"") | G20: =IFERROR(VLOOKUP(C20,'Rate Card'!$D$6:$F$163,3,0),"") | I20: 0 | J20: =I20*H20 -> 0
C21: Select Role/Level | E21: =IF(C21>"","Insert Details Here","") -> Insert Details Here | F21: =IFERROR(VLOOKUP(C21,'Rate Card'!$D$6:$E$163,2,0),"") | G21: =IFERROR(VLOOKUP(C21,'Rate Card'!$D$6:$F$163,3,0),"") | I21: 0 | J21: =I21*H21 -> 0
C22: Select Role/Level | E22: =IF(C22>"","Insert Details Here","") -> Insert Details Here | F22: =IFERROR(VLOOKUP(C22,'Rate Card'!$D$6:$E$163,2,0),"") | G22: =IFERROR(VLOOKUP(C22,'Rate Card'!$D$6:$F$163,3,0),"") | I22: 0 | J22: =I22*H22 -> 0
C23: Select Role/Level | E23: =IF(C23>"","Insert Details Here","") -> Insert Details Here | F23: =IFERROR(VLOOKUP(C23,'Rate Card'!$D$6:$E$163,2,0),"") | G23: =IFERROR(VLOOKUP(C23,'Rate Card'!$D$6:$F$163,3,0),"") | I23: 0 | J23: =I23*H23 -> 0
C24: Select Role/Level | E24: =IF(C24>"","Insert Details Here","") -> Insert Details Here | F24: =IFERROR(VLOOKUP(C24,'Rate Card'!$D$6:$E$163,2,0),"") | G24: =IFERROR(VLOOKUP(C24,'Rate Card'!$D$6:$F$163,3,0),"") | I24: 0 | J24: =I24*H24 -> 0
C25: Select Role/Level | E25: =IF(C25>"","Insert Details Here","") -> Insert Details Here | F25: =IFERROR(VLOOKUP(C25,'Rate Card'!$D$6:$E$163,2,0),"") | G25: =IFERROR(VLOOKUP(C25,'Rate Card'!$D$6:$F$163,3,0),"") | I25: 0 | J25: =I25*H25 -> 0
C26: Select Role/Level | E26: =IF(C26>"","Insert Details Here","") -> Insert Details Here | F26: =IFERROR(VLOOKUP(C26,'Rate Card'!$D$6:$E$163,2,0),"") | G26: =IFERROR(VLOOKUP(C26,'Rate Card'!$D$6:$F$163,3,0),"") | I26: 0 | J26: =I26*H26 -> 0
C27: Select Role/Level | E27: =IF(C27>"","Insert Details Here","") -> Insert Details Here | F27: =IFERROR(VLOOKUP(C27,'Rate Card'!$D$6:$E$163,2,0),"") | G27: =IFERROR(VLOOKUP(C27,'Rate Card'!$D$6:$F$163,3,0),"") | I27: 0 | J27: =I27*H27 -> 0
C28: Select Role/Level | E28: =IF(C28>"","Insert Details Here","") -> Insert Details Here | F28: =IFERROR(VLOOKUP(C28,'Rate Card'!$D$6:$E$163,2,0),"") | G28: =IFERROR(VLOOKUP(C28,'Rate Card'!$D$6:$F$163,3,0),"") | I28: 0 | J28: =I28*H28 -> 0
C29: Select Role/Level | E29: =IF(C29>"","Insert Details Here","") -> Insert Details Here | F29: =IFERROR(VLOOKUP(C29,'Rate Card'!$D$6:$E$163,2,0),"") | G29: =IFERROR(VLOOKUP(C29,'Rate Card'!$D$6:$F$163,3,0),"") | I29: 0 | J29: =I29*H29 -> 0
C30: Non People Costs | E30: Insert Details Here | J30: 0
B31: Phase 2 Sub Total | J31: =SUM(J18:J30) -> 0
B32: Phase 3 Project Closure | C32: Select Role/Level | E32: =IF(C32>"","Insert Details Here","") -> Insert Details Here | F32: =IFERROR(VLOOKUP(C32,'Rate Card'!$D$6:$E$163,2,0),"") | G32: =IFERROR(VLOOKUP(C32,'Rate Card'!$D$6:$F$163,3,0),"") | I32: 0 | J32: =I32*H32 -> 0
C33: Select Role/Level | E33: =IF(C33>"","Insert Details Here","") -> Insert Details Here | F33: =IFERROR(VLOOKUP(C33,'Rate Card'!$D$6:$E$163,2,0),"") | G33: =IFERROR(VLOOKUP(C33,'Rate Card'!$D$6:$F$163,3,0),"") | I33: 0 | J33: =I33*H33 -> 0
C34: Select Role/Level | E34: =IF(C34>"","Insert Details Here","") -> Insert Details Here | F34: =IFERROR(VLOOKUP(C34,'Rate Card'!$D$6:$E$163,2,0),"") | G34: =IFERROR(VLOOKUP(C34,'Rate Card'!$D$6:$F$163,3,0),"") | I34: 0 | J34: =I34*H34 -> 0
C35: Select Role/Level | E35: =IF(C35>"","Insert Details Here","") -> Insert Details Here | F35: =IFERROR(VLOOKUP(C35,'Rate Card'!$D$6:$E$163,2,0),"") | G35: =IFERROR(VLOOKUP(C35,'Rate Card'!$D$6:$F$163,3,0),"") | I35: 0 | J35: =I35*H35 -> 0
C36: Select Role/Level | E36: =IF(C36>"","Insert Details Here","") -> Insert Details Here | F36: =IFERROR(VLOOKUP(C36,'Rate Card'!$D$6:$E$163,2,0),"") | G36: =IFERROR(VLOOKUP(C36,'Rate Card'!$D$6:$F$163,3,0),"") | I36: 0 | J36: =I36*H36 -> 0
C37: Select Role/Level | E37: =IF(C37>"","Insert Details Here","") -> Insert Details Here | F37: =IFERROR(VLOOKUP(C37,'Rate Card'!$D$6:$E$163,2,0),"") | G37: =IFERROR(VLOOKUP(C37,'Rate Card'!$D$6:$F$163,3,0),"") | I37: 0 | J37: =I37*H37 -> 0
C38: Select Role/Level | E38: =IF(C38>"","Insert Details Here","") -> Insert Details Here | F38: =IFERROR(VLOOKUP(C38,'Rate Card'!$D$6:$E$163,2,0),"") | G38: =IFERROR(VLOOKUP(C38,'Rate Card'!$D$6:$F$163,3,0),"") | I38: 0 | J38: =I38*H38 -> 0
C39: Select Role/Level | E39: =IF(C39>"","Insert Details Here","") -> Insert Details Here | F39: =IFERROR(VLOOKUP(C39,'Rate Card'!$D$6:$E$163,2,0),"") | G39: =IFERROR(VLOOKUP(C39,'Rate Card'!$D$6:$F$163,3,0),"") | I39: 0 | J39: =I39*H39 -> 0
C40: Select Role/Level | E40: =IF(C40>"","Insert Details Here","") -> Insert Details Here | F40: =IFERROR(VLOOKUP(C40,'Rate Card'!$D$6:$E$163,2,0),"") | G40: =IFERROR(VLOOKUP(C40,'Rate Card'!$D$6:$F$163,3,0),"") | I40: 0 | J40: =I40*H40 -> 0
C41: Select Role/Level | E41: =IF(C41>"","Insert Details Here","") -> Insert Details Here | F41: =IFERROR(VLOOKUP(C41,'Rate Card'!$D$6:$E$163,2,0),"") | G41: =IFERROR(VLOOKUP(C41,'Rate Card'!$D$6:$F$163,3,0),"") | I41: 0 | J41: =I41*H41 -> 0
C42: Select Role/Level | E42: =IF(C42>"","Insert Details Here","") -> Insert Details Here | F42: =IFERROR(VLOOKUP(C42,'Rate Card'!$D$6:$E$163,2,0),"") | G42: =IFERROR(VLOOKUP(C42,'Rate Card'!$D$6:$F$163,3,0),"") | I42: 0 | J42: =I42*H42 -> 0
C43: Select Role/Level | E43: =IF(C43>"","Insert Details Here","") -> Insert Details Here | F43: =IFERROR(VLOOKUP(C43,'Rate Card'!$D$6:$E$163,2,0),"") | G43: =IFERROR(VLOOKUP(C43,'Rate Card'!$D$6:$F$163,3,0),"") | I43: 0 | J43: =I43*H43 -> 0
C44: Non People Costs | E44: Insert Details Here | J44: 0
B45: Phase 3 Sub Total | J45: =SUM(J32:J44) -> 0
B46: Miscellaneous One Off costs | C46: Non-people related costs | E46: Insert Details Here | J46: 0
C47: Non-people related costs | E47: Insert Details Here | J47: 0
C48: Non-people related costs | E48: Insert Details Here | J48: 0
C49: Non-people related costs | E49: Insert Details Here | J49: 0
C50: Non-people related costs | E50: Insert Details Here | J50: 0
C51: Non-people related costs | E51: Insert Details Here | J51: 0
C52: Non-people related costs | E52: Insert Details Here | J52: 0
C53: Non-people related costs | E53: Insert Details Here | J53: 0
C54: Non-people related costs | E54: Insert Details Here | J54: 0
C55: Non-people related costs | E55: Insert Details Here | J55: 0
C56: Non-people related costs | E56: Insert Details Here | J56: 0
C57: Non-people related costs | E57: Insert Details Here | J57: 0
C58: Non-people related costs | E58: Insert Details Here | J58: 0
... C60: Non-people related costs | E60: Insert Details Here | J60: 0
B61: Miscellaneous Sub Total | J61: =SUM(J46:J60) -> 0

Sheet Additional Subscriptions
B2: User Subscriptions | C2: Description | D2: Quantity from | E2: Quantity to | F2: Annual Licence Fee per Subscription
B3: Admin Users | C3: Subscription Details provided by Tenderer | D3: 4 | E3: 10 | F3: 0
D4: =IF(E4>0,E3+1,"") -> 11 | E4: 15 | F4: 0
D5: =IF(E4>0,E4+1,"") -> 16 | E5: 20 | F5: 0
B6: Full Users | C6: Subscription Details provided by Tenderer | D6: 18 | E6: 20 | F6: 0
D7: =IF(E6>0,E6+1,"") -> 21 | E7: 25 | F7: 0
D8: 26 | E8: 30 | F8: 0
D9: 31 | E9: 35 | F9: 0
D10: 36 | E10: 40 | F10: 0
B12: Enterprise and Other Non-User Based Subscriptions | C12: Description including any software modules and pricing breakdown | D12: Quantity from | E12: Quantity to | F12: Annual Licence Fee per Licence
B13: Annual non-user based fees #1 | D13: 1 | F13: 0
D14: =IF(E13>0,E13+1,"") | F14: 0
D15: =IF(E14>0,E14+1,"") | F15: 0
D16: =IF(E15>0,E15+1,"") | F16: 0
D17: =IF(E16>0,E16+1,"") | F17: 0
B18: Annual non-user based fees #2 | D18: 1 | F18: 0
D19: =IF(E18>0,E18+1,"") | F19: 0
D20: =IF(E19>0,E19+1,"") | F20: 0
D21: =IF(E20>0,E20+1,"") | F21: 0
D22: =IF(E21>0,E21+1,"") | F22: 0
B23: Annual non-user based fees #3 | D23: 1 | F23: 0
D24: =IF(E23>0,E23+1,"") | F24: 0
D25: =IF(E24>0,E24+1,"") | F25: 0
D26: =IF(E25>0,E25+1,"") | F26: 0
D27: =IF(E26>0,E26+1,"") | F27: 0
B28: Annual non-user based fees #4 | D28: 1 | F28: 0
D29: =IF(E28>0,E28+1,"") | F29: 0
D30: =IF(E29>0,E29+1,"") | F30: 0
D31: =IF(E30>0,E30+1,"") | F31: 0
D32: =IF(E31>0,E31+1,"") | F32: 0
B33: Annual non-user based fees #5 | D33: 1 | F33: 0
D34: =IF(E33>0,E33+1,"") | F34: 0
D35: =IF(E34>0,E34+1,"") | F35: 0
D36: =IF(E35>0,E35+1,"") | F36: 0
D37: =IF(E36>0,E36+1,"") | F37: 0
B38: Annual non-user based fees #6 | D38: 1 | F38: 0
D39: =IF(E38>0,E38+1,"") | F39: 0
D40: =IF(E39>0,E39+1,"") | F40: 0
D41: =IF(E40>0,E40+1,"") | F41: 0
D42: =IF(E41>0,E41+1,"") | F42: 0
B43: Annual non-user based fees #7 | D43: 1 | F43: 0
D44: =IF(E43>0,E43+1,"") | F44: 0
D45: =IF(E44>0,E44+1,"") | F45: 0
D46: =IF(E45>0,E45+1,"") | F46: 0
D47: =IF(E46>0,E46+1,"") | F47: 0
B48: Annual non-user based fees #8 | D48: 1 | F48: 0
D49: =IF(E48>0,E48+1,"") | F49: 0
D50: =IF(E49>0,E49+1,"") | F50: 0
D51: =IF(E50>0,E50+1,"") | F51: 0
D52: =IF(E51>0,E51+1,"") | F52: 0
B53: Annual non-user based fees #9 | D53: 1 | F53: 0
D54: =IF(E53>0,E53+1,"") | F54: 0
D55: =IF(E54>0,E54+1,"") | F55: 0
D56: =IF(E55>0,E55+1,"") | F56: 0
D57: =IF(E56>0,E56+1,"") | F57: 0
B58: Annual non-user based fees #10 | D58: 1 | F58: 0
D59: =IF(E58>0,E58+1,"") | F59: 0
D60: =IF(E59>0,E59+1,"") | F60: 0
D61: =IF(E60>0,E60+1,"") | F61: 0
D62: =IF(E61>0,E61+1,"") | F62: 0
B63: Annual non-user based fees #11 | D63: 1 | F63: 0
D64: =IF(E63>0,E63+1,"") | F64: 0
D65: =IF(E64>0,E64+1,"") | F65: 0
D66: =IF(E65>0,E65+1,"") | F66: 0
D67: =IF(E66>0,E66+1,"") | F67: 0
B68: Annual non-user based fees #12 | D68: 1 | F68: 0
D69: =IF(E68>0,E68+1,"") | F69: 0
D70: =IF(E69>0,E69+1,"") | F70: 0
D71: =IF(E70>0,E70+1,"") | F71: 0
D72: =IF(E71>0,E71+1,"") | F72: 0
B73: Annual non-user based fees #13 | D73: 1 | F73: 0
D74: =IF(E73>0,E73+1,"") | F74: 0
D75: =IF(E74>0,E74+1,"") | F75: 0
D76: =IF(E75>0,E75+1,"") | F76: 0
D77: =IF(E76>0,E76+1,"") | F77: 0
B78: Annual non-user based fees #14 | D78: 1 | F78: 0
D79: =IF(E78>0,E78+1,"") | F79: 0
D80: =IF(E79>0,E79+1,"") | F80: 0
D81: =IF(E80>0,E80+1,"") | F81: 0
D82: =IF(E81>0,E81+1,"") | F82: 0
B83: Annual non-user based fees #15 | D83: 1 | F83: 0
D84: =IF(E83>0,E83+1,"") | F84: 0
D85: =IF(E84>0,E84+1,"") | F85: 0
D86: =IF(E85>0,E85+1,"") | F86: 0
D87: =IF(E86>0,E86+1,"") | F87: 0
B88: Annual non-user based fees #16 | D88: 1 | F88: 0
D89: =IF(E88>0,E88+1,"") | F89: 0
D90: =IF(E89>0,E89+1,"") | F90: 0
D91: =IF(E90>0,E90+1,"") | F91: 0
D92: =IF(E91>0,E91+1,"") | F92: 0
B93: Annual non-user based fees #17 | D93: 1 | F93: 0
D94: =IF(E93>0,E93+1,"") | F94: 0
D95: =IF(E94>0,E94+1,"") | F95: 0
D96: =IF(E95>0,E95+1,"") | F96: 0
D97: =IF(E96>0,E96+1,"") | F97: 0
B98: Annual non-user based fees #18 | D98: 1 | F98: 0
D99: =IF(E98>0,E98+1,"") | F99: 0
D100: =IF(E99>0,E99+1,"") | F100: 0
D101: =IF(E100>0,E100+1,"") | F101: 0
D102: =IF(E101>0,E101+1,"") | F102: 0
...

Sheet Professional Grade Levels
B2: Link to Rate Card
B3: Grade | C3: Description
B4: Level 5 | C4: · 15+ years of extensive professional experience in their specialised field in a consultancy role.
C5: · An industry leader and key influencer who is respected for their professional proficiency and knowledge.
C6: · Recognised as a trusted adviser to ministers and/or senior executive teams.
C7: · Acts as the senior responsible person on major client engagements. Able to be accountable for leading complex projects/programs.
C8: · Responsible for leading a high performing team of professionals, including the coaching and mentoring of colleagues at Levels 1–4.
B9: Level 4 | C9: · 10+ years of substantial professional experience in their specialised field in a consultancy role.
C10: · Strong theoretical base in subject area, with ability to apply best practice principles to the subject matter context.
C11: · Senior team leader with the ability to deputise for the senior responsible person and coach and mentor more junior staff.
C12: · Ability to coordinate contributions of other specialists to complete a joint project.
C13: · Can engage with clients at strategic/management level if required.
B14: Level 3 | C14: · 3-10 years of notable professional experience in their specialised field in a consultancy role.
C15: · A trusted performer on a wide range of client-facing consultancy projects in the private and/or public sectors.
C16: · Thorough knowledge of functional area, combined with a broad grasp of relevant best practice principles.
C17: · Ability to participate in multi-disciplinary teams and to work independently (with limited supervision).
C18: · Performs professional level analysis requiring technical skills and independent initiative within a well-defined programme of work.
C19: · Contacts with clients predominantly at a working level.
B20: Level 2 | C20: · 1-3 years of demonstrable professional experience in their specialised field in a consultancy role.
C21: · Previous experience on a range of client-facing consultancy projects, preferably in both the private and public sectors.
C22: · Has a theoretical base in subject area, possibly supplemented through recent study, with the ability to translate theory into practice
C23: · Performs a variety of analytical tasks requiring independent initiative and knowledge.
C24: · Interacts with clients predominantly at the working level.
B25: Level 1 | C25: · 0+ years of relevant professional experience in a professional environment.
C26: · Evidence of prior contributions to consultancy engagements.
C27: · Performs a range of administrative tasks to support the wider team.
C28: · Work is performed under the guidance of colleagues at Levels 3-5.
