Workbook

Sheet Pricing Tables
B2: Tenderer's Name
B4: PT1 - Training Programme 1. Inanimate Manual Handling Practical Training Programme
B5: Training | C5: Maximum Number of Participants Per Programme | D5: Minimum Number of Participants Per Programme | E5: Indicative Number of Training Programmes annually | F5: Unit Rate Per Training Programme (Ex. VAT) | G5: Applicable VAT Rate
B6: Delivered at HSE Facility Dublin Classroom | C6: 10 | D6: 7 | E6: 90
B7: Delivered at HSE Facility Nationwide (excl. Dublin) Classroom | C7: 10 | D7: 7 | E7: 380
B8: Delivered at successful Tenderer’s Training Facility Classroom | C8: 10 | D8: 7 | E8: 10
B10: PT2 - Training Programme 2. Inanimate Manual Handling Theory and Practical Training Programme
B11: Training | C11: Maximum Number of Participants Per Programme | D11: Minimum Number of Participants Per Programme | E11: Indicative Number of Training Programmes annually | F11: Unit Rate Per Training Programme (Ex. VAT) | G11: Applicable VAT Rate
B12: Delivered at HSE Facility Dublin Classroom | C12: 10 | D12: 7 | E12: 3
B13: Delivered at HSE Facility Nationwide (excl. Dublin) Classroom | C13: 10 | D13: 7 | E13: 3
B14: Delivered at successful Tenderer’s Training Facility Classroom | C14: 10 | D14: 7 | E14: 3
B16: PT3 - Training Programme 3. People Moving and Handling Practical Training Programme
B17: Training | C17: Maximum Number of Participants Per Programme | D17: Minimum Number of Participants Per Programme | E17: Indicative Number of Training Programmes annually | F17: Unit Rate Per Training Programme (Ex. VAT) | G17: Applicable VAT Rate
B18: Delivered at HSE Facility Dublin Classroom | C18: 10 | D18: 7 | E18: 75
B19: Delivered at HSE Facility Nationwide (excl. Dublin) Classroom | C19: 10 | D19: 7 | E19: 615
B20: Delivered at successful Tenderer’s Training Facility Classroom | C20: 10 | D20: 7 | E20: 10
B22: PT4 - Training Programme 4. People Moving and Handling Theory and Practical Training Programme
B23: Training | C23: Maximum Number of Participants Per Programme | D23: Minimum Number of Participants Per Programme | E23: Indicative Number of Training Programmes annually | F23: Unit Rate Per Training Programme (Ex. VAT) | G23: Applicable VAT Rate
B24: Delivered at HSE Facility Dublin Classroom | C24: 10 | D24: 7 | E24: 3
B25: Delivered at HSE Facility Nationwide (excl. Dublin) Classroom | C25: 10 | D25: 7 | E25: 3
B26: Delivered at successful Tenderer’s Training Facility Classroom | C26: 10 | D26: 7 | E26: 3
B28: PT5 - Training Programme 5. QQI Special Purpose Certificate in Manual Handling Instruction Level 6
B29: Training | C29: Maximum Number of Participants Per Programme | D29: Minimum Number of Participants Per Programme | E29: Indicative Number of Training Programmes annually | F29: Unit Rate Per Training Programme (Ex. VAT) | G29: Applicable VAT Rate
B30: Delivered at HSE Facility Dublin Virtual & Classroom | C30: 10 | D30: 7 | E30: 2
B31: Delivered at HSE Facility Nationwide (excl. Dublin) Virtual & Classroom | C31: 10 | D31: 7 | E31: 2
B32: Delivered at successful Tenderer’s Training Facility Virtual & Classroom | C32: 10 | D32: 7 | E32: 2
B34: PT6 - Training Programme 6. Refresher training for QQI Level 6 Manual Handling Instructors
B35: Training | C35: Maximum Number of Participants Per Programme | D35: Minimum Number of Participants Per Programme | E35: Indicative Number of Training Programmes annually | F35: Unit Rate Per Training Programme (Ex. VAT) | G35: Applicable VAT Rate
B36: Delivered at HSE Facility Dublin Classroom | C36: 10 | D36: 7 | E36: 2
B37: Delivered at HSE Facility Nationwide (excl. Dublin) Classroom | C37: 10 | D37: 7 | E37: 2
B38: Delivered at successful Tenderer’s Training Facility Classroom | C38: 10 | D38: 7 | E38: 2
B40: PT7 - Training Programme 7. QQI Special Purpose Certificate in People Handling Instruction Level 6
B41: Training | C41: Maximum Number of Participants Per Programme | D41: Minimum Number of Participants Per Programme | E41: Indicative Number of Training Programmes annually | F41: Unit Rate Per Training Programme (Ex. VAT) | G41: Applicable VAT Rate
B42: Delivered at HSE Facility Dublin Virtual & Classroom | C42: 10 | D42: 7 | E42: 4
B43: Delivered at HSE Facility Nationwide (excl. Dublin) Virtual & Classroom | C43: 10 | D43: 7 | E43: 6
B44: Delivered at successful Tenderer’s Training Facility Virtual & Classroom | C44: 10 | D44: 7 | E44: 2
B46: PT8 - Training Programme 8. Refresher training for QQI Level 6 People Moving and Handling Instructors
B47: Training | C47: Maximum Number of Participants Per Programme | D47: Minimum Number of Participants Per Programme | E47: Indicative Number of Training Programmes annually | F47: Unit Rate Per Training Programme (Ex. VAT) | G47: Applicable VAT Rate
B48: Delivered at HSE Facility Dublin Classroom | C48: 10 | D48: 7 | E48: 4
B49: Delivered at HSE Facility Nationwide (excl. Dublin) Classroom | C49: 10 | D49: 7 | E49: 6
...

Sheet Summary
B2: Programme | C2: Total Price (Ex. VAT) | D2: Total Price (In. VAT)
B3: PT1 - Training Programme 1. Inanimate Manual Handling Practical Training Programme | C3: =(SUM(C14:C16)) -> 0 | D3: =(SUM(D14:D16)) -> 0
B4: PT2 - Training Programme 2. Inanimate Manual Handling Theory and Practical Training Programme | C4: =SUM(C18:C20) -> 0 | D4: =SUM(D18:D20) -> 0
B5: PT3 - Training Programme 3. People Moving and Handling Practical Training Programme | C5: =SUM(C22:C24) -> 0 | D5: =SUM(D22:D24) -> 0
B6: PT4 - Training Programme 4. People Moving and Handling Theory and Practical Training Programme | C6: =SUM(C26:C28) -> 0 | D6: =SUM(D26:D28) -> 0
B7: PT5 - Training Programme 5. QQI Special Purpose Certificate in Manual Handling Instruction Level 6 | C7: =SUM(C30:C32) -> 0 | D7: =SUM(D30:D32) -> 0
B8: PT6 - Training Programme 6. Refresher training for QQI Level 6 Manual Handling Instructors | C8: =SUM(C34:C36) -> 0 | D8: =SUM(D34:D36) -> 0
B9: PT7 - Training Programme 7. QQI Special Purpose Certificate in People Handling Instruction Level 6 | C9: =SUM(C38:C40) -> 0 | D9: =SUM(D38:D40) -> 0
B10: PT8 - Training Programme 8. Refresher training for QQI Level 6 People Moving and Handling Instructors | C10: =SUM(C42:C44) -> 0 | D10: =SUM(D42:D44) -> 0
B11: Estimated Annual Cost | C11: =SUM(C3:C10) -> 0 | D11: =SUM(D3:D10) -> 0
B13: PT1 - Training Programme 1. Inanimate Manual Handling Practical Training Programme
B14: Delivered at HSE Facility Dublin Classroom | C14: =IF(ISNUMBER('Pricing Tables'!F6), 'Pricing Tables'!F6*'Pricing Tables'!E6, "") | D14: =IF(AND(ISNUMBER(C14), ISNUMBER('Pricing Tables'!G6)), (('Pricing Tables'!F6*'Pricing Tables'!G6)+'Pricing Tables'!F6)*'Pricing Tables'!E6, "")
B15: Delivered at HSE Facility Nationwide (excl. Dublin) Classroom | C15: =IF(ISNUMBER('Pricing Tables'!F7), 'Pricing Tables'!F7*'Pricing Tables'!E7, "") | D15: =IF(AND(ISNUMBER(C15), ISNUMBER('Pricing Tables'!G7)), (('Pricing Tables'!F7*'Pricing Tables'!G7)+'Pricing Tables'!F7)*'Pricing Tables'!E7, "")
B16: Delivered at successful Tenderer’s Training Facility Classroom | C16: =IF(ISNUMBER('Pricing Tables'!F8), 'Pricing Tables'!F8*'Pricing Tables'!E8, "") | D16: =IF(AND(ISNUMBER(C16), ISNUMBER('Pricing Tables'!G8)), (('Pricing Tables'!F8*'Pricing Tables'!G8)+'Pricing Tables'!F8)*'Pricing Tables'!E8, "")
B17: PT2 - Training Programme 2. Inanimate Manual Handling Theory and Practical Training Programme
B18: Delivered at HSE Facility Dublin Classroom | C18: =IF(ISNUMBER('Pricing Tables'!F12), 'Pricing Tables'!F12*'Pricing Tables'!E12, "") | D18: =IF(AND(ISNUMBER(C18), ISNUMBER('Pricing Tables'!G12)), (('Pricing Tables'!F12*'Pricing Tables'!G12)+'Pricing Tables'!F12)*'Pricing Tables'!E12, "")
B19: Delivered at HSE Facility Nationwide (excl. Dublin) Classroom | C19: =IF(ISNUMBER('Pricing Tables'!F13), 'Pricing Tables'!F13*'Pricing Tables'!E13, "") | D19: =IF(AND(ISNUMBER(C19), ISNUMBER('Pricing Tables'!G13)), (('Pricing Tables'!F13*'Pricing Tables'!G13)+'Pricing Tables'!F13)*'Pricing Tables'!E13, "")
B20: Delivered at successful Tenderer’s Training Facility Classroom | C20: =IF(ISNUMBER('Pricing Tables'!F14), 'Pricing Tables'!F14*'Pricing Tables'!E14, "") | D20: =IF(AND(ISNUMBER(C20), ISNUMBER('Pricing Tables'!G14)), (('Pricing Tables'!F14*'Pricing Tables'!G14)+'Pricing Tables'!F14)*'Pricing Tables'!E14, "")
B21: PT3 - Training Programme 3. People Moving and Handling Practical Training Programme
B22: Delivered at HSE Facility Dublin Classroom | C22: =IF(ISNUMBER('Pricing Tables'!F18), 'Pricing Tables'!F18*'Pricing Tables'!E18, "") | D22: =IF(AND(ISNUMBER(C22), ISNUMBER('Pricing Tables'!G18)), (('Pricing Tables'!F18*'Pricing Tables'!G18)+'Pricing Tables'!F18)*'Pricing Tables'!E18, "")
B23: Delivered at HSE Facility Nationwide (excl. Dublin) Classroom | C23: =IF(ISNUMBER('Pricing Tables'!F19), 'Pricing Tables'!F19*'Pricing Tables'!E19, "") | D23: =IF(AND(ISNUMBER(C23), ISNUMBER('Pricing Tables'!G19)), (('Pricing Tables'!F19*'Pricing Tables'!G19)+'Pricing Tables'!F19)*'Pricing Tables'!E19, "")
B24: Delivered at successful Tenderer’s Training Facility Classroom | C24: =IF(ISNUMBER('Pricing Tables'!F20), 'Pricing Tables'!F20*'Pricing Tables'!E20, "") | D24: =IF(AND(ISNUMBER(C24), ISNUMBER('Pricing Tables'!G20)), (('Pricing Tables'!F20*'Pricing Tables'!G20)+'Pricing Tables'!F20)*'Pricing Tables'!E20, "")
B25: PT4 - Training Programme 4. People Moving and Handling Theory and Practical Training Programme
B26: Delivered at HSE Facility Dublin Classroom | C26: =IF(ISNUMBER('Pricing Tables'!F24), 'Pricing Tables'!F24*'Pricing Tables'!E24, "") | D26: =IF(AND(ISNUMBER(C26), ISNUMBER('Pricing Tables'!G24)), (('Pricing Tables'!F24*'Pricing Tables'!G24)+'Pricing Tables'!F24)*'Pricing Tables'!E24, "")
B27: Delivered at HSE Facility Nationwide (excl. Dublin) Classroom | C27: =IF(ISNUMBER('Pricing Tables'!F25), 'Pricing Tables'!F25*'Pricing Tables'!E25, "") | D27: =IF(AND(ISNUMBER(C27), ISNUMBER('Pricing Tables'!G25)), (('Pricing Tables'!F25*'Pricing Tables'!G25)+'Pricing Tables'!F25)*'Pricing Tables'!E25, "")
B28: Delivered at successful Tenderer’s Training Facility Classroom | C28: =IF(ISNUMBER('Pricing Tables'!F26), 'Pricing Tables'!F26*'Pricing Tables'!E26, "") | D28: =IF(AND(ISNUMBER(C28), ISNUMBER('Pricing Tables'!G26)), (('Pricing Tables'!F26*'Pricing Tables'!G26)+'Pricing Tables'!F26)*'Pricing Tables'!E26, "")
B29: PT5 - Training Programme 5. QQI Special Purpose Certificate in Manual Handling Instruction Level 6
B30: Delivered at HSE Facility Dublin Classroom | C30: =IF(ISNUMBER('Pricing Tables'!F30), 'Pricing Tables'!F30*'Pricing Tables'!E30, "") | D30: =IF(AND(ISNUMBER(C30), ISNUMBER('Pricing Tables'!G30)), (('Pricing Tables'!F30*'Pricing Tables'!G30)+'Pricing Tables'!F30)*'Pricing Tables'!E30, "")
B31: Delivered at HSE Facility Nationwide (excl. Dublin) Classroom | C31: =IF(ISNUMBER('Pricing Tables'!F31), 'Pricing Tables'!F31*'Pricing Tables'!E31, "") | D31: =IF(AND(ISNUMBER(C31), ISNUMBER('Pricing Tables'!G31)), (('Pricing Tables'!F31*'Pricing Tables'!G31)+'Pricing Tables'!F31)*'Pricing Tables'!E31, "")
B32: Delivered at successful Tenderer’s Training Facility Classroom | C32: =IF(ISNUMBER('Pricing Tables'!F32), 'Pricing Tables'!F32*'Pricing Tables'!E32, "") | D32: =IF(AND(ISNUMBER(C32), ISNUMBER('Pricing Tables'!G32)), (('Pricing Tables'!F32*'Pricing Tables'!G32)+'Pricing Tables'!F32)*'Pricing Tables'!E32, "")
B33: PT6 - Training Programme 6. Refresher training for QQI Level 6 Manual Handling Instructors
B34: Delivered at HSE Facility Dublin Classroom | C34: =IF(ISNUMBER('Pricing Tables'!F36), 'Pricing Tables'!F36*'Pricing Tables'!E36, "") | D34: =IF(AND(ISNUMBER(C34), ISNUMBER('Pricing Tables'!G36)), (('Pricing Tables'!F36*'Pricing Tables'!G36)+'Pricing Tables'!F36)*'Pricing Tables'!E36, "")
B35: Delivered at HSE Facility Nationwide (excl. Dublin) Classroom | C35: =IF(ISNUMBER('Pricing Tables'!F37), 'Pricing Tables'!F37*'Pricing Tables'!E37, "") | D35: =IF(AND(ISNUMBER(C35), ISNUMBER('Pricing Tables'!G37)), (('Pricing Tables'!F37*'Pricing Tables'!G37)+'Pricing Tables'!F37)*'Pricing Tables'!E37, "")
B36: Delivered at successful Tenderer’s Training Facility Classroom | C36: =IF(ISNUMBER('Pricing Tables'!F38), 'Pricing Tables'!F38*'Pricing Tables'!E38, "") | D36: =IF(AND(ISNUMBER(C36), ISNUMBER('Pricing Tables'!G38)), (('Pricing Tables'!F38*'Pricing Tables'!G38)+'Pricing Tables'!F38)*'Pricing Tables'!E38, "")
B37: PT7 - Training Programme 7. QQI Special Purpose Certificate in People Handling Instruction Level 6
B38: Delivered at HSE Facility Dublin Classroom | C38: =IF(ISNUMBER('Pricing Tables'!F42), 'Pricing Tables'!F42*'Pricing Tables'!E42, "") | D38: =IF(AND(ISNUMBER(C38), ISNUMBER('Pricing Tables'!G42)), (('Pricing Tables'!F42*'Pricing Tables'!G42)+'Pricing Tables'!F42)*'Pricing Tables'!E42, "")
B39: Delivered at HSE Facility Nationwide (excl. Dublin) Classroom | C39: =IF(ISNUMBER('Pricing Tables'!F43), 'Pricing Tables'!F43*'Pricing Tables'!E43, "") | D39: =IF(AND(ISNUMBER(C39), ISNUMBER('Pricing Tables'!G43)), (('Pricing Tables'!F43*'Pricing Tables'!G43)+'Pricing Tables'!F43)*'Pricing Tables'!E43, "")
B40: Delivered at successful Tenderer’s Training Facility Classroom | C40: =IF(ISNUMBER('Pricing Tables'!F44), 'Pricing Tables'!F44*'Pricing Tables'!E44, "") | D40: =IF(AND(ISNUMBER(C40), ISNUMBER('Pricing Tables'!G44)), (('Pricing Tables'!F44*'Pricing Tables'!G44)+'Pricing Tables'!F44)*'Pricing Tables'!E44, "")
B41: PT8 - Training Programme 8. Refresher training for QQI Level 6 People Moving and Handling Instructors
B42: Delivered at HSE Facility Dublin Classroom | C42: =IF(ISNUMBER('Pricing Tables'!F48), 'Pricing Tables'!F48*'Pricing Tables'!E48, "") | D42: =IF(AND(ISNUMBER(C42), ISNUMBER('Pricing Tables'!G48)), (('Pricing Tables'!F48*'Pricing Tables'!G48)+'Pricing Tables'!F48)*'Pricing Tables'!E48, "")
...
