Workbook
Name attached: [1]Applications!$B$64:$B$65
Name attached: [1]Applications!$B$64:$B$65
Name attached: [1]Applications!$B$64:$B$65
Name attached: [1]Applications!$B$64:$B$65
Name attached: [1]Applications!$B$64:$B$65
Name attached: [1]Applications!$B$64:$B$65
Name attached: [2]Applications!$B$64:$B$65
Name b1t: '4.1 Applicants Details'!$A$1
Name b3t: '4.2 J.V. Application'!$A$1
Name b4t: '4.3 Resources Other Entity'!$A$1
Name bcp5p: #REF!
Name bcp5t: #REF!
Name coi7p: '7 - Conflict of Interest'!$E$2
Name coi7t: '7 - Conflict of Interest'!$A$1
Name completeness: [1]Applications!$B$60:$B$61
Name completeness: [1]Applications!$B$60:$B$61
Name completeness: [1]Applications!$B$60:$B$61
Name completeness: [1]Applications!$B$60:$B$61
Name completeness: [1]Applications!$B$60:$B$61
Name completeness: [1]Applications!$B$60:$B$61
Name completeness: [2]Applications!$B$60:$B$61
Name d1p: '5.4 Health & Safety '!$E$2
Name d1p: 'MR. D1 Turnover'!$E$2
Name d1t: '5.4 Health & Safety '!$A$1
Name d1t: 'MR. D1 Turnover'!$A$1
Name d4p: 'D6-Slavery Act Compliance'!$C$2
Name d4t: 'D6-Slavery Act Compliance'!$A$1
Name d5p: 'D7-Employee Related Matters'!$C$2
Name d5t: 'D7-Employee Related Matters'!$A$1
Name dp5p: #REF!
Name dp5t: #REF!
Name ex6p: '6 - Exclusion Criteria'!$E$2
Name ex6t: '6 - Exclusion Criteria'!$A$1
Name exp5p: #REF!
Name exp5t: #REF!
Name HSA: #REF!
Name HSAA: #REF!
Name is5p: #REF!
Name is5t: #REF!
Name ITTCompleteness: #REF!
Name ITTCompleteness: #REF!
Name ITTCompleteness: #REF!
Name ITTCompleteness: #REF!
Name LAApp: #REF!
Name LAs: #REF!
Name LAs: #REF!
Name LAs: #REF!
Name LAs: #REF!
Name LAsApplied: [1]Applications!#REF!
Name LAsApplied: [1]Applications!#REF!
Name LAsApplied: [1]Applications!#REF!
Name LAsApplied: [1]Applications!#REF!
Name LAsApplied: [1]Applications!#REF!
Name LAsApplied: [1]Applications!#REF!
Name LAsApplied: [2]Applications!#REF!
Name lot4App: [1]Applications!#REF!
Name lot4App: [1]Applications!#REF!
Name lot4App: [1]Applications!#REF!
Name lot4App: [1]Applications!#REF!
Name lot4App: [1]Applications!#REF!

Sheet Instructions
B1: Instructions for completing QSQ Excel Document
B2: General Notes 1. It is recommended that the Applicant downloads and saves a copy of this document locally before editing. 2. It is recommended that the Applicant periodically saves the document as the document is being completed. 3. Applicants must read the accompanying QSQ Document before completing the QSQ Excel document. 4. The Applicant should only make edits to the document where specifically directed within each tab. 5. The document shall be returned in its entirety within the provided QSQ Excel document. No element shall be extracted from this document and submitted separately.
B3: Applicants must not copy and paste values into any field. Each field must be populated individually using dropdown options where available.
A4: =IF(#REF!=0,#REF!,#REF!) -> #REF! | B4: The zoom for the document can be adjusted via the scrollbar in the very bottom right of the screen.
A5: =IF(#REF!=0,#REF!,#REF!) -> #REF! | B5: Each section is contained within a separate tab of the document. It is recommended that each section is completed in the order presented (from left to right)
B6: All sections contain a progress bar in the top right of the tab. Do not proceed to the next tab until the progress bar is at 100%.
B7: Cells in Yellow colour must be completed
B8: Some cells contain dropdown menus from which the Applicant's answer must be selected.
B9: This Excel Document should not be submitted until the overall completeness in the Overview tab is 100%

Sheet 4. Requirement Application
A1: 4. Requirement Application | D1: Section Progress | M1: Total | N1: Complete | O1: %
D2: =O2 -> 0 | M2: 8 | N2: =COUNTA(D5:D12) -> 0 | O2: =N2/M2 -> 0
A3: Note: All questions must be answered accurately and concisely, in the format requested. All supporting information requested in this QSQ must be submitted as an attachment to the related question. Only the responses to the questions included in this QSQ and additional information specifically requested will be reviewed. We reserve the right not to review any unrequested information or material included in, attached to or submitted with your QSQ submission. The Questions/Minimum Requirements are paraphrased in this excel document – the full details are set out in the QSQ word document.
A4: QSQ Number | B4: Requirement | C4: Requirement Description | D4: Please complete the below column declaring the Requirement the Applicant is applying for. | L4: B2(ii) | M4: Totals | N4: G(ii) | O4: H(i) | P4: Minimum Turnover | Q4: G(iii)
A5: A(ii) | B5: 1 | C5: Provision of Full Wastewater Treatment Sludge Management Services | M5: =IF(D5="Yes",1,0) -> 0 | O5: =IF(D5="Yes",7,0) -> 0 | P5: =IF(D5="Yes",600000,0) -> 0
B6: 2 | C6: Provision of Full Water Treatment Sludge Management Services | M6: =IF(D6="Yes",1,0) -> 0 | O6: =IF(D6="Yes",6,0) -> 0 | P6: =IF(D6="Yes",200000,0) -> 0
B7: 3 | C7: Provision of Transport and Haulage of Sludge (Water and Wastewater) | M7: =IF(D7="Yes",1,0) -> 0 | O7: =IF(D7="Yes",3,0) -> 0 | P7: =IF(D7="Yes",50000,0) -> 0
B8: 4 | C8: Provision of Waste Management Services (screenings and grit, commercial and recycling waste) | M8: =IF(D8="Yes",1,0) -> 0 | O8: =IF(D8="Yes",2,0) -> 0 | P8: =IF(D8="Yes",100000,0) -> 0
B9: 5 | C9: Provision of hazardous waste disposal services (National basis) | L9: =SUM(M5:M8) -> 0 | M9: =IF(D9="Yes",1,0) -> 0 | N9: =SUM(M5:M9) -> 0 | O9: =IF(D9="Yes",2,0) -> 0 | P9: =IF(D9="Yes",100000,0) -> 0
B10: 6 | C10: Provision of sludge dewatering equipment | M10: =IF(D10="Yes",1,0) -> 0 | O10: =IF(D10="Yes",1,0) -> 0 | P10: =IF(D10="Yes",100000,0) -> 0
B11: 7 | C11: Provision of sludge reception facilities for Wastewater Sludge Treatment, Storage and Recovery Management Services | M11: =IF(D11="Yes",1,0) -> 0 | O11: =IF(D11="Yes",6,0) -> 0 | P11: =IF(D11="Yes",600000,0) -> 0
B12: 8 | C12: Provision of sludge reception facilities for Water Sludge Treatment, Storage and Recovery Management Services | M12: =IF(D12="Yes",1,0) -> 0 | O12: =IF(D12="Yes",5,0) -> 0 | P12: =IF(D12="Yes",200000,0) -> 0
L13: Total | M13: =SUM(M5:M12) -> 0 | N13: =SUM(M10:M12) -> 0 | O13: =SUM(O5:O12) -> 0 | P13: =SUM(P5:P12) -> 0 | Q13: =SUM(M5,M6,M8,M9,M10,M11,M12) -> 0

Sheet 4.1 Applicants Details
A1: Section 4.1 - Applicant/Principal Applicant Details | C1: Section Progress | W1: Minimum | X1: 10 | Y1: Total | Z1: Complete | AA1: %
C2: =COUNTA(E7:G9,E11:G15)/COUNTA(D7:D9,D11:D15) -> 0 | W2: JV | X2: 6 | Y2: 8 | Z2: =COUNTA(E7:G9,E11:G15) -> 0 | AA2: =Z2/Y2 -> 0
A3: Note: All questions must be answered accurately and concisely, in the format requested. All supporting information requested in this QSQ must be submitted as an attachment to the related question. Only the responses to the questions included in this QSQ and additional information specifically requested will be reviewed. We reserve the right not to review any unrequested information or material included in, attached to or submitted with your QSQ submission. The Minimum Requirements and Pass Fail Criteria are paraphrased in this excel document – the full details are set out in the QSQ word document. | W3: Other Entities 1 | X3: 4
A4: APPENDIX B1 APPLICANT/PRINCIPAL APPLICANT DETAILS | W4: Other Entities 2 | X4: 7
A5: The information requested below shall be provided by the Applicant (or the Principal Applicant only in the case of a Joint Venture Applicant). Responses to this section are for information purposes only and will not be scored.
A6: QSQ Number | B6: Question | C6: Response Information | D6: Score/Info | E6: Response | W6: Other Entities 3 | X6: 10
A7: 4.1 | B7: Please specify name of the Applicant , i.e. the proposed organisation that would enter into any Contract with the Contracting Entity. If the Applicant is registered in a non-EU country, the Applicant’s proper legal name can be provided here. | C7: VAT Registered Name of Applicant | D7: Information | W7: Other Entities 4 | X7: 13
B8: Please Provide VAT Registered Number of Applicant This can be left blank if the Applicant is registered in a non-EU country. | C8: VAT Registered Number of Applicant | D8: Information | W8: Other Entities 5 | X8: 16
B9: Please Provide VAT Registered Address of Applicant | C9: VAT Registered Address of Applicant | D9: Information
B10: Please verify your VAT Registered Name, Number and Address are correct using the following website: | D10: http://ec.europa.eu/taxation_customs/vies/
B11: If a registered company: Registered number of Applicant at relevant registration office | C11: Number | D11: Information
B12: Please provide your single point of contact for all communications related to this procurement competition | C12: Contact name | D12: Information
C13: Contact's position | D13: Information
C14: Phone number | D14: Information
C15: E-mail address | D15: Information

Sheet 4.2 J.V. Application
A1: Section 4.2 - Joint Venture Application | C1: Section Progress
C2: =IFERROR(N2,0) -> 0 | L2: =IF(E7="No",1,7) -> 7 | M2: =IF(E7="Yes",COUNTA(E7,E8,E9,E10,E11,E12,E13),IF(E7="No",1,0)) -> 0 | N2: =M2/L2 -> 0 | W2: Total | X2: Complete | Y2: %
A3: Note: All questions must be answered accurately and concisely, in the format requested. All supporting information requested in this QSQ must be submitted as an attachment to the related question. Only the responses to the questions included in this QSQ and additional information specifically requested will be reviewed. We reserve the right not to review any unrequested information or material included in, attached to or submitted with your QSQ submission. The Minimum Requirements and Pass Fail Criteria are paraphrased in this excel document – the full details are set out in the QSQ word document. | W3: =IF(E7="No",1)+IF(E7="",1)+IF(E7="Yes",7) -> 1 | X3: =COUNTA(E7:G13) -> 0 | Y3: =X3/W3 -> 0
A4: SECTION 4.2 APPLICATION BY A JOINT VENTURE APPLICANT
A5: If an Applicant is a Joint Venture Applicant, the Applicant must provide the additional information set out in the table below. If it is intended that a joint venture will be incorporated but it has not yet been formed, please provide proposed details in table below.
A6: QSQ Number | B6: Question | C6: Response Information | D6: Score/Info | E6: Response
A7: 4.2 | B7: Is this Application a joint Venture (JV) / Consortium? | C7: Yes/No | D7: Information
B8: VAT Registered Name of Principal Applicant. If registered in a non-EU country, the proper legal name can be provided. | C8: VAT Registered Name of Principal Applicant | D8: Information
B9: Legal entities (VAT Registered Names) within the consortium or JV. If registered in a non-EU country, the proper legal name can be provided. | C9: All VAT Registered Names within the consortium or JV. | D9: Information
B10: VAT Registered Numbers of the legal entities within the consortium or JV. This can be left blank if the Applicant is registered in a non-EU country | C10: All VAT Registered Numbers within the consortium or JV. | D10: Information
B11: Relevant ownership / participation division (%) within the consortium or JV | C11: (%) split by area of responsibility (e.g. 33% traffic management / 33% safety consultant / 33% plant provider) | D11: Information
B12: Area of Responsibility –include relevant section number from the QSQ | C12: Areas of responsibility (e.g. Finance, traffic management etc.) | D12: Information
B13: Questions responded to by the entity | D13: Information
A14: Notes: (a) VAT Registered Name of the Principal Applicant as per Section 4.1 above, only one entity can be named. (b) The VAT Registered Names, Numbers and Addresses of all legal entities within the Joint Venture Applicant.
A15: Please verify your VAT Registered Name, Number and Address are correct using the following website: | D15: http://ec.europa.eu/taxation_customs/vies/
A16: (c) Relevant ownership/participation percentage split, for example this may be 50/50 or 33/33/33. (d) Details of which entity is putting forward the experience and capabilities in response to the questions. If an entity which does not form part of the consortium / JV is proposed as being fully / partly responsible the extent of the entity’s participation should be listed in Section 4.3. (e) Enter the questions that the entity responded. The entity that is relied upon in relation to a particular question is to provide the response to that question. If more than one response is provided, the responses will each be weighted equally when applying the marks.

Sheet 4.3 Resources Other Entity
A1: Section 4.3 - Resources of Other Entities | C1: Section Progress | W1: Total | X1: Complete | Y1: %
C2: =IFERROR(Z2,0) -> 0 | W2: =IF(E6="",1)+IF(E6="No",1)+IF(E6="Yes - 1 Organisation",5)+IF(E6="Yes - 2 Organisations",8)+IF(E6="Yes - 3 Organisations",11)+IF(E6="Yes - 4 Organisations",14)+IF(E6="Yes - 5 Organisations",17) -> 1 | X2: =COUNTA(E6,E7,B9:G9,B10:G10,B11:G11,B12:G12,B13:G13) -> 0 | Y2: =X2/W2 -> 0 | Z2: =_xlfn.IFNA(Y2,0) -> 0
A3: Note: All questions must be answered accurately and concisely, in the format requested. All supporting information requested in this QSQ must be submitted as an attachment to the related question. Only the responses to the questions included in this QSQ and additional information specifically requested will be reviewed. We reserve the right not to review any unrequested information or material included in, attached to or submitted with your QSQ submission. The Minimum Requirements and Pass Fail Criteria are paraphrased in this excel document – the full details are set out in the QSQ word document.
A4: SECTION 4.3 RESOURCES OF OTHER ENTITIES
A5: QSQ Number | B5: Question | C5: Response Information | D5: Score/Info | E5: Response
A6: 4.3 | B6: Where the Apllicant is relying on the resources of another entity (who is not a member of the consortium/JV) e.g, subcontractor, subsidiary, parent company, Etc, the applicant shall provide in this QSQ Reposnse: (i) The information relevant to the area, section and question to which they are being relied upon, and | C6: Yes/No - Number of Other Entities | D6: Information
B7: (ii) Evidence from the entity proving that those resources will be available to the Apllicant for the duration of the Qualification System and (unless the resources relate to financial standing/capacity) that the enitity beinf relied upon will perfom those elements of a contract for whoch the resources or capacities relied upon are required. That evidence could be in the form of the undertakings set out in section 4.3.1 and 4.3.2 (on a letter with the company letter head of the company being relied upon) as applicable. | C7: Yes/No | D7: Information
B8: Other Entity (VAT Registered Name) | C8: Area of Responsibility - include relevant section number | F8: Questions the Entity Responded

Sheet MR. D1 Turnover
A1: Minimum Requirements Section D1 - Turnover | E1: Section Progress | W1: Total | X1: Complete | Y1: %
E2: =Y2 -> 0 | W2: 2 | X2: =COUNTA(E6,G6) -> 0 | Y2: =X2/W2 -> 0
A3: Note: All questions must be answered accurately and concisely, in the format requested. All supporting information requested in this QSQ must be submitted as an attachment to the related question. Only the responses to the questions included in this QSQ and additional information specifically requested will be reviewed. We reserve the right not to review any unrequested information or material included in, attached to or submitted with your QSQ submission. The Minimum Requirements and Pass Fail Criteria are paraphrased in this excel document – the full details are set out in the QSQ word document.
A4: QSQ Number | B4: Question | C4: Response Information | D4: Score/Info | E4: Response
G5: Supporting Doc. Ref.
A6: D1 | B6: Have you provided copies of your organisations financial statements demonstrating sufficient turnover as outlined in section D1 in the Particulars of the QSQ Doument? | C6: Information Based on the Requirements applied for, the Applicant should demonstrate a turnover of: | D6: Yes / No Please Ref in Column "G" Name of Supporting Document
C7: 250000

Sheet MR. D2 & 5.2 Resources
A1: D2 Minimum Requirement & 5.2 Resources | E1: Section Progress | X1: Total | Y1: Complete | Z1: %
E2: =Z2 -> 0 | X2: 26 | Y2: =COUNTA(E6,G6,D9,C10,C12,C13,C14,C15,D18,C19,C21,C22,C23,C24,D27,C28,C30,C31,C32,C33,D36,C37,C39,C40,C41,C42) -> 0 | Z2: =Y2/X2 -> 0
A3: Note: All questions must be answered accurately and concisely, in the format requested. All supporting information requested in this QSQ must be submitted as an attachment to the related question. Only the responses to the questions included in this QSQ and additional information specifically requested will be reviewed. We reserve the right not to review any unrequested information or material included in, attached to or submitted with your QSQ submission. The Questions/Minimum Requirements are paraphrased in this excel document – the full details are set out in the QSQ word document.
A4: QSQ Number | B4: Question | C4: Response Information | D4: Score/Info | E4: Response
A5: Section D2 - Resources - Minimum Requirements | G5: Supporting Doc. Ref.
A6: D2 | B6: Have you provided a current organisation chart for the current Senior Management Team of the Applicant. The organogram should also show clear lines of responsibility and accountability for the following areas: Health & Safety Quality Control & Envionmental Contract Management Logistics & Operations | C6: Yes/No | D6: Yes / No Please Ref in Column "G" Name of Supporting Document
A7: Section 5.2 - Resources - Scored Section
A8: CV REFERENCE DATA SHEET 1
A9: 5.2.1 | B9: CV Reference Data Sheet for | C9: Name | F9: Key Position for which this person is being put forward as an example | H9: Health & Safety
B10: Relevant qualifications & No. years relevant experience 10 Marks
B11: Reference project title | C11: Reference Project 1
B12: Year of Completion
B13: Overall Project Value (incl. VAT)
B14: Project Value applicable to employee’s company (incl. VAT)
B15: Experience on projects of similar nature and complexity including, main duties and responsibilities of Employee in respect of reference projects 40 Marks
B16: Other relevant information
B17: CV REFERENCE DATA SHEET 2
B18: CV Reference Data Sheet for | C18: Name | F18: Key Position for which this person is being put forward as an example | H18: Quality Control & Environmental
B19: Relevant qualifications & No. years relevant experience 10 Marks
B20: Reference project title | C20: Reference Project 1
B21: Year of Completion
B22: Overall Project Value (incl. VAT)
B23: Project Value applicable to employee’s company (incl. VAT)
B24: Experience on projects of similar nature and complexity including, main duties and responsibilities of Employee in respect of reference projects 40 Marks
B25: Other relevant information
B26: CV REFERENCE DATA SHEET 3
B27: CV Reference Data Sheet for | C27: Name | F27: Key Position for which this person is being put forward as an example | H27: Contract Management
B28: Relevant qualifications & No. years relevant experience 10 Marks
B29: Reference project title | C29: Reference Project 1
B30: Year of Completion
B31: Overall Project Value (incl. VAT)
B32: Project Value applicable to employee’s company (incl. VAT)
B33: Experience on projects of similar nature and complexity including, main duties and responsibilities of Employee in respect of reference projects 40 Marks
B34: Other relevant information
B35: CV REFERENCE DATA SHEET 4
B36: CV Reference Data Sheet for | C36: Name | F36: Key Position for which this person is being put forward as an example | H36: Logistics & Operations
B37: Relevant qualifications & No. years relevant experience 10 Marks
B38: Reference project title | C38: Reference Project 1
B39: Year of Completion
B40: Overall Project Value (incl. VAT)
...

Sheet MR. D3 & 5.3 Experience
A1: D3 Min Requirements & 5.3 Experience | E1: Section Progress | W1: Yes/No | X1: Sub-total | Y1: Total | Z1: Complete | AA1: %
E2: =IFERROR(AA2,0) -> 0 | W2: =IF(OR('4. Requirement Application'!D5="Yes",'4. Requirement Application'!D6="Yes",'4. Requirement Application'!D7="Yes",'4. Requirement Application'!D8="Yes",'4. Requirement Application'!D9="Yes",'4. Requirement Application'!D10="Yes",'4. Requirement Application'!D11="Yes",'4. Requirement Application'!D12="Yes"),2,0) -> 0 | X2: ='4. Requirement Application'!$M$13*7 -> 0 | Y2: =SUM(W2:X2) -> 0 | Z2: =COUNTA(E6,G6,E9,E10,E11,E12,E13,E14,E15,E19,E20,E21,E22,E23,E24,E25,E29,E30,E31,E32,E33,E34,E35,E39,E40,E41,E42,E43,E44,E45,E49,E50,E51,E52,E53,E54,E55,E59,E60,E61,E62,E63,E64,E65,E69,E70,E71,E72,E73,E74,E75,E79,E80,E81,E82,E83,E84,E85) -> 0 | AA2: =Z2/Y2 -> #DIV/0!
A3: Note: All questions must be answered accurately and concisely, in the format requested. All supporting information requested in this QSQ must be submitted as an attachment to the related question. Only the responses to the questions included in this QSQ and additional information specifically requested will be reviewed. We reserve the right not to review any unrequested information or material included in, attached to or submitted with your QSQ submission. The Questions/Minimum Requirements are paraphrased in this excel document – the full details are set out in the QSQ word document.
A4: QSQ Number | B4: Question | C4: Response Information | D4: Score/Info | E4: Response
A5: Section 5.3 - Experience | G5: Supporting Doc. Ref.
A6: D3 | B6: Has the Applicant provided details of one project per Requirements in the last three years that is similar in nature, scale and complexity to the scope of Qualification System as outlined within Item A4 of the Particulars. | C6: Yes/No | D6: Yes / No Please Ref in Column "G" Name of Supporting Document
A8: Project Reference Data Sheet - Req. 1
A9: 5.3.1 | B9: Reference Project Req. 1 | C9: Client Name
C10: Start and Finish Date
C11: Project Title
C12: Project Overview 150 Marks
C13: Details of Sludge Type and Quantity Managed per Annum 30 Marks
C14: Details of Local Authority or Other
C15: Total value per year for the services supplied. 20 Marks
C16: Other relevant information
A18: Project Reference Data Sheet - Req. 2
A19: 5.3.1 | B19: Reference Project Req. 2 | C19: Client Name
C20: Start and Finish Date
C21: Project Title
C22: Project Overview 150 Marks
C23: Details of Sludge Type and Quantity Managed per Annum 30 Marks
C24: Details of Local Authority or Other
C25: Total value per year for the services supplied. 20 Marks
C26: Other relevant information
A28: Project Reference Data Sheet - Req. 3
A29: 5.3.1 | B29: Reference Project Req. 3 | C29: Client Name
C30: Start and Finish Date
C31: Project Title
C32: Project Overview 150 Marks
C33: Details of Sludge Type and Quantity Managed per Annum 30 Marks
C34: Details of Local Authority or Other
C35: Total value per year for the services supplied. 20 Marks
C36: Other relevant information
A38: Project Reference Data Sheet - Req. 4
A39: 5.3.1 | B39: Reference Project Req. 4 | C39: Client Name
C40: Start and Finish Date
C41: Project Title
C42: Project Overview 150 Marks
C43: Details of Waste Type (Screenings & Grit, commercial and recycling waste) and Quantities managed per Annum 30 Marks
C44: Details of Local Authority or Other
...

Sheet MR. D4 H&S Min. Requirements
A1: Minimum Requirements D4 Health and Safety | F1: Section Progress | Z1: Sub-total | AA1: Requirements 5 | AB1: ADR | AC1: enforcements | AD1: Total | AE1: Complete | AF1: Percentage
F2: =IFERROR(AF2,0) -> 0 | Z2: 2 | AA2: =IF('4. Requirement Application'!D9="Yes",2,0) -> 0 | AB2: =IF(F16="Yes",8,0) -> 0 | AC2: =IF(F7="Yes",9,0) -> 0 | AD2: =SUM(Z2:AC2) -> 2 | AE2: =COUNTA(F6,F7,G9:K12,H13,F15,F16,F18:K21) -> 0 | AF2: =AE2/AD2 -> 0
A3: Note: All questions must be answered accurately and concisely, in the format requested. All supporting information requested in this QSQ must be submitted as an attachment to the related question. Only the responses to the questions included in this QSQ and additional information specifically requested will be reviewed. We reserve the right not to review any unrequested information or material included in, attached to or submitted with your QSQ submission. The Questions/Minimum Requirements are paraphrased in this excel document – the full details are set out in the QSQ word document.
A4: QSQ Number | C4: Question | D4: Response Information | E4: Score/Info | F4: Response
A5: Health & Safety Minimum Requirements D4 (a) Health and Safety Minimum Requirements The Minimum Requirements are: (1) that the response to D4 (i) complies with all applicable law; and (2) that an accurate response is provided by the Applicant in respect of D4(ii),(iii),&(iv). | I5: Supporting Doc. Ref.
A6: D4 | B6: i | C6: (i). Safety Statement, Health and Safety Policy or equivalent – All Requirements The Applicant (including Joint Ventures) shall supply a copy of their Safety Statement as required under the Safety, Health and Welfare at Work Act 2005 or equivalent document/ manual (if registered outside of Ireland). As a minimum, this must include health and safety policy, management structure, responsibilities/resources, health and safety training requirements, accident and emergency procedures, and the relevant risk assessments to ensure the safety, health and welfare of their employees. | D6: Yes / No Please Ref in Column "I" Name of Supporting Document | E6: Pass/Fail
B7: ii | C7: ii).Health and Safety Enforcement Actions – All Requirements (A) The Applicant shall provide, for itself and each member (joint venture / consortium) of the Applicant, details of the number of enforcement actions or prosecutions by the HSA, the HSE or local authorities (in the UK) or other equivalent safety regulator in the last 5 years (up to the date 7 calendar days before the latest date for submission of the response to this QS). | D7: Yes / No Please Ref in Column "I" Name of Supporting Document
C8: If you have answered yes to the above D4 (ii) please provide enforcement details. | D8: Information | F8: Enforcement | G8: No. | H8: Details
F9: Prosecutions
F10: Prohibition Notices / Orders
F11: Improvement Notices
F12: Improvement Plans
F13: Please outline the effective and enduring corrective and preventative measures that have been put in place to prevent reoccurrence
B15: iii | C15: Req. 5 Applicants Only Transport Regulations - For Requirement 5, the Applicant shall complete a declaration confirming compliance with the transport regulations for the proposed product under each variant where it has been identified as being regulated for transport in accordance with The European Communities (Carriage of Dangerous Goods by Road and Use of Transportable Pressure Equipment) Regulations 2011 to 2019 which enacts the provisions contained in the technical Annexes to the "European Agreement Concerning the International Carriage of Dangerous Goods by Road" (ADR). | D15: Yes/No | E15: Pass/Fail
C16: Req. 5 Applicants Only Has your organisation (including joint ventures), been subject to any fixed penalties and offences under ADR | D16: Yes/No
C17: If you have answered yes to the above please provide details. If you have answered 'No' please enter 0 in the No. column. | D17: Information | F17: No. | G17: Details

Sheet MR. D4 H&S Req No 6
A1: Minimum Requirements D4 Health and Safety (Requirement No: 6 Provision of Sludge De-watering Equipment Only) | G1: Section Progress | Y1: Total | Z1: Complete | AA1: %
G2: =IFERROR(AA2,0) -> 0 | Y2: 50 | Z2: =COUNTA(G6,I6,G9:J20,G23:J34,G37:J48,G51:J62) -> 0 | AA2: =Z2/Y2 -> 0
A3: Note: All questions must be answered accurately and concisely, in the format requested. All supporting information requested in this QSQ must be submitted as an attachment to the related question. Only the responses to the questions included in this QSQ and additional information specifically requested will be reviewed. We reserve the right not to review any unrequested information or material included in, attached to or submitted with your QSQ submission. The Questions/Minimum Requirements are paraphrased in this excel document – the full details are set out in the QSQ word document.
A4: QSQ Number | C4: Question | E4: Response Information | F4: Score/Info | G4: Response
A5: D4 (iv) Health and Safety - Requirement No:6 Only | I5: Supporting Doc. Ref.
A6: D4 | B6: iv | C6: Requirement No:6 Sludge Dewatering Equipment Applicants Only Has the applicant provided evidence of 3 no. reference projects where the applicant was appointed Contractor, designer, PSDP, PSCS | E6: Yes/No | F6: Yes / No Please Ref in Column "i" Name of Supporting Document
A8: Project Reference Data Sheet - Contractor
A9: D4 | B9: iv | C9: The Applicant must provide evidence of 3 no. reference projects (where a reference project is a single work order or task or activity) where the Applicant was appointed as Contractor within the last three (3) years. | D9: Reference Project 1 Contractor | E9: Client Name
E10: Start and Finish Date
E11: Project Title
E12: Project Overview
D13: Reference Project 2 Contractor | E13: Client Name
E14: Start and Finish Date
E15: Project Title
E16: Project Overview
D17: Reference Project 3 Contractor | E17: Client Name
E18: Start and Finish Date
E19: Project Title
E20: Project Overview
C22: Project Reference Data Sheet - Designer
C23: The Applicant must provide evidence of 3 no. reference projects (where a reference project is a single work order or task or activity) where the Applicant was appointed as Designer within the last three (3) years. | D23: Reference Project 1 Designer | E23: Client Name
E24: Start and Finish Date
E25: Project Title
E26: Project Overview
D27: Reference Project 2 Designer | E27: Client Name
E28: Start and Finish Date
E29: Project Title
E30: Project Overview
D31: Reference Project 3 Designer | E31: Client Name
E32: Start and Finish Date
E33: Project Title
E34: Project Overview
C36: Project Reference Data Sheet - PSDP
C37: The Applicant must provide evidence of 3 no. reference projects (where a reference project is a single work order or task or activity) where the Applicant was appointed as PSDP within the last three (3) years. | D37: Reference Project 1 PSDP | E37: Client Name
E38: Start and Finish Date
E39: Project Title
E40: Project Overview
D41: Reference Project 2 PSDP | E41: Client Name
E42: Start and Finish Date
E43: Project Title
...

Sheet MR. D5 & 5.5 Quality
A1: D5 Min Requirements & 5.5 Quality Assurance | F1: Section Progress | W1: Subtotal | X1: 1,2,7,8 | Y1: Total | Z1: Complete | AA1: %
F2: =IFERROR(AA2,0) -> 0 | W2: 4 | X2: =IF(OR('4. Requirement Application'!D5="Yes",'4. Requirement Application'!D6="Yes",'4. Requirement Application'!D11="Yes",'4. Requirement Application'!D12="Yes"),4,0) -> 0 | Y2: =SUM(W2:X2) -> 4 | Z2: =COUNTA(F6,H6,F8:H10) -> 0 | AA2: =Z2/Y2 -> 0
A3: Note: All questions must be answered accurately and concisely, in the format requested. All supporting information requested in this QSQ must be submitted as an attachment to the related question. Only the responses to the questions included in this QSQ and additional information specifically requested will be reviewed. We reserve the right not to review any unrequested information or material included in, attached to or submitted with your QSQ submission. The Questions/Minimum Requirements are paraphrased in this excel document – the full details are set out in the QSQ word document.
A4: QSQ Number | B4: Req. | C4: Question | D4: Response Information | E4: Score/Info | F4: Response
A5: D5 - Quality Assurance - Minimum Requirements
A6: D5 | B6: All Requirments | C6: Has the applicant provided a copy of your organisations Quality Policy / Quality Statement. | D6: Yes / No Please Ref in Column "h" Name of Supporting Document | E6: Pass / Fail
A7: Section 5.5 - Quality Assurance
A8: 5.5.1 (i) | B8: All Requirments | C8: Has the Applicant provided details of the Applicants Tracking / Traceability procedure used for collecting, hauling, recording, processing, and recovery / disposal of product/s as applicable. | D8: Yes / No Please Ref in Column "h" Name of Supporting Document | E8: 100 Marks
A9: 5.5.2 (i) | B9: Requirements 1,2,7 & 8 | C9: Has the Applicant Provided evidence of the process for managing potential non-conformities/ feedback and/ or nuisances related to the product and/ or service including any investigation and closure of any corrective/ preventative action/s identified by the Applicant or the Customer to prevent recurrence | D9: Yes / No Please Ref in Column "h" Name of Supporting Document | E9: 50 Marks
A10: 5.5.2 (ii) | C10: Provide a copy of your Quality Management System Manual which should include an index of procedures. Note: if there is not a Quality Management System in place, provide an index of relevant processes that Applicant has in place to manage Quality of Service. | D10: Yes / No Please Ref in Column "h" Name of Supporting Document | E10: 50 Marks

Sheet D6-Slavery Act Compliance
A1: Appendix D6 - Slavery Act Compliance Minimum requirements | C1: Section Progress
C2: =IFERROR(N2,0) -> 0 | L2: =IF(E8="NA",2,4) -> 4 | M2: =IF(E8="Yes",COUNTA(E8,E9,E10,E11),IF(E8="NA",COUNTA(E8,E11),0)) -> 0 | N2: =M2/L2 -> 0 | W2: Total | X2: Complete | Y2: %
A3: Note: All questions must be answered accurately and concisely, in the format requested. All supporting information requested in this QSQ must be submitted as an attachment to the related question. Only the responses to the questions included in this QSQ and additional information specifically requested will be reviewed. We reserve the right not to review any unrequested information or material included in, attached to or submitted with your QSQ submission. The Minimum Requirements and Pass Fail Criteria are paraphrased in this excel document – the full details are set out in the QSQ word document. | W3: =IF(#REF!="No",1)+IF(#REF!="",1)+IF(#REF!="Yes",7) -> #REF! | X3: =COUNTA(E7:G11) -> 0 | Y3: =X3/W3 -> #REF!
A6: QSQ Number | B6: Question | C6: Response Information | D6: Score/Info | E6: Response
A7: Compliance with requirements of the Modern Slavery Act 2015 or equivalent legislation Commercial organisations that carry on a business or part of a business in the UK, supply goods or services and have an annual turnover of £36 million or more (“relevant commercial organisations”) are required under section 54 of the UK’s Modern Slavery Act to prepare a slavery and human trafficking statement as defined by section 54 of the Act, The Minimum Requirement is either: (1) that the Applicant states “N/A” to all questions (because it is not a “relevant commercial organisation” as defined above and the country in which it is incorporated does not have equivalent legislation to the Act) or, (2) where the Applicant states “Yes” to question (A), it provides sufficient evidence that it is compliant with the annual reporting requirements contained in section 54 of the Modern Slavery Act or (3) the Applicant responds “Yes” to question (C).
A8: a | B8: Is the Applicant a relevant commercial organisation as defined by section 54 ("Transparency in supply chains etc.") of the Modern Slavery Act 2015 ("the Act")? | C8: Yes/NA | D8: Minimum Requiment
A9: b | B9: If “Yes”, is the Applicant compliant with the annual reporting requirements contained within section 54 of the Act? Where the Applicant fails to provide sufficient evidence of compliance with the annual reporting requirements contained within section 54 of the Act (where applicable), this may result in the Applicant being eliminated without further consideration of its QSQ Response. | C9: Yes/No | D9: Minimum Requiment
B10: Please provide details of the above | C10: Information | D10: Minimum Requiment
A11: c | B11: If the country in which the Applicant is incorporated has equivalent legislation to the Act, is the Applicant compliant with the requirements of that Act? | C11: Yes/No/NA | D11: Minimum Requiment

Sheet D7-Employee Related Matters
A1: Section D5 - Employee Related Matters Minimum requirements | C1: Section Progress
C2: =IFERROR(N2,0) -> 0 | L2: =IF(E6="Yes",3,2) -> 2 | M2: =IF(E6="Yes",COUNTA(E6,E7,E9),COUNTA(E6,E9)) -> 0 | N2: =M2/L2 -> 0 | W2: Total | X2: Complete | Y2: %
A3: Note: All questions must be answered accurately and concisely, in the format requested. All supporting information requested in this QSQ must be submitted as an attachment to the related question. Only the responses to the questions included in this QSQ and additional information specifically requested will be reviewed. We reserve the right not to review any unrequested information or material included in, attached to or submitted with your QSQ submission. The Minimum Requirements and Pass Fail Criteria are paraphrased in this excel document – the full details are set out in the QSQ word document. | W3: =IF(#REF!="No",1)+IF(#REF!="",1)+IF(#REF!="Yes",7) -> #REF! | X3: =COUNTA(#REF!) -> 1 | Y3: =X3/W3 -> #REF!
A4: QSQ Number | B4: Question | C4: Response Information | D4: Score/Info | E4: Response
A5: Employee Related Matters The Minimum Requirement is either that the Applicant states “None” in response to the question below or, where it states “Yes”, it provides sufficient evidence that appropriate action has been taken as a result of any unlawful discrimination or findings by the Workplace Relations Commission, the Equality Commission in Northern Ireland, the Equality and Human Rights Commission (Scotland) or any comparable body in any other jurisdiction.
A6: a | B6: In the last three years immediately preceding the date noted at Item B1 of these Particulars, has any finding of unlawful discrimination been made against the Applicant (or any parent company) by any court, employment tribunal, employment appeal tribunal or any comparable body in any other jurisdictions? And/or has the Applicant (or any parent company) been the subject of formal investigations by the Workplace Relations Commission, the Equality Commission of Northern Ireland or the Equality and Human Rights Commission (Scotland) or any comparable body in any other jurisdiction on grounds of alleged unlawful discrimination? If “Yes”, give details, including any corrective steps taken as a consequence of the findings. If “No”, please select “None”. Where the Applicant fails to provide sufficient evidence that appropriate action had been taken this may result in the Applicant being eliminated without further consideration of its QSQ Response. | C6: Yes/None | D6: Minimum Requiment
B7: Please provide details of the above | C7: Information | D7: Minimum Requiment
A8: Compliance with requirements of the COUNCIL REGULATION (EU) 2022/576 of 8 April 2022 amending Regulation (EU) No 833/2014 concerning restrictive measures in view of Russia’s actions destabilising the situation in Ukraine 1. Subject to the provisions of Article 5k.1 of the Council Regulation (EU) 2022/576 of 8 April 2022 amending Regulation (EU) No 833/2014 (in this Section 6.4, the Council Regulation), the Contracting Entity shall be prohibited from awarding a contract: a. A Russian national, or a natural or legal person, entity or body established in Russia; b. A legal person, entity or body whose proprietary rights are directly or indirectly owned for more than 50 % by an entity referred to in point (a); or c. a natural or legal person, entity or body acting on behalf or at the direction of an entity referred to in point (a) or (b), including, where they account for more than 10 % of the contract value, subcontractors, suppliers or entities whose capacities are being relied on within the meaning of the public procurement directives. 2. If any of the conditions set out in Article 5k.1 of the Council Regulation apply, the Tenderer shall be excluded from the competition, unless specific grounds for derogation exist in accordance with Article 5k.2 of the Council Regulation.
A9: a | B9: Do you or, if applicable, a subcontractor, supplier or entity whose capacities are being relied on, fall under one of the definitions under Section 5k.1 of the Council Regulation (please refer to scenario (a), (b), (c) listed under Section 6.4 (A))? | C9: Yes/No | D9: Minimum Requiment

Sheet 5.4 Health & Safety 
A1: Appendix F(iii) - Health & Safety Scored Checklist | E1: Section Progress | U1: Sub-total | V1: Lot 5 | W1: Lot 6 | X1: Total | Y1: Complete | Z1: %
E2: =IFERROR(Z2,0) -> 0 | U2: 10 | V2: =IF('4. Requirement Application'!D9="Yes",2,0) -> 0 | W2: =IF('4. Requirement Application'!D10="Yes",18,0) -> 0 | X2: =SUM(U2:W2) -> 10 | Y2: =COUNTA(E6:H10,E12,G12,E14:H22) -> 0 | Z2: =Y2/X2 -> 0
A3: Note: All questions must be answered accurately and concisely, in the format requested. All supporting information requested in this QSQ must be submitted as an attachment to the related question. Only the responses to the questions included in this QSQ and additional information specifically requested will be reviewed. We reserve the right not to review any unrequested information or material included in, attached to or submitted with your QSQ submission. The Minimum Requirements and Pass Fail Criteria are paraphrased in this excel document – the full details are set out in the QSQ word document.
A4: QSQ Number | B4: Question | C4: Response Information | D4: Score/Info | E4: Response
A5: Applicants for all Requirements are required to complete this section
A6: 5.4.1 | B6: Has the Applicant provided evidence of how health and safety information e.g. Inductions, Safe Work Procedures (Method Statements, Permits, Safe Plan of Action etc.), is effectively communicated to those carrying out work on site. | C6: Yes / No Please Ref in Column "G" Name of Supporting Document | D6: 20 Marks
A7: 5.4.2 | B7: Has the Applicant provided evidence of the company’s process for assessing the competency of: (a) Staff (include training) and, (b) Sub-contractor | C7: Yes / No Please Ref in Column "G" Name of Supporting Document | D7: 20 Marks
A8: 5.4.3 | B8: A near miss is a leading indicator to an accident that, if analysed and used correctly, can prevent further injuries and damages. Collecting near-miss reports helps create a culture that seeks to identify and control hazards, which will reduce risks and the potential for harm.” Has the Applicant provided evidence on how your organisation records trends, reports and acts on datacollected including communication back to the workforce. | C8: Yes / No Please Ref in Column "G" Name of Supporting Document | D8: 20 Marks
A9: 5.4.4 | B9: Has the Applicant provided the process used for auditing and inspection of Health & Safety performance including its process for ensuring effective close out of items raised on previous projects similar in scope and complexity to this project. | C9: Yes / No Please Ref in Column "G" Name of Supporting Document | D9: 20 Marks
A10: 5.4.5 | B10: Has the Applicant provided Risk Assessments and Method Statement (RAMS) used for similar projects completed, to detail how your organisation managed safety and health associated with the activities identified above. Note: Marks will be awarded based on content not just the provision of the document | C10: Yes / No Please Ref in Column "G" Name of Supporting Document | D10: 20 Marks
A11: Only Applicants for Requirement 5 are required to complete this section.
A12: 5.4.6 | B12: Has the Applicant provided evidence on the process used previously by your organisation to manage hazardous waste transport and disposal. This should include details of how hazardous waste is identified and classified, safely segregated, packaged, stored, removed, transported and disposed of in accordance with relevant legislation. | C12: Yes / No Please Ref in Column "G" Name of Supporting Document | D12: 50 Marks
A13: Only Applicants for Requirement 6 are required to complete this section: Health and Safety Duty Holder (PSDP, PSCS, Contractor, Designer).
A14: 5.4.7 (i)(a) | B14: Contractor. Has the Applicant provided details of how it communicated with each duty holder (Designer, Project Supervisor Design Process, Project Supervisor Construction Stage and Contractor) and those in operational control of place of work (e.g. plant, factory etc) on a previous project. | C14: Yes / No/ N.A Please Ref in Column "G" Name of Supporting Document | D14: 30 Marks
A15: 5.4.7 (i)(b) | B15: Contractor. Has the Applicant provided evidence of the company’s process for preparing and implementing Risk Assessment and Method Statements including taking account of the General Principles of Prevention. | C15: Yes / No/ N.A Please Ref in Column "G" Name of Supporting Document | D15: 20 Marks
A16: 5.4.7 (i)(c) | B16: Contractor The Applicant shall provide evidence of the company’s process for preparing and implementing Risk Assessment and Method Statements including taking account of the General Principles of Prevention | C16: Yes / No/ N.A Please Ref in Column "G" Name of Supporting Document | D16: 20 Marks
A17: 5.4.7 (ii)(a) | B17: PSDP Has the Applicant provided, in reference to one of the proposed projects provided in minimum requirements: • Details of how they ensured effective coordination of designers (including temporary works designers) during design and construction stage. • Details of how the general principles of prevention were taken into account when deciding on technical and organisational aspects. | C17: Yes / No/ N.A Please Ref in Column "G" Name of Supporting Document | D17: 30 Marks
A18: 5.4.7 (ii)(b) | B18: PSDP Has the Applicant provided evidence of the process involved in preparing the Safety File. This must include the Operation and Maintenance Manual. | C18: Yes / No/ N.A Please Ref in Column "G" Name of Supporting Document | D18: 20 Marks
A19: 5.4.7 (ii)(c) | B19: PSDP In reference to one of the proposed projects provided in minimum requirements has the Applicant provided a (Preliminary) Safety and Health Plan (as required under Regulation 12 of the Safety Health and Welfare at Work (Construction) Regulations (Safety and Health Plans from other EU jurisdictions that are equivalent are acceptable). | C19: Yes / No/ N.A Please Ref in Column "G" Name of Supporting Document | D19: 20 Marks
A20: 5.4.7 (iii)(a) | B20: PSCS In reference to one of the proposed projects provided in minimum requirements the Applicant shall provide evidence of how they: * Managed the programme of works to ensure the safety, health and welfare of those involved in the project. * Supervised, managed and coordinated the implementation of safe working procedures (Including interaction with live operational work and personnel) in reference to one of the proposed projects provided in minimum requirements. | C20: Yes / No/ N.A Please Ref in Column "G" Name of Supporting Document | D20: 20 Marks
A21: 5.4.7 (iii)(b) | B21: PSCS In reference to the proposed project provided in minimum requirements, has the Applicant provided (Construction Stage) Safety and Health Plan (as required under Regulation 16 of the Safety Health and Welfare at Work (Construction) Regulations (Safety and Health Plans from other EU jurisdictions that are equivalent are acceptable). | C21: Yes / No/ N.A Please Ref in Column "G" Name of Supporting Document | D21: 20 Marks
A22: 5.4.7 (iv) | B22: Designer Has the Applicant provided the process that they apply to manage design changes by taking the General Principles of Prevention into account to ensure that their designs are safe to construct, maintain, operate and eventually to deconstruct. Your response should include but is not limited to the following. (i) Communication with other statutory appointed roles (ii) Co-operation with other designers as defined under the Construction Regulations (iii) Taking account of existing Safety and Health Plan/ Safety File (iv) Management of temporary works design (v) HAZOPs, design reviews, constructability reviews and designers risk assessments | C22: Yes / No/ N.A Please Ref in Column "G" Name of Supporting Document | D22: 20 Marks

Sheet 5.6 Sustainability
A1: Appendix H(i) - Sustainability | E1: Section Progress | X1: Total | Y1: Complete | Z1: %
E2: =Z2 -> 0 | X2: 7 | Y2: =COUNTA(E6:H12) -> 0 | Z2: =Y2/X2 -> 0
A3: Note: All questions must be answered accurately and concisely, in the format requested. All supporting information requested in this QSQ must be submitted as an attachment to the related question. Only the responses to the questions included in this QSQ and additional information specifically requested will be reviewed. We reserve the right not to review any unrequested information or material included in, attached to or submitted with your QSQ submission. The Minimum Requirements and Pass Fail Criteria are paraphrased in this excel document – the full details are set out in the QSQ word document.
A4: QSQ Number | B4: Question | C4: Response Information | D4: Score/Info | E4: Response
A5: Section 5.6 - Sustainability - All Requirements
A6: 5.6.1 | B6: Has your organisation set a Net Zero target, which requires companies to achieve deep decarbonization of 90-95%? | C6: Yes / Partial & Information / No & Information | D6: 20 Marks
A7: 5.6.2 | B7: Does your company have project specific methodology for implementing low carbon management practices? | C7: Yes / Partial & Information / No & Information | D7: 30 Marks
A8: 5.6.3 | B8: Has your company taken to ensure optimisation of transport efficiencies and incorporation of electric vehicles? | C8: Yes / Partial & Information / No & Information | D8: 40 Marks
A9: 5.6.4 | B9: Does your organisation have policies to promote diversity and inclusion along with building a sustainable talent pool including training and capacity building within the workforce? | C9: Yes / Partial & Information / No & Information | D9: 10 Marks
A10: 5.6.5 | B10: Does your organisation have policies and programmes in place to support and track Fair Work practices for workers (including any agency or sub-contractor workers ? | C10: Yes / Partial & Information / No & Information | D10: 20 Marks
A11: 5.6.6 | B11: Has your organisation developed circular economy targets and measures for resource reuse and waste minimisation? | C11: Yes / Partial & Information / No & Information | D11: 40 Marks
A12: 5.6.7 | B12: Has your organisation committed to or implemented water conservation management and establish reduction goals? | C12: Yes / Partial & Information / No & Information | D12: 40 Marks

Sheet 6 - Exclusion Criteria
A1: Section 6 - Exclusion Criteria | E1: Section Progress | X1: Minimum | Y1: Additional | AA1: Total | AB1: Complete | AC1: % | AD1: Offences | AE1: Tax | AF1: Other
E2: =AC2 -> 0 | X2: 16 | AA2: =X2+SUM(AD2:AF2) -> 16 | AB2: =COUNTA(F8:H14,F16:H17,F19:H28) -> 0 | AC2: =AB2/AA2 -> 0 | AD2: =IF(OR(F8="Yes",F9="Yes",F10="Yes",F11="Yes",F12="Yes",F13="Yes"),1,0) -> 0 | AE2: =IF(OR(F16="Yes",),1,0) -> 0 | AF2: =IF(OR(F19="Yes",F20="Yes",F21="Yes",F22="Yes",F23="Yes",F24="Yes",F25="Yes",F26="Yes",F27="Yes"),1,0) -> 0
A3: Note: All questions must be answered accurately and concisely, in the format requested. All supporting information requested in this QSQ must be submitted as an attachment to the related question. Only the responses to the questions included in this QSQ and additional information specifically requested will be reviewed. We reserve the right not to review any unrequested information or material included in, attached to or submitted with your QSQ submission. The Questions/Minimum Requirements are paraphrased in this excel document – the full details are set out in the QSQ word document.
A4: Subject to the provisions of Regulation 57 of the European Union (Award of Public Authority Contracts) Regulations 2016 (in Section 6, the Regulations): (a) if any of the conditions set out in Regulation 57(1) or 57(3) of the Regulations apply to: (a) the Applicant (b) any member of the Applicant, in the case of a Joint Venture Applicant, (c) any entity being relied upon in accordance with section 3.8 of this QSQ; or (d) any member of the administrative, management or supervisory body of such organisations or any person who has powers of representation, decision or control therein the Applicant shall be excluded from the competition. (b) if any of the conditions set out in Regulation 57(8) of the Regulations apply to: (a) the Applicant (b) or any member of the Applicant, in the case of a group/consortium (c) or any entity being relied upon in accordance with section 3.8 of this QSQ. the Applicant may be excluded from the competition. (c) Applicants must complete the questionnaires below. The Contracting Entity will accept Part III of the European Single Procurement Document (ESPD) in response to Section 6.
A5: Applicants must complete the below questionnaire.
C6: OFFENCES Within the past five years, has the Applicant (or any member of your proposed consortium, if applicable, or any entity being relied upon for the purposes of Section 3.8 of the QSQ), or any member of the administrative, management or supervisory body of such organisation or any person having powers of representation, decision or control therein been convicted of any of the following offences?
A7: QSQ Number | F7: Response
A8: 6 | B8: a. participation in a criminal organisation, as defined in Article 2 of Council Framework Decision 2008/841/JHA;
B9: b. corruption, as defined in Article 3 of the Convention on the fight against corruption involving officials of the European Communities or officials of Member States of the European Union and Article 2(1) of Council Framework Decision 2003/568/JHA as well as corruption as defined in the national law of the contracting entity or the economic operator;
B10: c. fraud within the meaning of Article 1 of the Convention on the protection of the European Communities’ financial interests;
B11: d. terrorist offences or offences linked to terrorist activities, as defined in Articles 1 and 3 of Council Framework Decision 2002/475/JHA respectively, or inciting or aiding or abetting or attempting to commit an offence, as referred to in Article 4 of that Framework Decision;
B12: e. money laundering or terrorist financing, as defined in Article 1 of Directive 2005/60/EC of the European Parliament and of the Council; or
B13: f. child labour and other forms of trafficking in human beings as defined in Article 2 of Directive 2011.
B14: If the answer to any of the above questions is “yes”, please provide full details, including date of conviction, identity of person convicted, and details of any measures taken to demonstrate reliability despite the existence of a relevant ground for exclusion.
C15: NON PAYMENT OF TAXES Within the past five years, in respect of the Applicant, (or any member of your proposed consortium, if applicable, or any entity being relied upon for the purposes of section 3.8 of the QSQ)
A16: 6 | B16: a. Has it been established by a judicial or administrative decision having final and binding effect in accordance with the legal provisions of Ireland or the legal provisions of the country in which the economic operator in question is established (if outside Ireland), that such economic operator is in breach of obligations related to the payment of tax or social security contributions?
B17: If the answer to any of the above questions is Yes, please provide further details. Please confirm whether the relevant economic operator has paid, or has entered into a binding arrangement with a view to paying, including, where applicable, any accrued interest and/or fines?
C18: The Contracting Entity may also exclude any Applicant that answered ‘yes’ to any of the following situations: Within the past three years, please indicate if any of the following situations have applied, or currently apply, to the Applicant or any member of the Applicant, in the case of a group/consortium or any entity being relied upon in accordance with Section 3.8 of the QSQ document.
A19: 6 | B19: (a) a violation by the Applicant of applicable obligations referred to in Regulation 18(4) of the Regulations (applicable obligations in the fields of environmental, social and labour law that apply at the place where the works are carried out or the services provided that have been established by European Union law, national law, collective agreements or by international, environmental, social and labour law listed in Schedule 7 of the Regulations);
B20: (b) the Applicant is bankrupt or is the subject of insolvency or winding-up proceedings, where its assets are being administered by a liquidator or by the court, where it is in an arrangement with creditors, where its business activities are suspended or it is in any analogous situation arising from a similar procedure under national laws and regulations;
B21: (c) the Applicant is guilty of grave professional misconduct, which renders its integrity questionable;
B22: (d) the Applicant has entered into agreements with other economic operators aimed at distorting competition;
B23: (e) a conflict of interest within the meaning of Regulation 24 of the Regulations (which includes any situation where a relevant staff member has directly or indirectly a financial, economic or other personal interest which might be perceived to compromise his or her impartiality and independence in the context of the procurement procedure);
B24: (f) a distortion of competition from the prior involvement of the Applicant in the preparation of the procurement procedure, as referred to in Regulation 41 of the Regulations;
B25: (g) the Applicant has shown significant or persistent deficiencies in the performance of a substantive requirement under a prior public contract, a prior contract with a contracting entity or a prior concession contract which led to early termination of that prior contract, damages or other comparable sanctions;
B26: (h) the Applicant has been guilty of serious misrepresentation in supplying the information required for the verification of the absence of grounds for exclusion or the fulfilment of the pass/fail criteria, has withheld such information or is not able to submit the supporting documents required pursuant to Regulation 59 of the Regulations; or
B27: (i) the Applicant has undertaken to unduly influence the decision-making process of the Contracting Entity to obtain confidential information that may confer upon it undue advantages in the procurement procedure or to negligently provide misleading information that may have a material influence on decisions concerning exclusion, selection or award.
B28: If the answer to any of the above questions is “yes”, please provide details.

Sheet 7 - Conflict of Interest
A1: Section 7 - Conflicts of Interest | E1: Section Progress | X1: Total | Y1: Complete | Z1: %
E2: =Z2 -> 0 | X2: =IF(D16="No",1)+IF(D16="",1)+IF(D16="Yes",2) -> 1 | Y2: =COUNTA(D16,B18) -> 0 | Z2: =Y2/X2 -> 0
A3: Note: All questions must be answered accurately and concisely, in the format requested. All supporting information requested in this QSQ must be submitted as an attachment to the related question. Only the responses to the questions included in this QSQ and additional information specifically requested will be reviewed. We reserve the right not to review any unrequested information or material included in, attached to or submitted with your QSQ submission. The Questions/Minimum Requirements are paraphrased in this excel document – the full details are set out in the QSQ word document.
A4: QSQ Number
A6: 7 | B6: COMPETITION REF | C6: 25/021
B7: APPLICANT NAME | C7: =suppname -> 0
B10: THIS DECLARATION MUST BE DULY SIGNED AND SUBMITTED AND IS PART OF THE APPLICANT’S QSQ RESPONSE. WHERE APPLICANT IS A JOINT VENTURE / CONSORTIUM, A SEPARATE DECLARATION MUST BE SIGNED BY EACH MEMBER AS WELL AS ANY ENTITY BEING RELIED UPON FOR THE PURPOSES OF SECTION 3.8 OF THE QSQ. FAILURE TO COMPLETE THIS DECLARATION WILL EXCLUDE THE APPLICANT’S QUALIFIATION SYSTEM RESPONSE.
