Workbook

Sheet Instructions
A1: Appendix 2- Pricing Schedule
D2: TUS Midlands -Athlone Campus
C4: General Information
C5: Project Title | D5: Electrical Materials for TUS Midlands - Athlone campus
C6: Tender Deadline | D6: 2.00 p.m. on Wednesday 28th January, 2026.
C7: Tender Submission: | D7: Tenders are to be submitted via the e-Tenders postbox only. Hardcopy, late or e-mailed tenders will not be accepted.
C8: Tender Queries: | D8: All tender queries are to be submitted through the messaging facility on e-Tenders and will also be answered via e-Tenders
C10: Instructions
C11: 1 | D11: This tender is NOT divided into lots. Unit costs must be included for ALL items across all baskets/tabs. If an itemised unit cost is left blank, or priced at €0.00, the highest applicable submitted price will be applied and used in the calculations for evaluation purposes. However, where more than 10% of items (across all 7 baskets) are left unpriced the applicant may be excluded from the tender competition.
C12: 2 | D12: Please ensure that you complete all cells highlighed in yellow. All other cells are locked and cannot be changed.
C13: 3 | D13: Tendered sums in each tab will be calculated automatically. Tenderers are advised to check these calculations to ensure that they are satisfied that the calculations are correct prior to submitting the pricing schedule to the contracting authority. If errors in the formulae are identified they should be brought to the attention of the Contracting Authority.
C14: 4 | D14: Please ensure that you complete the Overall Total Cost sheet which totals the cost of the various baskets. The basket totals will automatically carry over. Tenderers are required to check these calculations to ensure they are accurate.
C15: 5 | D15: This Pricing Schedule should be submitted in Excel Format.
C16: 6 | D16: Please ensure the signature box at the bottom of both this sheet and the Overall Total Cost sheet are completed.
C18: Signed: | E18: E-mail
C19: Print Name: | E19: Phone No:
C20: Position | E20: Date:
C21: Company Name
C22: Company Address
C24: NB: The above table is to be completed by the Tenderer.

Sheet Cables
A1: Basket 1
A2: CABLES
C3: Material Description | D3: Unit of Measure | E3: Notional Quantity (per Unit of measure specified in column D) | F3: Unit Cost (Ex- VAT) | G3: TOTAL Ex-VAT
B4: SWA
A5: 1.01 | C5: 3 x 1.5mm² | D5: 1 m | E5: 50 | G5: =E5*F5 -> 0
A6: 1.02 | C6: 3 X2.5mm² | D6: 1 m | E6: 50 | G6: =E6*F6 -> 0
A7: 1.03 | C7: 3 X 4mm² | D7: 1 m | E7: 50 | G7: =E7*F7 -> 0
A8: 1.04 | C8: 3 X 6mm² | D8: 1 m | E8: 50 | G8: =E8*F8 -> 0
A9: 1.05 | C9: 3 X 10mm² | D9: 1 m | E9: 50 | G9: =E9*F9 -> 0
A10: 1.06 | C10: 4 X 1.5mm² | D10: 1 m | E10: 50 | G10: =E10*F10 -> 0
A11: 1.07 | C11: 4 X 2.5mm² | D11: 1 m | E11: 50 | G11: =E11*F11 -> 0
A12: 1.08 | C12: 4 X 6mm² | D12: 1 m | E12: 50 | G12: =E12*F12 -> 0
A13: 1.09 | C13: 4 x 10mm² | D13: 1 m | E13: 50 | G13: =E13*F13 -> 0
A14: 1.1 | C14: 4 X 16mm² | D14: 1 m | E14: 50 | G14: =E14*F14 -> 0
A15: 1.11 | C15: 5 X 2.5mm² | D15: 1 m | E15: 50 | G15: =E15*F15 -> 0
A16: 1.12 | C16: 5 X 4mm² | D16: 1 m | E16: 50 | G16: =E16*F16 -> 0
... A20: 1.16 | C20: 5 X 25mm² | D20: 1 m | E20: 50 | G20: =E20*F20 -> 0
B21: PVC | C21: brown/black/grey/blue/gr/yw LSF
A22: 1.17 | C22: 1.5mm² | D22: 1 m | E22: 200 | G22: =E22*F22 -> 0
A23: 1.18 | C23: 2.5mm² | D23: 1 m | E23: 200 | G23: =E23*F23 -> 0
A24: 1.19 | C24: 4mm² | D24: 1 m | E24: 200 | G24: =E24*F24 -> 0
A25: 1.2 | C25: 6mm² | D25: 1 m | E25: 50 | G25: =E25*F25 -> 0
A26: 1.21 | C26: 10mm² | D26: 1 m | E26: 25 | G26: =E26*F26 -> 0
B27: Pannel | C27: flex brown/black/grey/blue/ gr/yellow
A28: 1.22 | C28: 4mm² | D28: 1 m | E28: 20 | G28: =E28*F28 -> 0
A29: 1.23 | C29: 6mm² | D29: 1 m | E29: 20 | G29: =E29*F29 -> 0
A30: 1.24 | C30: 10mm² | D30: 1 m | E30: 20 | G30: =E30*F30 -> 0
A31: 1.25 | C31: 16mm² | D31: 1 m | E31: 10 | G31: =E31*F31 -> 0
A32: 1.26 | C32: 25mm² | D32: 1 m | E32: 10 | G32: =E32*F32 -> 0
B33: Nymj | C33: cable
A34: 1.27 | C34: 3 x 1.5mm² | D34: 1 m | E34: 50 | G34: =E34*F34 -> 0
A35: 1.28 | C35: 3 x 2.5mm² | D35: 1 m | E35: 100 | G35: =E35*F35 -> 0
A36: 1.29 | C36: 3 x 4mm² | D36: 1 m | E36: 50 | G36: =E36*F36 -> 0
A37: 1.3 | C37: 3 x 6mm² | D37: 1 m | E37: 50 | G37: =E37*F37 -> 0
A38: 1.31 | C38: 5 x 1.5mm² | D38: 1 m | E38: 50 | G38: =E38*F38 -> 0
A39: 1.32 | C39: 5 x 2.5mm² | D39: 1 m | E39: 100 | G39: =E39*F39 -> 0
A40: 1.33 | C40: 5 x 4mm² | D40: 1 m | E40: 50 | G40: =E40*F40 -> 0
B41: Flex | C41: LSOH heat resisant flex
A42: 1.34 | C42: 3 X .75mm² | D42: 1 m | E42: 100 | G42: =E42*F42 -> 0
A43: 1.35 | C43: 3 X 1mm² | D43: 1 m | E43: 100 | G43: =E43*F43 -> 0
A44: 1.36 | C44: 3 X 1.5mm² | D44: 1 m | E44: 100 | G44: =E44*F44 -> 0
A45: 1.37 | C45: 3 x 2.5mm² | D45: 1 m | E45: 100 | G45: =E45*F45 -> 0
A46: 1.38 | C46: 4 X .75mm² | D46: 1 m | E46: 100 | G46: =E46*F46 -> 0
A47: 1.39 | C47: 4 X 1mm² | D47: 1 m | E47: 150 | G47: =E47*F47 -> 0
A48: 1.4 | C48: 4 X 1.5mm² | D48: 1 m | E48: 100 | G48: =E48*F48 -> 0
B49: Rubber | C49: flex HO7
A50: 1.41 | C50: 3 x 4mm² | D50: 1 m | E50: 25 | G50: =E50*F50 -> 0
A51: 1.42 | C51: 3 x 6mm² | D51: 1 m | E51: 25 | G51: =E51*F51 -> 0
A52: 1.43 | C52: 5 x 2.5mm² | D52: 1 m | E52: 25 | G52: =E52*F52 -> 0
A53: 1.45 | C53: 5 x 4mm² | D53: 1 m | E53: 25 | G53: =E53*F53 -> 0
A54: 1.46 | C54: 5 x 6mm² | D54: 1 m | E54: 25 | G54: =E54*F54 -> 0
B55: Fire | C55: alarm cable
A56: 1.47 | C56: 2 x 1.5 PH120 FP 200 | D56: 1 m | E56: 50 | G56: =E56*F56 -> 0
A57: 1.48 | C57: 2 x 2.5 PH120 FP 200 | D57: 1 m | E57: 50 | G57: =E57*F57 -> 0
B58: Control | C58: belden 9402 cable
A59: 1.49 | C59: 2 x .2mm² | D59: 1 m | E59: 50 | G59: =E59*F59 -> 0
A60: 1.5 | C60: 4 x .2mm² | D60: 1 m | E60: 50 | G60: =E60*F60 -> 0
A61: 1.51 | C61: 2 x .5mm² | D61: 1 m | E61: 50 | G61: =E61*F61 -> 0
A62: 1.52 | C62: 4 x .5mm² | D62: 1 m | E62: 50 | G62: =E62*F62 -> 0
A63: 1.53 | C63: Cable Clips 2.5mmsq NYM (50no. Per box) | D63: Box of 50 | E63: 1 | G63: =E63*F63 -> 0
A64: 1.54 | C64: Cable Clips 4.0mmsq NYM (30no. Per box) | D64: Box of 30 | E64: 1 | G64: =E64*F64 -> 0
A65: 1.55 | C65: Cable Cleats | D65: Each | E65: 100 | G65: =E65*F65 -> 0
A66: 1.56 | C66: Metal Cable Clips (FP 200) | D66: Each | E66: 25 | G66: =E66*F66 -> 0
B67: Glands | C67: plastic
A68: 1.57 | C68: 20mm plastic Glands (white) | D68: Each | E68: 50 | G68: =E68*F68 -> 0
A69: 1.58 | C69: 20mm Cable Glands (Red) Fire Rated | D69: Each | E69: 10 | G69: =E69*F69 -> 0
A70: 1.59 | C70: 25mm plastic glands | D70: Each | E70: 25 | G70: =E70*F70 -> 0
A71: 1.6 | C71: 32mm plastic glands | D71: Each | E71: 10 | G71: =E71*F71 -> 0
B72: Flexible | C72: conduit glands plastic[copex]
A73: 1.61 | C73: 20mm | D73: Each | E73: 20 | G73: =E73*F73 -> 0
A74: 1.62 | C74: 25mm | D74: Each | E74: 20 | G74: =E74*F74 -> 0
A75: 1.63 | C75: 32mm | D75: Each | E75: 10 | G75: =E75*F75 -> 0
B76: Metal | C76: swa glands
A77: 1.64 | C77: BW 20s | D77: Each | E77: 10 | G77: =E77*F77 -> 0
A78: 1.65 | C78: BW 20 | D78: Each | E78: 10 | G78: =E78*F78 -> 0
A79: 1.66 | C79: BW 25 | D79: Each | E79: 5 | G79: =E79*F79 -> 0
A80: 1.67 | C80: BW 32 | D80: Each | E80: 1 | G80: =E80*F80 -> 0
A81: 1.68 | C81: CW 20S | D81: Each | E81: 10 | G81: =E81*F81 -> 0
A82: 1.69 | C82: CW 20 | D82: Each | E82: 5 | G82: =E82*F82 -> 0
A83: 1.7 | C83: CW 25 | D83: Each | E83: 1 | G83: =E83*F83 -> 0
A84: 1.71 | C84: CW 32 | D84: Each | E84: 1 | G84: =E84*F84 -> 0
A85: TOTAL NOTIONAL COST | G85: =SUM(G5:G84) -> 0

Sheet Containment
A1: BASKET 2
A2: CONTAINMENT
A3: Item | B3: Material Description | C3: Notional Quantity (per 3m length where applicable) | D3: Unit Cost (Ex-VAT) | E3: TOTAL EX-VAT
A4: 2.1 | B4: 300mm Galvanised Tray | C4: 4 | E4: =C4*D4 -> 0
A5: 2.2 | B5: 300mm Galvanised Tray Bend 45 | C5: 2 | E5: =C5*D5 -> 0
A6: 2.3 | B6: 300mm Galvanised Tray Bend 90 | C6: 2 | E6: =C6*D6 -> 0
A7: 2.4 | B7: 200mm Galvanised Tray | C7: 4 | E7: =C7*D7 -> 0
A8: 2.5 | B8: 200mm Galvanised Tray Bend 45 | C8: 2 | E8: =C8*D8 -> 0
A9: 2.6 | B9: 200mm Galvanised Tray Bend 90 | C9: 2 | E9: =C9*D9 -> 0
A10: 2.7 | B10: 100mm Galvanised Tray | C10: 6 | E10: =C10*D10 -> 0
A11: 2.8 | B11: 100mm Galvanised Tray Bend 45 | C11: 2 | E11: =C11*D11 -> 0
A12: 2.9 | B12: 100mm Galvanised Tray Bend 90 | C12: 2 | E12: =C12*D12 -> 0
A13: 2.1 | B13: 50mm Galvanised Tray | C13: 6 | E13: =C13*D13 -> 0
A14: 2.11 | B14: 50mm Galvanised Tray Bend 45 | C14: 2 | E14: =C14*D14 -> 0
A15: 2.12 | B15: 50mm Galvanised Tray Bend 90 | C15: 2 | E15: =C15*D15 -> 0
... A112: 2.103 | B112: 32mm flexible conduit | C112: 10 | E112: =C112*D112 -> 0
A113: TOTAL NOTIONAL COST | E113: =SUM(E4:E112) -> 0

Sheet Accessories
A1: BASKET 3
A2: ACCESSORIES
A3: Item | B3: Material Description | C3: Brand used on site | D3: Unit of Measure | E3: Notional Quantity | F3: Unit Cost (excluding VAT) | G3: TOTAL Ex-VAT
A4: Switches and Sockets
A5: 3.01 | B5: twin switched socket outlet {pvc} | C5: logic plus | D5: Each | E5: 30 | G5: =E5*F5 -> 0
A6: 3.02 | B6: twin switched socket outlet (metal clad) | C6: mk k2946 | D6: Each | E6: 30 | G6: =E6*F6 -> 0
A7: 3.03 | B7: single switched socket outlet (PVC) | C7: logic plus | D7: Each | E7: 5 | G7: =E7*F7 -> 0
A8: 3.04 | B8: single switched socket outlet (metal clad) | C8: mk k2977 | D8: Each | E8: 5 | G8: =E8*F8 -> 0
A9: 3.05 | B9: 13a Fused spur Unit (metal)/neon | C9: mk | D9: Each | E9: 5 | G9: =E9*F9 -> 0
A10: 3.06 | B10: Switched 13a Fused spur Unit (metal) nenon | C10: mk | D10: Each | E10: 5 | G10: =E10*F10 -> 0
A11: 3.07 | B11: 20A D.P switch (metal) | D11: Each | E11: 5 | G11: =E11*F11 -> 0
A12: 3.08 | B12: single gang 1 way switch (metal) | D12: Each | E12: 2 | G12: =E12*F12 -> 0
A13: 3.09 | B13: single gang 2 way switch (metal) | D13: Each | E13: 5 | G13: =E13*F13 -> 0
A14: 3.1 | B14: 2 gang 1 way switch (metal) | D14: Each | E14: 1 | G14: =E14*F14 -> 0
A15: 3.11 | B15: 2 gang 2 way switch (metal) | D15: Each | E15: 5 | G15: =E15*F15 -> 0
A16: 3.12 | B16: single gang 1 way switch (PVC) | D16: Each | E16: 1 | G16: =E16*F16 -> 0
A17: 3.13 | B17: single gang 2 way switch (PVC) | D17: Each | E17: 5 | G17: =E17*F17 -> 0
A18: 3.14 | B18: 2 gang 1 way switch (PVC) | D18: Each | E18: 1 | G18: =E18*F18 -> 0
A19: 3.15 | B19: 2 gang 2 way switch (PVC) | D19: Each | E19: 1 | G19: =E19*F19 -> 0
A20: 3.16 | B20: 4 gang 1 way switch (metal) | D20: Each | E20: 1 | G20: =E20*F20 -> 0
A21: 3.17 | B21: 4 gang 2 way switch (metal) | D21: Each | E21: 1 | G21: =E21*F21 -> 0
A22: 3.18 | B22: 12 gang switch (metal) | D22: Each | E22: 1 | G22: =E22*F22 -> 0
... A39: 3.35 | B39: IP 65 63A TPN Isolator | D39: Each | E39: 5 | G39: =E39*F39 -> 0
A40: 3.36 | B40: 3 Compartment Dado PVC Trunking Cat 6A | C40: oddessy | D40: 10 lenghts (3m) | E40: 1 | G40: =E40*F40 -> 0
A41: 3.37 | B41: 3 Compartment Dado Trunking Int Bends | C41: oddessy | D41: Each | E41: 3 | G41: =E41*F41 -> 0
A42: 3.38 | B42: 3 Compartment Dado Trunking Ext Bends | C42: oddessy | D42: Each | E42: 3 | G42: =E42*F42 -> 0
A43: 3.39 | B43: 3 Compartment Dado Trunking tee | C43: oddessy | D43: Each | E43: 1 | G43: =E43*F43 -> 0
A44: 3.4 | B44: dado trunking single box | C44: oddessy | D44: Each | E44: 20 | G44: =E44*F44 -> 0
A45: 3.41 | B45: dado trunking double box | C45: oddessy | D45: Each | E45: 20 | G45: =E45*F45 -> 0
A46: 3.42 | B46: Extension Lead 10m 4gang | D46: Each | E46: 2 | G46: =E46*F46 -> 0
A47: 3.43 | B47: Extension Lead 25m 4 gang | D47: Each | E47: 3 | G47: =E47*F47 -> 0
A48: 3.44 | B48: Extension Lead 50m | D48: Each | E48: 1 | G48: =E48*F48 -> 0
A49: 3.45 | B49: 4 Way Multi-plug c/w surge protection 2m | D49: Each | E49: 5 | G49: =E49*F49 -> 0
A50: 3.46 | B50: 4 Way Multi-plug c/w surge protection 3m | D50: Each | E50: 5 | G50: =E50*F50 -> 0
A51: 3.47 | B51: 4 Way Multi-plug c/w surge protection 5m | D51: Each | E51: 5 | G51: =E51*F51 -> 0
A52: 3.48 | B52: 10A Photocell | D52: Each | E52: 2 | G52: =E52*F52 -> 0
A53: 3.49 | B53: 10A Motion Sensor | C53: luxomatic, 92196/92190 | D53: Each | E53: 10 | G53: =E53*F53 -> 0
A54: 3.5 | B54: 3 Pin Klik plug and base | C54: Hager | D54: Each | E54: 10 | G54: =E54*F54 -> 0
A55: 3.51 | B55: 4 Pin Klik | C55: hager | D55: Each | E55: 10 | G55: =E55*F55 -> 0
A56: 3.52 | B56: Photo Cell & Base | D56: Each | E56: 1 | G56: =E56*F56 -> 0
A57: 3.53 | B57: Time Clock | D57: Each | E57: 2 | G57: =E57*F57 -> 0
A58: 3.54 | B58: H.O.A (hand off auto switch) | D58: Each | E58: 2 | G58: =E58*F58 -> 0
A59: 3.55 | B59: Contactor & Box | D59: Each | E59: 1 | G59: =E59*F59 -> 0
A60: 3.56 | B60: 6 gang 6A 4Pin lighting Dist box | C60: klik hager | D60: Each | E60: 1 | G60: =E60*F60 -> 0
A61: 3.57 | B61: 8 gang 6A 4Pin lighting Dist box | C61: klik hager | D61: Each | E61: 1 | G61: =E61*F61 -> 0
A62: 3.58 | B62: 10 gang 6A 4Pin lighting Dist box | C62: klik hager | D62: Each | E62: 1 | G62: =E62*F62 -> 0
A63: 3.59 | B63: 13a black plug tops( rugged) | D63: Each | E63: 20 | G63: =E63*F63 -> 0
A64: 3.6 | B64: Green Break Glass Unit | D64: Each | E64: 2 | G64: =E64*F64 -> 0
A65: 3.61 | B65: Press to Exit Button | D65: Each | E65: 2 | G65: =E65*F65 -> 0
A66: TOTAL NOTIONAL COST | G66: =SUM(G5:G65) -> 0

Sheet Lighting
A1: BASKET 4
A2: LIGHTING
A3: Item | B3: Material Description | C3: Notional Quantity | D3: Unit Cost (excluding VAT) | E3: TOTAL ex-vat
A4: General and Emergency Lighting
A5: 4.1 | B5: Type A Fitting | C5: 10 | E5: =C5*D5 -> 0
A6: 4.2 | B6: Type B Fitting | C6: 30 | E6: =C6*D6 -> 0
A7: 4.3 | B7: Type C Fitting | C7: 5 | E7: =C7*D7 -> 0
A8: 4.4 | B8: Type D Fitting | C8: 5 | E8: =C8*D8 -> 0
A9: 4.5 | B9: Type F Fitting | C9: 5 | E9: =C9*D9 -> 0
A10: 4.6 | B10: Type F Ordinary Fitting | C10: 20 | E10: =C10*D10 -> 0
A11: 4.7 | B11: Type Ex 1 Fitting | C11: 2 | E11: =C11*D11 -> 0
A12: 4.8 | B12: Type Ex 2 Fitting | C12: 2 | E12: =C12*D12 -> 0
A13: 4.9 | B13: Type Ex 3 Fitting | C13: 2 | E13: =C13*D13 -> 0
A14: 4.1 | B14: Type EM - 1 Emergency Light Fitting | C14: 5 | E14: =C14*D14 -> 0
A15: 4.11 | B15: Type EM - 2 Emergency Light Fitting | C15: 5 | E15: =C15*D15 -> 0
A16: 4.12 | B16: Type EM - 3 Maintained Exit Sign | C16: 5 | E16: =C16*D16 -> 0
... A20: 4.16 | B20: Type EM - 7 External Em. Light Fitting | C20: 4 | E20: =C20*D20 -> 0
A21: Lamps
A22: 4.17 | B22: T8 5ft 58w 840 | C22: 25 | E22: =C22*D22 -> 0
A23: 4.18 | B23: T8 4ft 36w 840 | C23: 400 | E23: =C23*D23 -> 0
A24: 4.19 | B24: T8 3ft 28w 840 | C24: 10 | E24: =C24*D24 -> 0
A25: 4.2 | B25: T8 2 ft 18w 840 | C25: 500 | E25: =C25*D25 -> 0
A26: 4.21 | B26: T8 2 ft 18w 860 | C26: 50 | E26: =C26*D26 -> 0
A27: 4.22 | B27: T8 2 ft 18w 960 | C27: 25 | E27: =C27*D27 -> 0
A28: 4.23 | B28: T5 49 watt 840 | C28: 100 | E28: =C28*D28 -> 0
A29: 4.24 | B29: T5 35watt 840 | C29: 100 | E29: =C29*D29 -> 0
A30: 4.25 | B30: T5 28 watt 840 | C30: 100 | E30: =C30*D30 -> 0
A31: 4.26 | B31: T5 13 watt 840 | C31: 250 | E31: =C31*D31 -> 0
A32: 4.27 | B32: T5 14 watt 840 | C32: 250 | E32: =C32*D32 -> 0
A33: 4.28 | B33: T5 8 watt 640 | C33: 200 | E33: =C33*D33 -> 0
... A54: 4.49 | B54: 70 watt G12 | C54: 25 | E54: =C54*D54 -> 0
A55: Electronic Ballast Replacement
A56: 4.44 | B56: 2 x14w t5 | C56: 10 | E56: =C56*D56 -> 0
A57: 4.45 | B57: 4x 14w t5 | C57: 10 | E57: =C57*D57 -> 0
A58: 4.46 | B58: 4 x14w emergency t5 | C58: 10 | E58: =C58*D58 -> 0
A59: 4.47 | B59: 1x 28w t5 | C59: 10 | E59: =C59*D59 -> 0
A60: 4.48 | B60: 2 x 28w t5 | C60: 10 | E60: =C60*D60 -> 0
A61: 4.49 | B61: 4 x 28w emergency t5 | C61: 10 | E61: =C61*D61 -> 0
A62: 4.5 | B62: 1 x35w t5 | C62: 10 | E62: =C62*D62 -> 0
A63: 4.51 | B63: 2 x 35w t5 emergency | C63: 10 | E63: =C63*D63 -> 0
A64: 4.52 | B64: 1 x 49w t5 | C64: 10 | E64: =C64*D64 -> 0
A65: 4.53 | B65: 1 x49w t5 emergency | C65: 5 | E65: =C65*D65 -> 0
A66: 4.54 | B66: Replacement Ballast -3 BIAX 42 Watt | C66: 5 | E66: =C66*D66 -> 0
A67: 4.55 | B67: Replacement Ballast -3 BIAX 57 Watt | C67: 2 | E67: =C67*D67 -> 0
... A70: 4.58 | B70: Starters S10 | C70: 1000 | E70: =C70*D70 -> 0
A71: TOTAL NOTIONAL COST | E71: =SUM(E5:E70) -> 0

Sheet MISC Items
A1: BASKET 5
A2: MISCELLANEOUS ITEMS
A3: Item | B3: Material Description | C3: Notional Quantity | D3: Unit Cost (excluding VAT) | E3: TOTAL Ex-VAT
A4: Fuse board hardware
A5: 5.01 | B5: Single Phase MCB, 6A Type B | C5: 5 | E5: =C5*D5 -> 0
A6: 5.02 | B6: Single Phase MCB, 6A Type C | C6: 5 | E6: =C6*D6 -> 0
A7: 5.03 | B7: Single Phase MCB, 10A Type B | C7: 5 | E7: =C7*D7 -> 0
A8: 5.04 | B8: Single Phase MCB, 10A Type C | C8: 5 | E8: =C8*D8 -> 0
A9: 5.05 | B9: Single Phase MCB, 20A Type B | C9: 5 | E9: =C9*D9 -> 0
A10: 5.06 | B10: Single Phase MCB, 20A Type C | C10: 5 | E10: =C10*D10 -> 0
A11: 5.07 | B11: Single Phase MCB, 32A Type B | C11: 1 | E11: =C11*D11 -> 0
A12: 5.08 | B12: Single Phase MCB, 32A Type C | C12: 1 | E12: =C12*D12 -> 0
A13: 5.09 | B13: Three Phase RCD, 30mA 40A | C13: 5 | E13: =C13*D13 -> 0
A14: 5.1 | B14: Three Phase RCD, 30mA 63A | C14: 1 | E14: =C14*D14 -> 0
A15: 5.11 | B15: Three Phase RCD, 30mA 100A | C15: 1 | E15: =C15*D15 -> 0
A16: 5.12 | B16: Three Phase MCB, 20A | C16: 2 | E16: =C16*D16 -> 0
... A33: 5.29 | B33: 2 Channel Electronic Timer | C33: 2 | E33: =C33*D33 -> 0
A34: Cable Ferrules per pack
A35: 5.3 | B35: 0.5mm² | C35: 1 | E35: =C35*D35 -> 0
A36: 5.31 | B36: 0.75mm² | C36: 1 | E36: =C36*D36 -> 0
A37: 5.32 | B37: 1mm² | C37: 1 | E37: =C37*D37 -> 0
A38: 5.33 | B38: 1.5mm² | C38: 1 | E38: =C38*D38 -> 0
A39: 5.34 | B39: 2.5mm² | C39: 2 | E39: =C39*D39 -> 0
A40: 5.35 | B40: 4mm² | C40: 2 | E40: =C40*D40 -> 0
A41: 5.36 | B41: 6mm² | C41: 2 | E41: =C41*D41 -> 0
A42: 5.37 | B42: 10mm² | C42: 1 | E42: =C42*D42 -> 0
A43: Butt Splices per pack
A44: 5.38 | B44: 1.5mm² | C44: 1 | E44: =C44*D44 -> 0
A45: 5.39 | B45: 2.5mm² | C45: 1 | E45: =C45*D45 -> 0
A46: Spade Connectors per pack
A47: 5.4 | B47: 63 bft 1.5-2.5mm | C47: 2 | E47: =C47*D47 -> 0
A48: 5.41 | B48: 63yft 4-6mm | C48: 2 | E48: =C48*D48 -> 0
A49: 5.42 | B49: piano connectors 2pin (wago 758-1650) | C49: 10 | E49: =C49*D49 -> 0
A50: 5.43 | B50: piano connectors 3 pin(wago 475-1437 | C50: 2 | E50: =C50*D50 -> 0
A51: 5.44 | B51: Ceramic Connectors - 2.5mmsq | C51: 20 | E51: =C51*D51 -> 0
A52: 5.45 | B52: Ceramic Connectors - 4.0mmsq | C52: 20 | E52: =C52*D52 -> 0
A53: 5.46 | B53: Ceramic Connectors - 6.0mmsq | C53: 20 | E53: =C53*D53 -> 0
A54: 5.47 | B54: Strip Connectors - 5A | C54: 100 | E54: =C54*D54 -> 0
A55: 5.48 | B55: Strip Connectors - 10A | C55: 100 | E55: =C55*D55 -> 0
A56: 5.49 | B56: Strip Connectors - 15A | C56: 100 | E56: =C56*D56 -> 0
A57: 5.5 | B57: Strip Connectors - 30A | C57: 100 | E57: =C57*D57 -> 0
A58: 5.51 | B58: Insulation Tape various colours - (Pack of 10 rolls) | C58: 2 | E58: =C58*D58 -> 0
... A64: 5.57 | B64: work zone barrier tape non-adhesive (red on white) | C64: 1 | E64: =C64*D64 -> 0
A65: Screws Wood per 100
A66: 5.58 | B66: 4 x 25mm | C66: 1 | E66: =C66*D66 -> 0
A67: 5.59 | B67: 4 x30mm | C67: 2 | E67: =C67*D67 -> 0
A68: 5.6 | B68: 4 x 40mm | C68: 5 | E68: =C68*D68 -> 0
A69: 5.61 | B69: 4 x 50mm | C69: 2 | E69: =C69*D69 -> 0
A70: 5.62 | B70: 4 x 60mm | C70: 1 | E70: =C70*D70 -> 0
A71: 5.63 | B71: 4 x 70mm | C71: 1 | E71: =C71*D71 -> 0
A72: 5.64 | B72: 5 x 30mm | C72: 1 | E72: =C72*D72 -> 0
A73: 5.65 | B73: 5 x 40mm | C73: 3 | E73: =C73*D73 -> 0
A74: 5.66 | B74: 5 x 50mm | C74: 5 | E74: =C74*D74 -> 0
A75: 5.67 | B75: 5 x 60mm | C75: 2 | E75: =C75*D75 -> 0
A76: 5.68 | B76: 5 x 70mm | C76: 1 | E76: =C76*D76 -> 0
A77: Hex Head Self-drilling per 100
A78: 5.69 | B78: 5.5 x 19mm | C78: 1 | E78: =C78*D78 -> 0
A79: 5.7 | B79: 5.5 x 22mm | C79: 2 | E79: =C79*D79 -> 0
A80: 5.71 | B80: 5.5 x 25mm | C80: 1 | E80: =C80*D80 -> 0
A81: 5.72 | B81: waffer head zippy 4.2 x 13 | C81: 1 | E81: =C81*D81 -> 0
A82: 5.73 | B82: PANEL Lamps - 24V LED (various colours) | C82: 10 | E82: =C82*D82 -> 0
A83: 5.74 | B83: PANEL Lamps - 230V LED (various colours) | C83: 10 | E83: =C83*D83 -> 0
A84: Ties each
A85: 5.75 | B85: Cable ties 100mm | C85: 300 | E85: =C85*D85 -> 0
A86: 5.76 | B86: Cable ties 188mm | C86: 500 | E86: =C86*D86 -> 0
A87: 5.77 | B87: Cable ties 200mm | C87: 1000 | E87: =C87*D87 -> 0
A88: 5.78 | B88: Cable ties 300mm | C88: 2000 | E88: =C88*D88 -> 0
A89: 5.79 | B89: Cable ties 600mm | C89: 50 | E89: =C89*D89 -> 0
A90: 5.8 | B90: Steel Cable ties | C90: 50 | E90: =C90*D90 -> 0
A91: TOTAL NOTIONAL COST | E91: =SUM(E5:E90) -> 0

Sheet Batteries _Fuses
A1: BASKET 6
A2: BATTERIES & FUSES
A3: Item | B3: Material Description | C3: Notional Quantity | D3: Unit Cost (excluding VAT) | E3: TOTAL Ex-VAT
A4: Fuses
A5: 6.1 | B5: 5 X20mm ceramic & glass quick blow anti-surge - 0.5A | C5: 20 | E5: =C5*D5 -> 0
A6: 6.2 | B6: 5 X20mm ceramic & glass quick blow anti-surge - 3A | C6: 20 | E6: =C6*D6 -> 0
A7: 6.3 | B7: 5 X20mm ceramic & glass quick blow anti-surge - 6.3A | C7: 20 | E7: =C7*D7 -> 0
A8: 6.4 | B8: 6.3 x 25.4 Ceramic fuses - 3A | C8: 10 | E8: =C8*D8 -> 0
A9: 6.5 | B9: 6.3 x 25.4 Ceramic fuses - 5A | C9: 10 | E9: =C9*D9 -> 0
A10: 6.6 | B10: 6.3 x 25.4 Ceramic fuses - 10A | C10: 10 | E10: =C10*D10 -> 0
A11: 6.7 | B11: 6.3 x 25.4 Ceramic fuses - 13A | C11: 40 | E11: =C11*D11 -> 0
A12: 6.8 | B12: 10 x 38 gG Fuses -4A | C12: 5 | E12: =C12*D12 -> 0
A13: 6.9 | B13: 10 x 38 gG Fuses -6A | C13: 5 | E13: =C13*D13 -> 0
A14: 6.1 | B14: 10 x 38 gG Fuses -8A | C14: 5 | E14: =C14*D14 -> 0
A15: 6.11 | B15: 10 x 38 gG Fuses -10A | C15: 5 | E15: =C15*D15 -> 0
A16: 6.12 | B16: 10 x 38 gG Fuses -16A | C16: 5 | E16: =C16*D16 -> 0
... A27: 6.23 | B27: NH000gG500V -125A | C27: 3 | E27: =C27*D27 -> 0
A28: Batteries
A29: 6.24 | B29: AA | C29: 40 | E29: =C29*D29 -> 0
A30: 6.25 | B30: AAA | C30: 300 | E30: =C30*D30 -> 0
A31: 6.26 | B31: 9V square | C31: 10 | E31: =C31*D31 -> 0
A32: 6.27 | B32: 3V CR2016 Batteries | C32: 20 | E32: =C32*D32 -> 0
A33: 6.28 | B33: 3V CR2020 Batteries | C33: 20 | E33: =C33*D33 -> 0
A34: 6.29 | B34: 3V CR2025 Batteries | C34: 20 | E34: =C34*D34 -> 0
A35: 6.3 | B35: 3V CR2032 Batteries | C35: 20 | E35: =C35*D35 -> 0
A36: 6.31 | B36: 3V CR2430 Batteries | C36: 20 | E36: =C36*D36 -> 0
A37: 6.32 | B37: 12V 2.1 Ah lead acid rechargeable | C37: 5 | E37: =C37*D37 -> 0
A38: 6.33 | B38: 12V 7.0 Ah lead acid rechargeable ** | C38: 100 | E38: =C38*D38 -> 0
A39: 6.34 | B39: 3 cell: hrmt (AA) [mackwell 9001688] | C39: 20 | E39: =C39*D39 -> 0
A40: 6.35 | B40: 3 cell 1.6AH 3.6v [tridonic accu nicd c 89899743] | C40: 30 | E40: =C40*D40 -> 0
A41: Stick Batteries d type
A42: 6.36 | B42: 2 cell | C42: 10 | E42: =C42*D42 -> 0
A43: 6.37 | B43: 3cell | C43: 20 | E43: =C43*D43 -> 0
A44: 6.38 | B44: 4cell | C44: 50 | E44: =C44*D44 -> 0
A45: 6.39 | B45: 5cell | C45: 20 | E45: =C45*D45 -> 0
A46: 6.4 | B46: 6 cell | C46: 5 | E46: =C46*D46 -> 0
A47: 6.41 | B47: 7 cell | C47: 5 | E47: =C47*D47 -> 0
A48: Side by Side d type
A49: 6.42 | B49: 2 cell side by side | C49: 20 | E49: =C49*D49 -> 0
A50: 6.43 | B50: 4 cell side by side | C50: 20 | E50: =C50*D50 -> 0
A51: TOTAL NOTIONAL COST | E51: =SUM(E5:E50) -> 0

Sheet ICT Network
A1: BASKET 7
A2: ICT NETWORK
B3: Material Description | C3: Unit of Measure | D3: Notional Quantity | E3: Unit Cost (excluding VAT) | F3: TOTAL Ex-VAT
A4: Structured Cable
A5: 7.01 | B5: cat 6 utp /100m | C5: 100m | D5: 6 | F5: =D5*E5 -> 0
A6: 7.02 | B6: cat 6 ftp/ 100m | C6: 100m | D6: 3 | F6: =D6*E6 -> 0
A7: 7.03 | B7: cat 6A utp /100 | C7: 100m | D7: 10 | F7: =D7*E7 -> 0
A8: 7.04 | B8: cat 6A ftp /100 | C8: 100m | D8: 2 | F8: =D8*E8 -> 0
A9: Hardware | F9: =D9*E9 -> 0
A10: 7.05 | B10: cat 6 utp rj45 euro module | C10: Each | D10: 20 | F10: =D10*E10 -> 0
A11: 7.06 | B11: cat 6 ftp rj45 euro module | C11: Each | D11: 10 | F11: =D11*E11 -> 0
A12: 7.07 | B12: cat 6A utp rj45 euro module | C12: Each | D12: 30 | F12: =D12*E12 -> 0
A13: 7.08 | B13: cat 6A ftp rj45 euro module | C13: Each | D13: 10 | F13: =D13*E13 -> 0
A14: 7.09 | B14: cat 6 utp tool less jack key stone | C14: Each | D14: 10 | F14: =D14*E14 -> 0
A15: 7.1 | B15: cat 6 ftp tool less jack key stone | C15: Each | D15: 10 | F15: =D15*E15 -> 0
A16: 7.11 | B16: cat6A utp tool less jack key stone | C16: Each | D16: 10 | F16: =D16*E16 -> 0
A17: 7.12 | B17: cat 6A ftp tool less jack key stone | C17: Each | D17: 10 | F17: =D17*E17 -> 0
A18: 7.13 | B18: cat 6 shutter module for keystone | C18: Each | D18: 10 | F18: =D18*E18 -> 0
A19: 7.14 | B19: cat 6aA shutter module for key stone | C19: Each | D19: 10 | F19: =D19*E19 -> 0
A20: Face plates | F20: =D20*E20 -> 0
A21: 7.15 | B21: mk pro logic,mk metal clad, connectix | C21: Each | D21: 10 | F21: =D21*E21 -> 0
A22: 7.16 | B22: 2G module 50x50 plastic | C22: Each | D22: 30 | F22: =D22*E22 -> 0
A23: 7.15 | B23: 2G module 50x50 metal | C23: Each | D23: 5 | F23: =D23*E23 -> 0
A24: 7.16 | B24: 1G module 25 plastic | C24: Each | D24: 10 | F24: =D24*E24 -> 0
A25: 7.17 | B25: 1G module 25 x50 metal | C25: Each | D25: 5 | F25: =D25*E25 -> 0
A26: 7.17 | B26: 24 port cat 6 patch panel | C26: Each | D26: 1 | F26: =D26*E26 -> 0
A27: 7.18 | B27: 24 port cat 6A pacth panel | C27: Each | D27: 1 | F27: =D27*E27 -> 0
A28: 7.19 | B28: 1U cable management | C28: Each | D28: 1 | F28: =D28*E28 -> 0
A29: 7.2 | B29: 2u cable management | C29: Each | D29: 2 | F29: =D29*E29 -> 0
A30: Tools | F30: =D30*E30 -> 0
A31: 7.21 | B31: hole saw 22mm | C31: Each | D31: 2 | F31: =D31*E31 -> 0
A32: 7.22 | B32: Hole saw 25mm | C32: Each | D32: 2 | F32: =D32*E32 -> 0
A33: 7.23 | B33: hole saw 32mm | C33: Each | D33: 2 | F33: =D33*E33 -> 0
A34: 7.24 | B34: pilot bit 6mm | C34: Each | D34: 10 | F34: =D34*E34 -> 0
A35: 7.25 | B35: 4mm steel bit | C35: Each | D35: 10 | F35: =D35*E35 -> 0
A36: 7.26 | B36: 5mm steel bit | C36: Each | D36: 10 | F36: =D36*E36 -> 0
A37: 7.27 | B37: 10mm steel bit | C37: Each | D37: 5 | F37: =D37*E37 -> 0
A38: 7.28 | B38: 12mm steel bit | C38: Each | D38: 5 | F38: =D38*E38 -> 0
A39: 7.29 | B39: 5.5masonery bit short | C39: Each | D39: 5 | F39: =D39*E39 -> 0
A40: 7.3 | B40: 5.5masonery bit long | C40: Each | D40: 5 | F40: =D40*E40 -> 0
A41: 7.31 | B41: senior hack saw blade | C41: Each | D41: 10 | F41: =D41*E41 -> 0
A42: 7.32 | B42: junior hacksaw blade 10 | C42: Each | D42: 10 | F42: =D42*E42 -> 0
A43: Handriers | F43: =D43*E43 -> 0
A44: 7.35 | B44: air blade v [dyson huo2n] | C44: Each | D44: 2 | F44: =D44*E44 -> 0
A45: 7.36 | B45: act panther [za 05 | C45: Each | D45: 2 | F45: =D45*E45 -> 0
A46: TOTAL NOTIONAL COST | F46: =SUM(F5:F45) -> 0

Sheet OVERALL TOTAL COST
A1: Appendix 2 - Pricing Schedule - Overall Total Cost
A2: Electrical Materials for TUS Midlands - Athlone Campus
A3: Description | C3: Total Cost Excluding VAT | D3: VAT Rate (%) | E3: Total Cost Including VAT
A4: Basket 1: Cables | C4: =Cables!G85 -> 0
A5: Basket 2: Containment | C5: =Containment!E113 -> 0
A6: Basket 3: Accessories | C6: =Accessories!G66 -> 0
A7: Basket 4: Lighting | C7: =Lighting!E71 -> 0
A8: Basket 5: Miscellaneous | C8: ='MISC Items'!E91 -> 0
A9: Basket 6: Batteries and Fuses | C9: ='Batteries _Fuses'!E51 -> 0
A10: Basket 7: ICT Network | C10: ='ICT Network'!F46 -> 0
A11: Delivery Charge (if applicable) for order under €100*
A12: NOTIONAL TENDER COST | C12: =SUM(C4:C11) -> 0 | E12: =SUM(E4:E11) -> 0
A13: * If delivery charges do not apply please insert 0.00 in Total Columns It is expected that any order over €100.00 will not incur a delivery charge. In the event that the order value is less than the specified amount (€100.00), a delivery charge is optional. In this event, Tenderers must indicate what the delivery charge will be (if any).
A14: Company Name:
A15: Address:
A16: Signed:
A18: Print Name:
A20: Posiition:
A21: Phone No.:
A22: E-mail:
A24: Date:
