Workbook

Sheet DCC
A2: DCC
C3: Housing First Monitoring Report
C4: Breakdown by County Council
C5: Dublin City County Council
C6: Summary 2025 | I6: Summary Activity 2025
C7: Target Total Housing First Tenancies 2022 - 2026 | D7: 0 | M7: Q1 | N7: Q2 | O7: Q3 | P7: Q4
C8: Outstanding target from previous years (2022 to 2024) | D8: 0 | I8: No. of new tenancies | M8: =D19 -> 0 | N8: =E19 -> 0 | O8: =F19 -> 0 | P8: =G19 -> 0
C9: Target for Housing First Tenancies 2025 | D9: 0 | I9: No. of first-time tenancies | M9: =D20 -> 0 | N9: =E20 -> 0 | O9: =F20 -> 0 | P9: =G20 -> 0
C10: Tenancy Summary 2025 | D10: Q1 | E10: Q2 | F10: Q3 | G10: Q4 | I10: No. of rehoused tenancies | M10: =D21 -> 0 | N10: =E21 -> 0 | O10: =F21 -> 0 | P10: =G21 -> 0
C11: Housing First Tenancies Allocated to Date | D11: 0 | E11: 0 | F11: 0 | G11: 0 | I11: No. of active participants on HF intake list | M11: =D156 -> 0 | N11: =E156 -> 0 | O11: =F156 -> 0 | P11: =G156 -> 0
C12: Existing Housing First Tenancies | D12: 0 | E12: 0 | F12: 0 | G12: 0
C13: Total Tenants in a Housing First Tenancy | D13: 0 | E13: 0 | F13: 0 | G13: 0
C14: Housing First Sustainment Rate - Overall | D14: =D12/D11 -> #DIV/0! | E14: =E12/E11 -> #DIV/0! | F14: =F12/F11 -> #DIV/0! | G14: =G12/G11 -> #DIV/0!
C15: Housing First Sustainment Rate - not incl Death of Tenants | D15: =(D12+$H$32)/D11 -> #DIV/0! | E15: =(E12+$H$32)/E11 -> #DIV/0! | F15: =(F12+$H$32)/F11 -> #DIV/0! | G15: =(G12+$H$32)/G11 -> #DIV/0! | K15: Below figures should include the number of new tenancies, including transfers, created each month.
C17: General Housing First Activity by Quarter 2025 | K17: Monthly Tenancy Breakdown 2025
C18: Housing Activity | D18: Q1 | E18: Q2 | F18: Q3 | G18: Q4 | H18: Totals | I18: Percentage from Totals | K18: Jan | L18: Feb | M18: Mar | N18: Apr | O18: May | P18: Jun
C19: Total Tenancies Created - % | D19: =SUM(D20:D25) -> 0 | E19: =SUM(E20:E25) -> 0 | F19: =SUM(F20:F25) -> 0 | G19: =SUM(G20:G25) -> 0 | H19: =SUM(D19:G19) -> 0 | I19: 1 | K19: 0 | L19: 0 | M19: 0 | N19: 0 | O19: 0 | P19: 0
C20: First time tenant | D20: 0 | E20: 0 | F20: 0 | G20: 0 | H20: =SUM(D20:G20) -> 0 | I20: =H20/$H$19 -> #DIV/0! | K20: =SUM(K19:M19) -> 0 | N20: =SUM(N19:P19) -> 0
C21: Second time tenant | D21: 0 | E21: 0 | F21: 0 | G21: 0 | H21: =SUM(D21:G21) -> 0 | I21: =H21/$H$19 -> #DIV/0! | K21: Q1 Total | N21: Q2 Total
C22: Third time tenant | D22: 0 | E22: 0 | F22: 0 | G22: 0 | H22: =SUM(D22:G22) -> 0 | I22: =H22/$H$19 -> #DIV/0!
C23: Fourth time tenant | D23: 0 | E23: 0 | F23: 0 | G23: 0 | H23: =SUM(D23:G23) -> 0 | I23: =H23/$H$19 -> #DIV/0! | K23: Jul | L23: Aug | M23: Sep | N23: Oct | O23: Nov | P23: Dec
C24: Fifth time tenant | D24: 0 | E24: 0 | F24: 0 | G24: 0 | H24: =SUM(D24:G24) -> 0 | I24: =H24/$H$19 -> #DIV/0! | K24: 0 | L24: 0 | M24: 0 | N24: 0 | O24: 0 | P24: 0
C25: Sixth and above time tenant | D25: 0 | E25: 0 | F25: 0 | G25: 0 | H25: =SUM(D25:G25) -> 0 | I25: =H25/$H$19 -> #DIV/0! | K25: =SUM(K24:M24) -> 0 | N25: =SUM(N24:P24) -> 0
K26: Q3 Total | N26: Q4 Total
C27: Tenancy Ending Reason | D27: Q1 | E27: Q2 | F27: Q3 | G27: Q4 | H27: Totals | I27: Percentage from Totals
C28: Total Tenancies Ended - % | D28: =SUM(D29:D41) -> 0 | E28: =SUM(E29:E41) -> 0 | F28: =SUM(F29:F41) -> 0 | G28: =SUM(G29:G41) -> 0 | H28: =SUM(D28:G28) -> 0 | I28: 1
C29: Surrender of Tenancy | D29: 0 | E29: 0 | F29: 0 | G29: 0 | H29: =SUM(D29:G29) -> 0 | I29: =H29/$H$28 -> #DIV/0!
C30: Estate Management | D30: 0 | E30: 0 | F30: 0 | G30: 0 | H30: =SUM(D30:G30) -> 0 | I30: =H30/$H$28 -> #DIV/0!
C31: Transfer Request | D31: 0 | E31: 0 | F31: 0 | G31: 0 | H31: =SUM(D31:G31) -> 0 | I31: =H31/$H$28 -> #DIV/0!
C32: Death of a Tenant | D32: 0 | E32: 0 | F32: 0 | G32: 0 | H32: =SUM(D32:G32) -> 0 | I32: =H32/$H$28 -> #DIV/0!
C33: Incarceration | D33: 0 | E33: 0 | F33: 0 | G33: 0 | H33: =SUM(D33:G33) -> 0 | I33: =H33/$H$28 -> #DIV/0!
C34: Nursing Home / LTA | D34: 0 | E34: 0 | F34: 0 | G34: 0 | H34: =SUM(D34:G34) -> 0 | I34: =H34/$H$28 -> #DIV/0!
C35: Residential Treatment | D35: 0 | E35: 0 | F35: 0 | G35: 0 | H35: =SUM(D35:G35) -> 0 | I35: =H35/$H$28 -> #DIV/0!
C36: Return to Family and Friends | D36: 0 | E36: 0 | F36: 0 | G36: 0 | H36: =SUM(D36:G36) -> 0 | I36: =H36/$H$28 -> #DIV/0!
C37: Return to Rough Sleeping | D37: 0 | E37: 0 | F37: 0 | G37: 0 | H37: =SUM(D37:G37) -> 0 | I37: =H37/$H$28 -> #DIV/0!
C38: Reverting to TSA | D38: 0 | E38: 0 | F38: 0 | G38: 0 | H38: =SUM(D38:G38) -> 0 | I38: =H38/$H$28 -> #DIV/0!
C39: Notice to Quit | D39: 0 | E39: 0 | F39: 0 | G39: 0 | H39: =SUM(D39:G39) -> 0 | I39: =H39/$H$28 -> #DIV/0!
C40: other | D40: 0 | E40: 0 | F40: 0 | G40: 0 | H40: =SUM(D40:G40) -> 0 | I40: =H40/$H$28 -> #DIV/0!
C41: other | D41: 0 | E41: 0 | F41: 0 | G41: 0 | H41: =SUM(D41:G41) -> 0 | I41: =H41/$H$28 -> #DIV/0!
B43: Tenant Demographics and Needs
C46: Breakdown of Tenancy Profiles 2025 | D46: Q1 | E46: Q2 | F46: Q3 | G46: Q4 | H46: Totals | I46: %
C47: Total Tenancies Created - % | D47: =D19 -> 0 | E47: =E19 -> 0 | F47: =F19 -> 0 | G47: =G19 -> 0 | H47: =H19 -> 0 | I47: 1
C48: Gender
C49: Male | D49: 0 | E49: 0 | F49: 0 | G49: 0 | H49: =SUM(D49:G49) -> 0 | I49: =H49/$H$47 -> #DIV/0!
C50: Female | D50: 0 | E50: 0 | F50: 0 | G50: 0 | H50: =SUM(D50:G50) -> 0 | I50: =H50/$H$47 -> #DIV/0!
C51: Transgender | D51: 0 | E51: 0 | F51: 0 | G51: 0 | H51: =SUM(D51:G51) -> 0 | I51: =H51/$H$47 -> #DIV/0!
C52: Other | D52: 0 | E52: 0 | F52: 0 | G52: 0 | H52: =SUM(D52:G52) -> 0 | I52: =H52/$H$47 -> #DIV/0!
C53: Age range
C54: Age 18-25 | D54: 0 | E54: 0 | F54: 0 | G54: 0 | H54: =SUM(D54:G54) -> 0 | I54: =H54/$H$47 -> #DIV/0!
C55: Age 26-44 | D55: 0 | E55: 0 | F55: 0 | G55: 0 | H55: =SUM(D55:G55) -> 0 | I55: =H55/$H$47 -> #DIV/0!
C56: Age 45-66 | D56: 0 | E56: 0 | F56: 0 | G56: 0 | H56: =SUM(D56:G56) -> 0 | I56: =H56/$H$47 -> #DIV/0!
C57: Age 67-75 | D57: 0 | E57: 0 | F57: 0 | G57: 0 | H57: =SUM(D57:G57) -> 0 | I57: =H57/$H$47 -> #DIV/0!
C58: Over 76+ | D58: 0 | E58: 0 | F58: 0 | G58: 0 | H58: =SUM(D58:G58) -> 0 | I58: =H58/$H$47 -> #DIV/0!
C59: Ethnicity
C60: White Irish background | D60: 0 | E60: 0 | F60: 0 | G60: 0 | H60: =SUM(D60:G60) -> 0 | I60: =H60/$H$47 -> #DIV/0!
C61: Black Irish background | D61: 0 | E61: 0 | F61: 0 | G61: 0 | H61: =SUM(D61:G61) -> 0 | I61: =H61/$H$47 -> #DIV/0!
C62: White - EU citizen | D62: 0 | E62: 0 | F62: 0 | G62: 0 | H62: =SUM(D62:G62) -> 0 | I62: =H62/$H$47 -> #DIV/0!
C63: Black - EU citizen | D63: 0 | E63: 0 | F63: 0 | G63: 0 | H63: =SUM(D63:G63) -> 0 | I63: =H63/$H$47 -> #DIV/0!
C64: White - non-EU citizen | D64: 0 | E64: 0 | F64: 0 | G64: 0 | H64: =SUM(D64:G64) -> 0 | I64: =H64/$H$47 -> #DIV/0!
C65: Black - non-EU citizen | D65: 0 | E65: 0 | F65: 0 | G65: 0 | H65: =SUM(D65:G65) -> 0 | I65: =H65/$H$47 -> #DIV/0!
C66: Asian / Chinese | D66: 0 | E66: 0 | F66: 0 | G66: 0 | H66: =SUM(D66:G66) -> 0 | I66: =H66/$H$47 -> #DIV/0!
C67: Irish Travelling Community | D67: 0 | E67: 0 | F67: 0 | G67: 0 | H67: =SUM(D67:G67) -> 0 | I67: =H67/$H$47 -> #DIV/0!
C68: Non-Irish Travelling Community | D68: 0 | E68: 0 | F68: 0 | G68: 0 | H68: =SUM(D68:G68) -> 0 | I68: =H68/$H$47 -> #DIV/0!
C69: Roma Community | D69: 0 | E69: 0 | F69: 0 | G69: 0 | H69: =SUM(D69:G69) -> 0 | I69: =H69/$H$47 -> #DIV/0!
C70: Unspecified | D70: 0 | E70: 0 | F70: 0 | G70: 0 | H70: =SUM(D70:G70) -> 0 | I70: =H70/$H$47 -> #DIV/0!
C72: Emerging Needs - Tenants With Chronic Issues - Overall and 2025 | D72: Q1 | E72: Q2 | F72: Q3 | G72: Q4 | H72: Current | I72: %
C73: Total New Tenants in a tenancy per quarter: | D73: =D13 -> 0 | E73: =E13 -> 0 | F73: =F13 -> 0 | G73: =G13 -> 0 | H73: =G73 -> 0 | I73: 1
C74: Assessing Tenant Health Needs:
C75: Number of new tenants within the quarter with whom the Housing First Health Monitoring Tool has been completed | D75: 0 | E75: 0 | F75: 0 | G75: 0 | H75: =G75 -> 0 | I75: =H75/$E$73 -> #DIV/0!
C76: Number of Tenants who's health-needs have been assessed and are being supported to manage physical / general health, mental health and addiction issues as part of their care plan | D76: 0 | E76: 0 | F76: 0 | G76: 0 | H76: =G76 -> 0 | I76: =H76/$E$73 -> #DIV/0!
C78: Number of New Tenants in 2025 diagnosed with; | D78: Q1 | E78: Q2 | F78: Q3 | G78: Q4 | H78: Current | I78: %
C79: Intellectual Disability | D79: 0 | E79: 0 | F79: 0 | G79: 0 | H79: =G79 -> 0 | I79: =H79/$E$73 -> #DIV/0!
C80: Physical Disability not requiring wheelchair | D80: 0 | E80: 0 | F80: 0 | G80: 0 | H80: =G80 -> 0 | I80: =H80/$E$73 -> #DIV/0!
C81: Physical Disability requiring wheelchair | D81: 0 | E81: 0 | F81: 0 | G81: 0 | H81: =G81 -> 0 | I81: =H81/$E$73 -> #DIV/0!
C82: Cognitive Impairment (Excluding Mental Illness). Includes brain damage, epilepsy, stroke-related damage, and substance-induced neurological damage (excluding alcohol-related head injuries). | D82: 0 | E82: 0 | F82: 0 | G82: 0 | H82: =G82 -> 0 | I82: =H82/$E$73 -> #DIV/0!
C83: Neurodevelopmental Disorder. Refers to conditions such as autism, ADHD, and other neurodevelopmental disorders. | D83: 0 | E83: 0 | F83: 0 | G83: 0 | H83: =G83 -> 0 | I83: =H83/$E$73 -> #DIV/0!
C84: Alcohol-Related Brain Injury (ARBI). Specifically for individuals with cognitive impairment related to alcohol use. | D84: 0 | E84: 0 | F84: 0 | G84: 0 | H84: =G84 -> 0 | I84: =H84/$E$73 -> #DIV/0!
C85: Serious Mental Illness (SMI). Includes diagnoses such as schizophrenia, bipolar disorder, drug-induced psychosis, psychosis, and related disorders which result in significant functional impacts. | D85: 0 | E85: 0 | F85: 0 | G85: 0 | H85: =G85 -> 0 | I85: =H85/$E$73 -> #DIV/0!
C86: Personality Disorders. For clients with diagnosed personality disorders, particularly when this is the primary reason for involvement of services/supports. | D86: 0 | E86: 0 | F86: 0 | G86: 0 | H86: =G86 -> 0 | I86: =H86/$E$73 -> #DIV/0!
C87: Dual Diagnosis (Mental Health and Substance Use Disorder). Specifically refers to cases where individuals have mental disorder and co-existing Substance Use Disorder | D87: 0 | E87: 0 | F87: 0 | G87: 0 | H87: =G87 -> 0 | I87: =H87/$E$73 -> #DIV/0!
C88: Poly-Substance Use. For individuals using more than one type of substance. | D88: 0 | E88: 0 | F88: 0 | G88: 0 | H88: =G88 -> 0 | I88: =H88/$E$73 -> #DIV/0!
C90: Number of New Tenants with Addictions to: | D90: Q1 | E90: Q2 | F90: Q3 | G90: Q4 | H90: Current | I90: %
C91: Tobacco Addiction | D91: 0 | E91: 0 | F91: 0 | G91: 0 | H91: =G91 -> 0 | I91: =H91/$E$73 -> #DIV/0!
C92: Alcohol Addiction | D92: 0 | E92: 0 | F92: 0 | G92: 0 | H92: =G92 -> 0 | I92: =H92/$E$73 -> #DIV/0!
C93: Heroin Addiction / Taking Methodone | D93: 0 | E93: 0 | F93: 0 | G93: 0 | H93: =G93 -> 0 | I93: =H93/$E$73 -> #DIV/0!
C94: Heroin Addiction / Not Taking Methodone | D94: 0 | E94: 0 | F94: 0 | G94: 0 | H94: =G94 -> 0 | I94: =H94/$E$73 -> #DIV/0!
C95: Benzodiazepine / Street tablet Addiction | D95: 0 | E95: 0 | F95: 0 | G95: 0 | H95: =G95 -> 0 | I95: =H95/$E$73 -> #DIV/0!
C96: Methamphetamine Addiction | D96: 0 | E96: 0 | F96: 0 | G96: 0 | H96: =G96 -> 0 | I96: =H96/$E$73 -> #DIV/0!
C97: Cocaine Powder Addiction | D97: 0 | E97: 0 | F97: 0 | G97: 0 | H97: =G97 -> 0 | I97: =H97/$E$73 -> #DIV/0!
C98: Crack-Cocaine Addiction | D98: 0 | E98: 0 | F98: 0 | G98: 0 | H98: =G98 -> 0 | I98: =H98/$E$73 -> #DIV/0!
C99: Synthetic opioids (e.g. nitazens) | D99: 0 | E99: 0 | F99: 0 | G99: 0 | H99: =G99 -> 0 | I99: =H99/$E$73 -> #DIV/0!
B101: Property Sources
C104: Property Sources Breakdown per quarter 2025 | D104: Q1 | E104: Q2 | F104: Q3 | G104: Q4 | H104: Current | I104: %
C105: New Tenancies Per Quarter | D105: =D19 -> 0 | E105: =E19 -> 0 | F105: =F19 -> 0 | G105: =G19 -> 0 | H105: =G105 -> 0 | I105: 1
C106: Of which are
C107: HAP (private rented) | D107: 0 | E107: 0 | F107: 0 | G107: 0 | H107: =G107 -> 0 | I107: =H107/$H$105 -> #DIV/0!
C108: RAS (private rented) | D108: 0 | E108: 0 | F108: 0 | G108: 0 | H108: =G108 -> 0 | I108: =H108/$H$105 -> #DIV/0!
C109: Housing First Service Provider | D109: 0 | E109: 0 | F109: 0 | G109: 0 | H109: =G109 -> 0 | I109: =H109/$H$105 -> #DIV/0!
C110: Local Authority | D110: 0 | E110: 0 | F110: 0 | G110: 0 | H110: =G110 -> 0 | I110: =H110/$H$105 -> #DIV/0!
C111: AHB (not service provider), of which are: | D111: 0 | E111: 0 | F111: 0 | G111: 0 | H111: =G111 -> 0 | I111: =H111/$H$105 -> #DIV/0!
...

Sheet DLR
A2: DLR
C3: Housing First Monitoring Report
C4: Breakdown by County Council
C5: Dun Laoghaire-Rathdown County Council
C6: Summary 2025 | I6: Summary Activity 2025
C7: Target Total Housing First Tenancies 2022 - 2026 | D7: 0 | M7: Q1 | N7: Q2 | O7: Q3 | P7: Q4
C8: Outstanding target from previous years (2022 to 2024) | D8: 0 | I8: No. of new tenancies | M8: =D19 -> 0 | N8: =SUM(D19:E19) -> 0 | O8: =SUM(D19:F19) -> 0 | P8: =SUM(D19:G19) -> 0
C9: Target for Housing First Tenancies 2025 | D9: 0 | I9: No. of first-time tenancies | M9: =D20 -> 0 | N9: =SUM(D20:E20) -> 0 | O9: =SUM(D20:F20) -> 0 | P9: =SUM(D20:G20) -> 0
C10: Tenancy Summary 2025 | D10: Q1 | E10: Q2 | F10: Q3 | G10: Q4 | I10: No. of rehoused tenancies | M10: =SUM(D21:D25) -> 0 | N10: =SUM(D21:E25) -> 0 | O10: =SUM(D21:F25) -> 0 | P10: =SUM(D21:G25) -> 0
C11: Housing First Tenancies Allocated to Date | D11: 0 | E11: 0 | F11: 0 | G11: =F11+G19 -> 0 | I11: No. of active participants on HF intake list | M11: =D156 -> 0 | N11: =E156 -> 0 | O11: =F156 -> 0 | P11: =G156 -> 0
C12: Existing Housing First Tenancies | D12: 0 | E12: 0 | F12: 0 | G12: =F12+G19-G28 -> 0
C13: Total Tenants in a Housing First Tenancy | D13: 0 | E13: 0 | F13: 0 | G13: 0
C14: Housing First Sustainment Rate - Overall | D14: =D12/D11 -> #DIV/0! | E14: =E12/E11 -> #DIV/0! | F14: =F12/F11 -> #DIV/0! | G14: =G12/G11 -> #DIV/0!
C15: Housing First Sustainment Rate - not incl Death of Tenants | D15: =(D12+$H$32)/D11 -> #DIV/0! | E15: =(E12+$H$32)/E11 -> #DIV/0! | F15: =(F12+$H$32)/F11 -> #DIV/0! | G15: =(G12+$H$32)/G11 -> #DIV/0! | K15: Below figures should include the number of new tenancies, including transfers, created each month.
C17: General Housing First Activity by Quarter 2025 | K17: Monthly Tenancy Breakdown 2025
C18: Housing Activity | D18: Q1 | E18: Q2 | F18: Q3 | G18: Q4 | H18: Totals | I18: Percentage from Totals | K18: Jan | L18: Feb | M18: Mar | N18: Apr | O18: May | P18: Jun
C19: Total Tenancies Created - % | D19: =SUM(D20:D25) -> 0 | E19: =SUM(E20:E25) -> 0 | F19: =SUM(F20:F25) -> 0 | G19: =SUM(G20:G25) -> 0 | H19: =SUM(D19:G19) -> 0 | I19: 1 | K19: 0 | L19: 0 | M19: 0 | N19: 0 | O19: 0 | P19: 0
C20: First time tenant | D20: 0 | E20: 0 | F20: 0 | G20: 0 | H20: =SUM(D20:G20) -> 0 | I20: =H20/$H$19 -> #DIV/0! | K20: =SUM(K19:M19) -> 0 | N20: =SUM(N19:P19) -> 0
C21: Second time tenant | D21: 0 | E21: 0 | F21: 0 | G21: 0 | H21: =SUM(D21:G21) -> 0 | I21: =H21/$H$19 -> #DIV/0! | K21: Q1 Total | N21: Q2 Total
C22: Third time tenant | D22: 0 | E22: 0 | F22: 0 | G22: 0 | H22: =SUM(D22:G22) -> 0 | I22: =H22/$H$19 -> #DIV/0!
C23: Fourth time tenant | D23: 0 | E23: 0 | F23: 0 | G23: 0 | H23: =SUM(D23:G23) -> 0 | I23: =H23/$H$19 -> #DIV/0! | K23: Jul | L23: Aug | M23: Sep | N23: Oct | O23: Nov | P23: Dec
C24: Fifth time tenant | D24: 0 | E24: 0 | F24: 0 | G24: 0 | H24: =SUM(D24:G24) -> 0 | I24: =H24/$H$19 -> #DIV/0! | K24: 0 | L24: 0 | M24: 0 | N24: 0 | O24: 0 | P24: 0
C25: Sixth and above time tenant | D25: 0 | E25: 0 | F25: 0 | G25: 0 | H25: =SUM(D25:G25) -> 0 | I25: =H25/$H$19 -> #DIV/0! | K25: =SUM(K24:M24) -> 0 | N25: =SUM(N24:P24) -> 0
K26: Q3 Total | N26: Q4 Total
C27: Tenancy Ending Reason | D27: Q1 | E27: Q2 | F27: Q3 | G27: Q4 | H27: Totals | I27: Percentage from Totals
C28: Total Tenancies Ended - % | D28: =SUM(D29:D41) -> 0 | E28: =SUM(E29:E41) -> 0 | F28: =SUM(F29:F41) -> 0 | G28: =SUM(G29:G41) -> 0 | H28: =SUM(D28:G28) -> 0 | I28: 1
C29: Surrender of Tenancy | D29: 0 | E29: 0 | F29: 0 | G29: 0 | H29: =SUM(D29:G29) -> 0 | I29: =H29/$H$28 -> #DIV/0!
C30: Estate Management | D30: 0 | E30: 0 | F30: 0 | G30: 0 | H30: =SUM(D30:G30) -> 0 | I30: =H30/$H$28 -> #DIV/0!
C31: Transfer Request | D31: 0 | E31: 0 | F31: 0 | G31: 0 | H31: =SUM(D31:G31) -> 0 | I31: =H31/$H$28 -> #DIV/0!
C32: Death of a Tenant | D32: 0 | E32: 0 | F32: 0 | G32: 0 | H32: =SUM(D32:G32) -> 0 | I32: =H32/$H$28 -> #DIV/0!
C33: Incarceration | D33: 0 | E33: 0 | F33: 0 | G33: 0 | H33: =SUM(D33:G33) -> 0 | I33: =H33/$H$28 -> #DIV/0!
C34: Nursing Home / LTA | D34: 0 | E34: 0 | F34: 0 | G34: 0 | H34: =SUM(D34:G34) -> 0 | I34: =H34/$H$28 -> #DIV/0!
C35: Residential Treatment | D35: 0 | E35: 0 | F35: 0 | G35: 0 | H35: =SUM(D35:G35) -> 0 | I35: =H35/$H$28 -> #DIV/0!
C36: Return to Family and Friends | D36: 0 | E36: 0 | F36: 0 | G36: 0 | H36: =SUM(D36:G36) -> 0 | I36: =H36/$H$28 -> #DIV/0!
C37: Return to Rough Sleeping | D37: 0 | E37: 0 | F37: 0 | G37: 0 | H37: =SUM(D37:G37) -> 0 | I37: =H37/$H$28 -> #DIV/0!
C38: Reverting to TSA | D38: 0 | E38: 0 | F38: 0 | G38: 0 | H38: =SUM(D38:G38) -> 0 | I38: =H38/$H$28 -> #DIV/0!
C39: Notice to Quit | D39: 0 | E39: 0 | F39: 0 | G39: 0 | H39: =SUM(D39:G39) -> 0 | I39: =H39/$H$28 -> #DIV/0!
C40: other | D40: 0 | E40: 0 | F40: 0 | G40: 0 | H40: =SUM(D40:G40) -> 0 | I40: =H40/$H$28 -> #DIV/0!
C41: other | D41: 0 | E41: 0 | F41: 0 | G41: 0 | H41: =SUM(D41:G41) -> 0 | I41: =H41/$H$28 -> #DIV/0!
B43: Tenant Demographics and Needs
C46: Breakdown of Tenancy Profiles 2025 | D46: Q1 | E46: Q2 | F46: Q3 | G46: Q4 | H46: Totals | I46: %
C47: Total Tenancies Created - % | D47: =D19 -> 0 | E47: =E19 -> 0 | F47: =F19 -> 0 | G47: =G19 -> 0 | H47: =H19 -> 0 | I47: 1
C48: Gender
C49: Male | D49: 0 | E49: 0 | F49: 0 | G49: 0 | H49: =SUM(D49:G49) -> 0 | I49: =H49/$H$47 -> #DIV/0!
C50: Female | D50: 0 | E50: 0 | F50: 0 | G50: 0 | H50: =SUM(D50:G50) -> 0 | I50: =H50/$H$47 -> #DIV/0!
C51: Transgender | D51: 0 | E51: 0 | F51: 0 | G51: 0 | H51: =SUM(D51:G51) -> 0 | I51: =H51/$H$47 -> #DIV/0!
C52: Other | D52: 0 | E52: 0 | F52: 0 | G52: 0 | H52: =SUM(D52:G52) -> 0 | I52: =H52/$H$47 -> #DIV/0!
C53: Age range
C54: Age 18-25 | D54: 0 | E54: 0 | F54: 0 | G54: 0 | H54: =SUM(D54:G54) -> 0 | I54: =H54/$H$47 -> #DIV/0!
C55: Age 26-44 | D55: 0 | E55: 0 | F55: 0 | G55: 0 | H55: =SUM(D55:G55) -> 0 | I55: =H55/$H$47 -> #DIV/0!
C56: Age 45-66 | D56: 0 | E56: 0 | F56: 0 | G56: 0 | H56: =SUM(D56:G56) -> 0 | I56: =H56/$H$47 -> #DIV/0!
C57: Age 67-75 | D57: 0 | E57: 0 | F57: 0 | G57: 0 | H57: =SUM(D57:G57) -> 0 | I57: =H57/$H$47 -> #DIV/0!
C58: Over 76+ | D58: 0 | E58: 0 | F58: 0 | G58: 0 | H58: =SUM(D58:G58) -> 0 | I58: =H58/$H$47 -> #DIV/0!
C59: Ethnicity
C60: White Irish background | D60: 0 | E60: 0 | F60: 0 | G60: 0 | H60: =SUM(D60:G60) -> 0 | I60: =H60/$H$47 -> #DIV/0!
C61: Black Irish background | D61: 0 | E61: 0 | F61: 0 | G61: 0 | H61: =SUM(D61:G61) -> 0 | I61: =H61/$H$47 -> #DIV/0!
C62: White - EU citizen | D62: 0 | E62: 0 | F62: 0 | G62: 0 | H62: =SUM(D62:G62) -> 0 | I62: =H62/$H$47 -> #DIV/0!
C63: Black - EU citizen | D63: 0 | E63: 0 | F63: 0 | G63: 0 | H63: =SUM(D63:G63) -> 0 | I63: =H63/$H$47 -> #DIV/0!
C64: White - non-EU citizen | D64: 0 | E64: 0 | F64: 0 | G64: 0 | H64: =SUM(D64:G64) -> 0 | I64: =H64/$H$47 -> #DIV/0!
C65: Black - non-EU citizen | D65: 0 | E65: 0 | F65: 0 | G65: 0 | H65: =SUM(D65:G65) -> 0 | I65: =H65/$H$47 -> #DIV/0!
C66: Asian / Chinese | D66: 0 | E66: 0 | F66: 0 | G66: 0 | H66: =SUM(D66:G66) -> 0 | I66: =H66/$H$47 -> #DIV/0!
C67: Irish Travelling Community | D67: 0 | E67: 0 | F67: 0 | G67: 0 | H67: =SUM(D67:G67) -> 0 | I67: =H67/$H$47 -> #DIV/0!
C68: Non-Irish Travelling Community | D68: 0 | E68: 0 | F68: 0 | G68: 0 | H68: =SUM(D68:G68) -> 0 | I68: =H68/$H$47 -> #DIV/0!
C69: Roma Community | D69: 0 | E69: 0 | F69: 0 | G69: 0 | H69: =SUM(D69:G69) -> 0 | I69: =H69/$H$47 -> #DIV/0!
C70: Unspecified | D70: 0 | E70: 0 | F70: 0 | G70: 0 | H70: =SUM(D70:G70) -> 0 | I70: =H70/$H$47 -> #DIV/0!
C72: Emerging Needs - Tenants With Chronic Issues - Overall and 2025 | D72: Q1 | E72: Q2 | F72: Q3 | G72: Q4 | H72: Current | I72: %
C73: Total New Tenants in a tenancy per quarter: | D73: =D12 -> 0 | E73: =E12 -> 0 | F73: =F12 -> 0 | G73: =G12 -> 0 | H73: =G73 -> 0 | I73: 1
C74: Assessing Tenant Health Needs:
C75: Number of new tenants within the quarter with whom the Housing First Health Monitoring Tool has been completed | D75: 0 | E75: 0 | F75: 0 | G75: 0 | H75: =G75 -> 0 | I75: =H75/$E$73 -> #DIV/0!
C76: Number of Tenants who's health-needs have been assessed and are being supported to manage physical / general health, mental health and addiction issues as part of their care plan | D76: 0 | E76: 0 | F76: 0 | G76: 0 | H76: =G76 -> 0 | I76: =H76/$E$73 -> #DIV/0!
C78: Number of New Tenants in 2025 diagnosed with; | D78: Q1 | E78: Q2 | F78: Q3 | G78: Q4 | H78: Current | I78: %
C79: Intellectual Disability | D79: 0 | E79: 0 | F79: 0 | G79: 0 | H79: =G79 -> 0 | I79: =H79/$E$73 -> #DIV/0!
C80: Physical Disability not requiring wheelchair | D80: 0 | E80: 0 | F80: 0 | G80: 0 | H80: =G80 -> 0 | I80: =H80/$E$73 -> #DIV/0!
C81: Physical Disability requiring wheelchair | D81: 0 | E81: 0 | F81: 0 | G81: 0 | H81: =G81 -> 0 | I81: =H81/$E$73 -> #DIV/0!
C82: Cognitive Impairment (Excluding Mental Illness). Includes brain damage, epilepsy, stroke-related damage, and substance-induced neurological damage (excluding alcohol-related head injuries). | D82: 0 | E82: 0 | F82: 0 | G82: 0 | H82: =G82 -> 0 | I82: =H82/$E$73 -> #DIV/0!
C83: Neurodevelopmental Disorder. Refers to conditions such as autism, ADHD, and other neurodevelopmental disorders. | D83: 0 | E83: 0 | F83: 0 | G83: 0 | H83: =G83 -> 0 | I83: =H83/$E$73 -> #DIV/0!
C84: Alcohol-Related Brain Injury (ARBI). Specifically for individuals with cognitive impairment related to alcohol use. | D84: 0 | E84: 0 | F84: 0 | G84: 0 | H84: =G84 -> 0 | I84: =H84/$E$73 -> #DIV/0!
C85: Serious Mental Illness (SMI). Includes diagnoses such as schizophrenia, bipolar disorder, drug-induced psychosis, psychosis, and related disorders which result in significant functional impacts. | D85: 0 | E85: 0 | F85: 0 | G85: 0 | H85: =G85 -> 0 | I85: =H85/$E$73 -> #DIV/0!
C86: Personality Disorders. For clients with diagnosed personality disorders, particularly when this is the primary reason for involvement of services/supports. | D86: 0 | E86: 0 | F86: 0 | G86: 0 | H86: =G86 -> 0 | I86: =H86/$E$73 -> #DIV/0!
C87: Dual Diagnosis (Mental Health and Substance Use Disorder). Specifically refers to cases where individuals have mental disorder and co-existing Substance Use Disorder | D87: 0 | E87: 0 | F87: 0 | G87: 0 | H87: =G87 -> 0 | I87: =H87/$E$73 -> #DIV/0!
C88: Poly-Substance Use. For individuals using more than one type of substance. | D88: 0 | E88: 0 | F88: 0 | G88: 0 | H88: =G88 -> 0 | I88: =H88/$E$73 -> #DIV/0!
C90: Number of New Tenants with Addictions to: | D90: Q1 | E90: Q2 | F90: Q3 | G90: Q4 | H90: Current | I90: %
C91: Tobacco Addiction | D91: 0 | E91: 0 | F91: 0 | G91: 0 | H91: =G91 -> 0 | I91: =H91/$E$73 -> #DIV/0!
C92: Alcohol Addiction | D92: 0 | E92: 0 | F92: 0 | G92: 0 | H92: =G92 -> 0 | I92: =H92/$E$73 -> #DIV/0!
C93: Heroin Addiction / Taking Methodone | D93: 0 | E93: 0 | F93: 0 | G93: 0 | H93: =G93 -> 0 | I93: =H93/$E$73 -> #DIV/0!
C94: Heroin Addiction / Not Taking Methodone | D94: 0 | E94: 0 | F94: 0 | G94: 0 | H94: =G94 -> 0 | I94: =H94/$E$73 -> #DIV/0!
C95: Benzodiazepine / Street tablet Addiction | D95: 0 | E95: 0 | F95: 0 | G95: 0 | H95: =G95 -> 0 | I95: =H95/$E$73 -> #DIV/0!
C96: Methamphetamine Addiction | D96: 0 | E96: 0 | F96: 0 | G96: 0 | H96: =G96 -> 0 | I96: =H96/$E$73 -> #DIV/0!
C97: Cocaine Powder Addiction | D97: 0 | E97: 0 | F97: 0 | G97: 0 | H97: =G97 -> 0 | I97: =H97/$E$73 -> #DIV/0!
C98: Crack-Cocaine Addiction | D98: 0 | E98: 0 | F98: 0 | G98: 0 | H98: =G98 -> 0 | I98: =H98/$E$73 -> #DIV/0!
C99: Synthetic opioids (e.g. nitazens) | D99: 0 | E99: 0 | F99: 0 | G99: 0 | H99: =G99 -> 0 | I99: =H99/$E$73 -> #DIV/0!
B101: Property Sources
C104: Property Sources Breakdown per quarter 2025 | D104: Q1 | E104: Q2 | F104: Q3 | G104: Q4 | H104: Current | I104: %
C105: New Tenancies Per Quarter | D105: =D19 -> 0 | E105: =E19 -> 0 | F105: =F19 -> 0 | G105: =G19 -> 0 | H105: =G105 -> 0 | I105: 1
C106: Of which are
C107: HAP (private rented) | D107: 0 | E107: 0 | F107: 0 | G107: 0 | H107: =G107 -> 0 | I107: =H107/$H$105 -> #DIV/0!
C108: RAS (private rented) | D108: 0 | E108: 0 | F108: 0 | G108: 0 | H108: =G108 -> 0 | I108: =H108/$H$105 -> #DIV/0!
C109: Housing First Service Provider | D109: 0 | E109: 0 | F109: 0 | G109: 0 | H109: =G109 -> 0 | I109: =H109/$H$105 -> #DIV/0!
C110: Local Authority | D110: 0 | E110: 0 | F110: 0 | G110: 0 | H110: =G110 -> 0 | I110: =H110/$H$105 -> #DIV/0!
C111: AHB (not service provider), of which are: | D111: 0 | E111: 0 | F111: 0 | G111: 0 | H111: =G111 -> 0 | I111: =H111/$H$105 -> #DIV/0!
...

Sheet SDCC
A2: SDCC
C3: Housing First Monitoring Report
C4: Breakdown by County Council
C5: South Dublin County Council
C6: Summary 2025 | I6: Summary Activity 2025
C7: Target Total Housing First Tenancies 2022 - 2026 | D7: 0 | M7: Q1 | N7: Q2 | O7: Q3 | P7: Q4
C8: Outstanding target from previous years (2022 to 2024) | D8: 0 | I8: No. of new tenancies | M8: =D19 -> 0 | N8: =SUM(D19:E19) -> 0 | O8: =SUM(D19:F19) -> 0 | P8: =SUM(D19:G19) -> 0
C9: Target for Housing First Tenancies 2025 | D9: 0 | I9: No. of first-time tenancies | M9: =D20 -> 0 | N9: =SUM(D20:E20) -> 0 | O9: =SUM(D20:F20) -> 0 | P9: =SUM(D20:G20) -> 0
C10: Tenancy Summary 2025 | D10: Q1 | E10: Q2 | F10: Q3 | G10: Q4 | I10: No. of rehoused tenancies | M10: =SUM(D21:D25) -> 0 | N10: =SUM(D21:E25) -> 0 | O10: =SUM(D21:F25) -> 0 | P10: =SUM(D21:G25) -> 0
C11: Housing First Tenancies Allocated to Date | D11: 0 | E11: 0 | F11: 0 | G11: =F11+G19 -> 0 | I11: No. of active participants on HF intake list | M11: =D156 -> 0 | N11: =E156 -> 0 | O11: =F156 -> 0 | P11: =G156 -> 0
C12: Existing Housing First Tenancies | D12: 0 | E12: 0 | F12: 0 | G12: =F12+G19-G28 -> 0
C13: Total Tenants in a Housing First Tenancy | D13: 0 | E13: 0 | F13: 0 | G13: 0
C14: Housing First Sustainment Rate - Overall | D14: =D12/D11 -> #DIV/0! | E14: =E12/E11 -> #DIV/0! | F14: =F12/F11 -> #DIV/0! | G14: =G12/G11 -> #DIV/0!
C15: Housing First Sustainment Rate - not incl Death of Tenants | D15: =(D12+$H$32)/D11 -> #DIV/0! | E15: =(E12+$H$32)/E11 -> #DIV/0! | F15: =(F12+$H$32)/F11 -> #DIV/0! | G15: =(G12+$H$32)/G11 -> #DIV/0! | K15: Below figures should include the number of new tenancies, including transfers, created each month.
C17: General Housing First Activity by Quarter 2025 | K17: Monthly Tenancy Breakdown 2025
C18: Housing Activity | D18: Q1 | E18: Q2 | F18: Q3 | G18: Q4 | H18: Totals | I18: Percentage from Totals | K18: Jan | L18: Feb | M18: Mar | N18: Apr | O18: May | P18: Jun
C19: Total Tenancies Created - % | D19: =SUM(D20:D25) -> 0 | E19: =SUM(E20:E25) -> 0 | F19: =SUM(F20:F25) -> 0 | G19: =SUM(G20:G25) -> 0 | H19: =SUM(D19:G19) -> 0 | I19: 1 | K19: 0 | L19: 0 | M19: 0 | N19: 0 | O19: 0 | P19: 0
C20: First time tenant | D20: 0 | E20: 0 | F20: 0 | G20: 0 | H20: =SUM(D20:G20) -> 0 | I20: =H20/$H$19 -> #DIV/0! | K20: =SUM(K19:M19) -> 0 | N20: =SUM(N19:P19) -> 0
C21: Second time tenant | D21: 0 | E21: 0 | F21: 0 | G21: 0 | H21: =SUM(D21:G21) -> 0 | I21: =H21/$H$19 -> #DIV/0! | K21: Q1 Total | N21: Q2 Total
C22: Third time tenant | D22: 0 | E22: 0 | F22: 0 | G22: 0 | H22: =SUM(D22:G22) -> 0 | I22: =H22/$H$19 -> #DIV/0!
C23: Fourth time tenant | D23: 0 | E23: 0 | F23: 0 | G23: 0 | H23: =SUM(D23:G23) -> 0 | I23: =H23/$H$19 -> #DIV/0! | K23: Jul | L23: Aug | M23: Sep | N23: Oct | O23: Nov | P23: Dec
C24: Fifth time tenant | D24: 0 | E24: 0 | F24: 0 | G24: 0 | H24: =SUM(D24:G24) -> 0 | I24: =H24/$H$19 -> #DIV/0! | K24: 0 | L24: 0 | M24: 0 | N24: 0 | O24: 0 | P24: 0
C25: Sixth and above time tenant | D25: 0 | E25: 0 | F25: 0 | G25: 0 | H25: =SUM(D25:G25) -> 0 | I25: =H25/$H$19 -> #DIV/0! | K25: =SUM(K24:M24) -> 0 | N25: =SUM(N24:P24) -> 0
K26: Q3 Total | N26: Q4 Total
C27: Tenancy Ending Reason | D27: Q1 | E27: Q2 | F27: Q3 | G27: Q4 | H27: Totals | I27: Percentage from Totals
C28: Total Tenancies Ended - % | D28: =SUM(D29:D41) -> 0 | E28: =SUM(E29:E41) -> 0 | F28: =SUM(F29:F41) -> 0 | G28: =SUM(G29:G41) -> 0 | H28: =SUM(D28:G28) -> 0 | I28: 1
C29: Surrender of Tenancy | D29: 0 | E29: 0 | F29: 0 | G29: 0 | H29: =SUM(D29:G29) -> 0 | I29: =H29/$H$28 -> #DIV/0!
C30: Estate Management | D30: 0 | E30: 0 | F30: 0 | G30: 0 | H30: =SUM(D30:G30) -> 0 | I30: =H30/$H$28 -> #DIV/0!
C31: Transfer Request | D31: 0 | E31: 0 | F31: 0 | G31: 0 | H31: =SUM(D31:G31) -> 0 | I31: =H31/$H$28 -> #DIV/0!
C32: Death of a Tenant | D32: 0 | E32: 0 | F32: 0 | G32: 0 | H32: =SUM(D32:G32) -> 0 | I32: =H32/$H$28 -> #DIV/0!
C33: Incarceration | D33: 0 | E33: 0 | F33: 0 | G33: 0 | H33: =SUM(D33:G33) -> 0 | I33: =H33/$H$28 -> #DIV/0!
C34: Nursing Home / LTA | D34: 0 | E34: 0 | F34: 0 | G34: 0 | H34: =SUM(D34:G34) -> 0 | I34: =H34/$H$28 -> #DIV/0!
C35: Residential Treatment | D35: 0 | E35: 0 | F35: 0 | G35: 0 | H35: =SUM(D35:G35) -> 0 | I35: =H35/$H$28 -> #DIV/0!
C36: Return to Family and Friends | D36: 0 | E36: 0 | F36: 0 | G36: 0 | H36: =SUM(D36:G36) -> 0 | I36: =H36/$H$28 -> #DIV/0!
C37: Return to Rough Sleeping | D37: 0 | E37: 0 | F37: 0 | G37: 0 | H37: =SUM(D37:G37) -> 0 | I37: =H37/$H$28 -> #DIV/0!
C38: Reverting to TSA | D38: 0 | E38: 0 | F38: 0 | G38: 0 | H38: =SUM(D38:G38) -> 0 | I38: =H38/$H$28 -> #DIV/0!
C39: Notice to Quit | D39: 0 | E39: 0 | F39: 0 | G39: 0 | H39: =SUM(D39:G39) -> 0 | I39: =H39/$H$28 -> #DIV/0!
C40: other | D40: 0 | E40: 0 | F40: 0 | G40: 0 | H40: =SUM(D40:G40) -> 0 | I40: =H40/$H$28 -> #DIV/0!
C41: other | D41: 0 | E41: 0 | F41: 0 | G41: 0 | H41: =SUM(D41:G41) -> 0 | I41: =H41/$H$28 -> #DIV/0!
B43: Tenant Demographics and Needs
C46: Breakdown of Tenancy Profiles 2025 | D46: Q1 | E46: Q2 | F46: Q3 | G46: Q4 | H46: Totals | I46: %
C47: Total Tenancies Created - % | D47: =D19 -> 0 | E47: =E19 -> 0 | F47: =F19 -> 0 | G47: =G19 -> 0 | H47: =H19 -> 0 | I47: 1
C48: Gender
C49: Male | D49: 0 | E49: 0 | F49: 0 | G49: 0 | H49: =SUM(D49:G49) -> 0 | I49: =H49/$H$47 -> #DIV/0!
C50: Female | D50: 0 | E50: 0 | F50: 0 | G50: 0 | H50: =SUM(D50:G50) -> 0 | I50: =H50/$H$47 -> #DIV/0!
C51: Transgender | D51: 0 | E51: 0 | F51: 0 | G51: 0 | H51: =SUM(D51:G51) -> 0 | I51: =H51/$H$47 -> #DIV/0!
C52: Other | D52: 0 | E52: 0 | F52: 0 | G52: 0 | H52: =SUM(D52:G52) -> 0 | I52: =H52/$H$47 -> #DIV/0!
C53: Age range
C54: Age 18-25 | D54: 0 | E54: 0 | F54: 0 | G54: 0 | H54: =SUM(D54:G54) -> 0 | I54: =H54/$H$47 -> #DIV/0!
C55: Age 26-44 | D55: 0 | E55: 0 | F55: 0 | G55: 0 | H55: =SUM(D55:G55) -> 0 | I55: =H55/$H$47 -> #DIV/0!
C56: Age 45-66 | D56: 0 | E56: 0 | F56: 0 | G56: 0 | H56: =SUM(D56:G56) -> 0 | I56: =H56/$H$47 -> #DIV/0!
C57: Age 67-75 | D57: 0 | E57: 0 | F57: 0 | G57: 0 | H57: =SUM(D57:G57) -> 0 | I57: =H57/$H$47 -> #DIV/0!
C58: Over 76+ | D58: 0 | E58: 0 | F58: 0 | G58: 0 | H58: =SUM(D58:G58) -> 0 | I58: =H58/$H$47 -> #DIV/0!
C59: Ethnicity
C60: White Irish background | D60: 0 | E60: 0 | F60: 0 | G60: 0 | H60: =SUM(D60:G60) -> 0 | I60: =H60/$H$47 -> #DIV/0!
C61: Black Irish background | D61: 0 | E61: 0 | F61: 0 | G61: 0 | H61: =SUM(D61:G61) -> 0 | I61: =H61/$H$47 -> #DIV/0!
C62: White - EU citizen | D62: 0 | E62: 0 | F62: 0 | G62: 0 | H62: =SUM(D62:G62) -> 0 | I62: =H62/$H$47 -> #DIV/0!
C63: Black - EU citizen | D63: 0 | E63: 0 | F63: 0 | G63: 0 | H63: =SUM(D63:G63) -> 0 | I63: =H63/$H$47 -> #DIV/0!
C64: White - non-EU citizen | D64: 0 | E64: 0 | F64: 0 | G64: 0 | H64: =SUM(D64:G64) -> 0 | I64: =H64/$H$47 -> #DIV/0!
C65: Black - non-EU citizen | D65: 0 | E65: 0 | F65: 0 | G65: 0 | H65: =SUM(D65:G65) -> 0 | I65: =H65/$H$47 -> #DIV/0!
C66: Asian / Chinese | D66: 0 | E66: 0 | F66: 0 | G66: 0 | H66: =SUM(D66:G66) -> 0 | I66: =H66/$H$47 -> #DIV/0!
C67: Irish Travelling Community | D67: 0 | E67: 0 | F67: 0 | G67: 0 | H67: =SUM(D67:G67) -> 0 | I67: =H67/$H$47 -> #DIV/0!
C68: Non-Irish Travelling Community | D68: 0 | E68: 0 | F68: 0 | G68: 0 | H68: =SUM(D68:G68) -> 0 | I68: =H68/$H$47 -> #DIV/0!
C69: Roma Community | D69: 0 | E69: 0 | F69: 0 | G69: 0 | H69: =SUM(D69:G69) -> 0 | I69: =H69/$H$47 -> #DIV/0!
C70: Unspecified | D70: 0 | E70: 0 | F70: 0 | G70: 0 | H70: =SUM(D70:G70) -> 0 | I70: =H70/$H$47 -> #DIV/0!
C72: Emerging Needs - Tenants With Chronic Issues - Overall and 2025 | D72: Q1 | E72: Q2 | F72: Q3 | G72: Q4 | H72: Current | I72: %
C73: Total New Tenants in a tenancy per quarter: | D73: =D13 -> 0 | E73: =E13 -> 0 | F73: =F13 -> 0 | G73: =G13 -> 0 | H73: =G73 -> 0 | I73: 1
C74: Assessing Tenant Health Needs:
C75: Number of new tenants within the quarter with whom the Housing First Health Monitoring Tool has been completed | D75: 0 | E75: 0 | F75: 0 | G75: 0 | H75: =G75 -> 0 | I75: =H75/$E$73 -> #DIV/0!
C76: Number of Tenants who's health-needs have been assessed and are being supported to manage physical / general health, mental health and addiction issues as part of their care plan | D76: 0 | E76: 0 | F76: 0 | G76: 0 | H76: =G76 -> 0 | I76: =H76/$E$73 -> #DIV/0!
C78: Number of New Tenants in 2025 diagnosed with; | D78: Q1 | E78: Q2 | F78: Q3 | G78: Q4 | H78: Current | I78: %
C79: Intellectual Disability | D79: 0 | E79: 0 | F79: 0 | G79: 0 | H79: =G79 -> 0 | I79: =H79/$E$73 -> #DIV/0!
C80: Physical Disability not requiring wheelchair | D80: 0 | E80: 0 | F80: 0 | G80: 0 | H80: =G80 -> 0 | I80: =H80/$E$73 -> #DIV/0!
C81: Physical Disability requiring wheelchair | D81: 0 | E81: 0 | F81: 0 | G81: 0 | H81: =G81 -> 0 | I81: =H81/$E$73 -> #DIV/0!
C82: Cognitive Impairment (Excluding Mental Illness). Includes brain damage, epilepsy, stroke-related damage, and substance-induced neurological damage (excluding alcohol-related head injuries). | D82: 0 | E82: 0 | F82: 0 | G82: 0 | H82: =G82 -> 0 | I82: =H82/$E$73 -> #DIV/0!
C83: Neurodevelopmental Disorder. Refers to conditions such as autism, ADHD, and other neurodevelopmental disorders. | D83: 0 | E83: 0 | F83: 0 | G83: 0 | H83: =G83 -> 0 | I83: =H83/$E$73 -> #DIV/0!
C84: Alcohol-Related Brain Injury (ARBI). Specifically for individuals with cognitive impairment related to alcohol use. | D84: 0 | E84: 0 | F84: 0 | G84: 0 | H84: =G84 -> 0 | I84: =H84/$E$73 -> #DIV/0!
C85: Serious Mental Illness (SMI). Includes diagnoses such as schizophrenia, bipolar disorder, drug-induced psychosis, psychosis, and related disorders which result in significant functional impacts. | D85: 0 | E85: 0 | F85: 0 | G85: 0 | H85: =G85 -> 0 | I85: =H85/$E$73 -> #DIV/0!
C86: Personality Disorders. For clients with diagnosed personality disorders, particularly when this is the primary reason for involvement of services/supports. | D86: 0 | E86: 0 | F86: 0 | G86: 0 | H86: =G86 -> 0 | I86: =H86/$E$73 -> #DIV/0!
C87: Dual Diagnosis (Mental Health and Substance Use Disorder). Specifically refers to cases where individuals have mental disorder and co-existing Substance Use Disorder | D87: 0 | E87: 0 | F87: 0 | G87: 0 | H87: =G87 -> 0 | I87: =H87/$E$73 -> #DIV/0!
C88: Poly-Substance Use. For individuals using more than one type of substance. | D88: 0 | E88: 0 | F88: 0 | G88: 0 | H88: =G88 -> 0 | I88: =H88/$E$73 -> #DIV/0!
C90: Number of New Tenants with Addictions to: | D90: Q1 | E90: Q2 | F90: Q3 | G90: Q4 | H90: Current | I90: %
C91: Tobacco Addiction | D91: 0 | E91: 0 | F91: 0 | G91: 0 | H91: =G91 -> 0 | I91: =H91/$E$73 -> #DIV/0!
C92: Alcohol Addiction | D92: 0 | E92: 0 | F92: 0 | G92: 0 | H92: =G92 -> 0 | I92: =H92/$E$73 -> #DIV/0!
C93: Heroin Addiction / Taking Methodone | D93: 0 | E93: 0 | F93: 0 | G93: 0 | H93: =G93 -> 0 | I93: =H93/$E$73 -> #DIV/0!
C94: Heroin Addiction / Not Taking Methodone | D94: 0 | E94: 0 | F94: 0 | G94: 0 | H94: =G94 -> 0 | I94: =H94/$E$73 -> #DIV/0!
C95: Benzodiazepine / Street tablet Addiction | D95: 0 | E95: 0 | F95: 0 | G95: 0 | H95: =G95 -> 0 | I95: =H95/$E$73 -> #DIV/0!
C96: Methamphetamine Addiction | D96: 0 | E96: 0 | F96: 0 | G96: 0 | H96: =G96 -> 0 | I96: =H96/$E$73 -> #DIV/0!
C97: Cocaine Powder Addiction | D97: 0 | E97: 0 | F97: 0 | G97: 0 | H97: =G97 -> 0 | I97: =H97/$E$73 -> #DIV/0!
C98: Crack-Cocaine Addiction | D98: 0 | E98: 0 | F98: 0 | G98: 0 | H98: =G98 -> 0 | I98: =H98/$E$73 -> #DIV/0!
C99: Synthetic opioids (e.g. nitazens) | D99: 0 | E99: 0 | F99: 0 | G99: 0 | H99: =G99 -> 0 | I99: =H99/$E$73 -> #DIV/0!
B101: Property Sources
C104: Property Sources Breakdown per quarter 2025 | D104: Q1 | E104: Q2 | F104: Q3 | G104: Q4 | H104: Current | I104: %
C105: New Tenancies Per Quarter | D105: =D19 -> 0 | E105: =E19 -> 0 | F105: =F19 -> 0 | G105: =G19 -> 0 | H105: =G105 -> 0 | I105: 1
C106: Of which are
C107: HAP (private rented) | D107: 0 | E107: 0 | F107: 0 | G107: 0 | H107: =G107 -> 0 | I107: =H107/$H$105 -> #DIV/0!
C108: RAS (private rented) | D108: 0 | E108: 0 | F108: 0 | G108: 0 | H108: =G108 -> 0 | I108: =H108/$H$105 -> #DIV/0!
C109: Housing First Service Provider | D109: 0 | E109: 0 | F109: 0 | G109: 0 | H109: =G109 -> 0 | I109: =H109/$H$105 -> #DIV/0!
C110: Local Authority | D110: 0 | E110: 0 | F110: 0 | G110: 0 | H110: =G110 -> 0 | I110: =H110/$H$105 -> #DIV/0!
C111: AHB (not service provider), of which are: | D111: 0 | E111: 0 | F111: 0 | G111: 0 | H111: =G111 -> 0 | I111: =H111/$H$105 -> #DIV/0!
...

Sheet Fingal
A2: Fingal
C3: Housing First Monitoring Report
C4: Breakdown by County Council
C5: Fingal County Council
C6: Summary 2025 | I6: Summary Activity 2025
C7: Target Total Housing First Tenancies 2022 - 2026 | D7: 113 | M7: Q1 | N7: Q2 | O7: Q3 | P7: Q4
C8: Outstanding target from previous years (2022 to 2024) | D8: 36 | I8: No. of new tenancies | M8: =D19 -> 0 | N8: =SUM(D19:E19) -> 0 | O8: =SUM(D19:F19) -> 0 | P8: =SUM(D19:G19) -> 0
C9: Target for Housing First Tenancies 2025 | D9: 22 | I9: No. of first-time tenancies | M9: =D20 -> 0 | N9: =SUM(D20:E20) -> 0 | O9: =SUM(D20:F20) -> 0 | P9: =SUM(D20:G20) -> 0
C10: Tenancy Summary 2025 | D10: Q1 | E10: Q2 | F10: Q3 | G10: Q4 | I10: No. of rehoused tenancies | M10: =SUM(D21:D25) -> 0 | N10: =SUM(D21:E25) -> 0 | O10: =SUM(D21:F25) -> 0 | P10: =SUM(D21:G25) -> 0
C11: Housing First Tenancies Allocated to Date | D11: 0 | E11: 0 | F11: 0 | G11: =F11+G19 -> 0 | I11: No. of active participants on HF intake list | M11: =D156 -> 0 | N11: =E156 -> 0 | O11: =F156 -> 0 | P11: =G156 -> 0
C12: Existing Housing First Tenancies | D12: 0 | E12: 0 | F12: 0 | G12: =F12+G19-G28 -> 0
C13: Total Tenants in a Housing First Tenancy | D13: 0 | E13: 0 | F13: 0 | G13: 0
C14: Housing First Sustainment Rate - Overall | D14: =D12/D11 -> #DIV/0! | E14: =E12/E11 -> #DIV/0! | F14: =F12/F11 -> #DIV/0! | G14: =G12/G11 -> #DIV/0!
C15: Housing First Sustainment Rate - not incl Death of Tenants | D15: =(D12+$H$32)/D11 -> #DIV/0! | E15: =(E12+$H$32)/E11 -> #DIV/0! | F15: =(F12+$H$32)/F11 -> #DIV/0! | G15: =(G12+$H$32)/G11 -> #DIV/0! | K15: Below figures should include the number of new tenancies, including transfers, created each month.
C17: General Housing First Activity by Quarter 2025 | K17: Monthly Tenancy Breakdown 2025
C18: Housing Activity | D18: Q1 | E18: Q2 | F18: Q3 | G18: Q4 | H18: Totals | I18: Percentage from Totals | K18: Jan | L18: Feb | M18: Mar | N18: Apr | O18: May | P18: Jun
C19: Total Tenancies Created - % | D19: =SUM(D20:D25) -> 0 | E19: =SUM(E20:E25) -> 0 | F19: =SUM(F20:F25) -> 0 | G19: =SUM(G20:G25) -> 0 | H19: =SUM(D19:G19) -> 0 | I19: 1 | K19: 0 | L19: 0 | M19: 0 | N19: 0 | O19: 0 | P19: 0
C20: First time tenant | D20: 0 | E20: 0 | F20: 0 | G20: 0 | H20: =SUM(D20:G20) -> 0 | I20: =H20/$H$19 -> #DIV/0! | K20: =SUM(K19:M19) -> 0 | N20: =SUM(N19:P19) -> 0
C21: Second time tenant | D21: 0 | E21: 0 | F21: 0 | G21: 0 | H21: =SUM(D21:G21) -> 0 | I21: =H21/$H$19 -> #DIV/0! | K21: Q1 Total | N21: Q2 Total
C22: Third time tenant | D22: 0 | E22: 0 | F22: 0 | G22: 0 | H22: =SUM(D22:G22) -> 0 | I22: =H22/$H$19 -> #DIV/0!
C23: Fourth time tenant | D23: 0 | E23: 0 | F23: 0 | G23: 0 | H23: =SUM(D23:G23) -> 0 | I23: =H23/$H$19 -> #DIV/0! | K23: Jul | L23: Aug | M23: Sep | N23: Oct | O23: Nov | P23: Dec
C24: Fifth time tenant | D24: 0 | E24: 0 | F24: 0 | G24: 0 | H24: =SUM(D24:G24) -> 0 | I24: =H24/$H$19 -> #DIV/0! | K24: 0 | L24: 0 | M24: 0 | N24: 0 | O24: 0 | P24: 0
C25: Sixth and above time tenant | D25: 0 | E25: 0 | F25: 0 | G25: 0 | H25: =SUM(D25:G25) -> 0 | I25: =H25/$H$19 -> #DIV/0! | K25: =SUM(K24:M24) -> 0 | N25: =SUM(N24:P24) -> 0
K26: Q3 Total | N26: Q4 Total
C27: Tenancy Ending Reason | D27: Q1 | E27: Q2 | F27: Q3 | G27: Q4 | H27: Totals | I27: Percentage from Totals
C28: Total Tenancies Ended - % | D28: =SUM(D29:D41) -> 0 | E28: =SUM(E29:E41) -> 0 | F28: =SUM(F29:F41) -> 0 | G28: =SUM(G29:G41) -> 0 | H28: =SUM(D28:G28) -> 0 | I28: 1
C29: Surrender of Tenancy | D29: 0 | E29: 0 | F29: 0 | G29: 0 | H29: =SUM(D29:G29) -> 0 | I29: =H29/$H$28 -> #DIV/0!
C30: Estate Management | D30: 0 | E30: 0 | F30: 0 | G30: 0 | H30: =SUM(D30:G30) -> 0 | I30: =H30/$H$28 -> #DIV/0!
C31: Transfer Request | D31: 0 | E31: 0 | F31: 0 | G31: 0 | H31: =SUM(D31:G31) -> 0 | I31: =H31/$H$28 -> #DIV/0!
C32: Death of a Tenant | D32: 0 | E32: 0 | F32: 0 | G32: 0 | H32: =SUM(D32:G32) -> 0 | I32: =H32/$H$28 -> #DIV/0!
C33: Incarceration | D33: 0 | E33: 0 | F33: 0 | G33: 0 | H33: =SUM(D33:G33) -> 0 | I33: =H33/$H$28 -> #DIV/0!
C34: Nursing Home / LTA | D34: 0 | E34: 0 | F34: 0 | G34: 0 | H34: =SUM(D34:G34) -> 0 | I34: =H34/$H$28 -> #DIV/0!
C35: Residential Treatment | D35: 0 | E35: 0 | F35: 0 | G35: 0 | H35: =SUM(D35:G35) -> 0 | I35: =H35/$H$28 -> #DIV/0!
C36: Return to Family and Friends | D36: 0 | E36: 0 | F36: 0 | G36: 0 | H36: =SUM(D36:G36) -> 0 | I36: =H36/$H$28 -> #DIV/0!
C37: Return to Rough Sleeping | D37: 0 | E37: 0 | F37: 0 | G37: 0 | H37: =SUM(D37:G37) -> 0 | I37: =H37/$H$28 -> #DIV/0!
C38: Reverting to TSA | D38: 0 | E38: 0 | F38: 0 | G38: 0 | H38: =SUM(D38:G38) -> 0 | I38: =H38/$H$28 -> #DIV/0!
C39: Notice to Quit | D39: 0 | E39: 0 | F39: 0 | G39: 0 | H39: =SUM(D39:G39) -> 0 | I39: =H39/$H$28 -> #DIV/0!
C40: other | D40: 0 | E40: 0 | F40: 0 | G40: 0 | H40: =SUM(D40:G40) -> 0 | I40: =H40/$H$28 -> #DIV/0!
C41: other | D41: 0 | E41: 0 | F41: 0 | G41: 0 | H41: =SUM(D41:G41) -> 0 | I41: =H41/$H$28 -> #DIV/0!
B43: Tenant Demographics and Needs
C46: Breakdown of Tenancy Profiles 2025 | D46: Q1 | E46: Q2 | F46: Q3 | G46: Q4 | H46: Totals | I46: %
C47: Total Tenancies Created - % | D47: =D19 -> 0 | E47: =E19 -> 0 | F47: =F19 -> 0 | G47: =G19 -> 0 | H47: =H19 -> 0 | I47: 1
C48: Gender
C49: Male | D49: 0 | E49: 0 | F49: 0 | G49: 0 | H49: =SUM(D49:G49) -> 0 | I49: =H49/$H$47 -> #DIV/0!
C50: Female | D50: 0 | E50: 0 | F50: 0 | G50: 0 | H50: =SUM(D50:G50) -> 0 | I50: =H50/$H$47 -> #DIV/0!
C51: Transgender | D51: 0 | E51: 0 | F51: 0 | G51: 0 | H51: =SUM(D51:G51) -> 0 | I51: =H51/$H$47 -> #DIV/0!
C52: Other | D52: 0 | E52: 0 | F52: 0 | G52: 0 | H52: =SUM(D52:G52) -> 0 | I52: =H52/$H$47 -> #DIV/0!
C53: Age range
C54: Age 18-25 | D54: 0 | E54: 0 | F54: 0 | G54: 0 | H54: =SUM(D54:G54) -> 0 | I54: =H54/$H$47 -> #DIV/0!
C55: Age 26-44 | D55: 0 | E55: 0 | F55: 0 | G55: 0 | H55: =SUM(D55:G55) -> 0 | I55: =H55/$H$47 -> #DIV/0!
C56: Age 45-66 | D56: 0 | E56: 0 | F56: 0 | G56: 0 | H56: =SUM(D56:G56) -> 0 | I56: =H56/$H$47 -> #DIV/0!
C57: Age 67-75 | D57: 0 | E57: 0 | F57: 0 | G57: 0 | H57: =SUM(D57:G57) -> 0 | I57: =H57/$H$47 -> #DIV/0!
C58: Over 76+ | D58: 0 | E58: 0 | F58: 0 | G58: 0 | H58: =SUM(D58:G58) -> 0 | I58: =H58/$H$47 -> #DIV/0!
C59: Ethnicity
C60: White Irish background | D60: 0 | E60: 0 | F60: 0 | G60: 0 | H60: =SUM(D60:G60) -> 0 | I60: =H60/$H$47 -> #DIV/0!
C61: Black Irish background | D61: 0 | E61: 0 | F61: 0 | G61: 0 | H61: =SUM(D61:G61) -> 0 | I61: =H61/$H$47 -> #DIV/0!
C62: White - EU citizen | D62: 0 | E62: 0 | F62: 0 | G62: 0 | H62: =SUM(D62:G62) -> 0 | I62: =H62/$H$47 -> #DIV/0!
C63: Black - EU citizen | D63: 0 | E63: 0 | F63: 0 | G63: 0 | H63: =SUM(D63:G63) -> 0 | I63: =H63/$H$47 -> #DIV/0!
C64: White - non-EU citizen | D64: 0 | E64: 0 | F64: 0 | G64: 0 | H64: =SUM(D64:G64) -> 0 | I64: =H64/$H$47 -> #DIV/0!
C65: Black - non-EU citizen | D65: 0 | E65: 0 | F65: 0 | G65: 0 | H65: =SUM(D65:G65) -> 0 | I65: =H65/$H$47 -> #DIV/0!
C66: Asian / Chinese | D66: 0 | E66: 0 | F66: 0 | G66: 0 | H66: =SUM(D66:G66) -> 0 | I66: =H66/$H$47 -> #DIV/0!
C67: Irish Travelling Community | D67: 0 | E67: 0 | F67: 0 | G67: 0 | H67: =SUM(D67:G67) -> 0 | I67: =H67/$H$47 -> #DIV/0!
C68: Non-Irish Travelling Community | D68: 0 | E68: 0 | F68: 0 | G68: 0 | H68: =SUM(D68:G68) -> 0 | I68: =H68/$H$47 -> #DIV/0!
C69: Roma Community | D69: 0 | E69: 0 | F69: 0 | G69: 0 | H69: =SUM(D69:G69) -> 0 | I69: =H69/$H$47 -> #DIV/0!
C70: Unspecified | D70: 0 | E70: 0 | F70: 0 | G70: 0 | H70: =SUM(D70:G70) -> 0 | I70: =H70/$H$47 -> #DIV/0!
C72: Emerging Needs - Tenants With Chronic Issues - Overall and 2025 | D72: Q1 | E72: Q2 | F72: Q3 | G72: Q4 | H72: Current | I72: %
C73: Total New Tenants in a tenancy per quarter: | D73: =D13 -> 0 | E73: =E13 -> 0 | F73: =F13 -> 0 | G73: =G13 -> 0 | H73: =G73 -> 0 | I73: 1
C74: Assessing Tenant Health Needs:
C75: Number of new tenants within the quarter with whom the Housing First Health Monitoring Tool has been completed | D75: 0 | E75: 0 | F75: 0 | G75: 0 | H75: =G75 -> 0 | I75: =H75/$E$73 -> #DIV/0!
C76: Number of Tenants who's health-needs have been assessed and are being supported to manage physical / general health, mental health and addiction issues as part of their care plan | D76: 0 | E76: 0 | F76: 0 | G76: 0 | H76: =G76 -> 0 | I76: =H76/$E$73 -> #DIV/0!
C78: Number of New Tenants in 2025 diagnosed with; | D78: Q1 | E78: Q2 | F78: Q3 | G78: Q4 | H78: Current | I78: %
C79: Intellectual Disability | D79: 0 | E79: 0 | F79: 0 | G79: 0 | H79: =G79 -> 0 | I79: =H79/$E$73 -> #DIV/0!
C80: Physical Disability not requiring wheelchair | D80: 0 | E80: 0 | F80: 0 | G80: 0 | H80: =G80 -> 0 | I80: =H80/$E$73 -> #DIV/0!
C81: Physical Disability requiring wheelchair | D81: 0 | E81: 0 | F81: 0 | G81: 0 | H81: =G81 -> 0 | I81: =H81/$E$73 -> #DIV/0!
C82: Cognitive Impairment (Excluding Mental Illness). Includes brain damage, epilepsy, stroke-related damage, and substance-induced neurological damage (excluding alcohol-related head injuries). | D82: 0 | E82: 0 | F82: 0 | G82: 0 | H82: =G82 -> 0 | I82: =H82/$E$73 -> #DIV/0!
C83: Neurodevelopmental Disorder. Refers to conditions such as autism, ADHD, and other neurodevelopmental disorders. | D83: 0 | E83: 0 | F83: 0 | G83: 0 | H83: =G83 -> 0 | I83: =H83/$E$73 -> #DIV/0!
C84: Alcohol-Related Brain Injury (ARBI). Specifically for individuals with cognitive impairment related to alcohol use. | D84: 0 | E84: 0 | F84: 0 | G84: 0 | H84: =G84 -> 0 | I84: =H84/$E$73 -> #DIV/0!
C85: Serious Mental Illness (SMI). Includes diagnoses such as schizophrenia, bipolar disorder, drug-induced psychosis, psychosis, and related disorders which result in significant functional impacts. | D85: 0 | E85: 0 | F85: 0 | G85: 0 | H85: =G85 -> 0 | I85: =H85/$E$73 -> #DIV/0!
C86: Personality Disorders. For clients with diagnosed personality disorders, particularly when this is the primary reason for involvement of services/supports. | D86: 0 | E86: 0 | F86: 0 | G86: 0 | H86: =G86 -> 0 | I86: =H86/$E$73 -> #DIV/0!
C87: Dual Diagnosis (Mental Health and Substance Use Disorder). Specifically refers to cases where individuals have mental disorder and co-existing Substance Use Disorder | D87: 0 | E87: 0 | F87: 0 | G87: 0 | H87: =G87 -> 0 | I87: =H87/$E$73 -> #DIV/0!
C88: Poly-Substance Use. For individuals using more than one type of substance. | D88: 0 | E88: 0 | F88: 0 | G88: 0 | H88: =G88 -> 0 | I88: =H88/$E$73 -> #DIV/0!
C90: Number of New Tenants with Addictions to: | D90: Q1 | E90: Q2 | F90: Q3 | G90: Q4 | H90: Current | I90: %
C91: Tobacco Addiction | D91: 0 | E91: 0 | F91: 0 | G91: 0 | H91: =G91 -> 0 | I91: =H91/$E$73 -> #DIV/0!
C92: Alcohol Addiction | D92: 0 | E92: 0 | F92: 0 | G92: 0 | H92: =G92 -> 0 | I92: =H92/$E$73 -> #DIV/0!
C93: Heroin Addiction / Taking Methodone | D93: 0 | E93: 0 | F93: 0 | G93: 0 | H93: =G93 -> 0 | I93: =H93/$E$73 -> #DIV/0!
C94: Heroin Addiction / Not Taking Methodone | D94: 0 | E94: 0 | F94: 0 | G94: 0 | H94: =G94 -> 0 | I94: =H94/$E$73 -> #DIV/0!
C95: Benzodiazepine / Street tablet Addiction | D95: 0 | E95: 0 | F95: 0 | G95: 0 | H95: =G95 -> 0 | I95: =H95/$E$73 -> #DIV/0!
C96: Methamphetamine Addiction | D96: 0 | E96: 0 | F96: 0 | G96: 0 | H96: =G96 -> 0 | I96: =H96/$E$73 -> #DIV/0!
C97: Cocaine Powder Addiction | D97: 0 | E97: 0 | F97: 0 | G97: 0 | H97: =G97 -> 0 | I97: =H97/$E$73 -> #DIV/0!
C98: Crack-Cocaine Addiction | D98: 0 | E98: 0 | F98: 0 | G98: 0 | H98: =G98 -> 0 | I98: =H98/$E$73 -> #DIV/0!
C99: Synthetic opioids (e.g. nitazens) | D99: 0 | E99: 0 | F99: 0 | G99: 0 | H99: =G99 -> 0 | I99: =H99/$E$73 -> #DIV/0!
B101: Property Sources
C104: Property Sources Breakdown per quarter 2025 | D104: Q1 | E104: Q2 | F104: Q3 | G104: Q4 | H104: Current | I104: %
C105: New Tenancies Per Quarter | D105: =D19 -> 0 | E105: =E19 -> 0 | F105: =F19 -> 0 | G105: =G19 -> 0 | H105: =G105 -> 0 | I105: 1
C106: Of which are
C107: HAP (private rented) | D107: 0 | E107: 0 | F107: 0 | G107: 0 | H107: =G107 -> 0 | I107: =H107/$H$105 -> #DIV/0!
C108: RAS (private rented) | D108: 0 | E108: 0 | F108: 0 | G108: 0 | H108: =G108 -> 0 | I108: =H108/$H$105 -> #DIV/0!
C109: Housing First Service Provider | D109: 0 | E109: 0 | F109: 0 | G109: 0 | H109: =G109 -> 0 | I109: =H109/$H$105 -> #DIV/0!
C110: Local Authority | D110: 0 | E110: 0 | F110: 0 | G110: 0 | H110: =G110 -> 0 | I110: =H110/$H$105 -> #DIV/0!
C111: AHB (not service provider), of which are: | D111: 0 | E111: 0 | F111: 0 | G111: 0 | H111: =G111 -> 0 | I111: =H111/$H$105 -> #DIV/0!
...

Sheet Collated Data
C3: Housing First Monitoring Report
C5: Dublin Regional Collated Data
C6: Summary 2025 | I6: Summary Activity 2025
C7: Target Total Housing First Tenancies 2022 - 2026 | D7: =SUM(DCC:SDCC!D7) -> 0 | M7: Q1 | N7: Q2 | O7: Q3 | P7: Q4
C8: Outstanding target from previous years (2022 to 2024) | D8: =SUM(DCC:SDCC!D8) -> 0 | I8: No. of new tenancies | M8: =SUM(DCC:SDCC!M8) -> 0 | N8: =SUM(DCC:SDCC!N8) -> 0 | O8: =SUM(DCC:SDCC!O8) -> 0 | P8: =SUM(DCC:SDCC!P8) -> 0
C9: Target for Housing First Tenancies 2025 | D9: =SUM(DCC:SDCC!D9) -> 0 | I9: No. of first-time tenancies | M9: =SUM(DCC:SDCC!M9) -> 0 | N9: =SUM(DCC:SDCC!N9) -> 0 | O9: =SUM(DCC:SDCC!O9) -> 0 | P9: =SUM(DCC:SDCC!P9) -> 0
C10: Tenancy Summary 2025 | D10: Q1 | E10: Q2 | F10: Q3 | G10: Q4 | I10: No. of rehoused tenancies | M10: =SUM(DCC:SDCC!M10) -> 0 | N10: =SUM(DCC:SDCC!N10) -> 0 | O10: =SUM(DCC:SDCC!O10) -> 0 | P10: =SUM(DCC:SDCC!P10) -> 0
C11: Housing First Tenancies Allocated to Date | D11: =SUM(DCC:SDCC!D11) -> 0 | E11: =SUM(DCC:SDCC!E11) -> 0 | F11: =SUM(DCC:SDCC!F11) -> 0 | G11: =SUM(DCC:SDCC!G11) -> 0 | I11: No. of active participants on HF intake list | M11: =SUM(DCC:SDCC!M11) -> 0 | N11: =SUM(DCC:SDCC!N11) -> 0 | O11: =SUM(DCC:SDCC!O11) -> 0 | P11: =SUM(DCC:SDCC!P11) -> 0
C12: Existing Housing First Tenancies | D12: =SUM(DCC:SDCC!D12) -> 0 | E12: =SUM(DCC:SDCC!E12) -> 0 | F12: =SUM(DCC:SDCC!F12) -> 0 | G12: =SUM(DCC:SDCC!G12) -> 0
C13: Total Tenants in a Housing First Tenancy | D13: =SUM(DCC:SDCC!D13) -> 0 | E13: =SUM(DCC:SDCC!E13) -> 0 | F13: =SUM(DCC:SDCC!F13) -> 0 | G13: =SUM(DCC:SDCC!G13) -> 0
C14: Housing First Sustainment Rate - Overall | D14: =D12/D11 -> #DIV/0! | E14: =E12/E11 -> #DIV/0! | F14: =F12/F11 -> #DIV/0! | G14: =G12/G11 -> #DIV/0!
C15: Housing First Sustainment Rate - not incl Death of Tenants | D15: =(D12+$H$32)/D11 -> #DIV/0! | E15: =(E12+$H$32)/E11 -> #DIV/0! | F15: =(F12+$H$32)/F11 -> #DIV/0! | G15: =(G12+$H$32)/G11 -> #DIV/0! | K15: Below figures should include the number of new tenancies, including transfers, created each month.
C17: General Housing First Activity by Quarter 2025 | K17: Monthly Tenancy Breakdown 2025
C18: Housing Activity | D18: Q1 | E18: Q2 | F18: Q3 | G18: Q4 | H18: Totals | I18: Percentage from Totals | K18: Jan | L18: Feb | M18: Mar | N18: Apr | O18: May | P18: Jun
C19: Total Tenancies Created - % | D19: =SUM(K19:M19) -> 0 | E19: =SUM(N19:P19) -> 0 | F19: =SUM(K24:M24) -> 0 | G19: =SUM(N24:P24) -> 0 | H19: =SUM(D19:G19) -> 0 | I19: 1 | K19: =SUM(DCC:SDCC!K19) -> 0 | L19: =SUM(DCC:SDCC!L19) -> 0 | M19: =SUM(DCC:SDCC!M19) -> 0 | N19: =SUM(DCC:SDCC!N19) -> 0 | O19: =SUM(DCC:SDCC!O19) -> 0 | P19: =SUM(DCC:SDCC!P19) -> 0
C20: First time tenant | D20: =SUM(DCC:SDCC!D20) -> 0 | E20: =SUM(DCC:SDCC!E20) -> 0 | F20: =SUM(DCC:SDCC!F20) -> 0 | G20: =SUM(DCC:SDCC!G20) -> 0 | H20: =SUM(D20:G20) -> 0 | I20: =H20/$H$19 -> #DIV/0! | K20: =SUM(K19:M19) -> 0 | N20: =SUM(N19:P19) -> 0
C21: Second time tenant | D21: =SUM(DCC:SDCC!D21) -> 0 | E21: =SUM(DCC:SDCC!E21) -> 0 | F21: =SUM(DCC:SDCC!F21) -> 0 | G21: =SUM(DCC:SDCC!G21) -> 0 | H21: =SUM(D21:G21) -> 0 | I21: =H21/$H$19 -> #DIV/0! | K21: Q1 Total | N21: Q2 Total
C22: Third time tenant | D22: =SUM(DCC:SDCC!D22) -> 0 | E22: =SUM(DCC:SDCC!E22) -> 0 | F22: =SUM(DCC:SDCC!F22) -> 0 | G22: =SUM(DCC:SDCC!G22) -> 0 | H22: =SUM(D22:G22) -> 0 | I22: =H22/$H$19 -> #DIV/0!
C23: Fourth time tenant | D23: =SUM(DCC:SDCC!D23) -> 0 | E23: =SUM(DCC:SDCC!E23) -> 0 | F23: =SUM(DCC:SDCC!F23) -> 0 | G23: =SUM(DCC:SDCC!G23) -> 0 | H23: =SUM(D23:G23) -> 0 | I23: =H23/$H$19 -> #DIV/0! | K23: Jul | L23: Aug | M23: Sep | N23: Oct | O23: Nov | P23: Dec
C24: Fifth time tenant | D24: =SUM(DCC:SDCC!D24) -> 0 | E24: =SUM(DCC:SDCC!E24) -> 0 | F24: =SUM(DCC:SDCC!F24) -> 0 | G24: =SUM(DCC:SDCC!G24) -> 0 | H24: =SUM(D24:G24) -> 0 | I24: =H24/$H$19 -> #DIV/0! | K24: =SUM(DCC:SDCC!K24) -> 0 | L24: =SUM(DCC:SDCC!L24) -> 0 | M24: =SUM(DCC:SDCC!M24) -> 0 | N24: =SUM(DCC:SDCC!N24) -> 0 | O24: =SUM(DCC:SDCC!O24) -> 0 | P24: =SUM(DCC:SDCC!P24) -> 0
C25: Sixth and above time tenant | D25: =SUM(DCC:SDCC!D25) -> 0 | E25: =SUM(DCC:SDCC!E25) -> 0 | F25: =SUM(DCC:SDCC!F25) -> 0 | G25: =SUM(DCC:SDCC!G25) -> 0 | H25: =SUM(D25:G25) -> 0 | I25: =H25/$H$19 -> #DIV/0! | K25: =SUM(K24:M24) -> 0 | N25: =SUM(N24:P24) -> 0
K26: Q3 Total | N26: Q4 Total
C27: Tenancy Ending Reason | D27: Q1 | E27: Q2 | F27: Q3 | G27: Q4 | H27: Totals | I27: Percentage from Totals
C28: Total Tenancies Ended - % | D28: =SUM(D29:D41) -> 0 | E28: =SUM(E29:E41) -> 0 | F28: =SUM(F29:F41) -> 0 | G28: =SUM(G29:G41) -> 0 | H28: =SUM(D28:G28) -> 0 | I28: 1
C29: Surrender of Tenancy | D29: =SUM(DCC:SDCC!D29) -> 0 | E29: =SUM(DCC:SDCC!E29) -> 0 | F29: =SUM(DCC:SDCC!F29) -> 0 | G29: =SUM(DCC:SDCC!G29) -> 0 | H29: =SUM(D29:G29) -> 0 | I29: =H29/$H$28 -> #DIV/0!
C30: Estate Management | D30: =SUM(DCC:SDCC!D30) -> 0 | E30: =SUM(DCC:SDCC!E30) -> 0 | F30: =SUM(DCC:SDCC!F30) -> 0 | G30: =SUM(DCC:SDCC!G30) -> 0 | H30: =SUM(D30:G30) -> 0 | I30: =H30/$H$28 -> #DIV/0!
C31: Transfer Request | D31: =SUM(DCC:SDCC!D31) -> 0 | E31: =SUM(DCC:SDCC!E31) -> 0 | F31: =SUM(DCC:SDCC!F31) -> 0 | G31: =SUM(DCC:SDCC!G31) -> 0 | H31: =SUM(D31:G31) -> 0 | I31: =H31/$H$28 -> #DIV/0!
C32: Death of a Tenant | D32: =SUM(DCC:SDCC!D32) -> 0 | E32: =SUM(DCC:SDCC!E32) -> 0 | F32: =SUM(DCC:SDCC!F32) -> 0 | G32: =SUM(DCC:SDCC!G32) -> 0 | H32: =SUM(D32:G32) -> 0 | I32: =H32/$H$28 -> #DIV/0!
C33: Incarceration | D33: =SUM(DCC:SDCC!D33) -> 0 | E33: =SUM(DCC:SDCC!E33) -> 0 | F33: =SUM(DCC:SDCC!F33) -> 0 | G33: =SUM(DCC:SDCC!G33) -> 0 | H33: =SUM(D33:G33) -> 0 | I33: =H33/$H$28 -> #DIV/0!
C34: Nursing Home / LTA | D34: =SUM(DCC:SDCC!D34) -> 0 | E34: =SUM(DCC:SDCC!E34) -> 0 | F34: =SUM(DCC:SDCC!F34) -> 0 | G34: =SUM(DCC:SDCC!G34) -> 0 | H34: =SUM(D34:G34) -> 0 | I34: =H34/$H$28 -> #DIV/0!
C35: Residential Treatment | D35: =SUM(DCC:SDCC!D35) -> 0 | E35: =SUM(DCC:SDCC!E35) -> 0 | F35: =SUM(DCC:SDCC!F35) -> 0 | G35: =SUM(DCC:SDCC!G35) -> 0 | H35: =SUM(D35:G35) -> 0 | I35: =H35/$H$28 -> #DIV/0!
C36: Return to Family and Friends | D36: =SUM(DCC:SDCC!D36) -> 0 | E36: =SUM(DCC:SDCC!E36) -> 0 | F36: =SUM(DCC:SDCC!F36) -> 0 | G36: =SUM(DCC:SDCC!G36) -> 0 | H36: =SUM(D36:G36) -> 0 | I36: =H36/$H$28 -> #DIV/0!
C37: Return to Rough Sleeping | D37: =SUM(DCC:SDCC!D37) -> 0 | E37: =SUM(DCC:SDCC!E37) -> 0 | F37: =SUM(DCC:SDCC!F37) -> 0 | G37: =SUM(DCC:SDCC!G37) -> 0 | H37: =SUM(D37:G37) -> 0 | I37: =H37/$H$28 -> #DIV/0!
C38: Reverting to TSA | D38: =SUM(DCC:SDCC!D38) -> 0 | E38: =SUM(DCC:SDCC!E38) -> 0 | F38: =SUM(DCC:SDCC!F38) -> 0 | G38: =SUM(DCC:SDCC!G38) -> 0 | H38: =SUM(D38:G38) -> 0 | I38: =H38/$H$28 -> #DIV/0!
C39: Notice to Quit | D39: =SUM(DCC:SDCC!D39) -> 0 | E39: =SUM(DCC:SDCC!E39) -> 0 | F39: =SUM(DCC:SDCC!F39) -> 0 | G39: =SUM(DCC:SDCC!G39) -> 0 | H39: =SUM(D39:G39) -> 0 | I39: =H39/$H$28 -> #DIV/0! | J39: DCC
C40: =DCC!C40 -> other | D40: =DCC!D40 -> 0 | E40: =DCC!E40 -> 0 | F40: =DCC!F40 -> 0 | G40: =DCC!G40 -> 0 | H40: =SUM(D40:G40) -> 0 | I40: =H40/$H$28 -> #DIV/0! | J40: DCC
C41: =DCC!C41 -> other | D41: =DCC!D41 -> 0 | E41: =DCC!E41 -> 0 | F41: =DCC!F41 -> 0 | G41: =DCC!G41 -> 0 | H41: =SUM(D41:G41) -> 0 | I41: =H41/$H$28 -> #DIV/0! | J41: DCC
C42: =DLR!C40 -> other | D42: =DLR!D40 -> 0 | E42: =DLR!E40 -> 0 | F42: =DLR!F40 -> 0 | G42: =DLR!G40 -> 0 | H42: =SUM(D42:G42) -> 0 | I42: =H42/$H$28 -> #DIV/0! | J42: DLR
C43: =DLR!C41 -> other | D43: =DLR!D41 -> 0 | E43: =DLR!E41 -> 0 | F43: =DLR!F41 -> 0 | G43: =DLR!G41 -> 0 | H43: =SUM(D43:G43) -> 0 | I43: =H43/$H$28 -> #DIV/0! | J43: DLR
C44: =Fingal!C40 -> other | D44: =Fingal!D40 -> 0 | E44: =Fingal!E40 -> 0 | F44: =Fingal!F40 -> 0 | G44: =Fingal!G40 -> 0 | H44: =SUM(D44:G44) -> 0 | I44: =H44/$H$28 -> #DIV/0! | J44: Fingal
C45: =Fingal!C41 -> other | D45: =Fingal!D41 -> 0 | E45: =Fingal!E41 -> 0 | F45: =Fingal!F41 -> 0 | G45: =Fingal!G41 -> 0 | H45: =SUM(D45:G45) -> 0 | I45: =H45/$H$28 -> #DIV/0! | J45: Fingal
C46: =SDCC!C40 -> other | D46: =SDCC!D40 -> 0 | E46: =SDCC!E40 -> 0 | F46: =SDCC!F40 -> 0 | G46: =SDCC!G40 -> 0 | H46: =SUM(D46:G46) -> 0 | I46: =H46/$H$28 -> #DIV/0! | J46: SDCC
C47: =SDCC!C41 -> other | D47: =SDCC!D41 -> 0 | E47: =SDCC!E41 -> 0 | F47: =SDCC!F41 -> 0 | G47: =SDCC!G41 -> 0 | H47: =SUM(D47:G47) -> 0 | I47: =H47/$H$28 -> #DIV/0! | J47: SDCC
B49: Tenant Demographics and Needs
C52: Breakdown of Tenancy Profiles 2025 | D52: Q1 | E52: Q2 | F52: Q3 | G52: Q4 | H52: Totals | I52: %
C53: Total Tenancies Created - % | D53: =D19 -> 0 | E53: =E19 -> 0 | F53: =F19 -> 0 | G53: =G19 -> 0 | H53: =H19 -> 0 | I53: 1
C54: Gender
C55: Male | D55: =SUM(DCC:SDCC!D49) -> 0 | E55: =SUM(DCC:SDCC!E49) -> 0 | F55: =SUM(DCC:SDCC!F49) -> 0 | G55: =SUM(DCC:SDCC!G49) -> 0 | H55: =SUM(D55:G55) -> 0 | I55: =H55/$H$53 -> #DIV/0!
C56: Female | D56: =SUM(DCC:SDCC!D50) -> 0 | E56: =SUM(DCC:SDCC!E50) -> 0 | F56: =SUM(DCC:SDCC!F50) -> 0 | G56: =SUM(DCC:SDCC!G50) -> 0 | H56: =SUM(D56:G56) -> 0 | I56: =H56/$H$53 -> #DIV/0!
C57: Transgender | D57: =SUM(DCC:SDCC!D51) -> 0 | E57: =SUM(DCC:SDCC!E51) -> 0 | F57: =SUM(DCC:SDCC!F51) -> 0 | G57: =SUM(DCC:SDCC!G51) -> 0 | H57: =SUM(D57:G57) -> 0 | I57: =H57/$H$53 -> #DIV/0!
C58: Other | D58: =SUM(DCC:SDCC!D52) -> 0 | E58: =SUM(DCC:SDCC!E52) -> 0 | F58: =SUM(DCC:SDCC!F52) -> 0 | G58: =SUM(DCC:SDCC!G52) -> 0 | H58: =SUM(D58:G58) -> 0 | I58: =H58/$H$53 -> #DIV/0!
C59: Age range
C60: Age 18-25 | D60: =SUM(DCC:SDCC!D54) -> 0 | E60: =SUM(DCC:SDCC!E54) -> 0 | F60: =SUM(DCC:SDCC!F54) -> 0 | G60: =SUM(DCC:SDCC!G54) -> 0 | H60: =SUM(D60:G60) -> 0 | I60: =H60/$H$53 -> #DIV/0!
C61: Age 26-44 | D61: =SUM(DCC:SDCC!D55) -> 0 | E61: =SUM(DCC:SDCC!E55) -> 0 | F61: =SUM(DCC:SDCC!F55) -> 0 | G61: =SUM(DCC:SDCC!G55) -> 0 | H61: =SUM(D61:G61) -> 0 | I61: =H61/$H$53 -> #DIV/0!
C62: Age 45-66 | D62: =SUM(DCC:SDCC!D56) -> 0 | E62: =SUM(DCC:SDCC!E56) -> 0 | F62: =SUM(DCC:SDCC!F56) -> 0 | G62: =SUM(DCC:SDCC!G56) -> 0 | H62: =SUM(D62:G62) -> 0 | I62: =H62/$H$53 -> #DIV/0!
C63: Age 67-75 | D63: =SUM(DCC:SDCC!D57) -> 0 | E63: =SUM(DCC:SDCC!E57) -> 0 | F63: =SUM(DCC:SDCC!F57) -> 0 | G63: =SUM(DCC:SDCC!G57) -> 0 | H63: =SUM(D63:G63) -> 0 | I63: =H63/$H$53 -> #DIV/0!
C64: Over 76+ | D64: =SUM(DCC:SDCC!D58) -> 0 | E64: =SUM(DCC:SDCC!E58) -> 0 | F64: =SUM(DCC:SDCC!F58) -> 0 | G64: =SUM(DCC:SDCC!G58) -> 0 | H64: =SUM(D64:G64) -> 0 | I64: =H64/$H$53 -> #DIV/0!
C65: Ethnicity
C66: White Irish background | D66: =SUM(DCC:SDCC!D60) -> 0 | E66: =SUM(DCC:SDCC!E60) -> 0 | F66: =SUM(DCC:SDCC!F60) -> 0 | G66: =SUM(DCC:SDCC!G60) -> 0 | H66: =SUM(D66:G66) -> 0 | I66: =H66/$H$53 -> #DIV/0!
C67: Black Irish background | D67: =SUM(DCC:SDCC!D61) -> 0 | E67: =SUM(DCC:SDCC!E61) -> 0 | F67: =SUM(DCC:SDCC!F61) -> 0 | G67: =SUM(DCC:SDCC!G61) -> 0 | H67: =SUM(D67:G67) -> 0 | I67: =H67/$H$53 -> #DIV/0!
C68: White - EU citizen | D68: =SUM(DCC:SDCC!D62) -> 0 | E68: =SUM(DCC:SDCC!E62) -> 0 | F68: =SUM(DCC:SDCC!F62) -> 0 | G68: =SUM(DCC:SDCC!G62) -> 0 | H68: =SUM(D68:G68) -> 0 | I68: =H68/$H$53 -> #DIV/0!
C69: Black - EU citizen | D69: =SUM(DCC:SDCC!D63) -> 0 | E69: =SUM(DCC:SDCC!E63) -> 0 | F69: =SUM(DCC:SDCC!F63) -> 0 | G69: =SUM(DCC:SDCC!G63) -> 0 | H69: =SUM(D69:G69) -> 0 | I69: =H69/$H$53 -> #DIV/0!
C70: White - non-EU citizen | D70: =SUM(DCC:SDCC!D64) -> 0 | E70: =SUM(DCC:SDCC!E64) -> 0 | F70: =SUM(DCC:SDCC!F64) -> 0 | G70: =SUM(DCC:SDCC!G64) -> 0 | H70: =SUM(D70:G70) -> 0 | I70: =H70/$H$53 -> #DIV/0!
C71: Black - non-EU citizen | D71: =SUM(DCC:SDCC!D65) -> 0 | E71: =SUM(DCC:SDCC!E65) -> 0 | F71: =SUM(DCC:SDCC!F65) -> 0 | G71: =SUM(DCC:SDCC!G65) -> 0 | H71: =SUM(D71:G71) -> 0 | I71: =H71/$H$53 -> #DIV/0!
C72: Asian / Chinese | D72: =SUM(DCC:SDCC!D66) -> 0 | E72: =SUM(DCC:SDCC!E66) -> 0 | F72: =SUM(DCC:SDCC!F66) -> 0 | G72: =SUM(DCC:SDCC!G66) -> 0 | H72: =SUM(D72:G72) -> 0 | I72: =H72/$H$53 -> #DIV/0!
C73: Irish Travelling Community | D73: =SUM(DCC:SDCC!D67) -> 0 | E73: =SUM(DCC:SDCC!E67) -> 0 | F73: =SUM(DCC:SDCC!F67) -> 0 | G73: =SUM(DCC:SDCC!G67) -> 0 | H73: =SUM(D73:G73) -> 0 | I73: =H73/$H$53 -> #DIV/0!
C74: Non-Irish Travelling Community | D74: =SUM(DCC:SDCC!D68) -> 0 | E74: =SUM(DCC:SDCC!E68) -> 0 | F74: =SUM(DCC:SDCC!F68) -> 0 | G74: =SUM(DCC:SDCC!G68) -> 0 | H74: =SUM(D74:G74) -> 0 | I74: =H74/$H$53 -> #DIV/0!
C75: Roma Community | D75: =SUM(DCC:SDCC!D69) -> 0 | E75: =SUM(DCC:SDCC!E69) -> 0 | F75: =SUM(DCC:SDCC!F69) -> 0 | G75: =SUM(DCC:SDCC!G69) -> 0 | H75: =SUM(D75:G75) -> 0 | I75: =H75/$H$53 -> #DIV/0!
C76: Unspecified | D76: =SUM(DCC:SDCC!D70) -> 0 | E76: =SUM(DCC:SDCC!E70) -> 0 | F76: =SUM(DCC:SDCC!F70) -> 0 | G76: =SUM(DCC:SDCC!G70) -> 0 | H76: =SUM(D76:G76) -> 0 | I76: =H76/$H$53 -> #DIV/0!
C78: Emerging Needs - Tenants With Chronic Issues - Overall and 2025 | D78: Q1 | E78: Q2 | F78: Q3 | G78: Q4 | H78: Current | I78: %
C79: Total New Tenants in a tenancy per quarter: | D79: =D19 -> 0 | E79: =E19 -> 0 | F79: =F19 -> 0 | G79: =G19 -> 0 | H79: =D79 -> 0 | I79: 1
C80: Assessing Tenant Health Needs:
C81: Number of new tenants within the quarter with whom the Housing First Health Monitoring Tool has been completed | D81: =SUM(DCC:SDCC!D75) -> 0 | E81: =SUM(DCC:SDCC!E75) -> 0 | F81: =SUM(DCC:SDCC!F75) -> 0 | G81: =SUM(DCC:SDCC!G75) -> 0 | H81: =D81 -> 0 | I81: =H81/$D$79 -> #DIV/0!
C82: Number of Tenants who's health-needs have been assessed and are being supported to manage physical / general health, mental health and addiction issues as part of their care plan | D82: =SUM(DCC:SDCC!D76) -> 0 | E82: =SUM(DCC:SDCC!E76) -> 0 | F82: =SUM(DCC:SDCC!F76) -> 0 | G82: =SUM(DCC:SDCC!G76) -> 0 | H82: =D82 -> 0 | I82: =H82/$D$79 -> #DIV/0!
C84: Number of New Tenants in 2025 diagnosed with; | D84: Q1 | E84: Q2 | F84: Q3 | G84: Q4 | H84: Current | I84: %
C85: Intellectual Disability | D85: =SUM(DCC:SDCC!D79) -> 0 | E85: =SUM(DCC:SDCC!E79) -> 0 | F85: =SUM(DCC:SDCC!F79) -> 0 | G85: =SUM(DCC:SDCC!G79) -> 0 | H85: =D85 -> 0 | I85: =H85/$D$79 -> #DIV/0!
C86: Physical Disability not requiring wheelchair | D86: =SUM(DCC:SDCC!D80) -> 0 | E86: =SUM(DCC:SDCC!E80) -> 0 | F86: =SUM(DCC:SDCC!F80) -> 0 | G86: =SUM(DCC:SDCC!G80) -> 0 | H86: =D86 -> 0 | I86: =H86/$D$79 -> #DIV/0!
C87: Physical Disability requiring wheelchair | D87: =SUM(DCC:SDCC!D81) -> 0 | E87: =SUM(DCC:SDCC!E81) -> 0 | F87: =SUM(DCC:SDCC!F81) -> 0 | G87: =SUM(DCC:SDCC!G81) -> 0 | H87: =D87 -> 0 | I87: =H87/$D$79 -> #DIV/0!
C88: Cognitive Impairment (Excluding Mental Illness). Includes brain damage, epilepsy, stroke-related damage, and substance-induced neurological damage (excluding alcohol-related head injuries). | D88: =SUM(DCC:SDCC!D82) -> 0 | E88: =SUM(DCC:SDCC!E82) -> 0 | F88: =SUM(DCC:SDCC!F82) -> 0 | G88: =SUM(DCC:SDCC!G82) -> 0 | H88: =D88 -> 0 | I88: =H88/$D$79 -> #DIV/0!
C89: Neurodevelopmental Disorder. Refers to conditions such as autism, ADHD, and other neurodevelopmental disorders. | D89: =SUM(DCC:SDCC!D83) -> 0 | E89: =SUM(DCC:SDCC!E83) -> 0 | F89: =SUM(DCC:SDCC!F83) -> 0 | G89: =SUM(DCC:SDCC!G83) -> 0 | H89: =D89 -> 0 | I89: =H89/$D$79 -> #DIV/0!
C90: Alcohol-Related Brain Injury (ARBI). Specifically for individuals with cognitive impairment related to alcohol use. | D90: =SUM(DCC:SDCC!D84) -> 0 | E90: =SUM(DCC:SDCC!E84) -> 0 | F90: =SUM(DCC:SDCC!F84) -> 0 | G90: =SUM(DCC:SDCC!G84) -> 0 | H90: =D90 -> 0 | I90: =H90/$D$79 -> #DIV/0!
C91: Serious Mental Illness (SMI). Includes diagnoses such as schizophrenia, bipolar disorder, drug-induced psychosis, psychosis, and related disorders which result in significant functional impacts. | D91: =SUM(DCC:SDCC!D85) -> 0 | E91: =SUM(DCC:SDCC!E85) -> 0 | F91: =SUM(DCC:SDCC!F85) -> 0 | G91: =SUM(DCC:SDCC!G85) -> 0 | H91: =D91 -> 0 | I91: =H91/$D$79 -> #DIV/0!
C92: Personality Disorders. For clients with diagnosed personality disorders, particularly when this is the primary reason for involvement of services/supports. | D92: =SUM(DCC:SDCC!D86) -> 0 | E92: =SUM(DCC:SDCC!E86) -> 0 | F92: =SUM(DCC:SDCC!F86) -> 0 | G92: =SUM(DCC:SDCC!G86) -> 0 | H92: =D92 -> 0 | I92: =H92/$D$79 -> #DIV/0!
C93: Dual Diagnosis (Mental Health and Substance Use Disorder). Specifically refers to cases where individuals have mental disorder and co-existing Substance Use Disorder | D93: =SUM(DCC:SDCC!D87) -> 0 | E93: =SUM(DCC:SDCC!E87) -> 0 | F93: =SUM(DCC:SDCC!F87) -> 0 | G93: =SUM(DCC:SDCC!G87) -> 0 | H93: =D93 -> 0 | I93: =H93/$D$79 -> #DIV/0!
C94: Poly-Substance Use. For individuals using more than one type of substance. | D94: =SUM(DCC:SDCC!D88) -> 0 | E94: =SUM(DCC:SDCC!E88) -> 0 | F94: =SUM(DCC:SDCC!F88) -> 0 | G94: =SUM(DCC:SDCC!G88) -> 0 | H94: =D94 -> 0 | I94: =H94/$D$79 -> #DIV/0!
C96: Number of New Tenants with Addictions to: | D96: Q1 | E96: Q2 | F96: Q3 | G96: Q4 | H96: Current | I96: %
C97: Tobacco Addiction | D97: =SUM(DCC:SDCC!D91) -> 0 | E97: =SUM(DCC:SDCC!E91) -> 0 | F97: =SUM(DCC:SDCC!F91) -> 0 | G97: =SUM(DCC:SDCC!G91) -> 0 | H97: =D97 -> 0 | I97: =H97/$D$79 -> #DIV/0!
C98: Alcohol Addiction | D98: =SUM(DCC:SDCC!D92) -> 0 | E98: =SUM(DCC:SDCC!E92) -> 0 | F98: =SUM(DCC:SDCC!F92) -> 0 | G98: =SUM(DCC:SDCC!G92) -> 0 | H98: =D98 -> 0 | I98: =H98/$D$79 -> #DIV/0!
C99: Heroin Addiction / Taking Methodone | D99: =SUM(DCC:SDCC!D93) -> 0 | E99: =SUM(DCC:SDCC!E93) -> 0 | F99: =SUM(DCC:SDCC!F93) -> 0 | G99: =SUM(DCC:SDCC!G93) -> 0 | H99: =D99 -> 0 | I99: =H99/$D$79 -> #DIV/0!
C100: Heroin Addiction / Not Taking Methodone | D100: =SUM(DCC:SDCC!D94) -> 0 | E100: =SUM(DCC:SDCC!E94) -> 0 | F100: =SUM(DCC:SDCC!F94) -> 0 | G100: =SUM(DCC:SDCC!G94) -> 0 | H100: =D100 -> 0 | I100: =H100/$D$79 -> #DIV/0!
C101: Benzodiazepine / Street tablet Addiction | D101: =SUM(DCC:SDCC!D95) -> 0 | E101: =SUM(DCC:SDCC!E95) -> 0 | F101: =SUM(DCC:SDCC!F95) -> 0 | G101: =SUM(DCC:SDCC!G95) -> 0 | H101: =D101 -> 0 | I101: =H101/$D$79 -> #DIV/0!
C102: Methamphetamine Addiction | D102: =SUM(DCC:SDCC!D96) -> 0 | E102: =SUM(DCC:SDCC!E96) -> 0 | F102: =SUM(DCC:SDCC!F96) -> 0 | G102: =SUM(DCC:SDCC!G96) -> 0 | H102: =D102 -> 0 | I102: =H102/$D$79 -> #DIV/0!
C103: Cocaine Powder Addiction | D103: =SUM(DCC:SDCC!D97) -> 0 | E103: =SUM(DCC:SDCC!E97) -> 0 | F103: =SUM(DCC:SDCC!F97) -> 0 | G103: =SUM(DCC:SDCC!G97) -> 0 | H103: =D103 -> 0 | I103: =H103/$D$79 -> #DIV/0!
C104: Crack-Cocaine Addiction | D104: =SUM(DCC:SDCC!D98) -> 0 | E104: =SUM(DCC:SDCC!E98) -> 0 | F104: =SUM(DCC:SDCC!F98) -> 0 | G104: =SUM(DCC:SDCC!G98) -> 0 | H104: =D104 -> 0 | I104: =H104/$D$79 -> #DIV/0!
C105: Synthetic opioids (e.g. nitazens) | D105: =SUM(DCC:SDCC!D99) -> 0 | E105: =SUM(DCC:SDCC!E99) -> 0 | F105: =SUM(DCC:SDCC!F99) -> 0 | G105: =SUM(DCC:SDCC!G99) -> 0 | H105: =D105 -> 0 | I105: =H105/$D$79 -> #DIV/0!
B107: Property Sources
C110: Property Sources Breakdown per quarter 2025 | D110: Q1 | E110: Q2 | F110: Q3 | G110: Q4 | H110: Current | I110: %
C111: New Tenancies Per Quarter | D111: =D19 -> 0 | E111: =E19 -> 0 | F111: =F19 -> 0 | G111: =G19 -> 0 | H111: =D111 -> 0 | I111: 1
C112: Of which are
C113: HAP (private rented) | D113: =SUM(DCC:SDCC!D107) -> 0 | E113: =SUM(DCC:SDCC!E107) -> 0 | F113: =SUM(DCC:SDCC!F107) -> 0 | G113: =SUM(DCC:SDCC!G107) -> 0 | H113: =D113 -> 0 | I113: =H113/$H$111 -> #DIV/0!
...

Sheet Assessment Qs
C3: Quarter 1 2025
C4: Q1. Overall, since January 2025, how many difficult Housing First cases have you had, and can you give a case example? | D4: Q2. What progress has been made in establishing pathways for HF tenants to access mainstream health services (e.g., GP services, mental health services, addiction services)? Has any of the below been progressed: Formal agreements with health services in place Referral pathways established Joint case management with health services Other (please specify): [_______________________] Describe an example of a successful referral or collaboration with a mainstream service: | E4: Q3. How have wraparound supports been developed to date for Housing First Tenants? Can you give a case example? | F4: Q4. Have any tenants disengaged from services since the last report? Yes No If Yes, please answer the following: How long did the disengagement last? [____ days] Were the HSE, Local Authority, and HFNO notified if disengagement lasted more than 7 days? Yes No What follow-up actions were taken to re-engage the tenant? | G4: Q5a. Have there been issues sourcing Clinical, Medical or Mental Health services for HF tenants? Please highlight key areas. Q5b. Please highlight any key workarounds that have been implemented to improve access to health and/or other support services. | H4: Q6. Have there been any new posts/recruitments since the last return? What impact has this had on Housing First service delivery? | I4: Q7. What would you see as an emerging need in the context of social / health / housing? | J4: Q8. Please outline your current internal monitoring and evaluation process and outcomes | K4: Q9. Governance - Is there a regular meeting with the Housing First service provider? Please provide details. What is the current method of internal monitoring and evaluation of the Housing First service provider? | L4: Q10. Please outline the costings for this quarter, eg. staff, non-pay costs. Is this within budget lines for the remainder of the year? | M4: Q11. What positive outcomes have you recorded within Housing First tenancies this year 2025? Please give a case example. | N4: Q12. Is there anything else you would like to add that has not been covered by this report?
A5: DCC
A6: DLR
A7: SDCC
A8: Fingal
C10: Quarter 2 2025
C11: Q1. Overall, since January 2025, how many difficult Housing First cases have you had, and can you give a case example? | D11: Q2. What progress has been made in establishing pathways for HF tenants to access mainstream health services (e.g., GP services, mental health services, addiction services)? Has any of the below been progressed: Formal agreements with health services in place Referral pathways established Joint case management with health services Other (please specify): [_______________________] Describe an example of a successful referral or collaboration with a mainstream service: | E11: Q3. How have wraparound supports been developed to date for Housing First Tenants? Can you give a case example? | F11: Q4. Have any tenants disengaged from services since the last report? Yes No If Yes, please answer the following: How long did the disengagement last? [____ days] Were the HSE, Local Authority, and HFNO notified if disengagement lasted more than 7 days? Yes No What follow-up actions were taken to re-engage the tenant? | G11: Q5a. Have there been issues sourcing Clinical, Medical or Mental Health services for HF tenants? Please highlight key areas. Q5b. Please highlight any key workarounds that have been implemented to improve access to health and/or other support services. | H11: Q6. Have there been any new posts/recruitments since the last return? What impact has this had on Housing First service delivery? | I11: Q7. What would you see as an emerging need in the context of social / health / housing? | J11: Q8. Please outline your current internal monitoring and evaluation process and outcomes | K11: Q9. Governance - Is there a regular meeting with the Housing First service provider? Please provide details. What is the current method of internal monitoring and evaluation of the Housing First service provider? | L11: Q10. Please outline the costings for this quarter, eg. staff, non-pay costs. Is this within budget lines for the remainder of the year? | M11: Q11. What positive outcomes have you recorded within Housing First tenancies this year 2025? Please give a case example. | N11: Q12. Is there anything else you would like to add that has not been covered by this report?
A12: DCC
A13: DLR
A14: SDCC
A15: Fingal
C17: Quarter 3 2025
C18: Q1. Overall, since January 2025, how many difficult Housing First cases have you had, and can you give a case example? | D18: Q2. What progress has been made in establishing pathways for HF tenants to access mainstream health services (e.g., GP services, mental health services, addiction services)? Has any of the below been progressed: Formal agreements with health services in place Referral pathways established Joint case management with health services Other (please specify): [_______________________] Describe an example of a successful referral or collaboration with a mainstream service: | E18: Q3. How have wraparound supports been developed to date for Housing First Tenants? Can you give a case example? | F18: Q4. Have any tenants disengaged from services since the last report? Yes No If Yes, please answer the following: How long did the disengagement last? [____ days] Were the HSE, Local Authority, and HFNO notified if disengagement lasted more than 7 days? Yes No What follow-up actions were taken to re-engage the tenant? | G18: Q5a. Have there been issues sourcing Clinical, Medical or Mental Health services for HF tenants? Please highlight key areas. Q5b. Please highlight any key workarounds that have been implemented to improve access to health and/or other support services. | H18: Q6. Have there been any new posts/recruitments since the last return? What impact has this had on Housing First service delivery? | I18: Q7. What would you see as an emerging need in the context of social / health / housing? | J18: Q8. Please outline your current internal monitoring and evaluation process and outcomes | K18: Q9. Governance - Is there a regular meeting with the Housing First service provider? Please provide details. What is the current method of internal monitoring and evaluation of the Housing First service provider? | L18: Q10. Please outline the costings for this quarter, eg. staff, non-pay costs. Is this within budget lines for the remainder of the year? | M18: Q11. What positive outcomes have you recorded within Housing First tenancies this year 2025? Please give a case example. | N18: Q12. Is there anything else you would like to add that has not been covered by this report?
A19: DCC
A20: DLR
A21: SDCC
A22: Fingal
C24: Quarter 4 2025
C25: Q1. Overall, since January 2025, how many difficult Housing First cases have you had, and can you give a case example? | D25: Q2. What progress has been made in establishing pathways for HF tenants to access mainstream health services (e.g., GP services, mental health services, addiction services)? Has any of the below been progressed: Formal agreements with health services in place Referral pathways established Joint case management with health services Other (please specify): [_______________________] Describe an example of a successful referral or collaboration with a mainstream service: | E25: Q3. How have wraparound supports been developed to date for Housing First Tenants? Can you give a case example? | F25: Q4. Have any tenants disengaged from services since the last report? Yes No If Yes, please answer the following: How long did the disengagement last? [____ days] Were the HSE, Local Authority, and HFNO notified if disengagement lasted more than 7 days? Yes No What follow-up actions were taken to re-engage the tenant? | G25: Q5a. Have there been issues sourcing Clinical, Medical or Mental Health services for HF tenants? Please highlight key areas. Q5b. Please highlight any key workarounds that have been implemented to improve access to health and/or other support services. | H25: Q6. Have there been any new posts/recruitments since the last return? What impact has this had on Housing First service delivery? | I25: Q7. What would you see as an emerging need in the context of social / health / housing? | J25: Q8. Please outline your current internal monitoring and evaluation process and outcomes | K25: Q9. Governance - Is there a regular meeting with the Housing First service provider? Please provide details. What is the current method of internal monitoring and evaluation of the Housing First service provider? | L25: Q10. Please outline the costings for this quarter, eg. staff, non-pay costs. Is this within budget lines for the remainder of the year? | M25: Q11. What positive outcomes have you recorded within Housing First tenancies this year 2025? Please give a case example. | N25: Q12. Is there anything else you would like to add that has not been covered by this report?
A26: DCC
A27: DLR
A28: SDCC
A29: Fingal
