Workbook

Sheet DCC
A2: DCC
C3: Housing First Monitoring Report
C4: Breakdown by County Council
C5: Dublin City County Council
C6: Summary 2025 | I6: Summary Activity 2025
C7: Target Total Housing First Tenancies 2022 - 2026 | D7: 0 | M7: Q1 | N7: Q2 | O7: Q3 | P7: Q4
C8: Outstanding target from previous years (2022 to 2024) | D8: 0 | I8: No. of new tenancies | M8: =D19 -> 0 | N8: =E19 -> 0 | O8: =F19 -> 0 | P8: =G19 -> 0
C9: Target for Housing First Tenancies 2025 | D9: 0 | I9: No. of first-time tenancies | M9: =D20 -> 0 | N9: =E20 -> 0 | O9: =F20 -> 0 | P9: =G20 -> 0
C10: Tenancy Summary 2025 | D10: Q1 | E10: Q2 | F10: Q3 | G10: Q4 | I10: No. of rehoused tenancies | M10: =D21 -> 0 | N10: =E21 -> 0 | O10: =F21 -> 0 | P10: =G21 -> 0
C11: Housing First Tenancies Allocated to Date | D11: 0 | E11: 0 | F11: 0 | G11: 0 | I11: No. of active participants on HF intake list | M11: =D156 -> 0 | N11: =E156 -> 0 | O11: =F156 -> 0 | P11: =G156 -> 0
C12: Existing Housing First Tenancies | D12: 0 | E12: 0 | F12: 0 | G12: 0
C13: Total Tenants in a Housing First Tenancy | D13: 0 | E13: 0 | F13: 0 | G13: 0
C14: Housing First Sustainment Rate - Overall | D14: =D12/D11 -> #DIV/0! | E14: =E12/E11 -> #DIV/0! | F14: =F12/F11 -> #DIV/0! | G14: =G12/G11 -> #DIV/0!
C15: Housing First Sustainment Rate - not incl Death of Tenants | D15: =(D12+$H$32)/D11 -> #DIV/0! | E15: =(E12+$H$32)/E11 -> #DIV/0! | F15: =(F12+$H$32)/F11 -> #DIV/0! | G15: =(G12+$H$32)/G11 -> #DIV/0! | K15: Below figures should include the number of new tenancies, including transfers, created each month.
C17: General Housing First Activity by Quarter 2025 | K17: Monthly Tenancy Breakdown 2025
C18: Housing Activity | D18: Q1 | E18: Q2 | F18: Q3 | G18: Q4 | H18: Totals | I18: Percentage from Totals | K18: Jan | L18: Feb | M18: Mar | N18: Apr | O18: May | P18: Jun
C19: Total Tenancies Created - % | D19: =SUM(D20:D25) -> 0 | E19: =SUM(E20:E25) -> 0 | F19: =SUM(F20:F25) -> 0 | G19: =SUM(G20:G25) -> 0 | H19: =SUM(D19:G19) -> 0 | I19: 1 | K19: 0 | L19: 0 | M19: 0 | N19: 0 | O19: 0 | P19: 0
C20: First time tenant | D20: 0 | E20: 0 | F20: 0 | G20: 0 | H20: =SUM(D20:G20) -> 0 | I20: =H20/$H$19 -> #DIV/0! | K20: =SUM(K19:M19) -> 0 | N20: =SUM(N19:P19) -> 0
C21: Second time tenant | D21: 0 | E21: 0 | F21: 0 | G21: 0 | H21: =SUM(D21:G21) -> 0 | I21: =H21/$H$19 -> #DIV/0! | K21: Q1 Total | N21: Q2 Total
C22: Third time tenant | D22: 0 | E22: 0 | F22: 0 | G22: 0 | H22: =SUM(D22:G22) -> 0 | I22: =H22/$H$19 -> #DIV/0!
C23: Fourth time tenant | D23: 0 | E23: 0 | F23: 0 | G23: 0 | H23: =SUM(D23:G23) -> 0 | I23: =H23/$H$19 -> #DIV/0! | K23: Jul | L23: Aug | M23: Sep | N23: Oct | O23: Nov | P23: Dec
C24: Fifth time tenant | D24: 0 | E24: 0 | F24: 0 | G24: 0 | H24: =SUM(D24:G24) -> 0 | I24: =H24/$H$19 -> #DIV/0! | K24: 0 | L24: 0 | M24: 0 | N24: 0 | O24: 0 | P24: 0
C25: Sixth and above time tenant | D25: 0 | E25: 0 | F25: 0 | G25: 0 | H25: =SUM(D25:G25) -> 0 | I25: =H25/$H$19 -> #DIV/0! | K25: =SUM(K24:M24) -> 0 | N25: =SUM(N24:P24) -> 0
K26: Q3 Total | N26: Q4 Total
C27: Tenancy Ending Reason | D27: Q1 | E27: Q2 | F27: Q3 | G27: Q4 | H27: Totals | I27: Percentage from Totals
C28: Total Tenancies Ended - % | D28: =SUM(D29:D41) -> 0 | E28: =SUM(E29:E41) -> 0 | F28: =SUM(F29:F41) -> 0 | G28: =SUM(G29:G41) -> 0 | H28: =SUM(D28:G28) -> 0 | I28: 1
C29: Surrender of Tenancy | D29: 0 | E29: 0 | F29: 0 | G29: 0 | H29: =SUM(D29:G29) -> 0 | I29: =H29/$H$28 -> #DIV/0!
C30: Estate Management | D30: 0 | E30: 0 | F30: 0 | G30: 0 | H30: =SUM(D30:G30) -> 0 | I30: =H30/$H$28 -> #DIV/0!
C31: Transfer Request | D31: 0 | E31: 0 | F31: 0 | G31: 0 | H31: =SUM(D31:G31) -> 0 | I31: =H31/$H$28 -> #DIV/0!
C32: Death of a Tenant | D32: 0 | E32: 0 | F32: 0 | G32: 0 | H32: =SUM(D32:G32) -> 0 | I32: =H32/$H$28 -> #DIV/0!
C33: Incarceration | D33: 0 | E33: 0 | F33: 0 | G33: 0 | H33: =SUM(D33:G33) -> 0 | I33: =H33/$H$28 -> #DIV/0!
C34: Nursing Home / LTA | D34: 0 | E34: 0 | F34: 0 | G34: 0 | H34: =SUM(D34:G34) -> 0 | I34: =H34/$H$28 -> #DIV/0!
C35: Residential Treatment | D35: 0 | E35: 0 | F35: 0 | G35: 0 | H35: =SUM(D35:G35) -> 0 | I35: =H35/$H$28 -> #DIV/0!
C36: Return to Family and Friends | D36: 0 | E36: 0 | F36: 0 | G36: 0 | H36: =SUM(D36:G36) -> 0 | I36: =H36/$H$28 -> #DIV/0!
C37: Return to Rough Sleeping | D37: 0 | E37: 0 | F37: 0 | G37: 0 | H37: =SUM(D37:G37) -> 0 | I37: =H37/$H$28 -> #DIV/0!
C38: Reverting to TSA | D38: 0 | E38: 0 | F38: 0 | G38: 0 | H38: =SUM(D38:G38) -> 0 | I38: =H38/$H$28 -> #DIV/0!
C39: Notice to Quit | D39: 0 | E39: 0 | F39: 0 | G39: 0 | H39: =SUM(D39:G39) -> 0 | I39: =H39/$H$28 -> #DIV/0!
C40: other | D40: 0 | E40: 0 | F40: 0 | G40: 0 | H40: =SUM(D40:G40) -> 0 | I40: =H40/$H$28 -> #DIV/0!
C41: other | D41: 0 | E41: 0 | F41: 0 | G41: 0 | H41: =SUM(D41:G41) -> 0 | I41: =H41/$H$28 -> #DIV/0!
B43: Tenant Demographics and Needs
...

Sheet DLR
A2: DLR
C3: Housing First Monitoring Report
C4: Breakdown by County Council
C5: Dun Laoghaire-Rathdown County Council
C6: Summary 2025 | I6: Summary Activity 2025
C7: Target Total Housing First Tenancies 2022 - 2026 | D7: 0 | M7: Q1 | N7: Q2 | O7: Q3 | P7: Q4
C8: Outstanding target from previous years (2022 to 2024) | D8: 0 | I8: No. of new tenancies | M8: =D19 -> 0 | N8: =SUM(D19:E19) -> 0 | O8: =SUM(D19:F19) -> 0 | P8: =SUM(D19:G19) -> 0
C9: Target for Housing First Tenancies 2025 | D9: 0 | I9: No. of first-time tenancies | M9: =D20 -> 0 | N9: =SUM(D20:E20) -> 0 | O9: =SUM(D20:F20) -> 0 | P9: =SUM(D20:G20) -> 0
C10: Tenancy Summary 2025 | D10: Q1 | E10: Q2 | F10: Q3 | G10: Q4 | I10: No. of rehoused tenancies | M10: =SUM(D21:D25) -> 0 | N10: =SUM(D21:E25) -> 0 | O10: =SUM(D21:F25) -> 0 | P10: =SUM(D21:G25) -> 0
C11: Housing First Tenancies Allocated to Date | D11: 0 | E11: 0 | F11: 0 | G11: =F11+G19 -> 0 | I11: No. of active participants on HF intake list | M11: =D156 -> 0 | N11: =E156 -> 0 | O11: =F156 -> 0 | P11: =G156 -> 0
C12: Existing Housing First Tenancies | D12: 0 | E12: 0 | F12: 0 | G12: =F12+G19-G28 -> 0
C13: Total Tenants in a Housing First Tenancy | D13: 0 | E13: 0 | F13: 0 | G13: 0
C14: Housing First Sustainment Rate - Overall | D14: =D12/D11 -> #DIV/0! | E14: =E12/E11 -> #DIV/0! | F14: =F12/F11 -> #DIV/0! | G14: =G12/G11 -> #DIV/0!
C15: Housing First Sustainment Rate - not incl Death of Tenants | D15: =(D12+$H$32)/D11 -> #DIV/0! | E15: =(E12+$H$32)/E11 -> #DIV/0! | F15: =(F12+$H$32)/F11 -> #DIV/0! | G15: =(G12+$H$32)/G11 -> #DIV/0! | K15: Below figures should include the number of new tenancies, including transfers, created each month.
C17: General Housing First Activity by Quarter 2025 | K17: Monthly Tenancy Breakdown 2025
C18: Housing Activity | D18: Q1 | E18: Q2 | F18: Q3 | G18: Q4 | H18: Totals | I18: Percentage from Totals | K18: Jan | L18: Feb | M18: Mar | N18: Apr | O18: May | P18: Jun
C19: Total Tenancies Created - % | D19: =SUM(D20:D25) -> 0 | E19: =SUM(E20:E25) -> 0 | F19: =SUM(F20:F25) -> 0 | G19: =SUM(G20:G25) -> 0 | H19: =SUM(D19:G19) -> 0 | I19: 1 | K19: 0 | L19: 0 | M19: 0 | N19: 0 | O19: 0 | P19: 0
C20: First time tenant | D20: 0 | E20: 0 | F20: 0 | G20: 0 | H20: =SUM(D20:G20) -> 0 | I20: =H20/$H$19 -> #DIV/0! | K20: =SUM(K19:M19) -> 0 | N20: =SUM(N19:P19) -> 0
C21: Second time tenant | D21: 0 | E21: 0 | F21: 0 | G21: 0 | H21: =SUM(D21:G21) -> 0 | I21: =H21/$H$19 -> #DIV/0! | K21: Q1 Total | N21: Q2 Total
C22: Third time tenant | D22: 0 | E22: 0 | F22: 0 | G22: 0 | H22: =SUM(D22:G22) -> 0 | I22: =H22/$H$19 -> #DIV/0!
C23: Fourth time tenant | D23: 0 | E23: 0 | F23: 0 | G23: 0 | H23: =SUM(D23:G23) -> 0 | I23: =H23/$H$19 -> #DIV/0! | K23: Jul | L23: Aug | M23: Sep | N23: Oct | O23: Nov | P23: Dec
C24: Fifth time tenant | D24: 0 | E24: 0 | F24: 0 | G24: 0 | H24: =SUM(D24:G24) -> 0 | I24: =H24/$H$19 -> #DIV/0! | K24: 0 | L24: 0 | M24: 0 | N24: 0 | O24: 0 | P24: 0
C25: Sixth and above time tenant | D25: 0 | E25: 0 | F25: 0 | G25: 0 | H25: =SUM(D25:G25) -> 0 | I25: =H25/$H$19 -> #DIV/0! | K25: =SUM(K24:M24) -> 0 | N25: =SUM(N24:P24) -> 0
K26: Q3 Total | N26: Q4 Total
C27: Tenancy Ending Reason | D27: Q1 | E27: Q2 | F27: Q3 | G27: Q4 | H27: Totals | I27: Percentage from Totals
C28: Total Tenancies Ended - % | D28: =SUM(D29:D41) -> 0 | E28: =SUM(E29:E41) -> 0 | F28: =SUM(F29:F41) -> 0 | G28: =SUM(G29:G41) -> 0 | H28: =SUM(D28:G28) -> 0 | I28: 1
C29: Surrender of Tenancy | D29: 0 | E29: 0 | F29: 0 | G29: 0 | H29: =SUM(D29:G29) -> 0 | I29: =H29/$H$28 -> #DIV/0!
C30: Estate Management | D30: 0 | E30: 0 | F30: 0 | G30: 0 | H30: =SUM(D30:G30) -> 0 | I30: =H30/$H$28 -> #DIV/0!
C31: Transfer Request | D31: 0 | E31: 0 | F31: 0 | G31: 0 | H31: =SUM(D31:G31) -> 0 | I31: =H31/$H$28 -> #DIV/0!
C32: Death of a Tenant | D32: 0 | E32: 0 | F32: 0 | G32: 0 | H32: =SUM(D32:G32) -> 0 | I32: =H32/$H$28 -> #DIV/0!
C33: Incarceration | D33: 0 | E33: 0 | F33: 0 | G33: 0 | H33: =SUM(D33:G33) -> 0 | I33: =H33/$H$28 -> #DIV/0!
C34: Nursing Home / LTA | D34: 0 | E34: 0 | F34: 0 | G34: 0 | H34: =SUM(D34:G34) -> 0 | I34: =H34/$H$28 -> #DIV/0!
C35: Residential Treatment | D35: 0 | E35: 0 | F35: 0 | G35: 0 | H35: =SUM(D35:G35) -> 0 | I35: =H35/$H$28 -> #DIV/0!
C36: Return to Family and Friends | D36: 0 | E36: 0 | F36: 0 | G36: 0 | H36: =SUM(D36:G36) -> 0 | I36: =H36/$H$28 -> #DIV/0!
C37: Return to Rough Sleeping | D37: 0 | E37: 0 | F37: 0 | G37: 0 | H37: =SUM(D37:G37) -> 0 | I37: =H37/$H$28 -> #DIV/0!
C38: Reverting to TSA | D38: 0 | E38: 0 | F38: 0 | G38: 0 | H38: =SUM(D38:G38) -> 0 | I38: =H38/$H$28 -> #DIV/0!
C39: Notice to Quit | D39: 0 | E39: 0 | F39: 0 | G39: 0 | H39: =SUM(D39:G39) -> 0 | I39: =H39/$H$28 -> #DIV/0!
C40: other | D40: 0 | E40: 0 | F40: 0 | G40: 0 | H40: =SUM(D40:G40) -> 0 | I40: =H40/$H$28 -> #DIV/0!
C41: other | D41: 0 | E41: 0 | F41: 0 | G41: 0 | H41: =SUM(D41:G41) -> 0 | I41: =H41/$H$28 -> #DIV/0!
B43: Tenant Demographics and Needs
...

Sheet SDCC
A2: SDCC
C3: Housing First Monitoring Report
C4: Breakdown by County Council
C5: South Dublin County Council
C6: Summary 2025 | I6: Summary Activity 2025
C7: Target Total Housing First Tenancies 2022 - 2026 | D7: 0 | M7: Q1 | N7: Q2 | O7: Q3 | P7: Q4
C8: Outstanding target from previous years (2022 to 2024) | D8: 0 | I8: No. of new tenancies | M8: =D19 -> 0 | N8: =SUM(D19:E19) -> 0 | O8: =SUM(D19:F19) -> 0 | P8: =SUM(D19:G19) -> 0
C9: Target for Housing First Tenancies 2025 | D9: 0 | I9: No. of first-time tenancies | M9: =D20 -> 0 | N9: =SUM(D20:E20) -> 0 | O9: =SUM(D20:F20) -> 0 | P9: =SUM(D20:G20) -> 0
C10: Tenancy Summary 2025 | D10: Q1 | E10: Q2 | F10: Q3 | G10: Q4 | I10: No. of rehoused tenancies | M10: =SUM(D21:D25) -> 0 | N10: =SUM(D21:E25) -> 0 | O10: =SUM(D21:F25) -> 0 | P10: =SUM(D21:G25) -> 0
C11: Housing First Tenancies Allocated to Date | D11: 0 | E11: 0 | F11: 0 | G11: =F11+G19 -> 0 | I11: No. of active participants on HF intake list | M11: =D156 -> 0 | N11: =E156 -> 0 | O11: =F156 -> 0 | P11: =G156 -> 0
C12: Existing Housing First Tenancies | D12: 0 | E12: 0 | F12: 0 | G12: =F12+G19-G28 -> 0
C13: Total Tenants in a Housing First Tenancy | D13: 0 | E13: 0 | F13: 0 | G13: 0
C14: Housing First Sustainment Rate - Overall | D14: =D12/D11 -> #DIV/0! | E14: =E12/E11 -> #DIV/0! | F14: =F12/F11 -> #DIV/0! | G14: =G12/G11 -> #DIV/0!
C15: Housing First Sustainment Rate - not incl Death of Tenants | D15: =(D12+$H$32)/D11 -> #DIV/0! | E15: =(E12+$H$32)/E11 -> #DIV/0! | F15: =(F12+$H$32)/F11 -> #DIV/0! | G15: =(G12+$H$32)/G11 -> #DIV/0! | K15: Below figures should include the number of new tenancies, including transfers, created each month.
C17: General Housing First Activity by Quarter 2025 | K17: Monthly Tenancy Breakdown 2025
C18: Housing Activity | D18: Q1 | E18: Q2 | F18: Q3 | G18: Q4 | H18: Totals | I18: Percentage from Totals | K18: Jan | L18: Feb | M18: Mar | N18: Apr | O18: May | P18: Jun
C19: Total Tenancies Created - % | D19: =SUM(D20:D25) -> 0 | E19: =SUM(E20:E25) -> 0 | F19: =SUM(F20:F25) -> 0 | G19: =SUM(G20:G25) -> 0 | H19: =SUM(D19:G19) -> 0 | I19: 1 | K19: 0 | L19: 0 | M19: 0 | N19: 0 | O19: 0 | P19: 0
C20: First time tenant | D20: 0 | E20: 0 | F20: 0 | G20: 0 | H20: =SUM(D20:G20) -> 0 | I20: =H20/$H$19 -> #DIV/0! | K20: =SUM(K19:M19) -> 0 | N20: =SUM(N19:P19) -> 0
C21: Second time tenant | D21: 0 | E21: 0 | F21: 0 | G21: 0 | H21: =SUM(D21:G21) -> 0 | I21: =H21/$H$19 -> #DIV/0! | K21: Q1 Total | N21: Q2 Total
C22: Third time tenant | D22: 0 | E22: 0 | F22: 0 | G22: 0 | H22: =SUM(D22:G22) -> 0 | I22: =H22/$H$19 -> #DIV/0!
C23: Fourth time tenant | D23: 0 | E23: 0 | F23: 0 | G23: 0 | H23: =SUM(D23:G23) -> 0 | I23: =H23/$H$19 -> #DIV/0! | K23: Jul | L23: Aug | M23: Sep | N23: Oct | O23: Nov | P23: Dec
C24: Fifth time tenant | D24: 0 | E24: 0 | F24: 0 | G24: 0 | H24: =SUM(D24:G24) -> 0 | I24: =H24/$H$19 -> #DIV/0! | K24: 0 | L24: 0 | M24: 0 | N24: 0 | O24: 0 | P24: 0
C25: Sixth and above time tenant | D25: 0 | E25: 0 | F25: 0 | G25: 0 | H25: =SUM(D25:G25) -> 0 | I25: =H25/$H$19 -> #DIV/0! | K25: =SUM(K24:M24) -> 0 | N25: =SUM(N24:P24) -> 0
K26: Q3 Total | N26: Q4 Total
C27: Tenancy Ending Reason | D27: Q1 | E27: Q2 | F27: Q3 | G27: Q4 | H27: Totals | I27: Percentage from Totals
C28: Total Tenancies Ended - % | D28: =SUM(D29:D41) -> 0 | E28: =SUM(E29:E41) -> 0 | F28: =SUM(F29:F41) -> 0 | G28: =SUM(G29:G41) -> 0 | H28: =SUM(D28:G28) -> 0 | I28: 1
C29: Surrender of Tenancy | D29: 0 | E29: 0 | F29: 0 | G29: 0 | H29: =SUM(D29:G29) -> 0 | I29: =H29/$H$28 -> #DIV/0!
C30: Estate Management | D30: 0 | E30: 0 | F30: 0 | G30: 0 | H30: =SUM(D30:G30) -> 0 | I30: =H30/$H$28 -> #DIV/0!
C31: Transfer Request | D31: 0 | E31: 0 | F31: 0 | G31: 0 | H31: =SUM(D31:G31) -> 0 | I31: =H31/$H$28 -> #DIV/0!
C32: Death of a Tenant | D32: 0 | E32: 0 | F32: 0 | G32: 0 | H32: =SUM(D32:G32) -> 0 | I32: =H32/$H$28 -> #DIV/0!
C33: Incarceration | D33: 0 | E33: 0 | F33: 0 | G33: 0 | H33: =SUM(D33:G33) -> 0 | I33: =H33/$H$28 -> #DIV/0!
C34: Nursing Home / LTA | D34: 0 | E34: 0 | F34: 0 | G34: 0 | H34: =SUM(D34:G34) -> 0 | I34: =H34/$H$28 -> #DIV/0!
C35: Residential Treatment | D35: 0 | E35: 0 | F35: 0 | G35: 0 | H35: =SUM(D35:G35) -> 0 | I35: =H35/$H$28 -> #DIV/0!
C36: Return to Family and Friends | D36: 0 | E36: 0 | F36: 0 | G36: 0 | H36: =SUM(D36:G36) -> 0 | I36: =H36/$H$28 -> #DIV/0!
C37: Return to Rough Sleeping | D37: 0 | E37: 0 | F37: 0 | G37: 0 | H37: =SUM(D37:G37) -> 0 | I37: =H37/$H$28 -> #DIV/0!
C38: Reverting to TSA | D38: 0 | E38: 0 | F38: 0 | G38: 0 | H38: =SUM(D38:G38) -> 0 | I38: =H38/$H$28 -> #DIV/0!
C39: Notice to Quit | D39: 0 | E39: 0 | F39: 0 | G39: 0 | H39: =SUM(D39:G39) -> 0 | I39: =H39/$H$28 -> #DIV/0!
C40: other | D40: 0 | E40: 0 | F40: 0 | G40: 0 | H40: =SUM(D40:G40) -> 0 | I40: =H40/$H$28 -> #DIV/0!
C41: other | D41: 0 | E41: 0 | F41: 0 | G41: 0 | H41: =SUM(D41:G41) -> 0 | I41: =H41/$H$28 -> #DIV/0!
B43: Tenant Demographics and Needs
...

Sheet Fingal
A2: Fingal
C3: Housing First Monitoring Report
C4: Breakdown by County Council
C5: Fingal County Council
C6: Summary 2025 | I6: Summary Activity 2025
C7: Target Total Housing First Tenancies 2022 - 2026 | D7: 113 | M7: Q1 | N7: Q2 | O7: Q3 | P7: Q4
C8: Outstanding target from previous years (2022 to 2024) | D8: 36 | I8: No. of new tenancies | M8: =D19 -> 0 | N8: =SUM(D19:E19) -> 0 | O8: =SUM(D19:F19) -> 0 | P8: =SUM(D19:G19) -> 0
C9: Target for Housing First Tenancies 2025 | D9: 22 | I9: No. of first-time tenancies | M9: =D20 -> 0 | N9: =SUM(D20:E20) -> 0 | O9: =SUM(D20:F20) -> 0 | P9: =SUM(D20:G20) -> 0
C10: Tenancy Summary 2025 | D10: Q1 | E10: Q2 | F10: Q3 | G10: Q4 | I10: No. of rehoused tenancies | M10: =SUM(D21:D25) -> 0 | N10: =SUM(D21:E25) -> 0 | O10: =SUM(D21:F25) -> 0 | P10: =SUM(D21:G25) -> 0
C11: Housing First Tenancies Allocated to Date | D11: 0 | E11: 0 | F11: 0 | G11: =F11+G19 -> 0 | I11: No. of active participants on HF intake list | M11: =D156 -> 0 | N11: =E156 -> 0 | O11: =F156 -> 0 | P11: =G156 -> 0
C12: Existing Housing First Tenancies | D12: 0 | E12: 0 | F12: 0 | G12: =F12+G19-G28 -> 0
C13: Total Tenants in a Housing First Tenancy | D13: 0 | E13: 0 | F13: 0 | G13: 0
C14: Housing First Sustainment Rate - Overall | D14: =D12/D11 -> #DIV/0! | E14: =E12/E11 -> #DIV/0! | F14: =F12/F11 -> #DIV/0! | G14: =G12/G11 -> #DIV/0!
C15: Housing First Sustainment Rate - not incl Death of Tenants | D15: =(D12+$H$32)/D11 -> #DIV/0! | E15: =(E12+$H$32)/E11 -> #DIV/0! | F15: =(F12+$H$32)/F11 -> #DIV/0! | G15: =(G12+$H$32)/G11 -> #DIV/0! | K15: Below figures should include the number of new tenancies, including transfers, created each month.
C17: General Housing First Activity by Quarter 2025 | K17: Monthly Tenancy Breakdown 2025
C18: Housing Activity | D18: Q1 | E18: Q2 | F18: Q3 | G18: Q4 | H18: Totals | I18: Percentage from Totals | K18: Jan | L18: Feb | M18: Mar | N18: Apr | O18: May | P18: Jun
C19: Total Tenancies Created - % | D19: =SUM(D20:D25) -> 0 | E19: =SUM(E20:E25) -> 0 | F19: =SUM(F20:F25) -> 0 | G19: =SUM(G20:G25) -> 0 | H19: =SUM(D19:G19) -> 0 | I19: 1 | K19: 0 | L19: 0 | M19: 0 | N19: 0 | O19: 0 | P19: 0
C20: First time tenant | D20: 0 | E20: 0 | F20: 0 | G20: 0 | H20: =SUM(D20:G20) -> 0 | I20: =H20/$H$19 -> #DIV/0! | K20: =SUM(K19:M19) -> 0 | N20: =SUM(N19:P19) -> 0
C21: Second time tenant | D21: 0 | E21: 0 | F21: 0 | G21: 0 | H21: =SUM(D21:G21) -> 0 | I21: =H21/$H$19 -> #DIV/0! | K21: Q1 Total | N21: Q2 Total
C22: Third time tenant | D22: 0 | E22: 0 | F22: 0 | G22: 0 | H22: =SUM(D22:G22) -> 0 | I22: =H22/$H$19 -> #DIV/0!
C23: Fourth time tenant | D23: 0 | E23: 0 | F23: 0 | G23: 0 | H23: =SUM(D23:G23) -> 0 | I23: =H23/$H$19 -> #DIV/0! | K23: Jul | L23: Aug | M23: Sep | N23: Oct | O23: Nov | P23: Dec
C24: Fifth time tenant | D24: 0 | E24: 0 | F24: 0 | G24: 0 | H24: =SUM(D24:G24) -> 0 | I24: =H24/$H$19 -> #DIV/0! | K24: 0 | L24: 0 | M24: 0 | N24: 0 | O24: 0 | P24: 0
C25: Sixth and above time tenant | D25: 0 | E25: 0 | F25: 0 | G25: 0 | H25: =SUM(D25:G25) -> 0 | I25: =H25/$H$19 -> #DIV/0! | K25: =SUM(K24:M24) -> 0 | N25: =SUM(N24:P24) -> 0
K26: Q3 Total | N26: Q4 Total
C27: Tenancy Ending Reason | D27: Q1 | E27: Q2 | F27: Q3 | G27: Q4 | H27: Totals | I27: Percentage from Totals
C28: Total Tenancies Ended - % | D28: =SUM(D29:D41) -> 0 | E28: =SUM(E29:E41) -> 0 | F28: =SUM(F29:F41) -> 0 | G28: =SUM(G29:G41) -> 0 | H28: =SUM(D28:G28) -> 0 | I28: 1
C29: Surrender of Tenancy | D29: 0 | E29: 0 | F29: 0 | G29: 0 | H29: =SUM(D29:G29) -> 0 | I29: =H29/$H$28 -> #DIV/0!
C30: Estate Management | D30: 0 | E30: 0 | F30: 0 | G30: 0 | H30: =SUM(D30:G30) -> 0 | I30: =H30/$H$28 -> #DIV/0!
C31: Transfer Request | D31: 0 | E31: 0 | F31: 0 | G31: 0 | H31: =SUM(D31:G31) -> 0 | I31: =H31/$H$28 -> #DIV/0!
C32: Death of a Tenant | D32: 0 | E32: 0 | F32: 0 | G32: 0 | H32: =SUM(D32:G32) -> 0 | I32: =H32/$H$28 -> #DIV/0!
C33: Incarceration | D33: 0 | E33: 0 | F33: 0 | G33: 0 | H33: =SUM(D33:G33) -> 0 | I33: =H33/$H$28 -> #DIV/0!
C34: Nursing Home / LTA | D34: 0 | E34: 0 | F34: 0 | G34: 0 | H34: =SUM(D34:G34) -> 0 | I34: =H34/$H$28 -> #DIV/0!
C35: Residential Treatment | D35: 0 | E35: 0 | F35: 0 | G35: 0 | H35: =SUM(D35:G35) -> 0 | I35: =H35/$H$28 -> #DIV/0!
C36: Return to Family and Friends | D36: 0 | E36: 0 | F36: 0 | G36: 0 | H36: =SUM(D36:G36) -> 0 | I36: =H36/$H$28 -> #DIV/0!
C37: Return to Rough Sleeping | D37: 0 | E37: 0 | F37: 0 | G37: 0 | H37: =SUM(D37:G37) -> 0 | I37: =H37/$H$28 -> #DIV/0!
C38: Reverting to TSA | D38: 0 | E38: 0 | F38: 0 | G38: 0 | H38: =SUM(D38:G38) -> 0 | I38: =H38/$H$28 -> #DIV/0!
C39: Notice to Quit | D39: 0 | E39: 0 | F39: 0 | G39: 0 | H39: =SUM(D39:G39) -> 0 | I39: =H39/$H$28 -> #DIV/0!
C40: other | D40: 0 | E40: 0 | F40: 0 | G40: 0 | H40: =SUM(D40:G40) -> 0 | I40: =H40/$H$28 -> #DIV/0!
C41: other | D41: 0 | E41: 0 | F41: 0 | G41: 0 | H41: =SUM(D41:G41) -> 0 | I41: =H41/$H$28 -> #DIV/0!
B43: Tenant Demographics and Needs
...

Sheet Collated Data
C3: Housing First Monitoring Report
C5: Dublin Regional Collated Data
C6: Summary 2025 | I6: Summary Activity 2025
C7: Target Total Housing First Tenancies 2022 - 2026 | D7: =SUM(DCC:SDCC!D7) -> 0 | M7: Q1 | N7: Q2 | O7: Q3 | P7: Q4
C8: Outstanding target from previous years (2022 to 2024) | D8: =SUM(DCC:SDCC!D8) -> 0 | I8: No. of new tenancies | M8: =SUM(DCC:SDCC!M8) -> 0 | N8: =SUM(DCC:SDCC!N8) -> 0 | O8: =SUM(DCC:SDCC!O8) -> 0 | P8: =SUM(DCC:SDCC!P8) -> 0
C9: Target for Housing First Tenancies 2025 | D9: =SUM(DCC:SDCC!D9) -> 0 | I9: No. of first-time tenancies | M9: =SUM(DCC:SDCC!M9) -> 0 | N9: =SUM(DCC:SDCC!N9) -> 0 | O9: =SUM(DCC:SDCC!O9) -> 0 | P9: =SUM(DCC:SDCC!P9) -> 0
C10: Tenancy Summary 2025 | D10: Q1 | E10: Q2 | F10: Q3 | G10: Q4 | I10: No. of rehoused tenancies | M10: =SUM(DCC:SDCC!M10) -> 0 | N10: =SUM(DCC:SDCC!N10) -> 0 | O10: =SUM(DCC:SDCC!O10) -> 0 | P10: =SUM(DCC:SDCC!P10) -> 0
C11: Housing First Tenancies Allocated to Date | D11: =SUM(DCC:SDCC!D11) -> 0 | E11: =SUM(DCC:SDCC!E11) -> 0 | F11: =SUM(DCC:SDCC!F11) -> 0 | G11: =SUM(DCC:SDCC!G11) -> 0 | I11: No. of active participants on HF intake list | M11: =SUM(DCC:SDCC!M11) -> 0 | N11: =SUM(DCC:SDCC!N11) -> 0 | O11: =SUM(DCC:SDCC!O11) -> 0 | P11: =SUM(DCC:SDCC!P11) -> 0
C12: Existing Housing First Tenancies | D12: =SUM(DCC:SDCC!D12) -> 0 | E12: =SUM(DCC:SDCC!E12) -> 0 | F12: =SUM(DCC:SDCC!F12) -> 0 | G12: =SUM(DCC:SDCC!G12) -> 0
C13: Total Tenants in a Housing First Tenancy | D13: =SUM(DCC:SDCC!D13) -> 0 | E13: =SUM(DCC:SDCC!E13) -> 0 | F13: =SUM(DCC:SDCC!F13) -> 0 | G13: =SUM(DCC:SDCC!G13) -> 0
C14: Housing First Sustainment Rate - Overall | D14: =D12/D11 -> #DIV/0! | E14: =E12/E11 -> #DIV/0! | F14: =F12/F11 -> #DIV/0! | G14: =G12/G11 -> #DIV/0!
C15: Housing First Sustainment Rate - not incl Death of Tenants | D15: =(D12+$H$32)/D11 -> #DIV/0! | E15: =(E12+$H$32)/E11 -> #DIV/0! | F15: =(F12+$H$32)/F11 -> #DIV/0! | G15: =(G12+$H$32)/G11 -> #DIV/0! | K15: Below figures should include the number of new tenancies, including transfers, created each month.
C17: General Housing First Activity by Quarter 2025 | K17: Monthly Tenancy Breakdown 2025
C18: Housing Activity | D18: Q1 | E18: Q2 | F18: Q3 | G18: Q4 | H18: Totals | I18: Percentage from Totals | K18: Jan | L18: Feb | M18: Mar | N18: Apr | O18: May | P18: Jun
C19: Total Tenancies Created - % | D19: =SUM(K19:M19) -> 0 | E19: =SUM(N19:P19) -> 0 | F19: =SUM(K24:M24) -> 0 | G19: =SUM(N24:P24) -> 0 | H19: =SUM(D19:G19) -> 0 | I19: 1 | K19: =SUM(DCC:SDCC!K19) -> 0 | L19: =SUM(DCC:SDCC!L19) -> 0 | M19: =SUM(DCC:SDCC!M19) -> 0 | N19: =SUM(DCC:SDCC!N19) -> 0 | O19: =SUM(DCC:SDCC!O19) -> 0 | P19: =SUM(DCC:SDCC!P19) -> 0
C20: First time tenant | D20: =SUM(DCC:SDCC!D20) -> 0 | E20: =SUM(DCC:SDCC!E20) -> 0 | F20: =SUM(DCC:SDCC!F20) -> 0 | G20: =SUM(DCC:SDCC!G20) -> 0 | H20: =SUM(D20:G20) -> 0 | I20: =H20/$H$19 -> #DIV/0! | K20: =SUM(K19:M19) -> 0 | N20: =SUM(N19:P19) -> 0
C21: Second time tenant | D21: =SUM(DCC:SDCC!D21) -> 0 | E21: =SUM(DCC:SDCC!E21) -> 0 | F21: =SUM(DCC:SDCC!F21) -> 0 | G21: =SUM(DCC:SDCC!G21) -> 0 | H21: =SUM(D21:G21) -> 0 | I21: =H21/$H$19 -> #DIV/0! | K21: Q1 Total | N21: Q2 Total
C22: Third time tenant | D22: =SUM(DCC:SDCC!D22) -> 0 | E22: =SUM(DCC:SDCC!E22) -> 0 | F22: =SUM(DCC:SDCC!F22) -> 0 | G22: =SUM(DCC:SDCC!G22) -> 0 | H22: =SUM(D22:G22) -> 0 | I22: =H22/$H$19 -> #DIV/0!
C23: Fourth time tenant | D23: =SUM(DCC:SDCC!D23) -> 0 | E23: =SUM(DCC:SDCC!E23) -> 0 | F23: =SUM(DCC:SDCC!F23) -> 0 | G23: =SUM(DCC:SDCC!G23) -> 0 | H23: =SUM(D23:G23) -> 0 | I23: =H23/$H$19 -> #DIV/0! | K23: Jul | L23: Aug | M23: Sep | N23: Oct | O23: Nov | P23: Dec
C24: Fifth time tenant | D24: =SUM(DCC:SDCC!D24) -> 0 | E24: =SUM(DCC:SDCC!E24) -> 0 | F24: =SUM(DCC:SDCC!F24) -> 0 | G24: =SUM(DCC:SDCC!G24) -> 0 | H24: =SUM(D24:G24) -> 0 | I24: =H24/$H$19 -> #DIV/0! | K24: =SUM(DCC:SDCC!K24) -> 0 | L24: =SUM(DCC:SDCC!L24) -> 0 | M24: =SUM(DCC:SDCC!M24) -> 0 | N24: =SUM(DCC:SDCC!N24) -> 0 | O24: =SUM(DCC:SDCC!O24) -> 0 | P24: =SUM(DCC:SDCC!P24) -> 0
C25: Sixth and above time tenant | D25: =SUM(DCC:SDCC!D25) -> 0 | E25: =SUM(DCC:SDCC!E25) -> 0 | F25: =SUM(DCC:SDCC!F25) -> 0 | G25: =SUM(DCC:SDCC!G25) -> 0 | H25: =SUM(D25:G25) -> 0 | I25: =H25/$H$19 -> #DIV/0! | K25: =SUM(K24:M24) -> 0 | N25: =SUM(N24:P24) -> 0
K26: Q3 Total | N26: Q4 Total
C27: Tenancy Ending Reason | D27: Q1 | E27: Q2 | F27: Q3 | G27: Q4 | H27: Totals | I27: Percentage from Totals
C28: Total Tenancies Ended - % | D28: =SUM(D29:D41) -> 0 | E28: =SUM(E29:E41) -> 0 | F28: =SUM(F29:F41) -> 0 | G28: =SUM(G29:G41) -> 0 | H28: =SUM(D28:G28) -> 0 | I28: 1
C29: Surrender of Tenancy | D29: =SUM(DCC:SDCC!D29) -> 0 | E29: =SUM(DCC:SDCC!E29) -> 0 | F29: =SUM(DCC:SDCC!F29) -> 0 | G29: =SUM(DCC:SDCC!G29) -> 0 | H29: =SUM(D29:G29) -> 0 | I29: =H29/$H$28 -> #DIV/0!
C30: Estate Management | D30: =SUM(DCC:SDCC!D30) -> 0 | E30: =SUM(DCC:SDCC!E30) -> 0 | F30: =SUM(DCC:SDCC!F30) -> 0 | G30: =SUM(DCC:SDCC!G30) -> 0 | H30: =SUM(D30:G30) -> 0 | I30: =H30/$H$28 -> #DIV/0!
C31: Transfer Request | D31: =SUM(DCC:SDCC!D31) -> 0 | E31: =SUM(DCC:SDCC!E31) -> 0 | F31: =SUM(DCC:SDCC!F31) -> 0 | G31: =SUM(DCC:SDCC!G31) -> 0 | H31: =SUM(D31:G31) -> 0 | I31: =H31/$H$28 -> #DIV/0!
C32: Death of a Tenant | D32: =SUM(DCC:SDCC!D32) -> 0 | E32: =SUM(DCC:SDCC!E32) -> 0 | F32: =SUM(DCC:SDCC!F32) -> 0 | G32: =SUM(DCC:SDCC!G32) -> 0 | H32: =SUM(D32:G32) -> 0 | I32: =H32/$H$28 -> #DIV/0!
C33: Incarceration | D33: =SUM(DCC:SDCC!D33) -> 0 | E33: =SUM(DCC:SDCC!E33) -> 0 | F33: =SUM(DCC:SDCC!F33) -> 0 | G33: =SUM(DCC:SDCC!G33) -> 0 | H33: =SUM(D33:G33) -> 0 | I33: =H33/$H$28 -> #DIV/0!
C34: Nursing Home / LTA | D34: =SUM(DCC:SDCC!D34) -> 0 | E34: =SUM(DCC:SDCC!E34) -> 0 | F34: =SUM(DCC:SDCC!F34) -> 0 | G34: =SUM(DCC:SDCC!G34) -> 0 | H34: =SUM(D34:G34) -> 0 | I34: =H34/$H$28 -> #DIV/0!
C35: Residential Treatment | D35: =SUM(DCC:SDCC!D35) -> 0 | E35: =SUM(DCC:SDCC!E35) -> 0 | F35: =SUM(DCC:SDCC!F35) -> 0 | G35: =SUM(DCC:SDCC!G35) -> 0 | H35: =SUM(D35:G35) -> 0 | I35: =H35/$H$28 -> #DIV/0!
C36: Return to Family and Friends | D36: =SUM(DCC:SDCC!D36) -> 0 | E36: =SUM(DCC:SDCC!E36) -> 0 | F36: =SUM(DCC:SDCC!F36) -> 0 | G36: =SUM(DCC:SDCC!G36) -> 0 | H36: =SUM(D36:G36) -> 0 | I36: =H36/$H$28 -> #DIV/0!
C37: Return to Rough Sleeping | D37: =SUM(DCC:SDCC!D37) -> 0 | E37: =SUM(DCC:SDCC!E37) -> 0 | F37: =SUM(DCC:SDCC!F37) -> 0 | G37: =SUM(DCC:SDCC!G37) -> 0 | H37: =SUM(D37:G37) -> 0 | I37: =H37/$H$28 -> #DIV/0!
C38: Reverting to TSA | D38: =SUM(DCC:SDCC!D38) -> 0 | E38: =SUM(DCC:SDCC!E38) -> 0 | F38: =SUM(DCC:SDCC!F38) -> 0 | G38: =SUM(DCC:SDCC!G38) -> 0 | H38: =SUM(D38:G38) -> 0 | I38: =H38/$H$28 -> #DIV/0!
C39: Notice to Quit | D39: =SUM(DCC:SDCC!D39) -> 0 | E39: =SUM(DCC:SDCC!E39) -> 0 | F39: =SUM(DCC:SDCC!F39) -> 0 | G39: =SUM(DCC:SDCC!G39) -> 0 | H39: =SUM(D39:G39) -> 0 | I39: =H39/$H$28 -> #DIV/0! | J39: DCC
C40: =DCC!C40 -> other | D40: =DCC!D40 -> 0 | E40: =DCC!E40 -> 0 | F40: =DCC!F40 -> 0 | G40: =DCC!G40 -> 0 | H40: =SUM(D40:G40) -> 0 | I40: =H40/$H$28 -> #DIV/0! | J40: DCC
C41: =DCC!C41 -> other | D41: =DCC!D41 -> 0 | E41: =DCC!E41 -> 0 | F41: =DCC!F41 -> 0 | G41: =DCC!G41 -> 0 | H41: =SUM(D41:G41) -> 0 | I41: =H41/$H$28 -> #DIV/0! | J41: DCC
C42: =DLR!C40 -> other | D42: =DLR!D40 -> 0 | E42: =DLR!E40 -> 0 | F42: =DLR!F40 -> 0 | G42: =DLR!G40 -> 0 | H42: =SUM(D42:G42) -> 0 | I42: =H42/$H$28 -> #DIV/0! | J42: DLR
C43: =DLR!C41 -> other | D43: =DLR!D41 -> 0 | E43: =DLR!E41 -> 0 | F43: =DLR!F41 -> 0 | G43: =DLR!G41 -> 0 | H43: =SUM(D43:G43) -> 0 | I43: =H43/$H$28 -> #DIV/0! | J43: DLR
C44: =Fingal!C40 -> other | D44: =Fingal!D40 -> 0 | E44: =Fingal!E40 -> 0 | F44: =Fingal!F40 -> 0 | G44: =Fingal!G40 -> 0 | H44: =SUM(D44:G44) -> 0 | I44: =H44/$H$28 -> #DIV/0! | J44: Fingal
...

Sheet Assessment Qs
C3: Quarter 1 2025
C4: Q1. Overall, since January 2025, how many difficult Housing First cases have you had, and can you give a case example? | D4: Q2. What progress has been made in establishing pathways for HF tenants to access mainstream health services (e.g., GP services, mental health services, addiction services)? Has any of the below been progressed: Formal agreements with health services in place Referral pathways established Joint case management with health services Other (please specify): [_______________________] Describe an example of a successful referral or collaboration with a mainstream service: | E4: Q3. How have wraparound supports been developed to date for Housing First Tenants? Can you give a case example? | F4: Q4. Have any tenants disengaged from services since the last report? Yes No If Yes, please answer the following: How long did the disengagement last? [____ days] Were the HSE, Local Authority, and HFNO notified if disengagement lasted more than 7 days? Yes No What follow-up actions were taken to re-engage the tenant? | G4: Q5a. Have there been issues sourcing Clinical, Medical or Mental Health services for HF tenants? Please highlight key areas. Q5b. Please highlight any key workarounds that have been implemented to improve access to health and/or other support services. | H4: Q6. Have there been any new posts/recruitments since the last return? What impact has this had on Housing First service delivery? | I4: Q7. What would you see as an emerging need in the context of social / health / housing? | J4: Q8. Please outline your current internal monitoring and evaluation process and outcomes | K4: Q9. Governance - Is there a regular meeting with the Housing First service provider? Please provide details. What is the current method of internal monitoring and evaluation of the Housing First service provider? | L4: Q10. Please outline the costings for this quarter, eg. staff, non-pay costs. Is this within budget lines for the remainder of the year? | M4: Q11. What positive outcomes have you recorded within Housing First tenancies this year 2025? Please give a case example. | N4: Q12. Is there anything else you would like to add that has not been covered by this report?
A5: DCC
A6: DLR
A7: SDCC
A8: Fingal
C10: Quarter 2 2025
C11: Q1. Overall, since January 2025, how many difficult Housing First cases have you had, and can you give a case example? | D11: Q2. What progress has been made in establishing pathways for HF tenants to access mainstream health services (e.g., GP services, mental health services, addiction services)? Has any of the below been progressed: Formal agreements with health services in place Referral pathways established Joint case management with health services Other (please specify): [_______________________] Describe an example of a successful referral or collaboration with a mainstream service: | E11: Q3. How have wraparound supports been developed to date for Housing First Tenants? Can you give a case example? | F11: Q4. Have any tenants disengaged from services since the last report? Yes No If Yes, please answer the following: How long did the disengagement last? [____ days] Were the HSE, Local Authority, and HFNO notified if disengagement lasted more than 7 days? Yes No What follow-up actions were taken to re-engage the tenant? | G11: Q5a. Have there been issues sourcing Clinical, Medical or Mental Health services for HF tenants? Please highlight key areas. Q5b. Please highlight any key workarounds that have been implemented to improve access to health and/or other support services. | H11: Q6. Have there been any new posts/recruitments since the last return? What impact has this had on Housing First service delivery? | I11: Q7. What would you see as an emerging need in the context of social / health / housing? | J11: Q8. Please outline your current internal monitoring and evaluation process and outcomes | K11: Q9. Governance - Is there a regular meeting with the Housing First service provider? Please provide details. What is the current method of internal monitoring and evaluation of the Housing First service provider? | L11: Q10. Please outline the costings for this quarter, eg. staff, non-pay costs. Is this within budget lines for the remainder of the year? | M11: Q11. What positive outcomes have you recorded within Housing First tenancies this year 2025? Please give a case example. | N11: Q12. Is there anything else you would like to add that has not been covered by this report?
A12: DCC
A13: DLR
A14: SDCC
A15: Fingal
C17: Quarter 3 2025
C18: Q1. Overall, since January 2025, how many difficult Housing First cases have you had, and can you give a case example? | D18: Q2. What progress has been made in establishing pathways for HF tenants to access mainstream health services (e.g., GP services, mental health services, addiction services)? Has any of the below been progressed: Formal agreements with health services in place Referral pathways established Joint case management with health services Other (please specify): [_______________________] Describe an example of a successful referral or collaboration with a mainstream service: | E18: Q3. How have wraparound supports been developed to date for Housing First Tenants? Can you give a case example? | F18: Q4. Have any tenants disengaged from services since the last report? Yes No If Yes, please answer the following: How long did the disengagement last? [____ days] Were the HSE, Local Authority, and HFNO notified if disengagement lasted more than 7 days? Yes No What follow-up actions were taken to re-engage the tenant? | G18: Q5a. Have there been issues sourcing Clinical, Medical or Mental Health services for HF tenants? Please highlight key areas. Q5b. Please highlight any key workarounds that have been implemented to improve access to health and/or other support services. | H18: Q6. Have there been any new posts/recruitments since the last return? What impact has this had on Housing First service delivery? | I18: Q7. What would you see as an emerging need in the context of social / health / housing? | J18: Q8. Please outline your current internal monitoring and evaluation process and outcomes | K18: Q9. Governance - Is there a regular meeting with the Housing First service provider? Please provide details. What is the current method of internal monitoring and evaluation of the Housing First service provider? | L18: Q10. Please outline the costings for this quarter, eg. staff, non-pay costs. Is this within budget lines for the remainder of the year? | M18: Q11. What positive outcomes have you recorded within Housing First tenancies this year 2025? Please give a case example. | N18: Q12. Is there anything else you would like to add that has not been covered by this report?
A19: DCC
A20: DLR
A21: SDCC
A22: Fingal
C24: Quarter 4 2025
C25: Q1. Overall, since January 2025, how many difficult Housing First cases have you had, and can you give a case example? | D25: Q2. What progress has been made in establishing pathways for HF tenants to access mainstream health services (e.g., GP services, mental health services, addiction services)? Has any of the below been progressed: Formal agreements with health services in place Referral pathways established Joint case management with health services Other (please specify): [_______________________] Describe an example of a successful referral or collaboration with a mainstream service: | E25: Q3. How have wraparound supports been developed to date for Housing First Tenants? Can you give a case example? | F25: Q4. Have any tenants disengaged from services since the last report? Yes No If Yes, please answer the following: How long did the disengagement last? [____ days] Were the HSE, Local Authority, and HFNO notified if disengagement lasted more than 7 days? Yes No What follow-up actions were taken to re-engage the tenant? | G25: Q5a. Have there been issues sourcing Clinical, Medical or Mental Health services for HF tenants? Please highlight key areas. Q5b. Please highlight any key workarounds that have been implemented to improve access to health and/or other support services. | H25: Q6. Have there been any new posts/recruitments since the last return? What impact has this had on Housing First service delivery? | I25: Q7. What would you see as an emerging need in the context of social / health / housing? | J25: Q8. Please outline your current internal monitoring and evaluation process and outcomes | K25: Q9. Governance - Is there a regular meeting with the Housing First service provider? Please provide details. What is the current method of internal monitoring and evaluation of the Housing First service provider? | L25: Q10. Please outline the costings for this quarter, eg. staff, non-pay costs. Is this within budget lines for the remainder of the year? | M25: Q11. What positive outcomes have you recorded within Housing First tenancies this year 2025? Please give a case example. | N25: Q12. Is there anything else you would like to add that has not been covered by this report?
A26: DCC
A27: DLR
A28: SDCC
A29: Fingal
