Workbook
Name attached: [1]Applications!$B$64:$B$65
Name b1t: '[2]4.1 - Applicant details'!$A$1
Name b1t: '[3]4.1 - Applicant details'!$A$1
Name b1t: '4.1 - Applicant details'!$A$1
Name b3t: '[2]4.2 - JV Application'!$A$1
Name b3t: 'Company information'!#REF!
Name b3t: '[3]4.2 - JV Application'!$A$1
Name b3t: '4.2 - JV Application'!$A$1
Name b4t: '[2]4.3 - Resources of other entity'!$A$1
Name b4t: '[3]4.3 - Resources of other entity'!$A$1
Name b4t: '4.3 - Resources of other entity'!$A$1
Name bcp5p: '[2]5.5.5 - BC & DR'!$E$2
Name bcp5p: '[3]5.5.6 - BC & DR'!$E$2
Name bcp5p: '5.9 - BC & DR'!$E$2
Name bcp5t: '[2]5.5.5 - BC & DR'!$A$1
Name bcp5t: '[3]5.5.6 - BC & DR'!$A$1
Name bcp5t: '5.9 - BC & DR'!$A$1
Name COI: '[3]7 - Conflict of Interest'!$D$2
Name coi7p: '7 - Conflict of Interest '!$E$2
Name coi7p: #REF!
Name coi7t: '7 - Conflict of Interest '!$A$1
Name coi7t: '[3]7 - Conflict of Interest'!$A$1
Name coi7t: #REF!
Name completeness: [1]Applications!$B$60:$B$61
Name d1p: ' Lot Application'!$E$2
Name d1p: '[2]D1 - Turnover'!$E$2
Name d1p: 'D2 - Relevant Experience'!$E$2
Name d1p: 'D1 - Turnover'!$E$2
Name d1t: ' Lot Application'!$A$1
Name d1t: '[2]D1 - Turnover'!$A$1
Name d1t: 'D2 - Relevant Experience'!$A$1
Name d1t: 'D1 - Turnover'!$A$1
Name d2pr: #REF!
Name d2pr: #REF!
Name d2t: #REF!
Name d2t: #REF!
Name d3p: '[2]D3 - HSQE Min Req'!$C$2
Name d3p: '[3]D3 - HSQE Min Req'!$C$2
Name d3p: 'D3 - HSQE Min Req'!$C$2
Name d3t: '[2]D3 - HSQE Min Req'!$A$1
Name d3t: '[3]D3 - HSQE Min Req'!$A$1
Name d3t: 'D3 - HSQE Min Req'!$A$1
Name d4p: '[2]D4 - Min. requirements'!$C$2
Name d4p: '[3]D4 - Min. requirements'!$C$2
Name d4p: 'D3 - HSQE Min Req'!$C$2
Name d4p: 'D4 - Min. Requirements'!$C$2
Name d4t: '[2]D4 - Min. requirements'!$A$1
Name d4t: '[3]D4 - Min. requirements'!$A$1
Name d4t: 'D3 - HSQE Min Req'!$A$1
Name d4t: 'D4 - Min. Requirements'!$A$1
Name d5p: '[2]D5 - Min. requirements'!$C$2
Name d5p: '[3]D5 - Min. requirements'!$C$2
Name d5p: 'D6 - Min. Requirements'!$C$2
Name d5p: 'D5 - Min. Requirements'!$C$2
Name d5t: '[2]D5 - Min. requirements'!$A$1
Name d5t: '[3]D5 - Min. requirements'!$A$1
Name d5t: 'D6 - Min. Requirements'!$A$1
Name d5t: 'D5 - Min. Requirements'!$A$1
Name dp5p: '5.8 - DP'!$E$2
Name dp5p: '[2]5.5.4 - IS'!$E$2

Sheet Instructions
B1: Insructions for completing QSQ Excel Document
B2: General Notes 1. It is recommended that the Applicant downloads and saves a copy of this document locally before editing. 2. It is recommended that the Applicant periodically saves the document as the document is being completed. 3. Applicants must read the accompanying QSQ Document before completing the QSQ Excel document. 4. The Applicant should only make edits to the document where specifically directed within each tab. 5. The document shall be returned in its entirety within the provided QSQ Excel document. No element shall be extracted from this document and submitted separately.
B3: Applicants must not copy and paste values into any field. Each field must be populated individually using dropdown options where available.
A4: =IF(#REF!=0,#REF!,#REF!) -> #REF! | B4: The zoom for the document can be adjusted via the scrollbar in the very bottom right of the screen.
A5: =IF(#REF!=0,#REF!,#REF!) -> #REF! | B5: Each section is contained within a separate tab of the document. It is recommended that each section is completed in the order presented (from left to right)
B6: All sections contain a progress bar in the top right of the tab. Do not proceed to the next tab until the progress bar is at 100%.
B7: Cells in Yellow colour must be completed
A8: =IF(#REF!=0,#REF!,#REF!) -> #REF! | B8: Greyed out cells do not need to be completed.
B9: Some cells contain dropdown menus from which the Applicant's answer must be selected.
B10: This Excel Document should not be submitted until the overall completeness in the Overview tab is 100%

Sheet 4.1 - Applicant details
A1: Section 4.1 - Applicant/Principal Applicant Details | C1: Section Progress | W1: Minimum | X1: 10 | Y1: Total | Z1: Complete | AA1: %
C2: =IFERROR(S2,0) -> 0 | Q2: 11 | R2: =COUNTA(E8,E9,E10,E12,E15,E16,E17,E18,E19,E20:G21) -> 0 | S2: =R2/Q2 -> 0 | W2: JV | X2: 6 | Y2: 8 | Z2: =COUNTA(E8:G10,E12:G21) -> 0 | AA2: =Z2/Y2 -> 0
A3: Note: All questions must be answered accurately and concisely, in the format requested. All supporting information requested in this QSQ must be submitted as an attachment to the related question. Only the responses to the questions included in this QSQ and additional information specifically requested will be reviewed. We reserve the right not to review any unrequested information or material included in, attached to or submitted with your QSQ submission. The Minimum Requirements and Pass Fail Criteria are paraphrased in this excel document – the full details are set out in the QSQ word document. | W3: Other Entities 1 | X3: 4
A4: APPENDIX B1 APPLICANT/PRINCIPAL APPLICANT DETAILS | W4: Other Entities 2 | X4: 7
A5: The information requested below shall be provided by the Applicant (or the Principal Applicant only in the case of a Joint Venture Applicant). Responses to this section are for information purposes only and will not be scored.
A6: Section Number | B6: Question | C6: Response Information | D6: Score/Info | E6: Response | W6: Other Entities 3 | X6: 10
A7: 4.1 | B7: For Contractual Information
B8: Please specify VAT registered name of the Applicant , i.e. the proposed organisation that would enter into any Contract with the Contracting Entity. If the Applicant is registered in a non-EU country, the Applicant’s proper legal name can be provided here. | C8: VAT Registered Name of Applicant | D8: Information | W8: Other Entities 4 | X8: 13
B9: Please Provide VAT Registered Number of Applicant This can be left blank if the Applicant is registered in a non-EU country. | C9: VAT Registered Number of Applicant | D9: Information | W9: Other Entities 5 | X9: 16
B10: Please Provide VAT Registered Address of Applicant (For Contract Purposes) | C10: VAT Registered Address of Applicant | D10: Information
B11: Please verify your VAT Registered Name, Number and Address are correct by inserting a snippet/screenshot into the "Company Information" tab in this document using the following website: | D11: http://ec.europa.eu/taxation_customs/vies/
B12: Please Specify Your Company Number (CRO Number) | C12: Registered Number of Applicant at relevant registration office | D12: Information
B13: Confirmation of CRO Details : Confirm your CRO number, registered name & address by inserting a snippet/screenshot into the "Company Information" tab in this document using the following website: | D13: https://core.cro.ie/search
B14: For Tender Correspondence
B15: Please provide your single point of contact for all communications related to this procurement competition | C15: Address | D15: Information
C16: Applicant's Contact name | D16: Information
C17: Contact's position | D17: Information
C18: Phone number | D18: Information
C19: Tel. number | D19: Information
C20: E-mail address | D20: Information
C21: Alternative E-mail address | D21: Information

Sheet 4.2 - JV Application
A1: Section 4.2 - Joint Venture Application | C1: Section Progress
C2: =IFERROR(N2,0) -> 0 | L2: =IF(E7="No",1,7) -> 7 | M2: =IF(E7="Yes",COUNTA(E7,E8,E9,E10,E11,E12,E13),IF(E7="No",1,0)) -> 0 | N2: =M2/L2 -> 0 | W2: Total | X2: Complete | Y2: %
A3: Note: All questions must be answered accurately and concisely, in the format requested. All supporting information requested in this QSQ must be submitted as an attachment to the related question. Only the responses to the questions included in this QSQ and additional information specifically requested will be reviewed. We reserve the right not to review any unrequested information or material included in, attached to or submitted with your QSQ submission. The Minimum Requirements and Pass Fail Criteria are paraphrased in this excel document – the full details are set out in the QSQ word document. | W3: =IF(E7="No",1)+IF(E7="",1)+IF(E7="Yes",7) -> 1 | X3: =COUNTA(E7:G13) -> 0 | Y3: =X3/W3 -> 0
A4: SECTION 4.2 APPLICATION BY A JOINT VENTURE APPLICANT
A5: If an Applicant is a Joint Venture Applicant, the Applicant must provide the additional information set out in the table below. If it is intended that a joint venture will be incorporated but it has not yet been formed, please provide proposed details in table below.
A6: Section Number | B6: Question | C6: Response Information | D6: Score/Info | E6: Response
A7: 4.2 | B7: Is this Application a joint Venture (JV) / Consortium? | C7: Yes/No | D7: Information
B8: VAT Registered Name of Principal Applicant. If registered in a non-EU country, the proper legal name can be provided. | C8: VAT Registered Name of Principal Applicant | D8: Information
B9: Legal entities (VAT Registered Names) within the consortium or JV. If registered in a non-EU country, the proper legal name can be provided. | C9: All VAT Registered Names within the consortium or JV. | D9: Information
B10: VAT Registered Numbers of the legal entities within the consortium or JV. This can be left blank if the Applicant is registered in a non-EU country | C10: All VAT Registered Numbers within the consortium or JV. | D10: Information
B11: Relevant ownership / participation division (%) within the consortium or JV | C11: (%) split by area of responsibility (e.g. 33% traffic management / 33% safety consultant / 33% plant provider) | D11: Information
B12: Area of Responsibility –include relevant section number from the QSQ | C12: Areas of responsibility (e.g. Finance, traffic management etc.) | D12: Information
B13: Questions responded to by the entity | D13: Information
A14: Notes: (a) VAT Registered Name of the Principal Applicant as per Section 4.1 above, only one entity can be named. (b) The VAT Registered Names, Numbers and Addresses of all legal entities within the Joint Venture Applicant.
A15: Please verify your VAT Registered Name, Number and Address are correct using the following website: | D15: http://ec.europa.eu/taxation_customs/vies/
A16: (c) Relevant ownership/participation percentage split, for example this may be 50/50 or 33/33/33. (d) Details of which entity is putting forward the experience and capabilities in response to the questions. If an entity which does not form part of the consortium / JV is proposed as being fully / partly responsible the extent of the entity’s participation should be listed in Section 4.3. (e) Enter the questions that the entity responded. The entity that is relied upon in relation to a particular question is to provide the response to that question. If more than one response is provided, the responses will each be weighted equally when applying the marks.

Sheet 4.3 - Resources of other entity
A1: Section 4.3 - Resources of Other Entities | C1: Section Progress | W1: Total | X1: Complete | Y1: %
C2: =IFERROR(Z2,0) -> 0 | W2: =IF(E6="",1)+IF(E6="No",1)+IF(E6="Yes - 1 Organisation",6)+IF(E6="Yes - 2 Organisations",9)+IF(E6="Yes - 3 Organisations",12)+IF(E6="Yes - 4 Organisations",15)+IF(E6="Yes - 5 Organisations",18) -> 1 | X2: =COUNTA(E6,E7,E8,B10:G10,B11:G11,B12:G12,B13:G13,B14:G14) -> 0 | Y2: =X2/W2 -> 0 | Z2: =_xlfn.IFNA(Y2,0) -> 0
A3: Note: All questions must be answered accurately and concisely, in the format requested. All supporting information requested in this QSQ must be submitted as an attachment to the related question. Only the responses to the questions included in this QSQ and additional information specifically requested will be reviewed. We reserve the right not to review any unrequested information or material included in, attached to or submitted with your QSQ submission. The Minimum Requirements and Pass Fail Criteria are paraphrased in this excel document – the full details are set out in the QSQ word document.
A4: SECTION 4.3 RESOURCES OF OTHER ENTITIES
A5: Section Number | B5: Question | C5: Response Information | D5: Score/Info | E5: Response
A6: 4.3 | B6: Where the applicant is relying on the resources of another entity (who is not a member of the consortium /JV e.g., subcontractor, subsidiary, parent company, etc,. The Applicant shall provide in this QSQ Response: | C6: Yes/No | D6: Information
B7: (i) The information relevant to the area, section and question to which they are being relied upon; and | C7: Yes/No | D7: information
B8: (ii) Evidence from the entity proving that those resources will be avaiable to the Apllicant for the duartion of the Qualification System and (Unless the resources relate to financial standing/capacity) that the entity being relied upon will perform those elements of a contract for which the resources or capacities relied upon are required. That evidence could be in the form of the undertakings set out in Sections 4.3.1 and 4.3.2 (on a letter with the company letter head of the company being relied upon) as applicable. | C8: Yes/No | D8: Information
B9: Other Entity (VAT Registered Name) | C9: Area of Responsibility - include relevant section number | F9: Questions the Entity Responded

Sheet Company information
A1: Company information | B1: Section Progress
B2: =IFERROR(M2,0) -> 0 | K2: 2 | L2: =COUNTA(B5:D6) -> 0 | M2: =L2/K2 -> 0 | T2: Total | U2: Complete | V2: %
A3: Note: All questions must be answered accurately and concisely, in the format requested. All supporting information requested in this QSQ must be submitted as an attachment to the related question. Only the responses to the questions included in this QSQ and additional information specifically requested will be reviewed. We reserve the right not to review any unrequested information or material included in, attached to or submitted with your QSQ submission. The Minimum Requirements and Pass Fail Criteria are paraphrased in this excel document – the full details are set out in the QSQ word document. | T3: =IF(B5="No",1)+IF(B5="",1)+IF(B5="Yes",7) -> 1 | U3: =COUNTA(B5:D6) -> 0 | V3: =U3/T3 -> 0
A4: Question | B4: Response
A5: Confirm your CRO number, registered name & address by inserting snippet/screenshot from https://core.cro.ie/search
A6: Please verify your VAT Registered Name and Number are correct by inserting a snippet/screenshot from the following website: http://ec.europa.eu/taxation_customs/vies/ This can be left blank if the Applicant is registered in a non-EU country.

Sheet  Lot Application
A1: Lot Application | E1: Section Progress | W1: Total | X1: Complete | Y1: %
E2: =IFERROR(Y2,0) -> 0 | W2: 2 | X2: =COUNTA(B7:G8) -> 0 | Y2: =X2/W2 -> 0
A3: Note: All questions must be answered accurately and concisely, in the format requested. All supporting information requested in this QSQ must be submitted as an attachment to the related question. Only the responses to the questions included in this QSQ and additional information specifically requested will be reviewed. We reserve the right not to review any unrequested information or material included in, attached to or submitted with your QSQ submission. The Minimum Requirements and Pass Fail Criteria are paraphrased in this excel document – the full details are set out in the QSQ word document.
A4: Question
A5: Please indicate through answering Yes/No below which roles you intend to carry out for the Lots Applied for. Refer to Section A4 of the particulars as outlined in the QSQ Memorandum for details on each Lot and associated sub lots. Note you may apply for as many Lots & Sub Lots as required. Your competency and capability to deliver each Lot & Sub Lot will be assessed at the tender stage should you Successfully Pre-Qualify.
A6: Lot | B6: Please indicate Below to be considered for this role.
A7: Lot 1 - Repairs to Mechanical & Electrical Assets
A8: Lot 2 - Repairs to Instrumentation, Control, and Automation Assets

Sheet D1 - Turnover
A1: Section D1 - Turnover | E1: Section Progress | X1: Total | Y1: Complete | Z1: %
E2: =IFERROR(Z2,0) -> 0 | X2: 1 | Y2: =COUNTA(E5) -> 0 | Z2: =Y2/X2 -> 0
A3: Note: All questions must be answered accurately and concisely, in the format requested. All supporting information requested in this QSQ must be submitted as an attachment to the related question. Only the responses to the questions included in this QSQ and additional information specifically requested will be reviewed. We reserve the right not to review any unrequested information or material included in, attached to or submitted with your QSQ submission. The Minimum Requirements and Pass Fail Criteria are paraphrased in this excel document – the full details are set out in the QSQ word document.
A4: Section Number | B4: Question | C4: Response Information | D4: Score/Info | E4: Response
A5: D1 | B5: Have you provided copies of your organisations financial statements demonstrating sufficient turnover as outlined? | C5: The Minimum Requirement is that the Applicant must demonstrate an average annual turnover, in the last 2 years or pro-rata for a company established within the last 2 years of at least: | D5: Minimum Requirement
C6: 300000

Sheet D2 - Relevant Experience
A1: Section D2 - Relevant Experience | E1: Section Progress
E2: =IFERROR(Y3,0) -> 0
A3: Note: All questions must be answered accurately and concisely, in the format requested. All supporting information requested in this QSQ must be submitted as an attachment to the related question. Only the responses to the questions included in this QSQ and additional information specifically requested will be reviewed. We reserve the right not to review any unrequested information or material included in, attached to or submitted with your QSQ submission. The Minimum Requirements and Pass Fail Criteria are paraphrased in this excel document – the full details are set out in the QSQ word document. | W3: =SUM(AD6:AD7) -> 0 | X3: =SUM(AE6:AE7) -> 0 | Y3: =X3/W3 -> #DIV/0!
A4: Section Number | B4: Question | C4: Response Information | D4: Score/Info | E4: Response
E5: Reference Project 1 | F5: Reference Project 2
A6: D2 | B6: Lot 1 - Repair to Mechanical & Electrical Assets Please provide at least two contract[s] undertaken in the last three years immediately preceding the date of application that are similar in nature, scale and complexity and carried out in a similarly demanding environment to the Qualification System the scope of Lot 1, which is outlined at Item A4 of the Particulars if applied for this lot | C6: Information | D6: Minimum Requirement | V6: {=' Lot Application'!B7:G7} -> 0 | W6: 0 | X6: 0 | Y6: 0 | Z6: 0 | AA6: 0 | AC6: =V6 -> 0 | AD6: =IF(AC6="Yes",2,0) -> 0 | AE6: =IF(AC6="Yes",COUNTA(E6:F6),0) -> 0
B7: Lot 2 - Repair to Instrumentation, Control, and Automation Assets Please provide at least two contract[s] undertaken in the last three years immediately preceding the date of application that are similar in nature, scale and complexity and carried out in a similarly demanding environment to the Qualification System the scope of Lot 2, which is outlined at Item A4 of the Particulars if applied for this lot. | C7: Information | V7: {=' Lot Application'!B8:G8} -> 0 | W7: 0 | X7: 0 | Y7: 0 | Z7: 0 | AA7: 0 | AC7: =V7 -> 0 | AD7: =IF(AC7="Yes",2,0) -> 0 | AE7: =IF(AC7="Yes",COUNTA(E7:F7),0) -> 0

Sheet D3 - HSQE Min Req
A1: Section D3 - Health Safety & Quality | C1: Section Progress
C2: =IFERROR(W3,0) -> 0 | U2: Total | V2: Complete | W2: %
A3: Note: All questions must be answered accurately and concisely, in the format requested. All supporting information requested in this QSQ must be submitted as an attachment to the related question. Only the responses to the questions included in this QSQ and additional information specifically requested will be reviewed. We reserve the right not to review any unrequested information or material included in, attached to or submitted with your QSQ submission. The Minimum Requirements and Pass Fail Criteria are paraphrased in this excel document – the full details are set out in the QSQ word document. | U3: 35 | V3: =COUNTA(E7,E11:E14,E17:J21) -> 0 | W3: =V3/U3 -> 0
A4: Section Number | B4: Question | C4: Response Information | D4: Score/Info | E4: Response
A7: (A) | B7: Safety Statement, Health and Safety Policy or equivalent The Applicant shall supply a copy of their Safety Statement as required under the Safety, Health and Welfare at Work Act 2005 or equivalent document/manual (if registered outside of Ireland). At a minimum, this must include health and safety policy, management structure, responsibilities/resources, health and safety training requirements, accident and emergency procedures, and the relevant risk assessments to ensure the safety, health and welfare of their employees. | C7: Yes/No | D7: Minimum Requirement
E10: Number | F10: Details
A11: (B) | B11: Enforcement Actions The Applicant shall provide, for itself and each member (joint venture / consortium) of the Applicant, details of the number of enforcement actions or prosecutions by the HSA, the HSE or local authorities (in the UK) or other equivalent safety regulator in the last 5 years (up to the date 7 calendar days before the date of application in response to this QSQ). If there are none, enter ‘0’ in the No. column in table below. Where an Applicant has had an Enforcement Action or Prosecution in the last 5 years, please outline the effective and enduring corrective and preventative measures that have been put in place to prevent reoccurrence. | C11: Prosecutions | D11: Minimum Requirement
C12: Prohibition Notices/orders | D12: Minimum Requirement
C13: Improvement Notices | D13: Minimum Requirement
C14: Improvement Plans | D14: Minimum Requirement
E16: 2019 | F16: 2020 | G16: 2021 | H16: 2022 | I16: 2023 | J16: 2024 | K16: Total
A17: (C) | B17: HSA Accident/Incident Performance The Applicant shall provide details in the table below of its’ accident / incident performance (including joint ventures and subcontractors working on your behalf) for each of the last 5 years (up to the date 7 calendar days before the date of application in response to this QSQ). Insert 0 if no incidents recorded or NA if data is unavailable. If data is unavailable the Applicant should provide an explanation in the Applicant’s Response box Where an Applicant has had a fatality, please outline the effective and enduring corrective and preventative measures that have been put in place to prevent reoccurrence. | C17: Man-hours Worked | D17: Minimum Requirement | K17: =SUM(E17:J17) -> 0
C18: Fatalities | D18: Minimum Requirement | K18: =SUM(E18:J18) -> 0
C19: Reportable (>3 day) Accidents | D19: Minimum Requirement | K19: =SUM(E19:J19) -> 0
C20: Lost Time (≤3 day) Accidents | D20: Minimum Requirement | K20: =SUM(E20:J20) -> 0
C21: Reportable Dangerous Occurrences (HSA/HSE) | D21: Minimum Requirement | K21: =SUM(E21:J21) -> 0

Sheet D4 - Min. Requirements
A1: Section D4 - Minimum Requirements | C1: Section Progress
C2: =IFERROR(N2,0) -> 0 | L2: =IF(E6="NA",2,4) -> 4 | M2: =IF(E6="Yes",COUNTA(E6,E7,E8,E9),IF(E6="NA",COUNTA(E6,E9),0)) -> 0 | N2: =M2/L2 -> 0 | W2: Total | X2: Complete | Y2: %
A3: Note: All questions must be answered accurately and concisely, in the format requested. All supporting information requested in this QSQ must be submitted as an attachment to the related question. Only the responses to the questions included in this QSQ and additional information specifically requested will be reviewed. We reserve the right not to review any unrequested information or material included in, attached to or submitted with your QSQ submission. The Minimum Requirements and Pass Fail Criteria are paraphrased in this excel document – the full details are set out in the QSQ word document. | W3: =IF(#REF!="No",1)+IF(#REF!="",1)+IF(#REF!="Yes",7) -> #REF! | X3: =COUNTA(E5:G9) -> 0 | Y3: =X3/W3 -> #REF!
A4: Section Number | B4: Question | C4: Response Information | D4: Score/Info | E4: Response
A5: Compliance with requirements of the Modern Slavery Act 2015 or equivalent legislation Commercial organisations that carry on a business or part of a business in the UK, supply goods or services and have an annual turnover of £36 million or more (“relevant commercial organisations”) are required under section 54 of the UK’s Modern Slavery Act to prepare a slavery and human trafficking statement as defined by section 54 of the Act, The Minimum Requirement is either: (1) that the Applicant states “N/A” to all questions (because it is not a “relevant commercial organisation” as defined above and the country in which it is incorporated does not have equivalent legislation to the Act) or, (2) where the Applicant states “Yes” to question (A), it provides sufficient evidence that it is compliant with the annual reporting requirements contained in section 54 of the Modern Slavery Act or (3) the Applicant responds “Yes” to question (C).
A6: (A) | B6: Is the Applicant a relevant commercial organisation as defined by section 54 ("Transparency in supply chains etc.") of the Modern Slavery Act 2015 ("the Act")? | C6: Yes/NA | D6: Minimum Requiment
A7: (B) | B7: If “Yes”, is the Applicant compliant with the annual reporting requirements contained within section 54 of the Act? Where the Applicant fails to provide sufficient evidence of compliance with the annual reporting requirements contained within section 54 of the Act (where applicable), this may result in the Applicant being eliminated without further consideration of its QSQ Response. | C7: Yes/No | D7: Minimum Requiment
B8: If "Yes", please provide the relevant URL. If "No" , Please provide an explantion. | C8: Information | D8: Minimum Requiment
A9: (C) | B9: If the country in which the Applicant is incorporated has equivalent legislation to the Act, is the Applicant compliant with the requirements of that Act? | C9: Yes/No/NA | D9: Minimum Requiment

Sheet D5 - Min. Requirements
A1: Section D5 - Minimum Requirements | C1: Section Progress
C2: =IFERROR(N2,0) -> 0 | L2: =IF(E6="Yes",2,1) -> 1 | M2: =IF(E6="Yes",COUNTA(E6,E7),COUNTA(E6)) -> 0 | N2: =M2/L2 -> 0 | W2: Total | X2: Complete | Y2: %
A3: Note: All questions must be answered accurately and concisely, in the format requested. All supporting information requested in this QSQ must be submitted as an attachment to the related question. Only the responses to the questions included in this QSQ and additional information specifically requested will be reviewed. We reserve the right not to review any unrequested information or material included in, attached to or submitted with your QSQ submission. The Minimum Requirements and Pass Fail Criteria are paraphrased in this excel document – the full details are set out in the QSQ word document. | W3: =IF(#REF!="No",1)+IF(#REF!="",1)+IF(#REF!="Yes",7) -> #REF! | X3: =COUNTA(#REF!) -> 1 | Y3: =X3/W3 -> #REF!
A4: Section Number | B4: Question | C4: Response Information | D4: Score/Info | E4: Response
A5: Employee Related Matters The Minimum Requirement is either that the Applicant states “None” in response to the question below or, where it states “Yes”, it provides sufficient evidence that appropriate action has been taken as a result of any unlawful discrimination or findings by the Workplace Relations Commission, the Equality Commission in Northern Ireland, the Equality and Human Rights Commission (Scotland) or any comparable body in any other jurisdiction.
B6: In the last three years immediately preceding the date of application, has any finding of unlawful discrimination been made against the Applicant (or any parent company) by any court, employment tribunal, employment appeal tribunal or any comparable body in any other jurisdictions? And/or has the Applicant (or any parent company) been the subject of formal investigations by the Workplace Relations Commission, the Equality Commission of Northern Ireland or the Equality and Human Rights Commission (Scotland) or any comparable body in any other jurisdiction on grounds of alleged unlawful discrimination? If “Yes”, give details, including any corrective steps taken as a consequence of the findings. If “No”, please select “None”. Where the Applicant fails to provide sufficient evidence that appropriate action had been taken this may result in the Applicant being eliminated without further consideration of its QSQ Response. | C6: Yes/None | D6: Minimum Requiment
B7: Please provide details of the above | C7: Information | D7: Minimum Requiment

Sheet D6 - Min. Requirements
A1: Section D6 - Minimum Requirements | C1: Section Progress
C2: =IFERROR(Y3,0) -> 0 | L2: =IF(#REF!="Yes",3,2) -> #REF! | M2: =IF(#REF!="Yes",COUNTA(#REF!,#REF!,E6),COUNTA(#REF!,E6)) -> #REF! | N2: =M2/L2 -> #REF! | W2: Total | X2: Complete | Y2: %
A3: Note: All questions must be answered accurately and concisely, in the format requested. All supporting information requested in this QSQ must be submitted as an attachment to the related question. Only the responses to the questions included in this QSQ and additional information specifically requested will be reviewed. We reserve the right not to review any unrequested information or material included in, attached to or submitted with your QSQ submission. The Minimum Requirements and Pass Fail Criteria are paraphrased in this excel document – the full details are set out in the QSQ word document. | W3: 1 | X3: =COUNTA(E6) -> 0 | Y3: =X3/W3 -> 0
A4: Section Number | B4: Question | C4: Response Information | D4: Score/Info | E4: Response
A5: Compliance with requirements of the COUNCIL REGULATION (EU) 2022/576 of 8 April 2022 amending Regulation (EU) No 833/2014 concerning restrictive measures in view of Russia’s actions destabilising the situation in Ukraine 1. Subject to the provisions of Article 5k.1 of the Council Regulation (EU) 2022/576 of 8 April 2022 amending Regulation (EU) No 833/2014 (in this Section 6.4, the Council Regulation), the Contracting Entity shall be prohibited from awarding a contract: a. A Russian national, or a natural or legal person, entity or body established in Russia; b. A legal person, entity or body whose proprietary rights are directly or indirectly owned for more than 50 % by an entity referred to in point (a); or c. a natural or legal person, entity or body acting on behalf or at the direction of an entity referred to in point (a) or (b), including, where they account for more than 10 % of the contract value, subcontractors, suppliers or entities whose capacities are being relied on within the meaning of the public procurement directives. 2. If any of the conditions set out in Article 5k.1 of the Council Regulation apply, the Tenderer shall be excluded from the competition, unless specific grounds for derogation exist in accordance with Article 5k.2 of the Council Regulation.
A6: a | B6: Do you or, if applicable, a subcontractor, supplier or entity whose capacities are being relied on, fall under one of the definitions under Section 5k.1 of the Council Regulation (please refer to scenario (a), (b), (c) listed under Section 6.4 (A))? | C6: Yes/No | D6: Minimum Requiment

Sheet 5.3 - Experience
A1: Section 5.3 - Experience | E1: Section Progress
E2: =IFERROR(AZ3,0) -> 0 | AW2: TOTAL | AX2: Complete %
A3: Note: All questions must be answered accurately and concisely, in the format requested. All supporting information requested in this QSQ must be submitted as an attachment to the related question. Only the responses to the questions included in this QSQ and additional information specifically requested will be reviewed. We reserve the right not to review any unrequested information or material included in, attached to or submitted with your QSQ submission. The Minimum Requirements and Pass Fail Criteria s are paraphrased in this excel document – the full details are set out in the QSQ word document. | AW3: =SUM(AY7:AY9) -> 0 | AX3: =SUM(AZ7:AZ9) -> 0 | AZ3: =AX3/AW3 -> #DIV/0!
A4: Section Number | B4: Question | C4: Response Information | D4: Score/Info | E4: Response
A5: Section 5.3 Experience
E6: Lot 1 - Repairs to Mechanical & Electrical Assets
A7: 5.3.1 | B7: With reference to the Projects proposed by the Applicant to meet the Minimum Requirements in Section D2, the Applicant shall demonstrate their Capabilities in relation to the following: Experience of Design and Delivery (Total 300 Marks with a minimum of 50% Pass Mark) | C7: (a) Management of design and delivery in relation to: (i) Achievement of the key contract milestones(50 Marks) (ii) Programme Constraints, risk mitigation measures (30 Marks) and (iii) Appropriate scheduling of Key resources (30 Marks) | D7: Scored (110 Marks) | AQ7: {=' Lot Application'!B7:G7} -> 0 | AR7: 0 | AS7: 0 | AT7: 0 | AU7: 0 | AV7: 0 | AX7: =AQ7 -> 0 | AY7: =IF(AX7="Yes", 3,0) -> 0 | AZ7: =IF(AX7="Yes", COUNTA(E7:H9),0) -> 0
C8: (b) Management of design and delivery with maintenance, end-user and future modification considerations (120 Marks) | D8: Scored (120 Marks) | AQ8: {=' Lot Application'!B8:G8} -> 0 | AR8: 0 | AS8: 0 | AT8: 0 | AU8: 0 | AV8: 0 | AX8: =AQ8 -> 0 | AY8: =IF(AX8="Yes", 3,0) -> 0 | AZ8: =IF(AX8="Yes", COUNTA(E11:H13),0) -> 0
C9: (c) Management of design for safety and design changes during the course of the contract (70 Marks) | D9: Scored (70 Marks)
E10: Lot 2 - Repairs to Instrumentation, Control, and Automation Assets
A11: 5.3.2 | B11: With reference to the Projects proposed by the Applicant to meet the Minimum Requirements in Section D2, the Applicant shall demonstrate their Capabilities in relation to the following: Experience of Design and Delivery (Total 300 Marks with a minimum of 50% Pass Mark) | C11: (a) Management of design and delivery in relation to: (i) Achievement of the key contract milestones(50 Marks) (ii) Programme Constraints, risk mitigation measures (30 Marks) and (iii) Appropriate scheduling of Key resources (30 Marks) | D11: Scored (110 Marks)
C12: (b) Management of design and delivery with maintenance, end-user and future modification considerations (120 Marks) | D12: Scored (120 Marks)
C13: (c) Management of design for safety and design changes during the course of the contract (70 Marks) | D13: Scored (70 Marks)

Sheet 5.4.1 - H&S - Contractor
A1: Section 5.4.1 - Health & Safety - Contractor | E1: Section Progress
E2: =IFERROR(Z2,0) -> 0 | X2: =COUNTA(E6:H10) -> 0 | Y2: 5 | Z2: =X2/Y2 -> 0
A3: Note: All questions must be answered accurately and concisely, in the format requested. All supporting information requested in this QSQ must be submitted as an attachment to the related question. Only the responses to the questions included in this QSQ and additional information specifically requested will be reviewed. We reserve the right not to review any unrequested information or material included in, attached to or submitted with your QSQ submission. The Minimum Requirements and Pass Fail Criteria are paraphrased in this excel document – the full details are set out in the QSQ word document.
A4: To be completed by all lots. Total 160 Marks - 50% Pass Mark Required
A5: Section Number | B5: Question | C5: Response Information | D5: Score/Info | E5: Response
A6: 5.4.1.1 | B6: The Applicant shall provide evidence of a third party accredited Safety Management System e.g. Safe-T-Cert, OHSAS 18001/ISO45001 etc. If it not certified the applicant must provide information on how they implement a Health and Safety Management System. Maximum number of A4 pages: 3 | C6: Information | D6: Scored (24 marks)
A7: 5.4.1.2 | B7: The Applicant shall provide evidence of the company’s process for assessing the competency of : (i) Staff and, (ii) Sub-contractor and (iii) Designers (including Supplier Designers e.g. manhole covers, pre cast chambers etc) Maximum number of A4 pages: 3 | C7: Information | D7: Scored (36 marks)
A8: 5.4.1.3 | B8: The Applicant shall provide its procedure for auditing and inspection of Health & Safety performance including its process for ensuring effective close out of items raised. Maximum number of A4 pages: 3 | C8: Information | D8: Scored (30 marks)
A9: 5.4.1.4 | B9: The Applicant shall provide evidence of how health and safety information e.g. Inductions, Safe Work Procedures (Method Statements, Permits, Safe Plan of Action etc.), is effectively communicated to those carrying out work on site. Maximum number of A4 pages: 3 | C9: Information | D9: Scored (30 marks)
A10: 5.4.1.5 | B10: The Applicant shall provide its process for developing risk assessments and method statement that are specific to the activity and environment. This shall also include process on change control (e.g. a hold point put in place where an unexpected circumstance has been encountered) Maximum number of A4 pages: 3 | C10: Information | D10: Scored (40 marks)

Sheet 5.4.2 - H&S - PSCS
A1: Section 5.4.2 - Health & Safety - Project Supervisor Construction Stage | E1: Section Progress
E2: =IFERROR(Y2,0) -> 0 | W2: 5 | X2: =COUNTA(E7:G9) -> 0 | Y2: =X2/W2 -> 0
A3: Note: All questions must be answered accurately and concisely, in the format requested. All supporting information requested in this QSQ must be submitted as an attachment to the related question. Only the responses to the questions included in this QSQ and additional information specifically requested will be reviewed. We reserve the right not to review any unrequested information or material included in, attached to or submitted with your QSQ submission. The Minimum Requirements and Pass Fail Criteria are paraphrased in this excel document – the full details are set out in the QSQ word document.
A4: To be completed by the entity applying for the role of Project Supervisor Construction Stage (90 Marks Total with a 50% Pass Mark Required)
A5: Section Number | B5: Question | C5: Response Information | D5: Score/Info | E5: Response
E6: Project 1 | F6: Project 2 | G6: Project 3
A7: 5.4.2.1 | B7: Using Appendix 3 the entity applying to the role of Project Supervisor Construction Stage shall provide details of 3 previous projects the entity was appointed as Project Supervisor Construction Stage. The scope of the project should align to the scope of the lot being applied for. | C7: Information | D7: Scored (20 marks)
A8: 5.4.2.1.a | B8: With reference to one of the projects proposed the Applicant shall provide details of how they supervised, managed and coordinated the implementation of safe working procedures. Maximum number of A4 pages: 4 | C8: Information | D8: Scored (40 marks)
A9: 5.4.2.1.b | B9: With reference to one of the projects proposed the Applicant shall provide an example of a previous (Construction Stage) Safety and Health Plan (as required under Regulation 16 of the Safety Health and Welfare at Work (Construction) Regulations (Safety and Health Plans from other EU jurisdictions that are equivalent are acceptable) | C9: Information | D9: Scored (30 marks)

Sheet 5.4.3 - H&S - Designer
A1: Section 5.4.3 - Health & Safety - Designer | E1: Section Progress
E2: =IFERROR(Y2,0) -> 0 | W2: 4 | X2: =COUNTA(E7:G8) -> 0 | Y2: =X2/W2 -> 0
A3: Note: All questions must be answered accurately and concisely, in the format requested. All supporting information requested in this QSQ must be submitted as an attachment to the related question. Only the responses to the questions included in this QSQ and additional information specifically requested will be reviewed. We reserve the right not to review any unrequested information or material included in, attached to or submitted with your QSQ submission. The Minimum Requirements and Pass Fail Criteria are paraphrased in this excel document – the full details are set out in the QSQ word document.
A4: To be completed by the entity applying for the role of Designer (60 Marks Total with a 60% Pass Mark Required)
A5: Section Number | B5: Question | C5: Response Information | D5: Score/Info | E5: Response
E6: Project 1 | F6: Project 2 | G6: Project 3
A7: 5.4.3.1 | B7: Using Appendix 3 the entity applying to the role of Designer shall provide details of 3 previous projects the entity was appointed as Designer. The scope of the project should align to the scope of the lot being applied for. | C7: Information | D7: Scored (20 marks)
A8: 5.4.3.1.a | B8: With reference to one of the projects proposed the Applicant shall provide the process that they applied to take account of the General Principles of Prevention, existing safety files and existing health and safety plans to ensure that their designs are safe to construct, maintain, operate and eventually de construct. The General Principles of Prevention are detailed in Schedule 3 of the Safety, Health and Welfare at Work Act 2005. Blank forms/templates will not be accepted as evidence. Maximum number of A4 pages: 4 | C8: Information | D8: Scored (40 marks)

Sheet 5.4.4 - H&S - PSDP
A1: Section 5.4.4 - Health & Safety - Project Supervisor Design Process | E1: Section Progress
E2: =IFERROR(Y2,0) -> 0 | W2: 5 | X2: =COUNTA(E7:G9) -> 0 | Y2: =X2/W2 -> 0
A3: Note: All questions must be answered accurately and concisely, in the format requested. All supporting information requested in this QSQ must be submitted as an attachment to the related question. Only the responses to the questions included in this QSQ and additional information specifically requested will be reviewed. We reserve the right not to review any unrequested information or material included in, attached to or submitted with your QSQ submission. The Minimum Requirements and Pass Fail Criteria are paraphrased in this excel document – the full details are set out in the QSQ word document.
A4: To be completed by the entity applying for the role of Project Supervisor Design Process (90 Marks Total per Lot with a 60% Pass Mark Required)
A5: Section Number | B5: Question | C5: Response Information | D5: Score/Info | E5: Response
E6: Project 1 | F6: Project 2 | G6: Project 3
A7: 5.4.4.1 | B7: Using Appendix 3 the entity applying to the role of Project Supervisor Design Process shall provide details of 3 previous projects the entity was appointed as Project Supervisor Design Process. The scope of the project should align to the scope of the framework. | C7: Information | D7: Scored (20 marks)
A8: 5.4.4.1.a | B8: With reference to one of the projects proposed the Applicant shall provide (a) Details of how they ensured effective coordination of designers (including temporary works designers) during design and construction stage. (20 Marks) (b) Details of how the general principles of prevention were taken into account when deciding on technical and organisational aspects , when planning stages of work which took place simultaneously (20 marks) Maximum number of A4 pages: 4 | C8: Information | D8: Scored (40 marks)
A9: 5.4.4.1.b | B9: With reference to one of the projects proposed the Applicant shall provide an example of a previous (Preliminary) Safety and Health Plan (as required under Regulation 12 of the Safety Health and Welfare at Work (Construction) Regulations (Safety and Health Plans from other EU jurisdictions that are equivalent are acceptable). | C9: Information | D9: Scored (30 marks)

Sheet 5.5 - Quality Assurance
A1: Section 5.5 - Quality Assurance | E1: Section Progress | X1: Total | Y1: Complete | Z1: %
E2: =Z2 -> 0 | X2: 1 | Y2: =COUNTA(E5:H5) -> 0 | Z2: =Y2/X2 -> 0
A3: Note: All questions must be answered accurately and concisely, in the format requested. All supporting information requested in this QSQ must be submitted as an attachment to the related question. Only the responses to the questions included in this QSQ and additional information specifically requested will be reviewed. We reserve the right not to review any unrequested information or material included in, attached to or submitted with your QSQ submission. The Minimum Requirements and Pass Fail Criteria are paraphrased in this excel document – the full details are set out in the QSQ word document.
A4: Section Number | B4: Question | C4: Response Information | D4: Score/Info | E4: Response
A5: 5.5.1 | B5: The applicant should describe the quality assurance system(s), processes and/or procedures they have in place by providing a brief description of each. Maximum number of A4 pages- 2 | C5: Information | D5: Scored (50 marks)

Sheet 5.6 - Sustainability
A1: Section 5.6 - Sustainability | E1: Section Progress | R1: Total | S1: Complete | T1: %
E2: =IFERROR(T2,0) -> 0 | R2: 2 | S2: =COUNTA(E5:H6) -> 0 | T2: =S2/R2 -> 0
A3: Note: All questions must be answered accurately and concisely, in the format requested. All supporting information requested in this QSQ must be submitted as an attachment to the related question. Only the responses to the questions included in this QSQ and additional information specifically requested will be reviewed. We reserve the right not to review any unrequested information or material included in, attached to or submitted with your QSQ submission. The Minimum Requirements and Pass Fail Criteria are paraphrased in this excel document – the full details are set out in the QSQ word document.
A4: Section Number | B4: Question | C4: Response Information | D4: Score/Info | E4: Response
A5: 5.6.1 | B5: Describe what Policies or procedures you have in your organisation to promote sustainability and environmental issues, including water conservation and carbon reduction and waste management. Maximum number of A4 pages: 2 Pages | C5: Information | D5: Scored (50 marks)
A6: 5.6.2 | B6: Describe what Policies or procedures you have in your organisation to promote fair labour practices, including diversity and inclusion and health and wellbeing? Maximum number of A4 pages: 2 Pages | C6: Information | D6: Scored (50 marks)

Sheet 5.7 - IS
A1: Section 5.7 - Information Security | E1: Section Progress
E2: =IFERROR(Z2,0) -> 0 | X2: 3 | Y2: =COUNTA(E7:H9) -> 0 | Z2: =Y2/X2 -> 0
A3: Note: All questions must be answered accurately and concisely, in the format requested. All supporting information requested in this QSQ must be submitted as an attachment to the related question. Only the responses to the questions included in this QSQ and additional information specifically requested will be reviewed. We reserve the right not to review any unrequested information or material included in, attached to or submitted with your QSQ submission. The Minimum Requirements and Pass Fail Criteria are paraphrased in this excel document – the full details are set out in the QSQ word document.
A4: Section Number | B4: Question | C4: Response Information | D4: Score/Info | E4: Response
A5: The Tenderer is to respond to the following questions, maximum of ½ A4 page per question. Where pages provided on these questions exceeds ½ page per question, additional pages will not be considered.
A7: 5.7.1 | B7: Does your organisation have an Information Security management program supporting your organisations approach to managing Information Security? (Yes/No) If yes, please provide supporting evidence of appropriate Information Security policies, standards and controls in place and if certified to ISO 27001 or other cybersecurity organisational standards | C7: Information | D7: Scored (20 marks)
A8: 5.7.2 | B8: Does your organisation require employees and contractors to complete an information security awareness programme, at least annually? (Yes/No) (a) If yes, please provide summary evidence of the content of training provided and if a knowledge quiz is included | C8: Information | D8: Scored (15 marks)
A9: 5.7.3 | B9: Does your organisation operate formal processes for responding to security incidents? (Yes/No) (a) If yes, please provide supporting evidence of processes and policies in place. | C9: Information | D9: Scored (15 marks)

Sheet 5.8 - DP
A1: Section 5.8 - Data Protection | E1: Section Progress
E2: =COUNTA(E7,E8,E9)/COUNTA(B7,B8,B9) -> 0
A3: Note: All questions must be answered accurately and concisely, in the format requested. All supporting information requested in this QSQ must be submitted as an attachment to the related question. Only the responses to the questions included in this QSQ and additional information specifically requested will be reviewed. We reserve the right not to review any unrequested information or material included in, attached to or submitted with your QSQ submission. The Minimum Requirements and Pass Fail Criteria are paraphrased in this excel document – the full details are set out in the QSQ word document.
A4: Section Number | B4: Question | C4: Response Information | D4: Score/Info | E4: Response
A5: Please note that providing a bank of policies or procedures will not be deemed to sufficiently answer these questions. We require explanation from the tendering organisation as to how they will tailor their operations to comply with the GDPR requirements and to meet the GDPR obligations of Uisce Éireann. Embedded links will also not be reviewed.
A7: 5.8.1 | B7: GDPR Compliance Please provide details of the organisational and technical data protection controls in place within your organisation, and with your third party providers, to protect Uisce Éireann data, and which meet the standards compatible with EU General Data Protection Regulation 2016/679 and Irish Data Protection Act 2018. (Please note provision of a policy alone will not be a sufficient response to this question) | C7: Information | D7: Scored (20 marks)
A8: 5.8.2 | B8: Cross-Border Data Transfers Will all Uisce Éireann data held by your organisation or by any third parties who may be hosting the Contracting Entity data on your behalf, geographically be hosted within the EEA? If YES please provide details. If NO: What legal basis do you rely on (e.g. Standard Contractual Clauses, Binding Corporate Rules, EC Adequacy Decisions, etc.) to enable your organisation to transfer the Uisce Éireann data outside the EEA? | C8: Information | D8: Scored (15 marks)
A9: 5.8.3 | B9: Data Protection Authority Has your organisation or any subsidiaries or sub-contractors (whilst carrying out work on behalf of YOUR organisation), been fined, penalised or subjected to an enforcement by a Data Protection Authority in the last 3 years? If yes, please provide details, including remediating actions. Please note that this is a mandatory question and failure to fully answer will result in an overall Zero score applying to this section. | C9: Information | D9: Scored (15 marks)

Sheet 5.9 - BC & DR
A1: Section 5.9 - Business Continuity & Disaster Recovery | E1: Section Progress | X1: Total | Y1: Complete | Z1: %
E2: =COUNTA(E5:H5)/1 -> 0 | X2: 1 | Y2: =COUNTA(#REF!) -> 1 | Z2: =Y2/X2 -> 1
A3: Note: All questions must be answered accurately and concisely, in the format requested. All supporting information requested in this QSQ must be submitted as an attachment to the related question. Only the responses to the questions included in this QSQ and additional information specifically requested will be reviewed. We reserve the right not to review any unrequested information or material included in, attached to or submitted with your QSQ submission. The Minimum Requirements and Pass Fail Criteria are paraphrased in this excel document – the full details are set out in the QSQ word document.
A4: Section Number | B4: Question | C4: Response Information | D4: Score/Info | E4: Response
A5: 5.9.1 | B5: The Applicant shall provide a copy of their Business Continuity Plan or Policy table of contents to Uisce Éireann to demonstrate effective formal Business Continuity arrangements are in place to ensure continuity of service should the plan or policy need to be invoked in the event of disruptions or disasters. Note: if the Applicant does not have a formal Business Continuity Plan or Policy in place, the Applicant should provide a description of the processes and/ or procedures they have in place that would ensure continuity of critical services in the event of disruptions or disasters (i.e. risk assessments and mitigation strategies, structures that would be put in place to manage disruptions and business continuity planning activities). Maximum number of A4 pages: 2 Pages | C5: Information | D5: Scored (50 marks)

Sheet 6 - Exclusion Criteria
A1: Section 6 - Exclusion Criteria | E1: Section Progress | X1: Minimum | Y1: Additional | AA1: Total | AB1: Complete | AC1: % | AD1: Offences | AE1: Tax | AF1: Other
E2: =AC2 -> 0 | X2: 16 | AA2: =X2+SUM(AD2:AF2) -> 16 | AB2: =COUNTA(F8:H14,F16:H17,F19:H28) -> 0 | AC2: =AB2/AA2 -> 0 | AD2: =IF(OR(F8="Yes",F9="Yes",F10="Yes",F11="Yes",F12="Yes",F13="Yes"),1,0) -> 0 | AE2: =IF(OR(F16="Yes",),1,0) -> 0 | AF2: =IF(OR(F19="Yes",F20="Yes",F21="Yes",F22="Yes",F23="Yes",F24="Yes",F25="Yes",F26="Yes",F27="Yes"),1,0) -> 0
A3: Note: All questions must be answered accurately and concisely, in the format requested. All supporting information requested in this QSQ must be submitted as an attachment to the related question. Only the responses to the questions included in this QSQ and additional information specifically requested will be reviewed. We reserve the right not to review any unrequested information or material included in, attached to or submitted with your QSQ submission. The Questions/Minimum Requirements are paraphrased in this excel document – the full details are set out in the QSQ word document.
A4: 6.1 Subject to the provisions of Regulation 57 of the European Union (Award of Public Authority Contracts) Regulations 2016 (in Section 6, the Regulations): (a) if any of the conditions set out in Regulation 57(1) or 57(3) of the Regulations apply to: (a) the Applicant (b) any member of the Applicant, in the case of a Joint Venture Applicant, (c) any entity being relied upon in accordance with section 3.8 of this QSQ; or (d) any member of the administrative, management or supervisory body of such organisations or any person who has powers of representation, decision or control therein the Applicant shall be excluded from the competition. (b) if any of the conditions set out in Regulation 57(8) of the Regulations apply to: (a) the Applicant (b) or any member of the Applicant, in the case of a group/consortium (c) or any entity being relied upon in accordance with section 3.8 of this QSQ. the Applicant may be excluded from the competition. (c) Applicants must complete the questionnaires below. The Contracting Entity will accept Part III of the European Single Procurement Document (ESPD) in response to Section 6.
A5: Applicants must complete the below questionnaire.
C6: OFFENCES Within the past five years, has the Applicant (or any member of your proposed consortium, if applicable, or any entity being relied upon for the purposes of Section 3.8 of the QSQ), or any member of the administrative, management or supervisory body of such organisation or any person having powers of representation, decision or control therein been convicted of any of the following offences?
A7: Section Number | F7: Response
A8: 6.2.1 | B8: a. participation in a criminal organisation, as defined in Article 2 of Council Framework Decision 2008/841/JHA;
B9: b. corruption, as defined in Article 3 of the Convention on the fight against corruption involving officials of the European Communities or officials of Member States of the European Union and Article 2(1) of Council Framework Decision 2003/568/JHA as well as corruption as defined in the national law of the contracting entity or the economic operator;
B10: c. fraud within the meaning of Article 1 of the Convention on the protection of the European Communities’ financial interests;
B11: d. terrorist offences or offences linked to terrorist activities, as defined in Articles 1 and 3 of Council Framework Decision 2002/475/JHA respectively, or inciting or aiding or abetting or attempting to commit an offence, as referred to in Article 4 of that Framework Decision;
B12: e. money laundering or terrorist financing, as defined in Article 1 of Directive 2005/60/EC of the European Parliament and of the Council; or
B13: f. child labour and other forms of trafficking in human beings as defined in Article 2 of Directive 2011.
B14: If the answer to any of the above questions is “yes”, please provide full details, including date of conviction, identity of person convicted, and details of any measures taken to demonstrate reliability despite the existence of a relevant ground for exclusion.
C15: NON PAYMENT OF TAXES Within the past five years, in respect of the Applicant, (or any member of your proposed consortium, if applicable, or any entity being relied upon for the purposes of section 3.8 of the QSQ)
A16: 6.2.2 | B16: a. Has it been established by a judicial or administrative decision having final and binding effect in accordance with the legal provisions of Ireland or the legal provisions of the country in which the economic operator in question is established (if outside Ireland), that such economic operator is in breach of obligations related to the payment of tax or social security contributions?
B17: If the answer to any of the above questions is Yes, please provide further details. Please confirm whether the relevant economic operator has paid, or has entered into a binding arrangement with a view to paying, including, where applicable, any accrued interest and/or fines?
C18: The Contracting Entity may also exclude any Applicant that answered ‘yes’ to any of the following situations: Within the past three years, please indicate if any of the following situations have applied, or currently apply, to the Applicant or any member of the Applicant, in the case of a group/consortium or any entity being relied upon in accordance with Section 3.8 of this QSQ
A19: 6.3 | B19: (a) a violation by the Applicant of applicable obligations referred to in Regulation 18(4) of the Regulations (applicable obligations in the fields of environmental, social and labour law that apply at the place where the works are carried out or the services provided that have been established by European Union law, national law, collective agreements or by international, environmental, social and labour law listed in Schedule 7 of the Regulations);
B20: (b) the Applicant is bankrupt or is the subject of insolvency or winding-up proceedings, where its assets are being administered by a liquidator or by the court, where it is in an arrangement with creditors, where its business activities are suspended or it is in any analogous situation arising from a similar procedure under national laws and regulations;
B21: (c) the Applicant is guilty of grave professional misconduct, which renders its integrity questionable;
B22: (d) the Applicant has entered into agreements with other economic operators aimed at distorting competition;
B23: (e) a conflict of interest within the meaning of Regulation 24 of the Regulations (which includes any situation where a relevant staff member has directly or indirectly a financial, economic or other personal interest which might be perceived to compromise his or her impartiality and independence in the context of the procurement procedure);
B24: (f) a distortion of competition from the prior involvement of the Applicant in the preparation of the procurement procedure, as referred to in Regulation 41 of the Regulations;
B25: (g) the Applicant has shown significant or persistent deficiencies in the performance of a substantive requirement under a prior public contract, a prior contract with a contracting entity or a prior concession contract which led to early termination of that prior contract, damages or other comparable sanctions;
B26: (h) the Applicant has been guilty of serious misrepresentation in supplying the information required for the verification of the absence of grounds for exclusion or the fulfilment of the pass/fail criteria, has withheld such information or is not able to submit the supporting documents required pursuant to Regulation 59 of the Regulations; or
