Workbook
Name b1t: '4.1 - Applicant details'!$A$1
Name b3t: '4.2 - JV Application'!$A$1
Name b4t: '4.3 - Resources of other entity'!$A$1
Name bcp5p: '5.5.6 - BC & DR'!$E$2
Name bcp5t: '5.5.6 - BC & DR'!$A$1
Name COI: '7 - Conflict of Interest'!$D$2
Name coi7p: '7 - Conflict of Interest'!$E$2
Name coi7t: '7 - Conflict of Interest'!$A$1
Name d1p: ' Lot Application'!$E$2
Name d1p: 'D2 - Relevant Experience'!$E$2
Name d1p: 'D1 - Turnover'!$E$2
Name d1t: ' Lot Application'!$A$1
Name d1t: 'D2 - Relevant Experience'!$A$1
Name d1t: 'D1 - Turnover'!$A$1
Name d2pr: #REF!
Name d2t: #REF!
Name d3p: 'D3 - HSQE Min Req'!$C$2
Name d3t: 'D3 - HSQE Min Req'!$A$1
Name d4p: 'D3 - HSQE Min Req'!$C$2
Name d4p: 'D4 - Min. requirements'!$C$2
Name d4t: 'D3 - HSQE Min Req'!$A$1
Name d4t: 'D4 - Min. requirements'!$A$1
Name d5p: 'D5 - Min. requirements'!$C$2
Name d5t: 'D5 - Min. requirements'!$A$1
Name dp5p: '5.5.5 - DP'!$E$2
Name dp5p: '5.5.4 - IS'!$E$2
Name dp5t: '5.5.5 - DP'!$A$1
Name dp5t: '5.5.4 - IS'!$A$1
Name ex6p: '6 - Exclusion Criteria'!$E$2
Name ex6t: '6 - Exclusion Criteria'!$A$1
Name exp5p: '5.3 - Experience'!$E$2
Name exp5t: '5.3 - Experience'!$A$1
Name HSA: #REF!
Name HSAA: #REF!
Name is5p: #REF!
Name is5t: #REF!
Name ITTCompleteness: #REF!
Name LAApp: #REF!
Name LAs: #REF!
Name maybe: #REF!
Name qa5p: '5.2 - Resources'!$E$2
Name qa5p: '5.4.1 - H&S - Contractor'!$E$2
Name qa5p: '5.4.1.7 - H&S - Contractor'!$E$2
Name qa5p: '5.4.2 - H&S - Lot 4 only'!$E$2
Name qa5p: '5.4.3 - H&S - PSCS'!$E$2
Name qa5p: '5.4.4 - H&S - Designer'!$E$2
Name qa5p: '5.4.5 - H&S - PSDP'!$E$2
Name qa5p: '5.4.6 - H&S - Confined Space '!$E$2
Name qa5p: #REF!
Name qa5t: '5.2 - Resources'!$A$1
Name qa5t: '5.4.1 - H&S - Contractor'!$A$1
Name qa5t: '5.4.1.7 - H&S - Contractor'!$A$1
Name qa5t: '5.4.2 - H&S - Lot 4 only'!$A$1
Name qa5t: '5.4.3 - H&S - PSCS'!$A$1
Name qa5t: '5.4.4 - H&S - Designer'!$A$1
Name qa5t: '5.4.5 - H&S - PSDP'!$A$1
Name qa5t: '5.4.6 - H&S - Confined Space '!$A$1
Name qa5t: #REF!
Name res5p: #REF!
Name res5t: #REF!

Sheet Instructions
B1: Insructions for completing QSQ Excel Document
B2: General Notes 1. It is recommended that the Applicant downloads and saves a copy of this document locally before editing. 2. It is recommended that the Applicant periodically saves the document as the document is being completed. 3. Applicants must read the accompanying QSQ Document before completing the QSQ Excel document. 4. The Applicant should only make edits to the document where specifically directed within each tab. 5. The document shall be returned in its entirety within the provided QSQ Excel document. No element shall be extracted from this document and submitted separately.
B3: Applicants must not copy and paste values into any field. Each field must be populated individually using dropdown options where available.
A4: =IF(#REF!=0,#REF!,#REF!) -> #REF! | B4: The zoom for the document can be adjusted via the scrollbar in the very bottom right of the screen.
A5: =IF(#REF!=0,#REF!,#REF!) -> #REF! | B5: Each section is contained within a separate tab of the document. It is recommended that each section is completed in the order presented (from left to right)
B6: All sections contain a progress bar in the top right of the tab. Do not proceed to the next tab until the progress bar is at 100%.
B7: Cells in Yellow colour must be completed
A8: =IF(#REF!=0,#REF!,#REF!) -> #REF! | B8: Greyed out cells do not need to be completed.
B9: Some cells contain dropdown menus from which the Applicant's answer must be selected.
B10: This Excel Document should not be submitted until the overall completeness in the Overview tab is 100%

Sheet 4.1 - Applicant details
A1: Section 4.1 - Applicant/Principal Applicant Details | C1: Section Progress | W1: Minimum | X1: 10 | Y1: Total | Z1: Complete | AA1: %
C2: =COUNTA(E7:G9,E11:G15)/COUNTA(D7:D9,D11:D15) -> 0 | W2: JV | X2: 6 | Y2: 8 | Z2: =COUNTA(E7:G9,E11:G15) -> 0 | AA2: =Z2/Y2 -> 0
A3: Note: All questions must be answered accurately and concisely, in the format requested. All supporting information requested in this QSQ must be submitted as an attachment to the related question. Only the responses to the questions included in this QSQ and additional information specifically requested will be reviewed. We reserve the right not to review any unrequested information or material included in, attached to or submitted with your QSQ submission. The Minimum Requirements and Pass Fail Criteria are paraphrased in this excel document – the full details are set out in the QSQ word document. | W3: Other Entities 1 | X3: 4
A4: APPENDIX B1 APPLICANT/PRINCIPAL APPLICANT DETAILS | W4: Other Entities 2 | X4: 7
A5: The information requested below shall be provided by the Applicant (or the Principal Applicant only in the case of a Joint Venture Applicant). Responses to this section are for information purposes only and will not be scored.
A6: Section Number | B6: Question | C6: Response Information | D6: Score/Info | E6: Response | W6: Other Entities 3 | X6: 10
A7: 4.1 | B7: Please specify name of the Applicant , i.e. the proposed organisation that would enter into any Contract with the Contracting Entity. If the Applicant is registered in a non-EU country, the Applicant’s proper legal name can be provided here. | C7: VAT Registered Name of Applicant | D7: Information | W7: Other Entities 4 | X7: 13
B8: Please Provide VAT Registered Number of Applicant This can be left blank if the Applicant is registered in a non-EU country. | C8: VAT Registered Number of Applicant | D8: Information | W8: Other Entities 5 | X8: 16
B9: Please Provide VAT Registered Address of Applicant | C9: VAT Registered Address of Applicant | D9: Information
B10: Please verify your VAT Registered Name, Number and Address are correct using the following website: | D10: http://ec.europa.eu/taxation_customs/vies/
B11: If a registered company: Registered number of Applicant at relevant registration office | C11: Number | D11: Information
B12: Please provide your single point of contact for all communications related to this procurement competition | C12: Contact name | D12: Information
C13: Contact's position | D13: Information
C14: Phone number | D14: Information
C15: E-mail address | D15: Information

Sheet 4.2 - JV Application
A1: Section 4.2 - Joint Venture Application | C1: Section Progress
C2: =IFERROR(N2,0) -> 0 | L2: =IF(E7="No",1,7) -> 7 | M2: =IF(E7="Yes",COUNTA(E7,E8,E9,E10,E11,E12,E13),IF(E7="No",1,0)) -> 0 | N2: =M2/L2 -> 0 | W2: Total | X2: Complete | Y2: %
A3: Note: All questions must be answered accurately and concisely, in the format requested. All supporting information requested in this QSQ must be submitted as an attachment to the related question. Only the responses to the questions included in this QSQ and additional information specifically requested will be reviewed. We reserve the right not to review any unrequested information or material included in, attached to or submitted with your QSQ submission. The Minimum Requirements and Pass Fail Criteria are paraphrased in this excel document – the full details are set out in the QSQ word document. | W3: =IF(E7="No",1)+IF(E7="",1)+IF(E7="Yes",7) -> 1 | X3: =COUNTA(E7:G13) -> 0 | Y3: =X3/W3 -> 0
A4: SECTION 4.2 APPLICATION BY A JOINT VENTURE APPLICANT
A5: If an Applicant is a Joint Venture Applicant, the Applicant must provide the additional information set out in the table below. If it is intended that a joint venture will be incorporated but it has not yet been formed, please provide proposed details in table below.
A6: Section Number | B6: Question | C6: Response Information | D6: Score/Info | E6: Response
A7: 4.2 | B7: Is this Application a joint Venture (JV) / Consortium? | C7: Yes/No | D7: Information
B8: VAT Registered Name of Principal Applicant. If registered in a non-EU country, the proper legal name can be provided. | C8: VAT Registered Name of Principal Applicant | D8: Information
B9: Legal entities (VAT Registered Names) within the consortium or JV. If registered in a non-EU country, the proper legal name can be provided. | C9: All VAT Registered Names within the consortium or JV. | D9: Information
B10: VAT Registered Numbers of the legal entities within the consortium or JV. This can be left blank if the Applicant is registered in a non-EU country | C10: All VAT Registered Numbers within the consortium or JV. | D10: Information
B11: Relevant ownership / participation division (%) within the consortium or JV | C11: (%) split by area of responsibility (e.g. 33% traffic management / 33% safety consultant / 33% plant provider) | D11: Information
B12: Area of Responsibility –include relevant section number from the QSQ | C12: Areas of responsibility (e.g. Finance, traffic management etc.) | D12: Information
B13: Questions responded to by the entity | D13: Information
A14: Notes: (a) VAT Registered Name of the Principal Applicant as per Section 4.1 above, only one entity can be named. (b) The VAT Registered Names, Numbers and Addresses of all legal entities within the Joint Venture Applicant.
A15: Please verify your VAT Registered Name, Number and Address are correct using the following website: | D15: http://ec.europa.eu/taxation_customs/vies/
A16: (c) Relevant ownership/participation percentage split, for example this may be 50/50 or 33/33/33. (d) Details of which entity is putting forward the experience and capabilities in response to the questions. If an entity which does not form part of the consortium / JV is proposed as being fully / partly responsible the extent of the entity’s participation should be listed in Section 4.3. Enter the questions that the entity responded. The entity that is relied upon in relation to a particular question is to provide the response to that question. If more than one response is provided, the responses will each be weighted equally when applying the marks.

Sheet 4.3 - Resources of other entity
A1: Section 4.3 - Resources of Other Entities | C1: Section Progress | W1: Total | X1: Complete | Y1: %
C2: =IFERROR(Z2,0) -> 0 | W2: =IF(E6="",1)+IF(E6="No",1)+IF(E6="Yes - 1 Organisation",6)+IF(E6="Yes - 2 Organisations",9)+IF(E6="Yes - 3 Organisations",12)+IF(E6="Yes - 4 Organisations",15)+IF(E6="Yes - 5 Organisations",18) -> 1 | X2: =COUNTA(E6,E7,E8,B10:G10,B11:G11,B12:G12,B13:G13,B14:G14) -> 0 | Y2: =X2/W2 -> 0 | Z2: =_xlfn.IFNA(Y2,0) -> 0
A3: Note: All questions must be answered accurately and concisely, in the format requested. All supporting information requested in this QSQ must be submitted as an attachment to the related question. Only the responses to the questions included in this QSQ and additional information specifically requested will be reviewed. We reserve the right not to review any unrequested information or material included in, attached to or submitted with your QSQ submission. The Minimum Requirements and Pass Fail Criteria are paraphrased in this excel document – the full details are set out in the QSQ word document.
A4: SECTION 4.3 RESOURCES OF OTHER ENTITIES
A5: Section Number | B5: Question | C5: Response Information | D5: Score/Info | E5: Response
A6: 4.3 | B6: Where the applicant is relying on the resources of another entity (who is not a member of the consortium /JV e.g., subcontractor, subsidiary, parent company, etc,. The Applicant shall provide in this QSQ Response: | C6: Yes/No | D6: Information
B7: (i) The information relevant to the area, section and question to which they are being relied upon; and | C7: Yes/No | D7: information
B8: (ii) Evidence from the entity proving that those resources will be avaiable to the Apllicant for the duartion of the Qualification System and (Unless the resources relate to financial standing/capacity) that the entity being relied upon will perform those elements of a contract for which the resources or capacities relied upon are required. That evidence could be in the form of the undertakings set out in Sections 4.3.1 and 4.3.2 (on a letter with the company letter head of the company being relied upon) as applicable. | C8: Yes/No | D8: Information
B9: Other Entity (VAT Registered Name) | C9: Area of Responsibility - include relevant section number | F9: Questions the Entity Responded

Sheet  Lot Application
A1: Lot Application | E1: Section Progress | W1: Total | X1: Complete | Y1: %
E2: =COUNTA(B7:G13)/COUNTA(A7:A13) -> 0 | W2: 1 | X2: =COUNTA(#REF!) -> 1 | Y2: =X2/W2 -> 1
A3: Note: All questions must be answered accurately and concisely, in the format requested. All supporting information requested in this QSQ must be submitted as an attachment to the related question. Only the responses to the questions included in this QSQ and additional information specifically requested will be reviewed. We reserve the right not to review any unrequested information or material included in, attached to or submitted with your QSQ submission. The Minimum Requirements and Pass Fail Criteria are paraphrased in this excel document – the full details are set out in the QSQ word document.
A4: Question
A5: Please indicate through answering Yes/No below which roles you intend to carry out for the Lots Applied for. Refer to Section A4 of the particulars as outlined in the QSQ Memorandum for details on each Lot and associated sub lots. Note you may apply for as many Lots & Sub Lots as required. Your competency and capability to deliver each Lot & Sub Lot will be assessed at the tender stage should you Successfully Pre-Qualify.
A6: Lot | B6: Please indicate Below to be considered for this role.
A7: Lot 1 - Statutory Inspection, Maintenance, & Repair (incl. Replacement) of Lifting Equipment. Including but not limited to: o Lifting Gear – Chains, Clamps, Eyebolts, Shackles, Pump Lifting Chains, Shackles, Web Slings, Block Grabs o Lifting Appliances – Winches, Jib Arms, Chain Blocks, Gantry Cranes, Lifting Frames & Tripods o Personal Fall Protection Equipment – Harness, Lanyard, Lifelines & rescue lines, Tripods
A8: Lot 2 - Statutory Inspection, Maintenance, & Repair (incl. Replacement) of Pressure Vessels. Including but not limited to: o Air / Water Receiver, Diaphragm Vessel, Compressor, Surge Vessel, Boiler,
A9: Lot 3 – Statutory Inspection, Maintenance, & Repair (incl. Replacement) of Chemical Tanks. Including but not limited to: o Chemical tanks, Chemical bunds, hosing, connectors, fill points, safety showers
A10: Lot 4 – Statutory Inspection, Maintenance, & Repair (incl. Replacement) of ATEX Equipment. Including but not limited to: o M&E Equipment located withing designated zones o Gas installations, chlorine gas auto shut down systems o Lightning Protection Systems
A11: Lot 5 - Statutory Inspection, Maintenance, & Repair (incl. Replacement) of Low Voltage (LV) Electrical Sites. Including but not limited to o Low Voltage Switchgear, o Uninterruptible Power Supply o Generator Synchronisation Equipment o Lighting & Heating o Electrical cables o Generators o Generator / mains manual & auto changeover switches o Programmable Logic Controllers (PLCs) o Soft Starters o Variable Speed Drivers (VSDs) o Rectifiers o Lightning Protection Systems
A12: Lot 6 – Statutory Inspection, Maintenance, & Repair (incl. Replacement) of Medium Voltage (MV) Electrical Sites. Including but not limited to: o Medium Voltage Switchgear o Distribution Transformers o Low Voltage Air Circuit Breakers o Electrical Cables
A13: Lot 7 - General - This Lot is included to capture all other Statutory Inspection requirements that may be needed or yet to be determined.

Sheet D1 - Turnover
A1: Section D1 - Turnover | E1: Section Progress | X1: Total | Y1: Complete | Z1: %
E2: =COUNTA(E5)/COUNTA(B5) -> 0 | X2: 1 | Y2: =COUNTA(E5) -> 0 | Z2: =Y2/X2 -> 0
A3: Note: All questions must be answered accurately and concisely, in the format requested. All supporting information requested in this QSQ must be submitted as an attachment to the related question. Only the responses to the questions included in this QSQ and additional information specifically requested will be reviewed. We reserve the right not to review any unrequested information or material included in, attached to or submitted with your QSQ submission. The Minimum Requirements and Pass Fail Criteria are paraphrased in this excel document – the full details are set out in the QSQ word document.
A4: Section Number | B4: Question | C4: Response Information | D4: Score/Info | E4: Response
A5: D1 | B5: Have you provided copies of your organisations financial statements demonstrating sufficient turnover as outlined? | C5: The Minimum Requirement is that the Applicant must demonstrate an average annual turnover, in the last 2 years or pro-rata for a ompany established within the last 2 years of at least: Note: If applying for more than one lot, the Applicant must demonstrate an average annual turnover of the cumulative value pertaining to all selected lots. | D5: Minimum Requirement | W5: Lot 1 | X5: {=IF(' Lot Application'!B7:G7="Yes",1,0)} -> 0 | Y5: 0 | Z5: 0 | AA5: 0 | AB5: 0 | AC5: 0 | AE5: 1440000 | AG5: =X5*AE5 -> 0
C6: =SUM(AG5:AG11) -> 0 | W6: Lot 2 | X6: {=IF(' Lot Application'!B8:G8="Yes",1,0)} -> 0 | Y6: 0 | Z6: 0 | AA6: 0 | AB6: 0 | AC6: 0 | AE6: 350000 | AG6: =X6*AE6 -> 0
W7: Lot 3 | X7: {=IF(' Lot Application'!B9:G9="Yes",1,0)} -> 0 | Y7: 0 | Z7: 0 | AA7: 0 | AB7: 0 | AC7: 0 | AE7: 1000000 | AG7: =X7*AE7 -> 0
W8: Lot 4 | X8: {=IF(' Lot Application'!B10:G10="Yes",1,0)} -> 0 | Y8: 0 | Z8: 0 | AA8: 0 | AB8: 0 | AC8: 0 | AE8: 500000 | AG8: =X8*AE8 -> 0
W9: Lot 5 | X9: {=IF(' Lot Application'!B11:G11="Yes",1,0)} -> 0 | Y9: 0 | Z9: 0 | AA9: 0 | AB9: 0 | AC9: 0 | AE9: 1500000 | AG9: =X9*AE9 -> 0
W10: Lot 6 | X10: {=IF(' Lot Application'!B12:G12="Yes",1,0)} -> 0 | Y10: 0 | Z10: 0 | AA10: 0 | AB10: 0 | AC10: 0 | AE10: 500000 | AG10: =X10*AE10 -> 0
W11: Lot 7 | X11: {=IF(' Lot Application'!B13:G13="Yes",1,0)} -> 0 | Y11: 0 | Z11: 0 | AA11: 0 | AB11: 0 | AC11: 0 | AE11: 500000 | AG11: =X11*AE11 -> 0

Sheet D2 - Relevant Experience
A1: Section D2 - Relevant Experience | E1: Section Progress
E2: =IFERROR(Z3,0) -> 0
A3: Note: All questions must be answered accurately and concisely, in the format requested. All supporting information requested in this QSQ must be submitted as an attachment to the related question. Only the responses to the questions included in this QSQ and additional information specifically requested will be reviewed. We reserve the right not to review any unrequested information or material included in, attached to or submitted with your QSQ submission. The Minimum Requirements and Pass Fail Criteria are paraphrased in this excel document – the full details are set out in the QSQ word document. | X3: =SUM(AE7:AE12) -> 0 | Y3: =SUM(AF7:AF12) -> 0 | Z3: =Y3/X3 -> #DIV/0!
A4: Section Number | B4: Question | C4: Response Information | D4: Score/Info | E4: Response
A5: D2 | B5: The Minimum Requirement is that the Applicant (rather than an individual working for the Applicant) must provide details, on the project Tab D2 Relevant Experience of the accompanying workbook of at least three contracts undertaken in the last three years immediately preceding the date noted at Item B1 of these Particulars that are similar in nature, scale and complexity and carried out in a similarly demanding environment to the Qualification System the scope of which is outlined at Item A4 of the Particulars. Details of the locations of where the inspections were carried shall be included.
E6: Reference Project 1 | F6: Reference Project 2 | G6: Reference Project 3
A7: D2 | B7: Lot 1 - Statutory Inspection, Maintenance, & Repair (incl. Replacement) of Lifting Equipment: At a minimum, any of the 3 reference projects or a combination of the projects shall have included an average of 1,000 monthly inspections of similar type and scale. | C7: Information | D7: Minimum Requirement | W7: {=' Lot Application'!B7:G7} -> 0 | X7: 0 | Y7: 0 | Z7: 0 | AA7: 0 | AB7: 0 | AD7: =W7 -> 0 | AE7: =IF(AD7="Yes",3,0) -> 0 | AF7: =IF(AD7="Yes",COUNTA(E7:G7),0) -> 0
B8: Lot 2 - Statutory Inspection, Maintenance, & Repair (incl. Replacement) of Pressure Vessels. At a minimum, any of the 3 reference projects or a combination of the projects shall have included an average of 30 monthly inspections of similar type and scale. | C8: Information | W8: {=' Lot Application'!B8:G8} -> 0 | X8: 0 | Y8: 0 | Z8: 0 | AA8: 0 | AB8: 0 | AD8: =W8 -> 0 | AE8: =IF(AD8="Yes",3,0) -> 0 | AF8: =IF(AD8="Yes",COUNTA(E8:G8),0) -> 0
B9: Lot 3 - Statutory Inspection, Maintenance, & Repair (incl. Replacement) of Chemical Tanks. At a minimum, any of the 3 reference projects or a combination of the projects shall have included an average of 30 monthly inspections of similar type and scale. | C9: Information | W9: {=' Lot Application'!B9:G9} -> 0 | X9: 0 | Y9: 0 | Z9: 0 | AA9: 0 | AB9: 0 | AD9: =W9 -> 0 | AE9: =IF(AD9="Yes",3,0) -> 0 | AF9: =IF(AD9="Yes",COUNTA(E9:G9),0) -> 0
B10: Lot 4 - Statutory Inspection, Maintenance, & Repair (incl. Replacement) of ATEX Equipment. At a minimum, any of the 3 reference projects or a combination of the projects shall have included an average of 5 monthly inspections of similar type and scale. | C10: Information | W10: {=' Lot Application'!B10:G10} -> 0 | X10: 0 | Y10: 0 | Z10: 0 | AA10: 0 | AB10: 0 | AD10: =W10 -> 0 | AE10: =IF(AD10="Yes",3,0) -> 0 | AF10: =IF(AD10="Yes",COUNTA(E10:G10),0) -> 0
B11: Lot 5 - Statutory Inspection, Maintenance, & Repair (incl. Replacement) of Low Voltage (LV) Electrical Sites. At a minimum, any of the 3 reference projects or a combination of the projects shall have included an average of 100 monthly inspections of similar type and scale. | C11: Information | W11: {=' Lot Application'!B11:G11} -> 0 | X11: 0 | Y11: 0 | Z11: 0 | AA11: 0 | AB11: 0 | AD11: =W11 -> 0 | AE11: =IF(AD11="Yes",3,0) -> 0 | AF11: =IF(AD11="Yes",COUNTA(E11:G11),0) -> 0
B12: Lot 6 - Statutory Inspection, Maintenance, & Repair (incl. Replacement) of Medium Voltage (MV) Electrical Sites. At a minimum, any of the 3 reference projects or a combination of the projects shall have included an average of 5 monthly inspections of similar type and scale. | C12: Information | W12: {=' Lot Application'!B12:G12} -> 0 | X12: 0 | Y12: 0 | Z12: 0 | AA12: 0 | AB12: 0 | AD12: =W12 -> 0 | AE12: =IF(AD12="Yes",3,0) -> 0 | AF12: =IF(AD12="Yes",COUNTA(E12:G12),0) -> 0

Sheet D3 - HSQE Min Req
A1: Section D3 - HSQE Minimum requirements | C1: Section Progress
C2: =COUNTA(E7,E11:E14,E17:J21,C22)/36 -> 0 | U2: Total | V2: Complete | W2: %
A3: Note: All questions must be answered accurately and concisely, in the format requested. All supporting information requested in this QSQ must be submitted as an attachment to the related question. Only the responses to the questions included in this QSQ and additional information specifically requested will be reviewed. We reserve the right not to review any unrequested information or material included in, attached to or submitted with your QSQ submission. The Minimum Requirements and Pass Fail Criteria are paraphrased in this excel document – the full details are set out in the QSQ word document. | U3: =IF(#REF!="No",1)+IF(#REF!="",1)+IF(#REF!="Yes",7) -> #REF! | V3: =COUNTA(E14:F14) -> 0 | W3: =V3/U3 -> #REF!
A4: Section Number | B4: Question | C4: Response Information | D4: Score/Info | E4: Response
A7: (A) | B7: Safety Statement, Health and Safety Policy or equivalent The Applicant (including Joint Ventures) shall submit a copy of their Safety Statement as required under the Safety, Health and Welfare at Work Act 2005 or equivalent document (if registered outside of Ireland). As a minimum, this must include health and safety policy, management structure, responsibilities/resources, health and safety training requirements, accident and emergency procedures, and the relevant risk assessments to ensure the safety, health and welfare of their employees. | C7: Yes/No | D7: Minimum Requirement
E10: No. | F10: Details
A11: (B) | B11: Enforcement Actions The Applicant shall provide, for itself and each member (joint venture / consortium) of the Applicant, details of the number of enforcement actions or prosecutions by the HSA, the HSE or local authorities (in the UK) or other equivalent safety regulator in the last 5 years (up to the date 7 calendar days before the latest date for submission of the response to this QSQ). If there are none, enter ‘0’ in the No. column in table alongside. Where an Applicant has had an Enforcement Action or Prosecution in the last 5 years, please outline the effective and enduring corrective and preventive measures that have been put in place to prevent reoccurrence. | C11: Prosecutions | D11: Minimum Requirement
C12: Prohibition Notices/orders | D12: Minimum Requirement
C13: Improvement Notices | D13: Minimum Requirement
C14: Improvement Plans | D14: Minimum Requirement
E16: 2019 | F16: 2020 | G16: 2021 | H16: 2022 | I16: 2023 | J16: 2024 | K16: Total
A17: (C) | B17: HSA Accident/Incident Performance The Applicant shall provide details in the table below of its’ accident / incident performance (including joint ventures and subcontractors working on your behalf) for each of the last 5 years (up to the date 7 calendar days before the latest date for submission of the response to this QSQ). Insert 0 if no incidents recorded or NA if data is unavailable. If data is unavailable the Applicant should provide an explanation in the Applicant’s Response box [below]. Where an Applicant has had a fatality, please outline the effective and enduring corrective and preventive measures that have been put in place to prevent reoccurrence. | C17: Man-hours Worked | D17: Minimum Requirement | K17: =SUM(E17:J17) -> 0
C18: Fatalities (absolute) | D18: Minimum Requirement | K18: =SUM(E18:J18) -> 0
C19: Reportable (>3 day) Accidents (absolute) | D19: Minimum Requirement | K19: =SUM(E19:J19) -> 0
C20: Lost Time (≤3 day) Accidents (absolute) | D20: Minimum Requirement | K20: =SUM(E20:J20) -> 0
C21: Reportable Dangerous Occurrences (HSA/HSE) (absolute) | D21: Minimum Requirement | K21: =SUM(E21:J21) -> 0
B22: Please Provide an explanantion on why data is unavailable for the above (Please type N/A if not applicable)

Sheet D4 - Min. requirements
A1: Section D4 - Minimum requirements | C1: Section Progress
C2: =IFERROR(N2,0) -> 0 | L2: =IF(E6="NA",2,4) -> 4 | M2: =IF(E6="Yes",COUNTA(E6,E7,E8,E9),IF(E6="NA",COUNTA(E6,E9),0)) -> 0 | N2: =M2/L2 -> 0 | W2: Total | X2: Complete | Y2: %
A3: Note: All questions must be answered accurately and concisely, in the format requested. All supporting information requested in this QSQ must be submitted as an attachment to the related question. Only the responses to the questions included in this QSQ and additional information specifically requested will be reviewed. We reserve the right not to review any unrequested information or material included in, attached to or submitted with your QSQ submission. The Minimum Requirements and Pass Fail Criteria are paraphrased in this excel document – the full details are set out in the QSQ word document. | W3: =IF(#REF!="No",1)+IF(#REF!="",1)+IF(#REF!="Yes",7) -> #REF! | X3: =COUNTA(E5:G9) -> 0 | Y3: =X3/W3 -> #REF!
A4: Section Number | B4: Question | C4: Response Information | D4: Score/Info | E4: Response
A5: Compliance with requirements of the Modern Slavery Act 2015 or equivalent legislation Commercial organisations that carry on a business or part of a business in the UK, supply goods or services and have an annual turnover of £36 million or more (“relevant commercial organisations”) are required under section 54 of the UK’s Modern Slavery Act to prepare a slavery and human trafficking statement as defined by section 54 of the Act, The Minimum Requirement is either: (1) that the Applicant states “N/A” to all questions (because it is not a “relevant commercial organisation” as defined above and the country in which it is incorporated does not have equivalent legislation to the Act) or, (2) where the Applicant states “Yes” to question (A), it provides sufficient evidence that it is compliant with the annual reporting requirements contained in section 54 of the Modern Slavery Act or (3) the Applicant responds “Yes” to question (C).
A6: A | B6: Is the Applicant a relevant commercial organisation as defined by section 54 ("Transparency in supply chains etc.") of the Modern Slavery Act 2015 ("the Act")? | C6: Yes/NA | D6: Minimum Requiment
A7: B | B7: If “Yes”, is the Applicant compliant with the annual reporting requirements contained within section 54 of the Act? Where the Applicant fails to provide sufficient evidence of compliance with the annual reporting requirements contained within section 54 of the Act (where applicable), this may result in the Applicant being eliminated without further consideration of its QSQ Response. | C7: Yes/No/NA | D7: Minimum Requiment
B8: Please provide details of the above | C8: Information | D8: Minimum Requiment
A9: C | B9: If the country in which the Applicant is incorporated has equivalent legislation to the Act, is the Applicant compliant with the requirements of that Act? | C9: Yes/No/NA | D9: Minimum Requiment

Sheet D5 - Min. requirements
A1: Section D5 - Minimum requirements | C1: Section Progress
C2: =IFERROR(N2,0) -> 0 | L2: =IF(E6="Yes",3,2) -> 2 | M2: =IF(E6="Yes",COUNTA(E6,E7,E9),COUNTA(E6,E9)) -> 0 | N2: =M2/L2 -> 0 | W2: Total | X2: Complete | Y2: %
A3: Note: All questions must be answered accurately and concisely, in the format requested. All supporting information requested in this QSQ must be submitted as an attachment to the related question. Only the responses to the questions included in this QSQ and additional information specifically requested will be reviewed. We reserve the right not to review any unrequested information or material included in, attached to or submitted with your QSQ submission. The Minimum Requirements and Pass Fail Criteria are paraphrased in this excel document – the full details are set out in the QSQ word document. | W3: =IF(#REF!="No",1)+IF(#REF!="",1)+IF(#REF!="Yes",7) -> #REF! | X3: =COUNTA(#REF!) -> 1 | Y3: =X3/W3 -> #REF!
A4: Section Number | B4: Question | C4: Response Information | D4: Score/Info | E4: Response
A5: Employee Related Matters The Minimum Requirement is either that the Applicant states “None” in response to the question below or, where it states “Yes”, it provides sufficient evidence that appropriate action has been taken as a result of any unlawful discrimination or findings by the Workplace Relations Commission, the Equality Commission in Northern Ireland, the Equality and Human Rights Commission (Scotland) or any comparable body in any other jurisdiction.
A6: a | B6: In the last three years immediately preceding the date noted at Item B1 of these Particulars, has any finding of unlawful discrimination been made against the Applicant (or any parent company) by any court, employment tribunal, employment appeal tribunal or any comparable body in any other jurisdictions? And/or has the Applicant (or any parent company) been the subject of formal investigations by the Workplace Relations Commission, the Equality Commission of Northern Ireland or the Equality and Human Rights Commission (Scotland) or any comparable body in any other jurisdiction on grounds of alleged unlawful discrimination? If “Yes”, give details, including any corrective steps taken as a consequence of the findings. If “No”, please select “None”. Where the Applicant fails to provide sufficient evidence that appropriate action had been taken this may result in the Applicant being eliminated without further consideration of its QSQ Response. | C6: Yes/None | D6: Minimum Requiment
B7: Please provide details of the above | C7: Information | D7: Minimum Requiment
A8: Compliance with requirements of the COUNCIL REGULATION (EU) 2022/576 of 8 April 2022 amending Regulation (EU) No 833/2014 concerning restrictive measures in view of Russia’s actions destabilising the situation in Ukraine 1. Subject to the provisions of Article 5k.1 of the Council Regulation (EU) 2022/576 of 8 April 2022 amending Regulation (EU) No 833/2014 (in this Section 6.4, the Council Regulation), the Contracting Entity shall be prohibited from awarding a contract: a. A Russian national, or a natural or legal person, entity or body established in Russia; b. A legal person, entity or body whose proprietary rights are directly or indirectly owned for more than 50 % by an entity referred to in point (a); or c. a natural or legal person, entity or body acting on behalf or at the direction of an entity referred to in point (a) or (b), including, where they account for more than 10 % of the contract value, subcontractors, suppliers or entities whose capacities are being relied on within the meaning of the public procurement directives. 2. If any of the conditions set out in Article 5k.1 of the Council Regulation apply, the Tenderer shall be excluded from the competition, unless specific grounds for derogation exist in accordance with Article 5k.2 of the Council Regulation.
A9: a | B9: Do you or, if applicable, a subcontractor, supplier or entity whose capacities are being relied on, fall under one of the definitions under Section 5k.1 of the Council Regulation (please refer to scenario (a), (b), (c) listed under Section 6.4 (A))? | C9: Yes/No | D9: Minimum Requiment

Sheet 5.2 - Resources
A1: Section 5.2 - Resources | E1: Section Progress | X1: Total | Y1: Complete | Z1: %
E2: =COUNTA(E5:H5)/COUNTA(B5:B5) -> 0 | X2: 4 | Y2: =COUNTA(#REF!,#REF!,#REF!,#REF!) -> 4 | Z2: =Y2/X2 -> 1
A3: Note: All questions must be answered accurately and concisely, in the format requested. All supporting information requested in this QSQ must be submitted as an attachment to the related question. Only the responses to the questions included in this QSQ and additional information specifically requested will be reviewed. We reserve the right not to review any unrequested information or material included in, attached to or submitted with your QSQ submission. The Minimum Requirements and Pass Fail Criteria are paraphrased in this excel document – the full details are set out in the QSQ word document.
A4: Section Number | B4: Question | C4: Response Information | D4: Score/Info | E4: Response
A5: 5.2.1 | B5: The Applicant shall provide a current organisation chart for the Applicant showing he current senior management, health & safety and maintenance teams of the Applicant.The organogram should show clear lines of responsibility and accountability for the variety of disciplines carried out. For a joint venture/consoritum the organorgram shoudl show the lines of responsibility and accountability within th propposed grouping. Maximum no of A4 pages - 2 | C5: Information | D5: Scored (300 marks)

Sheet 5.3 - Experience
A1: Section 5.3 - Experience | E1: Section Progress
E2: =IFERROR(AY3,0) -> 0 | AW2: TOTAL | AX2: Complete %
A3: Note: All questions must be answered accurately and concisely, in the format requested. All supporting information requested in this QSQ must be submitted as an attachment to the related question. Only the responses to the questions included in this QSQ and additional information specifically requested will be reviewed. We reserve the right not to review any unrequested information or material included in, attached to or submitted with your QSQ submission. The Minimum Requirements and Pass Fail Criteria s are paraphrased in this excel document – the full details are set out in the QSQ word document. | AW3: =SUM(AT7:AT13) -> 0 | AX3: =SUM(AU7:AU13) -> 0 | AY3: =AX3/AW3 -> #DIV/0!
A4: Section Number | B4: Question | C4: Response Information | D4: Score/Info | E4: Response
A5: Section 5.3 - Experience The Applicant is to provide 1x reference projects per lot applying for (as detailed below) in the last three years that are similar in nature, scale and complexity to the reference project titles below. The examples carry equal weightings of 300 marks each. The entity that performed the contract in question must be the entity that is relied upon by the Applicant in its answer.
E7: Project Reference Data Sheet - Project 1 | AN7: {=' Lot Application'!B7:D7} -> 0 | AO7: 0 | AP7: 0 | AR7: =AN7 -> 0 | AT7: =IF(AR7="Yes",13,0) -> 0 | AU7: =IF(AR7="Yes",COUNTA(E8:H20),0) -> 0
A8: 5.3.1 | B8: Reference Project for Lot 1 | C8: Client Name/Customer sector | D8: Scored (4 marks) | AN8: {=' Lot Application'!B8:D8} -> 0 | AO8: 0 | AP8: 0 | AR8: =AN8 -> 0 | AT8: =IF(AR8="Yes",13,0) -> 0 | AU8: =IF(AR8="Yes",COUNTA(E22:H34),0) -> 0
C9: Start Date and Finish Date | D9: Scored (4 marks) | AN9: {=' Lot Application'!B9:D9} -> 0 | AO9: 0 | AP9: 0 | AR9: =AN9 -> 0 | AT9: =IF(AR9="Yes",13,0) -> 0 | AU9: =IF(AR9="Yes",COUNTA(E36:H48),0) -> 0
C10: Project Title | D10: Scored (4 marks) | AN10: {=' Lot Application'!B10:D10} -> 0 | AO10: 0 | AP10: 0 | AR10: =AN10 -> 0 | AT10: =IF(AR10="Yes",13,0) -> 0 | AU10: =IF(AR10="Yes",COUNTA(E50:H62),0) -> 0
C11: Project overview | D11: Scored (4 marks) | AN11: {=' Lot Application'!B11:D11} -> 0 | AO11: 0 | AP11: 0 | AR11: =AN11 -> 0 | AT11: =IF(AR11="Yes",13,0) -> 0 | AU11: =IF(AR11="Yes",COUNTA(E64:H76),0) -> 0
C12: Overall Project Value (incl. VAT) | D12: Scored (4 marks) | AN12: {=' Lot Application'!B12:D12} -> 0 | AO12: 0 | AP12: 0 | AR12: =AN12 -> 0 | AT12: =IF(AR12="Yes",13,0) -> 0 | AU12: =IF(AR12="Yes",COUNTA(E78:H90),0) -> 0
C13: Volume of Inspections | D13: Scored (15 marks) | AN13: {=' Lot Application'!B13:D13} -> 0 | AO13: 0 | AP13: 0 | AR13: =AN13 -> 0 | AT13: =IF(AR13="Yes",13,0) -> 0 | AU13: =IF(AR13="Yes",COUNTA(E92:H104),0) -> 0
C14: Equipment types | D14: Scored (15 marks)
C15: Location(s) | D15: Scored (10 marks)
C16: Main Duties and Responsibilities of the company | D16: Scored (50 marks)
C17: Relevance to the contracting Entity's Requirements | D17: Scored (50 marks)
C18: Logistics Management | D18: Scored (50 marks)
C19: Monthly Reporting examples | D19: Scored (40 marks)
C20: Lessons learned & Quality Assurance | D20: Scored (50 marks)
E21: Project Reference Data Sheet - Project 2
A22: 5.3.2 | B22: Reference Project for Lot 2 | C22: Client Name/Customer sector | D22: Scored (4 marks)
C23: Start Date and Finish Date | D23: Scored (4 marks)
C24: Project Title | D24: Scored (4 marks)
C25: Project overview | D25: Scored (4 marks)
C26: Overall Project Value (incl. VAT) | D26: Scored (4 marks)
C27: Volume of Inspections | D27: Scored (15 marks)
C28: Equipment types | D28: Scored (15 marks)
C29: Location(s) | D29: Scored (10 marks)
C30: Main Duties and Responsibilities of the company | D30: Scored (50 marks)
C31: Relevance to the contracting Entity's Requirements | D31: Scored (50 marks)
C32: Logistics Management | D32: Scored (50 marks)
C33: Monthly Reporting examples | D33: Scored (40 marks)
C34: Lessons learned & Quality Assurance | D34: Scored (50 marks)
E35: Project Reference Data Sheet - Project 3
A36: 5.3.3 | B36: Reference Project for Lot 3 | C36: Client Name/Customer sector | D36: Scored (4 marks)
C37: Start Date and Finish Date | D37: Scored (4 marks)
C38: Project Title | D38: Scored (4 marks)
C39: Project overview | D39: Scored (4 marks)
C40: Overall Project Value (incl. VAT) | D40: Scored (4 marks)
C41: Volume of Inspections | D41: Scored (15 marks)
...

Sheet 5.4.1 - H&S - Contractor
A1: Section 5.4.1 - Health & Safety - Contractor | E1: Section Progress
E2: =IFERROR(Y4,0) -> 0
A3: Note: All questions must be answered accurately and concisely, in the format requested. All supporting information requested in this QSQ must be submitted as an attachment to the related question. Only the responses to the questions included in this QSQ and additional information specifically requested will be reviewed. We reserve the right not to review any unrequested information or material included in, attached to or submitted with your QSQ submission. The Minimum Requirements and Pass Fail Criteria are paraphrased in this excel document – the full details are set out in the QSQ word document.
A4: 380 Marks for Lot 1,2,3,5,6,7 and 340 Marks for Lot 4 with a minimum of 60% Pass Mark Per Section | W4: =SUM(AC6:AC12) -> 0 | X4: =SUM(AD6:AD12) -> 0 | Y4: =X4/W4 -> #DIV/0!
A5: LOT 1
A6: Section Number | B6: Question | C6: Response Information | D6: Score/Info | E6: Response | U6: {=' Lot Application'!B7:G7} -> 0 | V6: 0 | W6: 0 | X6: 0 | Y6: 0 | Z6: 0 | AB6: =U6 -> 0 | AC6: =IF(AB6="Yes",7,0) -> 0 | AD6: =IF(AB6="Yes",COUNTA(E7:H12),0) -> 0
A7: 5.4.1.1 | B7: The Applicant shall provide evidence of a third party accredited Safety Management System e.g. Safe-T-Cert, OHSAS 18001/ISO45001 etc. If it not certified the applicant must provide information on how they implement a Health and Safety Management System. Maximum number of A4 pages: 4 | C7: Information | D7: Scored (30 marks) | U7: {=' Lot Application'!B8:G8} -> 0 | V7: 0 | W7: 0 | X7: 0 | Y7: 0 | Z7: 0 | AB7: =U7 -> 0 | AC7: =IF(AB7="Yes",7,0) -> 0 | AD7: =IF(AB7="Yes",COUNTA(E16:H21),0) -> 0
A8: 5.4.1.2 | B8: The Applicant shall provide evidence of the company’s process for assessing the competency of : (i) Staff and, (ii) Sub-contractor and (iii) Designers (including Supplier Designers e.g. manhole covers, pre cast chambers etc) Maximum number of A4 pages: 4 | C8: Information | D8: Scored (30 marks) | U8: {=' Lot Application'!B9:G9} -> 0 | V8: 0 | W8: 0 | X8: 0 | Y8: 0 | Z8: 0 | AB8: =U8 -> 0 | AC8: =IF(AB8="Yes",7,0) -> 0 | AD8: =IF(AB8="Yes",COUNTA(E25:H30),0) -> 0
A9: 5.4.1.3 | B9: The Applicant shall provide its procedure for the company’s process for planning and maintaining all resources required for the project – i.e. Staff, Supervision, Safety Personnel, plant, equipment. IT requirements, materials etc. Maximum number of A4 pages: 2 | C9: Information | D9: Scored (30 marks) | U9: {=' Lot Application'!B10:G10} -> 0 | V9: 0 | W9: 0 | X9: 0 | Y9: 0 | Z9: 0 | AB9: =U9 -> 0 | AC9: =IF(AB9="Yes",7,0) -> 0 | AD9: =IF(AB9="Yes",COUNTA(E34:H39),0) -> 0
A10: 5.4.1.4 | B10: The Applicant shall provide its procedure for auditing and inspection of Health & Safety performance including its process for ensuring effective close out of items raised. Maximum number of A4 pages: 4 | C10: Information | D10: Scored (30 marks) | U10: {=' Lot Application'!B11:G11} -> 0 | V10: 0 | W10: 0 | X10: 0 | Y10: 0 | Z10: 0 | AB10: =U10 -> 0 | AC10: =IF(AB10="Yes",7,0) -> 0 | AD10: =IF(AB10="Yes",COUNTA(E43:H48),0) -> 0
A11: 5.4.1.5 | B11: The Applicant shall provide evidence of how health and safety information e.g., Inductions, Safe Work Procedures (Method Statements, Permits, Safe Plan of Action etc.), is effectively communicated to those carrying out work on site. Maximum number of A4 pages: 4 | C11: Information | D11: Scored (30 marks) | U11: {=' Lot Application'!B12:G12} -> 0 | V11: 0 | W11: 0 | X11: 0 | Y11: 0 | Z11: 0 | AB11: =U11 -> 0 | AC11: =IF(AB11="Yes",7,0) -> 0 | AD11: =IF(AB11="Yes",COUNTA(E52:H57),0) -> 0
A12: 5.4.1.6 | B12: The Applicant shall provide details of how it communicated with each duty holder (Designer, Project Supervisor Design Process, Project Supervisor Construction Stage and Contractor) and those in operational control of place of work (e.g., plant, factory etc) on previous a project. Please note that details of communication of duty holders in other EU jurisdictions that are equivalent are acceptable. Maximum number of A4 pages: 4 | C12: Information | D12: Scored (30 marks) | U12: {=' Lot Application'!B13:G13} -> 0 | V12: 0 | W12: 0 | X12: 0 | Y12: 0 | Z12: 0 | AB12: =U12 -> 0 | AC12: =IF(AB12="Yes",7,0) -> 0 | AD12: =IF(AB12="Yes",COUNTA(E61:H66),0) -> 0
A14: LOT 2
A15: Section Number | B15: Question | C15: Response Information | D15: Score/Info | E15: Response
A16: 5.4.1.1 | B16: The Applicant shall provide evidence of a third party accredited Safety Management System e.g. Safe-T-Cert, OHSAS 18001/ISO45001 etc. If it not certified the applicant must provide information on how they implement a Health and Safety Management System. Maximum number of A4 pages: 4 | C16: Information | D16: Scored (30 marks)
A17: 5.4.1.2 | B17: The Applicant shall provide evidence of the company’s process for assessing the competency of : (i) Staff and, (ii) Sub-contractor and (iii) Designers (including Supplier Designers e.g. manhole covers, pre cast chambers etc) Maximum number of A4 pages: 4 | C17: Information | D17: Scored (30 marks)
A18: 5.4.1.3 | B18: The Applicant shall provide its procedure for the company’s process for planning and maintaining all resources required for the project – i.e. Staff, Supervision, Safety Personnel, plant, equipment. IT requirements, materials etc. Maximum number of A4 pages: 2 | C18: Information | D18: Scored (30 marks)
A19: 5.4.1.4 | B19: The Applicant shall provide its procedure for auditing and inspection of Health & Safety performance including its process for ensuring effective close out of items raised. Maximum number of A4 pages: 4 | C19: Information | D19: Scored (30 marks)
A20: 5.4.1.5 | B20: The Applicant shall provide evidence of how health and safety information e.g., Inductions, Safe Work Procedures (Method Statements, Permits, Safe Plan of Action etc.), is effectively communicated to those carrying out work on site. Maximum number of A4 pages: 4 | C20: Information | D20: Scored (30 marks)
A21: 5.4.1.6 | B21: The Applicant shall provide details of how it communicated with each duty holder (Designer, Project Supervisor Design Process, Project Supervisor Construction Stage and Contractor) and those in operational control of place of work (e.g., plant, factory etc) on previous a project. Please note that details of communication of duty holders in other EU jurisdictions that are equivalent are acceptable. Maximum number of A4 pages: 4 | C21: Information | D21: Scored (30 marks)
A23: LOT 3
A24: Section Number | B24: Question | C24: Response Information | D24: Score/Info | E24: Response
A25: 5.4.1.1 | B25: The Applicant shall provide evidence of a third party accredited Safety Management System e.g. Safe-T-Cert, OHSAS 18001/ISO45001 etc. If it not certified the applicant must provide information on how they implement a Health and Safety Management System. Maximum number of A4 pages: 4 | C25: Information | D25: Scored (30 marks)
A26: 5.4.1.2 | B26: The Applicant shall provide evidence of the company’s process for assessing the competency of : (i) Staff and, (ii) Sub-contractor and (iii) Designers (including Supplier Designers e.g. manhole covers, pre cast chambers etc) Maximum number of A4 pages: 4 | C26: Information | D26: Scored (30 marks)
A27: 5.4.1.3 | B27: The Applicant shall provide its procedure for the company’s process for planning and maintaining all resources required for the project – i.e. Staff, Supervision, Safety Personnel, plant, equipment. IT requirements, materials etc. Maximum number of A4 pages: 2 | C27: Information | D27: Scored (30 marks)
A28: 5.4.1.4 | B28: The Applicant shall provide its procedure for auditing and inspection of Health & Safety performance including its process for ensuring effective close out of items raised. Maximum number of A4 pages: 4 | C28: Information | D28: Scored (30 marks)
A29: 5.4.1.5 | B29: The Applicant shall provide evidence of how health and safety information e.g., Inductions, Safe Work Procedures (Method Statements, Permits, Safe Plan of Action etc.), is effectively communicated to those carrying out work on site. Maximum number of A4 pages: 4 | C29: Information | D29: Scored (30 marks)
A30: 5.4.1.6 | B30: The Applicant shall provide details of how it communicated with each duty holder (Designer, Project Supervisor Design Process, Project Supervisor Construction Stage and Contractor) and those in operational control of place of work (e.g., plant, factory etc) on previous a project. Please note that details of communication of duty holders in other EU jurisdictions that are equivalent are acceptable. Maximum number of A4 pages: 4 | C30: Information | D30: Scored (30 marks)
A32: LOT 4
A33: Section Number | B33: Question | C33: Response Information | D33: Score/Info | E33: Response
A34: 5.4.1.1 | B34: The Applicant shall provide evidence of a third party accredited Safety Management System e.g. Safe-T-Cert, OHSAS 18001/ISO45001 etc. If it not certified the applicant must provide information on how they implement a Health and Safety Management System. Maximum number of A4 pages: 4 | C34: Information | D34: Scored (30 marks)
A35: 5.4.1.2 | B35: The Applicant shall provide evidence of the company’s process for assessing the competency of : (i) Staff and, (ii) Sub-contractor and (iii) Designers (including Supplier Designers e.g. manhole covers, pre cast chambers etc) Maximum number of A4 pages: 4 | C35: Information | D35: Scored (30 marks)
A36: 5.4.1.3 | B36: The Applicant shall provide its procedure for the company’s process for planning and maintaining all resources required for the project – i.e. Staff, Supervision, Safety Personnel, plant, equipment. IT requirements, materials etc. Maximum number of A4 pages: 2 | C36: Information | D36: Scored (30 marks)
A37: 5.4.1.4 | B37: The Applicant shall provide its procedure for auditing and inspection of Health & Safety performance including its process for ensuring effective close out of items raised. Maximum number of A4 pages: 4 | C37: Information | D37: Scored (30 marks)
A38: 5.4.1.5 | B38: The Applicant shall provide evidence of how health and safety information e.g., Inductions, Safe Work Procedures (Method Statements, Permits, Safe Plan of Action etc.), is effectively communicated to those carrying out work on site. Maximum number of A4 pages: 4 | C38: Information | D38: Scored (30 marks)
A39: 5.4.1.6 | B39: The Applicant shall provide details of how it communicated with each duty holder (Designer, Project Supervisor Design Process, Project Supervisor Construction Stage and Contractor) and those in operational control of place of work (e.g., plant, factory etc) on previous a project. Please note that details of communication of duty holders in other EU jurisdictions that are equivalent are acceptable. Maximum number of A4 pages: 4 | C39: Information | D39: Scored (30 marks)
A41: LOT 5
A42: Section Number | B42: Question | C42: Response Information | D42: Score/Info | E42: Response
A43: 5.4.1.1 | B43: The Applicant shall provide evidence of a third party accredited Safety Management System e.g. Safe-T-Cert, OHSAS 18001/ISO45001 etc. If it not certified the applicant must provide information on how they implement a Health and Safety Management System. Maximum number of A4 pages: 4 | C43: Information | D43: Scored (30 marks)
A44: 5.4.1.2 | B44: The Applicant shall provide evidence of the company’s process for assessing the competency of : (i) Staff and, (ii) Sub-contractor and (iii) Designers (including Supplier Designers e.g. manhole covers, pre cast chambers etc) Maximum number of A4 pages: 4 | C44: Information | D44: Scored (30 marks)
...

Sheet 5.4.1.7 - H&S - Contractor
A1: Section 5.4.1.7 - Health & Safety - Contractor | E1: Section Progress
E2: =IFERROR(AA4,0) -> 0
A3: Note: All questions must be answered accurately and concisely, in the format requested. All supporting information requested in this QSQ must be submitted as an attachment to the related question. Only the responses to the questions included in this QSQ and additional information specifically requested will be reviewed. We reserve the right not to review any unrequested information or material included in, attached to or submitted with your QSQ submission. The Minimum Requirements and Pass Fail Criteria are paraphrased in this excel document – the full details are set out in the QSQ word document.
A4: 380 Marks for Lot 1,2,3,5,6,7 and 340 Marks for Lot 4 with a minimum of 60% Pass Mark Per Section | Y4: =SUM(AF7:AF13) -> 0 | Z4: =SUM(AG7:AG13) -> 0 | AA4: =Z4/Y4 -> #DIV/0!
A5: Section Number | B5: Question | C5: Response Information | D5: Score/Info | E5: Method Statement 1 | F5: Method Statement 2 | G5: Method Statement 3
A6: 5.4.1.7 | B6: With reference to the scope of each lot applied for the Applicant shall provide method statement for works previously carried out. The Method Statement must include but is not limited to: I. Method of Work II. Supervision arrangements III. Emergency arrangements IV. Process to follow in the event of change to the works V. Risk assessment section. This section must include control measures and risk methodology i.e., risk assessment using a risk matrix.
B7: Lot 1 - Statutory Inspection, Maintenance, & Repair (incl. Replacement) of Lifting Equipment. Provide minimum of 3 method statements. The scope must include inspection, maintenance, repair and replacement of lifting equipment (fixed and mobile). Risk assessment shall include but not limited to manual handling, use of plant, tools and equipment, slips trips and falls, noise, isolation of hazardous energies (including lock out, tag out), work at height, working in live environment, lifting operations, biological hazards, waste management, process safety etc. | C7: Information | D7: Scored (200 Marks) | W7: {=' Lot Application'!B7:G7} -> 0 | X7: 0 | Y7: 0 | Z7: 0 | AA7: 0 | AB7: 0 | AD7: =W7 -> 0 | AF7: =IF(AD7="Yes",3,0) -> 0 | AG7: =IF(AD7="Yes",COUNTA(E7:G7),0) -> 0
B8: Lot 2 - Statutory Inspection, Maintenance, & Repair (incl. Replacement) of Pressure Vessels. Provide minimum of 3 method statements. The scope must include inspection, maintenance, repair and replacement of pressure vessels. Risk assessment shall include but not limited to manual handling, use of plant, tools and equipment, slips trips and falls, noise, isolation of hazardous energies (including lock out, tag out), work at height, working in live environment, pressure, lifting operations, biological hazards, waste management, process safety etc. | C8: Information | D8: Scored (200 Marks) | W8: {=' Lot Application'!B8:G8} -> 0 | X8: 0 | Y8: 0 | Z8: 0 | AA8: 0 | AB8: 0 | AD8: =W8 -> 0 | AF8: =IF(AD8="Yes",3,0) -> 0 | AG8: =IF(AD8="Yes",COUNTA(E8:G8),0) -> 0
B9: Lot 3 - Statutory Inspection, Maintenance, & Repair (incl. Replacement) of Chemical Tanks. Provide minimum of 3 method statements. The scope must include inspection, maintenance, repair and replacement of chemical tanks and auxiliary equipment. Risk assessment shall include but not limited to manual handling, use of plant, tools and equipment, slips trips and falls, noise, isolation of hazardous energies (including lock out, tag out), work at height, working in live environment, pressure, lifting operations, biological hazards, chemical safety, spills and containment, waste management, integrity/structural safety of tanks, process safety etc. | C9: Information | D9: Scored (200 Marks) | W9: {=' Lot Application'!B9:G9} -> 0 | X9: 0 | Y9: 0 | Z9: 0 | AA9: 0 | AB9: 0 | AD9: =W9 -> 0 | AF9: =IF(AD9="Yes",3,0) -> 0 | AG9: =IF(AD9="Yes",COUNTA(E9:G9),0) -> 0
B10: Lot 4 - Statutory Inspection, Maintenance, & Repair (incl. Replacement) of ATEX Equipment. Including but not limited to: Provide minimum of 3 method statements. The scope must include inspection, maintenance, repair and replacement of ATEX Equipment Risk assessment shall include but not limited to manual handling, use of plant, tools and equipment, slips trips and falls, noise, isolation of hazardous energies (including lock out, tag out), work at height, working in live environment, pressure, control of ignition sources, lifting operations, biological hazards, chemical safety, waste management, working in an ATEX environment, structural safety, process safety etc | C10: Information | D10: Scored (160 Marks) | W10: {=' Lot Application'!B10:G10} -> 0 | X10: 0 | Y10: 0 | Z10: 0 | AA10: 0 | AB10: 0 | AD10: =W10 -> 0 | AF10: =IF(AD10="Yes",3,0) -> 0 | AG10: =IF(AD10="Yes",COUNTA(E10:G10),0) -> 0
B11: Lot 5- Statutory Inspection, Maintenance, & Repair (incl. Replacement) of Low Voltage (LV) Electrical Sites. Provide minimum of 3 method statements. The scope must include inspection, maintenance, repair and replacement low voltage equipment. Risk assessment shall include but not limited to manual handling, use of plant, tools and equipment, slips trips and falls, noise, isolation of hazardous energies (including lock out, tag out), work at height, working in live environment, lifting operations, biological hazards, chemical safety, waste management, process safety etc. | C11: Information | D11: Scored (200 Marks) | W11: {=' Lot Application'!B11:G11} -> 0 | X11: 0 | Y11: 0 | Z11: 0 | AA11: 0 | AB11: 0 | AD11: =W11 -> 0 | AF11: =IF(AD11="Yes",3,0) -> 0 | AG11: =IF(AD11="Yes",COUNTA(E11:G11),0) -> 0
B12: Lot 6 - Statutory Inspection, Maintenance, & Repair (incl. Replacement) of Medium Voltage (MV) Electrical Sites. Provide minimum of 3 method statements. The scope must include inspection, maintenance, repair and replacement medium voltage equipment. Risk assessment shall include but not limited to manual handling, use of plant, tools and equipment, slips trips and falls, noise, isolation of hazardous energies (including lock out, tag out), work at height, working in live environment, lifting operations, biological hazards, chemical safety, waste management, process safety etc | C12: Information | D12: Scored (200 Marks) | W12: {=' Lot Application'!B12:G12} -> 0 | X12: 0 | Y12: 0 | Z12: 0 | AA12: 0 | AB12: 0 | AD12: =W12 -> 0 | AF12: =IF(AD12="Yes",3,0) -> 0 | AG12: =IF(AD12="Yes",COUNTA(E12:G12),0) -> 0
B13: Lot 7 - General - This Lot is included to capture all other Statutory Inspection requirements that may be needed or are yet to be determined. Provide minimum of 3 method statements. The scope must include inspection, maintenance, repair and replacement of water and waste water equipment. Risk assessment shall include but not limited to manual handling, use of plant, tools and equipment, slips trips and falls, noise, isolation of hazardous energies (including lock out, tag out), work at height, working in live environment, lifting operations, biological hazards, chemical safety, waste management, water safety, structural safety, process safety etc. | C13: Information | D13: Scored (200 Marks) | W13: {=' Lot Application'!B13:G13} -> 0 | X13: 0 | Y13: 0 | Z13: 0 | AA13: 0 | AB13: 0 | AD13: =W13 -> 0 | AF13: =IF(AD13="Yes",3,0) -> 0 | AG13: =IF(AD13="Yes",COUNTA(E13:G13),0) -> 0

Sheet 5.4.2 - H&S - Lot 4 only
A1: Section 5.4.2 - Health & Safety - To be completed by Lot 4 only | E1: Section Progress
E2: =AE6 -> 0
A3: Note: All questions must be answered accurately and concisely, in the format requested. All supporting information requested in this QSQ must be submitted as an attachment to the related question. Only the responses to the questions included in this QSQ and additional information specifically requested will be reviewed. We reserve the right not to review any unrequested information or material included in, attached to or submitted with your QSQ submission. The Minimum Requirements and Pass Fail Criteria are paraphrased in this excel document – the full details are set out in the QSQ word document.
A4: To be completed by lot 4 only.
A5: Section Number | B5: Question | C5: Response Information | D5: Score/Info | E5: Response
